{"text_format":"1","workbook":"xlsx","n_sheets":17,"sheets":["ANA SAYFA","TESLİM EVRAKI","Vergi Matrahları","TEK KİŞİ BORD","PERSONEL BİLGİ GİRİŞİ","PUANTAJ","ek bordro","TAKVİM"," BORDRO HAZIRLIK","Ödeme Emri","BANKA LİSTESİ","Bildirge","PERSONEL BİLDİRİMİ","BES","İCRA KESİNTİSİ","NAFAKA","Sayfa1"],"not_rendered":{"charts":0,"images":4,"macros":1,"external_links":2,"defined_names":12,"comments":2,"pivot_tables":0},"unopened":[],"bounds":{"document_bytes":16777216,"sheet_cells":100000,"rows_first":2000,"rows_last":500,"rows_between":2000,"halvings":0,"cell_chars":16384,"cell_head_chars":4096},"cells_cut":0,"cells_raw":0,"read":"whole","date_system":"1900"}

{"sheet":"ANA SAYFA","index":0,"n_rows":28,"n_cols":23,"rows_kept":28,"cut":false,"hidden":false,"merged":[[0,22,0,25],[0,21,1,21],[23,6,23,8],[30,15,30,16],[25,15,25,19],[26,15,26,16],[29,15,29,19],[0,16,0,19],[1,16,1,19],[2,16,3,19],[2,15,3,15],[19,12,20,12],[0,11,0,12],[4,12,4,13],[0,0,0,9],[3,0,3,1],[22,6,22,8],[3,2,3,4],[1,0,1,9],[3,5,3,9],[5,7,5,9],[6,7,6,9],[7,7,7,9],[9,7,9,9],[19,7,19,8],[16,6,17,6],[8,7,8,8]]}
["AİLE VE SOSYAL HİZMETLER İL MÜDÜRLÜĞÜ",null,null,null,null,null,null,null,null,null,null,null,null,null,null,"SENDİKA İBAN","TR47 0020 5000 0941 6809 0000 05",null,null,null,null,"ZİRAAT BANKASI            CEZA İBAN ","TR83 0001 0025 3338 7753 6950 52"]
["EK DERS KARŞILIĞI ÇALIŞAN PERSONELLERİN MAAŞ ÖDEMESİ",null,null,null,null,null,null,null,null,null,null,null,null,null,null,"DAYANIŞMA İBAN","TR20 0020 5000 0941 6809 0000 06"]
[null,null,null,null,null,null,null,null,null,null,null,null,null,null,null,"SENDİKA","-------"]
["M A A Ş",null,null,null,null,"K U R U M   B İ L G İ L E R İ",null,null,null,null,null,"GÜNÜN TARİHİ","YEMEK İSTİSNASI",{"$f":"ROUND(J15/30*0.06,2)","v":40.01}]
["ÖDEME EMRİ BELGESİ",null,"ÖDEME EMRİ BELGESİ 2",null,null,null,"KURUM BİLGİLERİ",1,2024,"A",null,{"$f":"TODAY()","v":"2024-02-05"},"GELİR VERGİSİNE GÖRE BÜRÜT YOL ÜCRETLERİ",null,null,null,null,"2.YIL     1.ZAM","2.YIL     2.ZAM","ENFLASYON    (31.10.2021)"]
["TESLİM EVRAKI",null,"TESLİM EVRAKI 2",null,null,null,"İBAN NO ",null,null,null,null,null,0.71491000000000005,{"$f":"ROUND('PERSONEL BİLGİ GİRİŞİ'!AD5/M6,2)","v":119242.65}]
["TEK KİŞİLİK BORDRO",null,"İKRAMİYE BORDRO",null,null,null,"VERGİ NO",null,null,null,null,null,0.67240999999999995,{"$f":"ROUND('PERSONEL BİLGİ GİRİŞİ'!AD5/'ANA SAYFA'!M7,2)","v":126779.44}]
["BORDO HAZIRLIK",null,"BANKA LİSTESİ",null,null,null,"SAYMANLIK NO",null,null,null,null,null,0.61290999999999995,{"$f":"ROUND('PERSONEL BİLGİ GİRİŞİ'!AD5/'ANA SAYFA'!M8,2)","v":139086.91},null,"YEMEK",null,"-",{"$f":"ROUND(Q8*S6+Q8,2)","v":0},{"$f":"ROUND(S8*$T$6+S8,2)","v":0}]
["PERSONEL BİLGİ GİRİŞİ",null,"SGK AYRIŞTIRMASI",null,null,null,"SGK SİCİL NO",null,null,null,null,null,"A","Asıl Mahiyette",null,"ÇOCUK",null,{"$f":"ROUND(Q9*R6+Q9,2)","v":0},{"$f":"ROUND(R9*S6+R9,2)","v":0},{"$f":"S9","v":0}]
["BİLDİRGE",null,"İKRAMİYE BES",null,null,null,"ADRES",null,null,null,null,null,"E","Ek Mahiyette",null,"BAYRAM",null,{"$f":"ROUND(Q10*R6+Q10,2)","v":0},{"$f":"ROUND(R10*S6+R10,2)","v":0},{"$f":"S10","v":0}]
["PERSONEL BİLDİRİMİ",null,null,null,null,null,"HARCAMA YETKİLİSİ",null,{"$f":"VLOOKUP(H11,G25:I26,2,FALSE)","v":{"$error":"#N/A"}},{"$f":"VLOOKUP(H11,G25:I26,3,FALSE)","v":{"$error":"#N/A"}},null,null,"T","Toplu İş Sözleşmesi İçin",null,"DOĞUM",null,"-",{"$f":"ROUND(Q11*S6+Q11,2)","v":0},{"$f":"ROUND(S11*$T$6+S11,2)","v":0}]
["PUANTAJ ","PUANTAJ ",null,null,null,null,"GERÇEKLEŞTİRME GÖREVLİSİ",null,{"$f":"VLOOKUP(H12,G27:I30,2,FALSE)","v":{"$error":"#N/A"}},{"$f":"VLOOKUP(H12,G27:I30,3,FALSE)","v":{"$error":"#N/A"}},null,null,null,null,null,"YAKACAK",null,"-",{"$f":"ROUND(Q12*S6+Q12,2)","v":0},0]
["BANKA LİSTESİ","BANKA LİSTESİ",null,null,null,null,"MAAŞ MUTEMEDİ",null,{"$f":"VLOOKUP(H13,G31:I33,2,FALSE)","v":{"$error":"#N/A"}},{"$f":"VLOOKUP(H13,G31:I33,3,FALSE)","v":{"$error":"#N/A"}},null,null,"1.DERECE  %80 ÜZERİ",{"$f":"B23","v":6900},null,"EVLENME",null,"-",{"$f":"ROUND(Q13*S6+Q13,2)","v":0},0]
[null,"AGİ",null,null,null,null,null,null,null,null,null,null,"2.DERECE %60-%80",{"$f":"B24","v":4000},null,"(KENDİSİ)ÖLÜM",null,"-",{"$f":"ROUND(Q14*S6+Q14,2)","v":0},0]
["BES","BES",null,null,null,null,"MEMUR KATSAYI",0.76087099999999996,"ASGARİ ÜCRET BRÜT",20002.5,null,null,"3.DERECE %40-60",{"$f":"B25","v":1700},null,"(ÖLÜM) İŞ KAZASI",null,"-",{"$f":"ROUND(Q15*S6+Q15,2)","v":0},0]
["İCRA","İCRA",null,null,null,null,null,null,"ASGARİ ÜCRET NET",17002.12,null,null,null,null,null,"(ÖLÜM )YAKINI",null,"-",{"$f":"ROUND(Q16*S6+Q16,2)","v":0},0]
["NAFAKA",null,null,null,null,null,"VERGİ DİLİMLERİ",0.15,0.2,0.27,null,null,null,null,null,"ASKERLİK",null,"-",{"$f":"ROUND(Q17*S7+Q17,2)","v":0},{"$f":"ROUND(S17*$T$6+S17,2)","v":0}]
["VERGİ MATRAHLARI ",null,null,null,null,null,null,110000,230000,870000,null,null,null,null,null,null,null,"-",{"$f":"ROUND(Q18*S8+Q18,2)","v":0},{"$f":"ROUND(S18*$T$6+S18,2)","v":0}]
[null,null,null,null,null,null,null,null,null,null,null,null,{"$f":"L5","v":"2024-02-05"},"1. vergi Dilimi      %15",4800,{"$f":"H18","v":110000},{"$f":"P19+O19","v":114800}]
[null,null,null,null,null,null,null,"SADECE OCAK AYINDA SIFIRLAYINIZ",null,null,null,null,"VERGİ                MATRAHLARI","2.Vergi Dilimi      %20",{"$f":"P19","v":110000},{"$f":"I18","v":230000},{"$f":"P20+' BORDRO HAZIRLIK'!AK5","v":248779}]
[null,null,"VERGİ MATRAHLARI ",null,null,null,null,null,null,null,null,null,null,"3.Vergi Dilimi      %27",{"$f":"P20","v":230000},{"$f":"J18","v":870000}]
[]
["1.DERECE  %80 ÜZERİ",6900,null,null,null,null,"M Ü D Ü R L Ü  Ğ Ü N Ü Z E   G Ö R E    G Ü N C E  L L E Y İ N İ Z"]
["2.DERECE %60-%80",4000,null,null,null,null,"               AD-SOYAD                               TC.                             ÜNVAN             ",null,null,null,null,null,"AYLIK MAAŞ KATSAYISI",{"$f":"H15","v":0.76087099999999996}]
["3.DERECE %40-60",1700,null,null,null,null,null,null,null,null,null,null,"EK DERS GÖSTERGESİ GÜNDÜZ",140,150]
[null,null,null,null,null,null,null,null,null,null,null,null,"1 SAATLİK EKDERS BRÜT ÜCRETİ",{"$f":"N24*N25","v":106.52}]
[null,null,null,null,null,null,null,null,null,null,null,null,"1 SAATLİK EKDERS ÜCRETİ%15",{"$f":"N24*N25-N24*N25*14%-(N24*N25-N24*N25*14%)*15%-N24*N25*0.6%","v":77.23}]
[null,null,null,null,null,null,null,null,null,null,null,null,"1 SAATLİK EKDERS ÜCRETİ%20",{"$f":"N24*N25-N24*N25*14%-(N24*N25-N24*N25*14%)*20%-N24*N25*0.6%","v":72.650000000000006}]

{"sheet":"TESLİM EVRAKI","index":1,"n_rows":32,"n_cols":15,"rows_kept":32,"cut":false,"hidden":false,"merged":[[17,2,17,4],[17,5,17,6],[17,7,17,10],[31,0,31,14],[18,0,18,12],[20,13,20,14],[21,13,21,14],[22,13,22,14],[29,0,29,14],[30,0,30,14],[15,2,15,4],[15,5,15,6],[15,7,15,10],[16,2,16,4],[16,5,16,6],[16,7,16,10],[11,2,11,4],[11,5,11,6],[11,7,11,10],[12,2,12,4],[12,5,12,6],[12,7,12,10],[9,2,9,4],[9,5,9,6],[9,7,9,10],[9,12,10,12],[10,2,10,4],[10,5,10,6],[10,7,10,10],[4,0,4,1],[4,2,4,6],[4,7,4,8],[5,0,5,14],[3,13,4,13],[6,0,8,0],[6,1,6,4],[6,5,6,11],[6,12,6,14],[7,1,8,1],[7,14,8,14],[7,2,8,4],[7,5,8,6],[7,7,8,10],[7,11,8,11],[7,12,8,12],[7,13,8,13],[0,0,0,14],[1,0,1,14],[2,0,2,1],[2,9,2,14],[3,0,3,1],[3,2,3,6],[3,7,3,8],[3,9,3,12],[13,2,13,4],[14,2,14,4],[13,5,13,6],[14,5,14,6],[13,7,13,10],[14,7,14,10]]}
[{"$f":"'ANA SAYFA'!A1","v":"AİLE VE SOSYAL HİZMETLER İL MÜDÜRLÜĞÜ"}]
["ÖDEME BELGESİ VE EKİ BELGELER TESLİM/TESELLÜM TUTANAĞI"]
["Harcama Birimin Kurumsal Kodu             :",null,24,1,0,62,323,"Muhasebe Birimi",null,"Zonguldak Defterdarlık Muhasebe Müdürlüğü"]
["Dairesi                                                                :",null,{"$f":"A1","v":"AİLE VE SOSYAL HİZMETLER İL MÜDÜRLÜĞÜ"},null,null,null,null,"Düzenleme Tarihi",null,{"$f":"TODAY()","v":"2024-02-05"},null,null,null,"ANA SAYFA"]
["From Sıra No                                                    :",null,"HYS-2022-34371049"]
[]
["SIRA NO","Ödeme Belgesi",null,null,null,"Eki Belge",null,null,null,null,null,null,"Alacaklı"]
[null,"Tahakkuk İşlem No","Yevmiye Tarihi",null,null,"Yevmiye No",null,"Türü",null,null,null,"Adet","Adı - Soyadı ","TCK/VKN","Brüt Tutar"]
[]
[1,{"$f":"C5","v":"HYS-2022-34371049"},{"$f":"TODAY()","v":"2024-02-05"},null,null,null,null,"ÖDEME EMRİ BELGESİ",null,null,null,1,{"$f":"A1","v":"AİLE VE SOSYAL HİZMETLER İL MÜDÜRLÜĞÜ"},{"$f":"'ANA SAYFA'!H7","v":0},{"$f":"' BORDRO HAZIRLIK'!BG40","v":18498.96}]
[2,null,null,null,null,null,null,"BODRO DÖKÜMÜ",null,null,null,1]
[3,null,null,null,null,null,null,"BANKA LİSTESİ",null,null,null,1,"GEÇİCİ PERSONEL STATÜSÜNDE ÇALIŞAN PERSONEL"]
[4,null,null,null,null,null,null,"AGİ",null,null,null,1,{"$f":"PUANTAJ!AI2","v":"2024-01-01"}]
[5,null,null,null,null,null,null,"PUANTAJ",null,null,null,1]
[6,null,null,null,null,null,null,"PERSONEL BİLDİRİMİ",null,null,null,1]
[7,null,null,null,null,null,null,"SGK TAHAKKUK FİŞİ,\nSGK HİZMET LİSTESİ",null,null,null,2]
[8,null,null,null,null,null,null,"HARCAMA TALİMATI",null,null,null,1]
[9]
["Yukarıda alacaklıları ile alacak tutarları gösterilen toplam (1) adet tahakkuk evrakı ve ekleri teslim alınmıştır",null,null,null,null,null,null,null,null,null,null,null,null,{"$f":"TODAY()","v":"2024-02-05"},"Saat ……/……"]
[]
[null,{"$f":"TODAY()","v":"2024-02-05"},null,null,null,null,null,null,null,null,null,null,null,{"$f":"TODAY()","v":"2024-02-05"}]
[null,"TESLİM EDEN",null,null,null,null,null,null,null,null,null,null,null,"TESLİM ALAN"]
[null,"İmza",null,null,null,null,null,null,null,null,null,null," ","İmza"]
[null,{"$f":"'PERSONEL BİLGİ GİRİŞİ'!A82","v":0}]
[null,{"$f":"'PERSONEL BİLGİ GİRİŞİ'!A83","v":{"$error":"#N/A"}}]
[]
[]
[]
[]
["*Merkezi Yönetim Harcama Belgeleri Yönetmeliğindeki belgenin adı yazılacktır."]
["**Bu bölümler muhasebe birimi tarafından muhasebeleştirme işlemi tamamladıktan sonra doldurulacaktır."]
["***Bu Bölüme muhasebeleştirme işlemi tamamlandıktan sonra evrakın konulduğu torba numarası yazılcaktır."]

{"sheet":"Vergi Matrahları","index":2,"n_rows":78,"n_cols":59,"rows_kept":78,"cut":false,"hidden":false,"merged":[[0,56,0,58],[1,58,2,58],[1,57,2,57],[1,56,2,56],[0,53,0,55],[0,1,2,1],[0,0,2,0],[0,3,2,3],[1,55,2,55],[1,53,2,53],[1,54,2,54],[1,2,2,2],[0,4,2,4]]}
[null,"SIRA NO","ANA SAYFA","TOPLAM     VERGİ MATRAHI","TOPLAM\nİSTİSNA VERGİ MATRAHI",{"$f":"IF((MONTH(PUANTAJ!$B$2))=1,PUANTAJ!$B$2,\"\")","v":"2024-01-01"},{"$f":"IF((MONTH(PUANTAJ!$B$2))=1,PUANTAJ!$B$2,\"\")","v":"2024-01-01"},null,null,{"$f":"IF((MONTH(PUANTAJ!$B$2))=2,PUANTAJ!$B$2,\"\")","v":""},{"$f":"IF((MONTH(PUANTAJ!$B$2))=2,PUANTAJ!$B$2,\"\")","v":""},null,null,{"$f":"IF((MONTH(PUANTAJ!$B$2))=3,PUANTAJ!$B$2,\"\")","v":""},{"$f":"IF((MONTH(PUANTAJ!$B$2))=3,PUANTAJ!$B$2,\"\")","v":""},null,null,{"$f":"IF((MONTH(PUANTAJ!$B$2))=4,PUANTAJ!$B$2,\"\")","v":""},{"$f":"IF((MONTH(PUANTAJ!$B$2))=4,PUANTAJ!$B$2,\"\")","v":""},null,null,{"$f":"IF((MONTH(PUANTAJ!$B$2))=5,PUANTAJ!$B$2,\"\")","v":""},{"$f":"IF((MONTH(PUANTAJ!$B$2))=5,PUANTAJ!$B$2,\"\")","v":""},null,null,{"$f":"IF((MONTH(PUANTAJ!$B$2))=6,PUANTAJ!$B$2,\"\")","v":""},{"$f":"IF((MONTH(PUANTAJ!$B$2))=6,PUANTAJ!$B$2,\"\")","v":""},null,null,{"$f":"IF((MONTH(PUANTAJ!$B$2))=7,PUANTAJ!$B$2,\"\")","v":""},{"$f":"IF((MONTH(PUANTAJ!$B$2))=7,PUANTAJ!$B$2,\"\")","v":""},null,null,{"$f":"IF((MONTH(PUANTAJ!$B$2))=8,PUANTAJ!$B$2,\"\")","v":""},{"$f":"IF((MONTH(PUANTAJ!$B$2))=8,PUANTAJ!$B$2,\"\")","v":""},null,null,{"$f":"IF((MONTH(PUANTAJ!$B$2))=9,PUANTAJ!$B$2,\"\")","v":""},{"$f":"IF((MONTH(PUANTAJ!$B$2))=9,PUANTAJ!$B$2,\"\")","v":""},null,null,{"$f":"IF((MONTH(PUANTAJ!$B$2))=10,PUANTAJ!$B$2,\"\")","v":""},{"$f":"IF((MONTH(PUANTAJ!$B$2))=10,PUANTAJ!$B$2,\"\")","v":""},null,null,{"$f":"IF((MONTH(PUANTAJ!$B$2))=11,PUANTAJ!$B$2,\"\")","v":""},{"$f":"IF((MONTH(PUANTAJ!$B$2))=11,PUANTAJ!$B$2,\"\")","v":""},null,null,{"$f":"IF((MONTH(PUANTAJ!$B$2))=12,PUANTAJ!$B$2,\"\")","v":""},{"$f":"IF((MONTH(PUANTAJ!$B$2))=12,PUANTAJ!$B$2,\"\")","v":""},null,null,"ANASAYFA",null,null,"İSTİSNA"]
[null,null,"AD - SOYAD",null,null,"O C A K","O C A K","O C A K\nİSTİSNA","O C A K\nİSTİSNA","Ş U B A T","Ş U B A T","Ş U B A T\nİSTİSNA","Ş U B A T\nİSTİSNA","M A R T","M A R T","M A R T\nİSTİSNA","M A R T\nİSTİSNA","N İ S A N","N İ S A N","N İ S A N\nİSTİSNA","N İ S A N\nİSTİSNA","M A Y I S","M A Y I S","M A Y I S\nİSTİSNA","M A Y I S\nİSTİSNA","H A Z İ R A N","H A Z İ R A N","H A Z İ R A N\nİSTİSNA","H A Z İ R A N\nİSTİSNA","T E M M U Z","T E M M U Z","T E M M U Z\nİSTİSNA","T E M M U Z\nİSTİSNA","A Ğ U S T O S","A Ğ U S T O S","A Ğ U S T O S\nİSTİSNA","A Ğ U S T O S\nİSTİSNA","E Y L Ü L","E Y L Ü L","E Y L Ü L\nİSTİSNA","E Y L Ü L\nİSTİSNA","E K İ M","E K İ M","E K İ M\nİSTİSNA","E K İ M\nİSTİSNA","K A S I M","K A S I M","K A S I M\nİSTİSNA","K A S I M\nİSTİSNA","A R A L I K","A R A L I K","A R A L I K\nİSTİSNA","A R A L I K\nİSTİSNA","GEÇEN                     AYLAR                   VERGİ MATRAH","MEVCUT          AY","TOPLAM MATRAH","GEÇEN \nAYLAR \nVERGİ MATRAH","MEVCUT \nAY","TOPLAM\n MATRAH"]
[null,null,null,null,null,1,null,null,null,2,null,null,null,3,null,null,null,4,null,null,null,5,null,null,null,6,null,null,null,7,null,null,null,8,null,null,null,9,null,null,null,10,null,null,null,11,null,null,null,12]
[null,{"$f":"PUANTAJ!A7","v":1},{"$f":"PUANTAJ!B7","v":"ALİ BZC "},{"$f":"BD4+'PERSONEL BİLGİ GİRİŞİ'!AC5","v":18779.48},{"$f":"BG4+'PERSONEL BİLGİ GİRİŞİ'!AL5","v":17002.12},{"$f":"IF((MONTH(PUANTAJ!$B$2))=1,' BORDRO HAZIRLIK'!AK5,IF(G4>1,G4,(0)))","v":18779.48},0,{"$f":"IF((MONTH(PUANTAJ!$B$2))=1,' BORDRO HAZIRLIK'!AE5,IF(I4>1,I4,(0)))","v":17002.12},0,{"$f":"IF((MONTH(PUANTAJ!$B$2))=2,' BORDRO HAZIRLIK'!AK5,IF(K4>1,K4,(0)))","v":0},0,{"$f":"IF((MONTH(PUANTAJ!$B$2))=2,' BORDRO HAZIRLIK'!AE5,IF(M4>1,M4,(0)))","v":0},0,{"$f":"IF((MONTH(PUANTAJ!$B$2))=3,' BORDRO HAZIRLIK'!AK5,IF(O4>1,O4,(0)))","v":0},0,{"$f":"IF((MONTH(PUANTAJ!$B$2))=3,' BORDRO HAZIRLIK'!AE5,IF(Q4>1,Q4,(0)))","v":0},0,{"$f":"IF((MONTH(PUANTAJ!$B$2))=4,' BORDRO HAZIRLIK'!AK5,IF(S4>1,S4,(0)))","v":0},0,{"$f":"IF((MONTH(PUANTAJ!$B$2))=4,' BORDRO HAZIRLIK'!AE5,IF(U4>1,U4,(0)))","v":0},0,{"$f":"IF((MONTH(PUANTAJ!$B$2))=5,' BORDRO HAZIRLIK'!AK5,IF(W4>1,W4,(0)))","v":0},0,{"$f":"IF((MONTH(PUANTAJ!$B$2))=5,' BORDRO HAZIRLIK'!AE5,IF(Y4>1,Y4,(0)))","v":0},0,{"$f":"IF((MONTH(PUANTAJ!$B$2))=6,' BORDRO HAZIRLIK'!AK5,IF(AA4>1,AA4,(0)))","v":0},0,{"$f":"IF((MONTH(PUANTAJ!$B$2))=6,' BORDRO HAZIRLIK'!AE5,IF(AC4>1,AC4,(0)))","v":0},0,{"$f":"IF((MONTH(PUANTAJ!$B$2))=7,' BORDRO HAZIRLIK'!AK5,IF(AE4>1,AE4,(0)))","v":0},0,{"$f":"IF((MONTH(PUANTAJ!$B$2))=7,' BORDRO HAZIRLIK'!AE5,IF(AG4>1,AG4,(0)))","v":0},0,{"$f":"IF((MONTH(PUANTAJ!$B$2))=8,' BORDRO HAZIRLIK'!AK5,IF(AI4>1,AI4,(0)))","v":0},0,{"$f":"IF((MONTH(PUANTAJ!$B$2))=8,' BORDRO HAZIRLIK'!AE5,IF(AK4>1,AK4,(0)))","v":0},0,{"$f":"IF((MONTH(PUANTAJ!$B$2))=9,' BORDRO HAZIRLIK'!AK5,IF(AM4>1,AM4,(0)))","v":0},0,{"$f":"IF((MONTH(PUANTAJ!$B$2))=9,' BORDRO HAZIRLIK'!AE5,IF(AO4>1,AO4,(0)))","v":0},0,{"$f":"IF((MONTH(PUANTAJ!$B$2))=10,' BORDRO HAZIRLIK'!AK5,IF(AQ4>1,AQ4,(0)))","v":0},0,{"$f":"IF((MONTH(PUANTAJ!$B$2))=10,' BORDRO HAZIRLIK'!AE5,IF(AS4>1,AS4,(0)))","v":0},0,{"$f":"IF((MONTH(PUANTAJ!$B$2))=11,' BORDRO HAZIRLIK'!AK5,IF(AU4>1,AU4,(0)))","v":0},0,{"$f":"IF((MONTH(PUANTAJ!$B$2))=11,' BORDRO HAZIRLIK'!AE5,IF(AW4>1,AW4,(0)))","v":0},0,{"$f":"IF((MONTH(PUANTAJ!$B$2))=12,' BORDRO HAZIRLIK'!AK5,IF(AY4>1,AY4,(0)))","v":0},0,{"$f":"IF((MONTH(PUANTAJ!$B$2))=12,' BORDRO HAZIRLIK'!AE5,IF(BA4>1,BA4,(0)))","v":0},0,{"$f":"G4+K4+O4+S4+W4+AA4+AE4+AI4+AM4+AQ4+AU4+AY4","v":0},{"$f":"' BORDRO HAZIRLIK'!AK5","v":18779.48},{"$f":"BB4+BC4","v":18779.48},{"$f":"I4+M4+Q4+U4+Y4+AC4+AG4+AK4+AO4+AS4+AW4+BA4","v":0},{"$f":"' BORDRO HAZIRLIK'!AE5","v":17002.12},{"$f":"BE4+BF4","v":17002.12}]
[null,{"$f":"PUANTAJ!A9","v":""},{"$f":"PUANTAJ!B9","v":" "},{"$f":"BD5+'PERSONEL BİLGİ GİRİŞİ'!AC6","v":0},{"$f":"BG5+'PERSONEL BİLGİ GİRİŞİ'!AL6","v":0},{"$f":"IF((MONTH(PUANTAJ!$B$2))=1,' BORDRO HAZIRLIK'!AK6,IF(G5>1,G5,(0)))","v":0},0,{"$f":"IF((MONTH(PUANTAJ!$B$2))=1,' BORDRO HAZIRLIK'!AE6,IF(I5>1,I5,(0)))","v":0},0,{"$f":"IF((MONTH(PUANTAJ!$B$2))=2,' BORDRO HAZIRLIK'!AK6,IF(K5>1,K5,(0)))","v":0},0,{"$f":"IF((MONTH(PUANTAJ!$B$2))=2,' BORDRO HAZIRLIK'!AE6,IF(M5>1,M5,(0)))","v":0},0,{"$f":"IF((MONTH(PUANTAJ!$B$2))=3,' BORDRO HAZIRLIK'!AK6,IF(O5>1,O5,(0)))","v":0},0,{"$f":"IF((MONTH(PUANTAJ!$B$2))=3,' BORDRO HAZIRLIK'!AE6,IF(Q5>1,Q5,(0)))","v":0},0,{"$f":"IF((MONTH(PUANTAJ!$B$2))=4,' BORDRO HAZIRLIK'!AK6,IF(S5>1,S5,(0)))","v":0},0,{"$f":"IF((MONTH(PUANTAJ!$B$2))=4,' BORDRO HAZIRLIK'!AE6,IF(U5>1,U5,(0)))","v":0},0,{"$f":"IF((MONTH(PUANTAJ!$B$2))=5,' BORDRO HAZIRLIK'!AK6,IF(W5>1,W5,(0)))","v":0},0,{"$f":"IF((MONTH(PUANTAJ!$B$2))=5,' BORDRO HAZIRLIK'!AE6,IF(Y5>1,Y5,(0)))","v":0},0,{"$f":"IF((MONTH(PUANTAJ!$B$2))=6,' BORDRO HAZIRLIK'!AK6,IF(AA5>1,AA5,(0)))","v":0},0,{"$f":"IF((MONTH(PUANTAJ!$B$2))=6,' BORDRO HAZIRLIK'!AE6,IF(AC5>1,AC5,(0)))","v":0},0,{"$f":"IF((MONTH(PUANTAJ!$B$2))=7,' BORDRO HAZIRLIK'!AK6,IF(AE5>1,AE5,(0)))","v":0},0,{"$f":"IF((MONTH(PUANTAJ!$B$2))=7,' BORDRO HAZIRLIK'!AE6,IF(AG5>1,AG5,(0)))","v":0},0,{"$f":"IF((MONTH(PUANTAJ!$B$2))=8,' BORDRO HAZIRLIK'!AK6,IF(AI5>1,AI5,(0)))","v":0},0,{"$f":"IF((MONTH(PUANTAJ!$B$2))=8,' BORDRO HAZIRLIK'!AE6,IF(AK5>1,AK5,(0)))","v":0},0,{"$f":"IF((MONTH(PUANTAJ!$B$2))=9,' BORDRO HAZIRLIK'!AK6,IF(AM5>1,AM5,(0)))","v":0},0,{"$f":"IF((MONTH(PUANTAJ!$B$2))=9,' BORDRO HAZIRLIK'!AE6,IF(AO5>1,AO5,(0)))","v":0},0,{"$f":"IF((MONTH(PUANTAJ!$B$2))=10,' BORDRO HAZIRLIK'!AK6,IF(AQ5>1,AQ5,(0)))","v":0},0,{"$f":"IF((MONTH(PUANTAJ!$B$2))=10,' BORDRO HAZIRLIK'!AE6,IF(AS5>1,AS5,(0)))","v":0},0,{"$f":"IF((MONTH(PUANTAJ!$B$2))=11,' BORDRO HAZIRLIK'!AK6,IF(AU5>1,AU5,(0)))","v":0},0,{"$f":"IF((MONTH(PUANTAJ!$B$2))=11,' BORDRO HAZIRLIK'!AE6,IF(AW5>1,AW5,(0)))","v":0},0,{"$f":"IF((MONTH(PUANTAJ!$B$2))=12,' BORDRO HAZIRLIK'!AK6,IF(AY5>1,AY5,(0)))","v":0},0,{"$f":"IF((MONTH(PUANTAJ!$B$2))=12,' BORDRO HAZIRLIK'!AE6,IF(BA5>1,BA5,(0)))","v":0},0,{"$f":"G5+K5+O5+S5+W5+AA5+AE5+AI5+AM5+AQ5+AU5+AY5","v":0},{"$f":"' BORDRO HAZIRLIK'!AK6","v":0},{"$f":"BB5+BC5","v":0},{"$f":"I5+M5+Q5+U5+Y5+AC5+AG5+AK5+AO5+AS5+AW5+BA5","v":0},{"$f":"' BORDRO HAZIRLIK'!AE6","v":0},{"$f":"BE5+BF5","v":0}]
[null,{"$f":"PUANTAJ!A11","v":""},{"$f":"PUANTAJ!B11","v":" "},{"$f":"BD6+'PERSONEL BİLGİ GİRİŞİ'!AC7","v":0},{"$f":"BG6+'PERSONEL BİLGİ GİRİŞİ'!AL7","v":0},{"$f":"IF((MONTH(PUANTAJ!$B$2))=1,' BORDRO HAZIRLIK'!AK7,IF(G6>1,G6,(0)))","v":0},0,{"$f":"IF((MONTH(PUANTAJ!$B$2))=1,' BORDRO HAZIRLIK'!AE7,IF(I6>1,I6,(0)))","v":0},0,{"$f":"IF((MONTH(PUANTAJ!$B$2))=2,' BORDRO HAZIRLIK'!AK7,IF(K6>1,K6,(0)))","v":0},0,{"$f":"IF((MONTH(PUANTAJ!$B$2))=2,' BORDRO HAZIRLIK'!AE7,IF(M6>1,M6,(0)))","v":0},0,{"$f":"IF((MONTH(PUANTAJ!$B$2))=3,' BORDRO HAZIRLIK'!AK7,IF(O6>1,O6,(0)))","v":0},0,{"$f":"IF((MONTH(PUANTAJ!$B$2))=3,' BORDRO HAZIRLIK'!AE7,IF(Q6>1,Q6,(0)))","v":0},0,{"$f":"IF((MONTH(PUANTAJ!$B$2))=4,' BORDRO HAZIRLIK'!AK7,IF(S6>1,S6,(0)))","v":0},0,{"$f":"IF((MONTH(PUANTAJ!$B$2))=4,' BORDRO HAZIRLIK'!AE7,IF(U6>1,U6,(0)))","v":0},0,{"$f":"IF((MONTH(PUANTAJ!$B$2))=5,' BORDRO HAZIRLIK'!AK7,IF(W6>1,W6,(0)))","v":0},0,{"$f":"IF((MONTH(PUANTAJ!$B$2))=5,' BORDRO HAZIRLIK'!AE7,IF(Y6>1,Y6,(0)))","v":0},0,{"$f":"IF((MONTH(PUANTAJ!$B$2))=6,' BORDRO HAZIRLIK'!AK7,IF(AA6>1,AA6,(0)))","v":0},0,{"$f":"IF((MONTH(PUANTAJ!$B$2))=6,' BORDRO HAZIRLIK'!AE7,IF(AC6>1,AC6,(0)))","v":0},0,{"$f":"IF((MONTH(PUANTAJ!$B$2))=7,' BORDRO HAZIRLIK'!AK7,IF(AE6>1,AE6,(0)))","v":0},0,{"$f":"IF((MONTH(PUANTAJ!$B$2))=7,' BORDRO HAZIRLIK'!AE7,IF(AG6>1,AG6,(0)))","v":0},0,{"$f":"IF((MONTH(PUANTAJ!$B$2))=8,' BORDRO HAZIRLIK'!AK7,IF(AI6>1,AI6,(0)))","v":0},0,{"$f":"IF((MONTH(PUANTAJ!$B$2))=8,' BORDRO HAZIRLIK'!AE7,IF(AK6>1,AK6,(0)))","v":0},0,{"$f":"IF((MONTH(PUANTAJ!$B$2))=9,' BORDRO HAZIRLIK'!AK7,IF(AM6>1,AM6,(0)))","v":0},0,{"$f":"IF((MONTH(PUANTAJ!$B$2))=9,' BORDRO HAZIRLIK'!AE7,IF(AO6>1,AO6,(0)))","v":0},0,{"$f":"IF((MONTH(PUANTAJ!$B$2))=10,' BORDRO HAZIRLIK'!AK7,IF(AQ6>1,AQ6,(0)))","v":0},0,{"$f":"IF((MONTH(PUANTAJ!$B$2))=10,' BORDRO HAZIRLIK'!AE7,IF(AS6>1,AS6,(0)))","v":0},0,{"$f":"IF((MONTH(PUANTAJ!$B$2))=11,' BORDRO HAZIRLIK'!AK7,IF(AU6>1,AU6,(0)))","v":0},0,{"$f":"IF((MONTH(PUANTAJ!$B$2))=11,' BORDRO HAZIRLIK'!AE7,IF(AW6>1,AW6,(0)))","v":0},0,{"$f":"IF((MONTH(PUANTAJ!$B$2))=12,' BORDRO HAZIRLIK'!AK7,IF(AY6>1,AY6,(0)))","v":0},0,{"$f":"IF((MONTH(PUANTAJ!$B$2))=12,' BORDRO HAZIRLIK'!AE7,IF(BA6>1,BA6,(0)))","v":0},0,0,{"$f":"' BORDRO HAZIRLIK'!AK7","v":0},0,0,{"$f":"' BORDRO HAZIRLIK'!AE7","v":0},0]
[null,{"$f":"PUANTAJ!A13","v":""},{"$f":"PUANTAJ!B13","v":" "},{"$f":"BD7+'PERSONEL BİLGİ GİRİŞİ'!AC8","v":0},{"$f":"BG7+'PERSONEL BİLGİ GİRİŞİ'!AL8","v":0},{"$f":"IF((MONTH(PUANTAJ!$B$2))=1,' BORDRO HAZIRLIK'!AK8,IF(G7>1,G7,(0)))","v":0},0,{"$f":"IF((MONTH(PUANTAJ!$B$2))=1,' BORDRO HAZIRLIK'!AE8,IF(I7>1,I7,(0)))","v":0},0,{"$f":"IF((MONTH(PUANTAJ!$B$2))=2,' BORDRO HAZIRLIK'!AK8,IF(K7>1,K7,(0)))","v":0},0,{"$f":"IF((MONTH(PUANTAJ!$B$2))=2,' BORDRO HAZIRLIK'!AE8,IF(M7>1,M7,(0)))","v":0},0,{"$f":"IF((MONTH(PUANTAJ!$B$2))=3,' BORDRO HAZIRLIK'!AK8,IF(O7>1,O7,(0)))","v":0},0,{"$f":"IF((MONTH(PUANTAJ!$B$2))=3,' BORDRO HAZIRLIK'!AE8,IF(Q7>1,Q7,(0)))","v":0},0,{"$f":"IF((MONTH(PUANTAJ!$B$2))=4,' BORDRO HAZIRLIK'!AK8,IF(S7>1,S7,(0)))","v":0},0,{"$f":"IF((MONTH(PUANTAJ!$B$2))=4,' BORDRO HAZIRLIK'!AE8,IF(U7>1,U7,(0)))","v":0},0,{"$f":"IF((MONTH(PUANTAJ!$B$2))=5,' BORDRO HAZIRLIK'!AK8,IF(W7>1,W7,(0)))","v":0},0,{"$f":"IF((MONTH(PUANTAJ!$B$2))=5,' BORDRO HAZIRLIK'!AE8,IF(Y7>1,Y7,(0)))","v":0},0,{"$f":"IF((MONTH(PUANTAJ!$B$2))=6,' BORDRO HAZIRLIK'!AK8,IF(AA7>1,AA7,(0)))","v":0},0,{"$f":"IF((MONTH(PUANTAJ!$B$2))=6,' BORDRO HAZIRLIK'!AE8,IF(AC7>1,AC7,(0)))","v":0},0,{"$f":"IF((MONTH(PUANTAJ!$B$2))=7,' BORDRO HAZIRLIK'!AK8,IF(AE7>1,AE7,(0)))","v":0},0,{"$f":"IF((MONTH(PUANTAJ!$B$2))=7,' BORDRO HAZIRLIK'!AE8,IF(AG7>1,AG7,(0)))","v":0},0,{"$f":"IF((MONTH(PUANTAJ!$B$2))=8,' BORDRO HAZIRLIK'!AK8,IF(AI7>1,AI7,(0)))","v":0},0,{"$f":"IF((MONTH(PUANTAJ!$B$2))=8,' BORDRO HAZIRLIK'!AE8,IF(AK7>1,AK7,(0)))","v":0},0,{"$f":"IF((MONTH(PUANTAJ!$B$2))=9,' BORDRO HAZIRLIK'!AK8,IF(AM7>1,AM7,(0)))","v":0},0,{"$f":"IF((MONTH(PUANTAJ!$B$2))=9,' BORDRO HAZIRLIK'!AE8,IF(AO7>1,AO7,(0)))","v":0},0,{"$f":"IF((MONTH(PUANTAJ!$B$2))=10,' BORDRO HAZIRLIK'!AK8,IF(AQ7>1,AQ7,(0)))","v":0},0,{"$f":"IF((MONTH(PUANTAJ!$B$2))=10,' BORDRO HAZIRLIK'!AE8,IF(AS7>1,AS7,(0)))","v":0},0,{"$f":"IF((MONTH(PUANTAJ!$B$2))=11,' BORDRO HAZIRLIK'!AK8,IF(AU7>1,AU7,(0)))","v":0},0,{"$f":"IF((MONTH(PUANTAJ!$B$2))=11,' BORDRO HAZIRLIK'!AE8,IF(AW7>1,AW7,(0)))","v":0},0,{"$f":"IF((MONTH(PUANTAJ!$B$2))=12,' BORDRO HAZIRLIK'!AK8,IF(AY7>1,AY7,(0)))","v":0},0,{"$f":"IF((MONTH(PUANTAJ!$B$2))=12,' BORDRO HAZIRLIK'!AE8,IF(BA7>1,BA7,(0)))","v":0},0,0,{"$f":"' BORDRO HAZIRLIK'!AK8","v":0},0,0,{"$f":"' BORDRO HAZIRLIK'!AE8","v":0},0]
[null,{"$f":"PUANTAJ!A15","v":""},{"$f":"PUANTAJ!B15","v":" "},{"$f":"BD8+'PERSONEL BİLGİ GİRİŞİ'!AC9","v":0},{"$f":"BG8+'PERSONEL BİLGİ GİRİŞİ'!AL9","v":0},{"$f":"IF((MONTH(PUANTAJ!$B$2))=1,' BORDRO HAZIRLIK'!AK9,IF(G8>1,G8,(0)))","v":0},0,{"$f":"IF((MONTH(PUANTAJ!$B$2))=1,' BORDRO HAZIRLIK'!AE9,IF(I8>1,I8,(0)))","v":0},0,{"$f":"IF((MONTH(PUANTAJ!$B$2))=2,' BORDRO HAZIRLIK'!AK9,IF(K8>1,K8,(0)))","v":0},0,{"$f":"IF((MONTH(PUANTAJ!$B$2))=2,' BORDRO HAZIRLIK'!AE9,IF(M8>1,M8,(0)))","v":0},0,{"$f":"IF((MONTH(PUANTAJ!$B$2))=3,' BORDRO HAZIRLIK'!AK9,IF(O8>1,O8,(0)))","v":0},0,{"$f":"IF((MONTH(PUANTAJ!$B$2))=3,' BORDRO HAZIRLIK'!AE9,IF(Q8>1,Q8,(0)))","v":0},0,{"$f":"IF((MONTH(PUANTAJ!$B$2))=4,' BORDRO HAZIRLIK'!AK9,IF(S8>1,S8,(0)))","v":0},0,{"$f":"IF((MONTH(PUANTAJ!$B$2))=4,' BORDRO HAZIRLIK'!AE9,IF(U8>1,U8,(0)))","v":0},0,{"$f":"IF((MONTH(PUANTAJ!$B$2))=5,' BORDRO HAZIRLIK'!AK9,IF(W8>1,W8,(0)))","v":0},0,{"$f":"IF((MONTH(PUANTAJ!$B$2))=5,' BORDRO HAZIRLIK'!AE9,IF(Y8>1,Y8,(0)))","v":0},0,{"$f":"IF((MONTH(PUANTAJ!$B$2))=6,' BORDRO HAZIRLIK'!AK9,IF(AA8>1,AA8,(0)))","v":0},0,{"$f":"IF((MONTH(PUANTAJ!$B$2))=6,' BORDRO HAZIRLIK'!AE9,IF(AC8>1,AC8,(0)))","v":0},0,{"$f":"IF((MONTH(PUANTAJ!$B$2))=7,' BORDRO HAZIRLIK'!AK9,IF(AE8>1,AE8,(0)))","v":0},0,{"$f":"IF((MONTH(PUANTAJ!$B$2))=7,' BORDRO HAZIRLIK'!AE9,IF(AG8>1,AG8,(0)))","v":0},0,{"$f":"IF((MONTH(PUANTAJ!$B$2))=8,' BORDRO HAZIRLIK'!AK9,IF(AI8>1,AI8,(0)))","v":0},0,{"$f":"IF((MONTH(PUANTAJ!$B$2))=8,' BORDRO HAZIRLIK'!AE9,IF(AK8>1,AK8,(0)))","v":0},0,{"$f":"IF((MONTH(PUANTAJ!$B$2))=9,' BORDRO HAZIRLIK'!AK9,IF(AM8>1,AM8,(0)))","v":0},0,{"$f":"IF((MONTH(PUANTAJ!$B$2))=9,' BORDRO HAZIRLIK'!AE9,IF(AO8>1,AO8,(0)))","v":0},0,{"$f":"IF((MONTH(PUANTAJ!$B$2))=10,' BORDRO HAZIRLIK'!AK9,IF(AQ8>1,AQ8,(0)))","v":0},0,{"$f":"IF((MONTH(PUANTAJ!$B$2))=10,' BORDRO HAZIRLIK'!AE9,IF(AS8>1,AS8,(0)))","v":0},0,{"$f":"IF((MONTH(PUANTAJ!$B$2))=11,' BORDRO HAZIRLIK'!AK9,IF(AU8>1,AU8,(0)))","v":0},0,{"$f":"IF((MONTH(PUANTAJ!$B$2))=11,' BORDRO HAZIRLIK'!AE9,IF(AW8>1,AW8,(0)))","v":0},0,{"$f":"IF((MONTH(PUANTAJ!$B$2))=12,' BORDRO HAZIRLIK'!AK9,IF(AY8>1,AY8,(0)))","v":0},0,{"$f":"IF((MONTH(PUANTAJ!$B$2))=12,' BORDRO HAZIRLIK'!AE9,IF(BA8>1,BA8,(0)))","v":0},0,0,{"$f":"' BORDRO HAZIRLIK'!AK9","v":0},0,0,{"$f":"' BORDRO HAZIRLIK'!AE9","v":0},0]
[null,{"$f":"PUANTAJ!A17","v":""},{"$f":"PUANTAJ!B17","v":" "},{"$f":"BD9+'PERSONEL BİLGİ GİRİŞİ'!AC10","v":0},{"$f":"BG9+'PERSONEL BİLGİ GİRİŞİ'!AL10","v":0},{"$f":"IF((MONTH(PUANTAJ!$B$2))=1,' BORDRO HAZIRLIK'!AK10,IF(G9>1,G9,(0)))","v":0},0,{"$f":"IF((MONTH(PUANTAJ!$B$2))=1,' BORDRO HAZIRLIK'!AE10,IF(I9>1,I9,(0)))","v":0},0,{"$f":"IF((MONTH(PUANTAJ!$B$2))=2,' BORDRO HAZIRLIK'!AK10,IF(K9>1,K9,(0)))","v":0},0,{"$f":"IF((MONTH(PUANTAJ!$B$2))=2,' BORDRO HAZIRLIK'!AE10,IF(M9>1,M9,(0)))","v":0},0,{"$f":"IF((MONTH(PUANTAJ!$B$2))=3,' BORDRO HAZIRLIK'!AK10,IF(O9>1,O9,(0)))","v":0},0,{"$f":"IF((MONTH(PUANTAJ!$B$2))=3,' BORDRO HAZIRLIK'!AE10,IF(Q9>1,Q9,(0)))","v":0},0,{"$f":"IF((MONTH(PUANTAJ!$B$2))=4,' BORDRO HAZIRLIK'!AK10,IF(S9>1,S9,(0)))","v":0},0,{"$f":"IF((MONTH(PUANTAJ!$B$2))=4,' BORDRO HAZIRLIK'!AE10,IF(U9>1,U9,(0)))","v":0},0,{"$f":"IF((MONTH(PUANTAJ!$B$2))=5,' BORDRO HAZIRLIK'!AK10,IF(W9>1,W9,(0)))","v":0},0,{"$f":"IF((MONTH(PUANTAJ!$B$2))=5,' BORDRO HAZIRLIK'!AE10,IF(Y9>1,Y9,(0)))","v":0},0,{"$f":"IF((MONTH(PUANTAJ!$B$2))=6,' BORDRO HAZIRLIK'!AK10,IF(AA9>1,AA9,(0)))","v":0},0,{"$f":"IF((MONTH(PUANTAJ!$B$2))=6,' BORDRO HAZIRLIK'!AE10,IF(AC9>1,AC9,(0)))","v":0},0,{"$f":"IF((MONTH(PUANTAJ!$B$2))=7,' BORDRO HAZIRLIK'!AK10,IF(AE9>1,AE9,(0)))","v":0},0,{"$f":"IF((MONTH(PUANTAJ!$B$2))=7,' BORDRO HAZIRLIK'!AE10,IF(AG9>1,AG9,(0)))","v":0},0,{"$f":"IF((MONTH(PUANTAJ!$B$2))=8,' BORDRO HAZIRLIK'!AK10,IF(AI9>1,AI9,(0)))","v":0},0,{"$f":"IF((MONTH(PUANTAJ!$B$2))=8,' BORDRO HAZIRLIK'!AE10,IF(AK9>1,AK9,(0)))","v":0},0,{"$f":"IF((MONTH(PUANTAJ!$B$2))=9,' BORDRO HAZIRLIK'!AK10,IF(AM9>1,AM9,(0)))","v":0},0,{"$f":"IF((MONTH(PUANTAJ!$B$2))=9,' BORDRO HAZIRLIK'!AE10,IF(AO9>1,AO9,(0)))","v":0},0,{"$f":"IF((MONTH(PUANTAJ!$B$2))=10,' BORDRO HAZIRLIK'!AK10,IF(AQ9>1,AQ9,(0)))","v":0},0,{"$f":"IF((MONTH(PUANTAJ!$B$2))=10,' BORDRO HAZIRLIK'!AE10,IF(AS9>1,AS9,(0)))","v":0},0,{"$f":"IF((MONTH(PUANTAJ!$B$2))=11,' BORDRO HAZIRLIK'!AK10,IF(AU9>1,AU9,(0)))","v":0},0,{"$f":"IF((MONTH(PUANTAJ!$B$2))=11,' BORDRO HAZIRLIK'!AE10,IF(AW9>1,AW9,(0)))","v":0},0,{"$f":"IF((MONTH(PUANTAJ!$B$2))=12,' BORDRO HAZIRLIK'!AK10,IF(AY9>1,AY9,(0)))","v":0},0,{"$f":"IF((MONTH(PUANTAJ!$B$2))=12,' BORDRO HAZIRLIK'!AE10,IF(BA9>1,BA9,(0)))","v":0},0,0,{"$f":"' BORDRO HAZIRLIK'!AK10","v":0},0,0,{"$f":"' BORDRO HAZIRLIK'!AE10","v":0},0]
[null,{"$f":"PUANTAJ!A19","v":""},{"$f":"PUANTAJ!B19","v":" "},{"$f":"BD10+'PERSONEL BİLGİ GİRİŞİ'!AC11","v":0},{"$f":"BG10+'PERSONEL BİLGİ GİRİŞİ'!AL11","v":0},{"$f":"IF((MONTH(PUANTAJ!$B$2))=1,' BORDRO HAZIRLIK'!AK11,IF(G10>1,G10,(0)))","v":0},0,{"$f":"IF((MONTH(PUANTAJ!$B$2))=1,' BORDRO HAZIRLIK'!AE11,IF(I10>1,I10,(0)))","v":0},0,{"$f":"IF((MONTH(PUANTAJ!$B$2))=2,' BORDRO HAZIRLIK'!AK11,IF(K10>1,K10,(0)))","v":0},0,{"$f":"IF((MONTH(PUANTAJ!$B$2))=2,' BORDRO HAZIRLIK'!AE11,IF(M10>1,M10,(0)))","v":0},0,{"$f":"IF((MONTH(PUANTAJ!$B$2))=3,' BORDRO HAZIRLIK'!AK11,IF(O10>1,O10,(0)))","v":0},0,{"$f":"IF((MONTH(PUANTAJ!$B$2))=3,' BORDRO HAZIRLIK'!AE11,IF(Q10>1,Q10,(0)))","v":0},0,{"$f":"IF((MONTH(PUANTAJ!$B$2))=4,' BORDRO HAZIRLIK'!AK11,IF(S10>1,S10,(0)))","v":0},0,{"$f":"IF((MONTH(PUANTAJ!$B$2))=4,' BORDRO HAZIRLIK'!AE11,IF(U10>1,U10,(0)))","v":0},0,{"$f":"IF((MONTH(PUANTAJ!$B$2))=5,' BORDRO HAZIRLIK'!AK11,IF(W10>1,W10,(0)))","v":0},0,{"$f":"IF((MONTH(PUANTAJ!$B$2))=5,' BORDRO HAZIRLIK'!AE11,IF(Y10>1,Y10,(0)))","v":0},0,{"$f":"IF((MONTH(PUANTAJ!$B$2))=6,' BORDRO HAZIRLIK'!AK11,IF(AA10>1,AA10,(0)))","v":0},0,{"$f":"IF((MONTH(PUANTAJ!$B$2))=6,' BORDRO HAZIRLIK'!AE11,IF(AC10>1,AC10,(0)))","v":0},0,{"$f":"IF((MONTH(PUANTAJ!$B$2))=7,' BORDRO HAZIRLIK'!AK11,IF(AE10>1,AE10,(0)))","v":0},0,{"$f":"IF((MONTH(PUANTAJ!$B$2))=7,' BORDRO HAZIRLIK'!AE11,IF(AG10>1,AG10,(0)))","v":0},0,{"$f":"IF((MONTH(PUANTAJ!$B$2))=8,' BORDRO HAZIRLIK'!AK11,IF(AI10>1,AI10,(0)))","v":0},0,{"$f":"IF((MONTH(PUANTAJ!$B$2))=8,' BORDRO HAZIRLIK'!AE11,IF(AK10>1,AK10,(0)))","v":0},0,{"$f":"IF((MONTH(PUANTAJ!$B$2))=9,' BORDRO HAZIRLIK'!AK11,IF(AM10>1,AM10,(0)))","v":0},0,{"$f":"IF((MONTH(PUANTAJ!$B$2))=9,' BORDRO HAZIRLIK'!AE11,IF(AO10>1,AO10,(0)))","v":0},0,{"$f":"IF((MONTH(PUANTAJ!$B$2))=10,' BORDRO HAZIRLIK'!AK11,IF(AQ10>1,AQ10,(0)))","v":0},0,{"$f":"IF((MONTH(PUANTAJ!$B$2))=10,' BORDRO HAZIRLIK'!AE11,IF(AS10>1,AS10,(0)))","v":0},0,{"$f":"IF((MONTH(PUANTAJ!$B$2))=11,' BORDRO HAZIRLIK'!AK11,IF(AU10>1,AU10,(0)))","v":0},0,{"$f":"IF((MONTH(PUANTAJ!$B$2))=11,' BORDRO HAZIRLIK'!AE11,IF(AW10>1,AW10,(0)))","v":0},0,{"$f":"IF((MONTH(PUANTAJ!$B$2))=12,' BORDRO HAZIRLIK'!AK11,IF(AY10>1,AY10,(0)))","v":0},0,{"$f":"IF((MONTH(PUANTAJ!$B$2))=12,' BORDRO HAZIRLIK'!AE11,IF(BA10>1,BA10,(0)))","v":0},0,0,{"$f":"' BORDRO HAZIRLIK'!AK11","v":0},0,0,{"$f":"' BORDRO HAZIRLIK'!AE11","v":0},0]
[null,{"$f":"PUANTAJ!A21","v":""},{"$f":"PUANTAJ!B21","v":" "},{"$f":"BD11+'PERSONEL BİLGİ GİRİŞİ'!AC12","v":0},{"$f":"BG11+'PERSONEL BİLGİ GİRİŞİ'!AL12","v":0},{"$f":"IF((MONTH(PUANTAJ!$B$2))=1,' BORDRO HAZIRLIK'!AK12,IF(G11>1,G11,(0)))","v":0},0,{"$f":"IF((MONTH(PUANTAJ!$B$2))=1,' BORDRO HAZIRLIK'!AE12,IF(I11>1,I11,(0)))","v":0},0,{"$f":"IF((MONTH(PUANTAJ!$B$2))=2,' BORDRO HAZIRLIK'!AK12,IF(K11>1,K11,(0)))","v":0},0,{"$f":"IF((MONTH(PUANTAJ!$B$2))=2,' BORDRO HAZIRLIK'!AE12,IF(M11>1,M11,(0)))","v":0},0,{"$f":"IF((MONTH(PUANTAJ!$B$2))=3,' BORDRO HAZIRLIK'!AK12,IF(O11>1,O11,(0)))","v":0},0,{"$f":"IF((MONTH(PUANTAJ!$B$2))=3,' BORDRO HAZIRLIK'!AE12,IF(Q11>1,Q11,(0)))","v":0},0,{"$f":"IF((MONTH(PUANTAJ!$B$2))=4,' BORDRO HAZIRLIK'!AK12,IF(S11>1,S11,(0)))","v":0},0,{"$f":"IF((MONTH(PUANTAJ!$B$2))=4,' BORDRO HAZIRLIK'!AE12,IF(U11>1,U11,(0)))","v":0},0,{"$f":"IF((MONTH(PUANTAJ!$B$2))=5,' BORDRO HAZIRLIK'!AK12,IF(W11>1,W11,(0)))","v":0},0,{"$f":"IF((MONTH(PUANTAJ!$B$2))=5,' BORDRO HAZIRLIK'!AE12,IF(Y11>1,Y11,(0)))","v":0},0,{"$f":"IF((MONTH(PUANTAJ!$B$2))=6,' BORDRO HAZIRLIK'!AK12,IF(AA11>1,AA11,(0)))","v":0},0,{"$f":"IF((MONTH(PUANTAJ!$B$2))=6,' BORDRO HAZIRLIK'!AE12,IF(AC11>1,AC11,(0)))","v":0},0,{"$f":"IF((MONTH(PUANTAJ!$B$2))=7,' BORDRO HAZIRLIK'!AK12,IF(AE11>1,AE11,(0)))","v":0},0,{"$f":"IF((MONTH(PUANTAJ!$B$2))=7,' BORDRO HAZIRLIK'!AE12,IF(AG11>1,AG11,(0)))","v":0},0,{"$f":"IF((MONTH(PUANTAJ!$B$2))=8,' BORDRO HAZIRLIK'!AK12,IF(AI11>1,AI11,(0)))","v":0},0,{"$f":"IF((MONTH(PUANTAJ!$B$2))=8,' BORDRO HAZIRLIK'!AE12,IF(AK11>1,AK11,(0)))","v":0},0,{"$f":"IF((MONTH(PUANTAJ!$B$2))=9,' BORDRO HAZIRLIK'!AK12,IF(AM11>1,AM11,(0)))","v":0},0,{"$f":"IF((MONTH(PUANTAJ!$B$2))=9,' BORDRO HAZIRLIK'!AE12,IF(AO11>1,AO11,(0)))","v":0},0,{"$f":"IF((MONTH(PUANTAJ!$B$2))=10,' BORDRO HAZIRLIK'!AK12,IF(AQ11>1,AQ11,(0)))","v":0},0,{"$f":"IF((MONTH(PUANTAJ!$B$2))=10,' BORDRO HAZIRLIK'!AE12,IF(AS11>1,AS11,(0)))","v":0},0,{"$f":"IF((MONTH(PUANTAJ!$B$2))=11,' BORDRO HAZIRLIK'!AK12,IF(AU11>1,AU11,(0)))","v":0},0,{"$f":"IF((MONTH(PUANTAJ!$B$2))=11,' BORDRO HAZIRLIK'!AE12,IF(AW11>1,AW11,(0)))","v":0},0,{"$f":"IF((MONTH(PUANTAJ!$B$2))=12,' BORDRO HAZIRLIK'!AK12,IF(AY11>1,AY11,(0)))","v":0},0,{"$f":"IF((MONTH(PUANTAJ!$B$2))=12,' BORDRO HAZIRLIK'!AE12,IF(BA11>1,BA11,(0)))","v":0},0,0,{"$f":"' BORDRO HAZIRLIK'!AK12","v":0},0,0,{"$f":"' BORDRO HAZIRLIK'!AE12","v":0},0]
[null,{"$f":"PUANTAJ!A23","v":""},{"$f":"PUANTAJ!B23","v":" "},{"$f":"BD12+'PERSONEL BİLGİ GİRİŞİ'!AC13","v":0},{"$f":"BG12+'PERSONEL BİLGİ GİRİŞİ'!AL13","v":0},{"$f":"IF((MONTH(PUANTAJ!$B$2))=1,' BORDRO HAZIRLIK'!AK13,IF(G12>1,G12,(0)))","v":0},0,{"$f":"IF((MONTH(PUANTAJ!$B$2))=1,' BORDRO HAZIRLIK'!AE13,IF(I12>1,I12,(0)))","v":0},0,{"$f":"IF((MONTH(PUANTAJ!$B$2))=2,' BORDRO HAZIRLIK'!AK13,IF(K12>1,K12,(0)))","v":0},0,{"$f":"IF((MONTH(PUANTAJ!$B$2))=2,' BORDRO HAZIRLIK'!AE13,IF(M12>1,M12,(0)))","v":0},0,{"$f":"IF((MONTH(PUANTAJ!$B$2))=3,' BORDRO HAZIRLIK'!AK13,IF(O12>1,O12,(0)))","v":0},0,{"$f":"IF((MONTH(PUANTAJ!$B$2))=3,' BORDRO HAZIRLIK'!AE13,IF(Q12>1,Q12,(0)))","v":0},0,{"$f":"IF((MONTH(PUANTAJ!$B$2))=4,' BORDRO HAZIRLIK'!AK13,IF(S12>1,S12,(0)))","v":0},0,{"$f":"IF((MONTH(PUANTAJ!$B$2))=4,' BORDRO HAZIRLIK'!AE13,IF(U12>1,U12,(0)))","v":0},0,{"$f":"IF((MONTH(PUANTAJ!$B$2))=5,' BORDRO HAZIRLIK'!AK13,IF(W12>1,W12,(0)))","v":0},0,{"$f":"IF((MONTH(PUANTAJ!$B$2))=5,' BORDRO HAZIRLIK'!AE13,IF(Y12>1,Y12,(0)))","v":0},0,{"$f":"IF((MONTH(PUANTAJ!$B$2))=6,' BORDRO HAZIRLIK'!AK13,IF(AA12>1,AA12,(0)))","v":0},0,{"$f":"IF((MONTH(PUANTAJ!$B$2))=6,' BORDRO HAZIRLIK'!AE13,IF(AC12>1,AC12,(0)))","v":0},0,{"$f":"IF((MONTH(PUANTAJ!$B$2))=7,' BORDRO HAZIRLIK'!AK13,IF(AE12>1,AE12,(0)))","v":0},0,{"$f":"IF((MONTH(PUANTAJ!$B$2))=7,' BORDRO HAZIRLIK'!AE13,IF(AG12>1,AG12,(0)))","v":0},0,{"$f":"IF((MONTH(PUANTAJ!$B$2))=8,' BORDRO HAZIRLIK'!AK13,IF(AI12>1,AI12,(0)))","v":0},0,{"$f":"IF((MONTH(PUANTAJ!$B$2))=8,' BORDRO HAZIRLIK'!AE13,IF(AK12>1,AK12,(0)))","v":0},0,{"$f":"IF((MONTH(PUANTAJ!$B$2))=9,' BORDRO HAZIRLIK'!AK13,IF(AM12>1,AM12,(0)))","v":0},0,{"$f":"IF((MONTH(PUANTAJ!$B$2))=9,' BORDRO HAZIRLIK'!AE13,IF(AO12>1,AO12,(0)))","v":0},0,{"$f":"IF((MONTH(PUANTAJ!$B$2))=10,' BORDRO HAZIRLIK'!AK13,IF(AQ12>1,AQ12,(0)))","v":0},0,{"$f":"IF((MONTH(PUANTAJ!$B$2))=10,' BORDRO HAZIRLIK'!AE13,IF(AS12>1,AS12,(0)))","v":0},0,{"$f":"IF((MONTH(PUANTAJ!$B$2))=11,' BORDRO HAZIRLIK'!AK13,IF(AU12>1,AU12,(0)))","v":0},0,{"$f":"IF((MONTH(PUANTAJ!$B$2))=11,' BORDRO HAZIRLIK'!AE13,IF(AW12>1,AW12,(0)))","v":0},0,{"$f":"IF((MONTH(PUANTAJ!$B$2))=12,' BORDRO HAZIRLIK'!AK13,IF(AY12>1,AY12,(0)))","v":0},0,{"$f":"IF((MONTH(PUANTAJ!$B$2))=12,' BORDRO HAZIRLIK'!AE13,IF(BA12>1,BA12,(0)))","v":0},0,0,{"$f":"' BORDRO HAZIRLIK'!AK13","v":0},0,0,{"$f":"' BORDRO HAZIRLIK'!AE13","v":0},0]
[null,{"$f":"PUANTAJ!A25","v":""},{"$f":"PUANTAJ!B25","v":" "},{"$f":"BD13+'PERSONEL BİLGİ GİRİŞİ'!AC14","v":0},{"$f":"BG13+'PERSONEL BİLGİ GİRİŞİ'!AL14","v":0},{"$f":"IF((MONTH(PUANTAJ!$B$2))=1,' BORDRO HAZIRLIK'!AK14,IF(G13>1,G13,(0)))","v":0},0,{"$f":"IF((MONTH(PUANTAJ!$B$2))=1,' BORDRO HAZIRLIK'!AE14,IF(I13>1,I13,(0)))","v":0},0,{"$f":"IF((MONTH(PUANTAJ!$B$2))=2,' BORDRO HAZIRLIK'!AK14,IF(K13>1,K13,(0)))","v":0},0,{"$f":"IF((MONTH(PUANTAJ!$B$2))=2,' BORDRO HAZIRLIK'!AE14,IF(M13>1,M13,(0)))","v":0},0,{"$f":"IF((MONTH(PUANTAJ!$B$2))=3,' BORDRO HAZIRLIK'!AK14,IF(O13>1,O13,(0)))","v":0},0,{"$f":"IF((MONTH(PUANTAJ!$B$2))=3,' BORDRO HAZIRLIK'!AE14,IF(Q13>1,Q13,(0)))","v":0},0,{"$f":"IF((MONTH(PUANTAJ!$B$2))=4,' BORDRO HAZIRLIK'!AK14,IF(S13>1,S13,(0)))","v":0},0,{"$f":"IF((MONTH(PUANTAJ!$B$2))=4,' BORDRO HAZIRLIK'!AE14,IF(U13>1,U13,(0)))","v":0},0,{"$f":"IF((MONTH(PUANTAJ!$B$2))=5,' BORDRO HAZIRLIK'!AK14,IF(W13>1,W13,(0)))","v":0},0,{"$f":"IF((MONTH(PUANTAJ!$B$2))=5,' BORDRO HAZIRLIK'!AE14,IF(Y13>1,Y13,(0)))","v":0},0,{"$f":"IF((MONTH(PUANTAJ!$B$2))=6,' BORDRO HAZIRLIK'!AK14,IF(AA13>1,AA13,(0)))","v":0},0,{"$f":"IF((MONTH(PUANTAJ!$B$2))=6,' BORDRO HAZIRLIK'!AE14,IF(AC13>1,AC13,(0)))","v":0},0,{"$f":"IF((MONTH(PUANTAJ!$B$2))=7,' BORDRO HAZIRLIK'!AK14,IF(AE13>1,AE13,(0)))","v":0},0,{"$f":"IF((MONTH(PUANTAJ!$B$2))=7,' BORDRO HAZIRLIK'!AE14,IF(AG13>1,AG13,(0)))","v":0},0,{"$f":"IF((MONTH(PUANTAJ!$B$2))=8,' BORDRO HAZIRLIK'!AK14,IF(AI13>1,AI13,(0)))","v":0},0,{"$f":"IF((MONTH(PUANTAJ!$B$2))=8,' BORDRO HAZIRLIK'!AE14,IF(AK13>1,AK13,(0)))","v":0},0,{"$f":"IF((MONTH(PUANTAJ!$B$2))=9,' BORDRO HAZIRLIK'!AK14,IF(AM13>1,AM13,(0)))","v":0},0,{"$f":"IF((MONTH(PUANTAJ!$B$2))=9,' BORDRO HAZIRLIK'!AE14,IF(AO13>1,AO13,(0)))","v":0},0,{"$f":"IF((MONTH(PUANTAJ!$B$2))=10,' BORDRO HAZIRLIK'!AK14,IF(AQ13>1,AQ13,(0)))","v":0},0,{"$f":"IF((MONTH(PUANTAJ!$B$2))=10,' BORDRO HAZIRLIK'!AE14,IF(AS13>1,AS13,(0)))","v":0},0,{"$f":"IF((MONTH(PUANTAJ!$B$2))=11,' BORDRO HAZIRLIK'!AK14,IF(AU13>1,AU13,(0)))","v":0},0,{"$f":"IF((MONTH(PUANTAJ!$B$2))=11,' BORDRO HAZIRLIK'!AE14,IF(AW13>1,AW13,(0)))","v":0},0,{"$f":"IF((MONTH(PUANTAJ!$B$2))=12,' BORDRO HAZIRLIK'!AK14,IF(AY13>1,AY13,(0)))","v":0},0,{"$f":"IF((MONTH(PUANTAJ!$B$2))=12,' BORDRO HAZIRLIK'!AE14,IF(BA13>1,BA13,(0)))","v":0},0,0,{"$f":"' BORDRO HAZIRLIK'!AK14","v":0},0,0,{"$f":"' BORDRO HAZIRLIK'!AE14","v":0},0]
[null,{"$f":"PUANTAJ!A27","v":""},{"$f":"PUANTAJ!B27","v":" "},{"$f":"BD14+'PERSONEL BİLGİ GİRİŞİ'!AC15","v":0},{"$f":"BG14+'PERSONEL BİLGİ GİRİŞİ'!AL15","v":0},{"$f":"IF((MONTH(PUANTAJ!$B$2))=1,' BORDRO HAZIRLIK'!AK15,IF(G14>1,G14,(0)))","v":0},0,{"$f":"IF((MONTH(PUANTAJ!$B$2))=1,' BORDRO HAZIRLIK'!AE15,IF(I14>1,I14,(0)))","v":0},0,{"$f":"IF((MONTH(PUANTAJ!$B$2))=2,' BORDRO HAZIRLIK'!AK15,IF(K14>1,K14,(0)))","v":0},0,{"$f":"IF((MONTH(PUANTAJ!$B$2))=2,' BORDRO HAZIRLIK'!AE15,IF(M14>1,M14,(0)))","v":0},0,{"$f":"IF((MONTH(PUANTAJ!$B$2))=3,' BORDRO HAZIRLIK'!AK15,IF(O14>1,O14,(0)))","v":0},0,{"$f":"IF((MONTH(PUANTAJ!$B$2))=3,' BORDRO HAZIRLIK'!AE15,IF(Q14>1,Q14,(0)))","v":0},0,{"$f":"IF((MONTH(PUANTAJ!$B$2))=4,' BORDRO HAZIRLIK'!AK15,IF(S14>1,S14,(0)))","v":0},0,{"$f":"IF((MONTH(PUANTAJ!$B$2))=4,' BORDRO HAZIRLIK'!AE15,IF(U14>1,U14,(0)))","v":0},0,{"$f":"IF((MONTH(PUANTAJ!$B$2))=5,' BORDRO HAZIRLIK'!AK15,IF(W14>1,W14,(0)))","v":0},0,{"$f":"IF((MONTH(PUANTAJ!$B$2))=5,' BORDRO HAZIRLIK'!AE15,IF(Y14>1,Y14,(0)))","v":0},0,{"$f":"IF((MONTH(PUANTAJ!$B$2))=6,' BORDRO HAZIRLIK'!AK15,IF(AA14>1,AA14,(0)))","v":0},0,{"$f":"IF((MONTH(PUANTAJ!$B$2))=6,' BORDRO HAZIRLIK'!AE15,IF(AC14>1,AC14,(0)))","v":0},0,{"$f":"IF((MONTH(PUANTAJ!$B$2))=7,' BORDRO HAZIRLIK'!AK15,IF(AE14>1,AE14,(0)))","v":0},0,{"$f":"IF((MONTH(PUANTAJ!$B$2))=7,' BORDRO HAZIRLIK'!AE15,IF(AG14>1,AG14,(0)))","v":0},0,{"$f":"IF((MONTH(PUANTAJ!$B$2))=8,' BORDRO HAZIRLIK'!AK15,IF(AI14>1,AI14,(0)))","v":0},0,{"$f":"IF((MONTH(PUANTAJ!$B$2))=8,' BORDRO HAZIRLIK'!AE15,IF(AK14>1,AK14,(0)))","v":0},0,{"$f":"IF((MONTH(PUANTAJ!$B$2))=9,' BORDRO HAZIRLIK'!AK15,IF(AM14>1,AM14,(0)))","v":0},0,{"$f":"IF((MONTH(PUANTAJ!$B$2))=9,' BORDRO HAZIRLIK'!AE15,IF(AO14>1,AO14,(0)))","v":0},0,{"$f":"IF((MONTH(PUANTAJ!$B$2))=10,' BORDRO HAZIRLIK'!AK15,IF(AQ14>1,AQ14,(0)))","v":0},0,{"$f":"IF((MONTH(PUANTAJ!$B$2))=10,' BORDRO HAZIRLIK'!AE15,IF(AS14>1,AS14,(0)))","v":0},0,{"$f":"IF((MONTH(PUANTAJ!$B$2))=11,' BORDRO HAZIRLIK'!AK15,IF(AU14>1,AU14,(0)))","v":0},0,{"$f":"IF((MONTH(PUANTAJ!$B$2))=11,' BORDRO HAZIRLIK'!AE15,IF(AW14>1,AW14,(0)))","v":0},0,{"$f":"IF((MONTH(PUANTAJ!$B$2))=12,' BORDRO HAZIRLIK'!AK15,IF(AY14>1,AY14,(0)))","v":0},0,{"$f":"IF((MONTH(PUANTAJ!$B$2))=12,' BORDRO HAZIRLIK'!AE15,IF(BA14>1,BA14,(0)))","v":0},0,0,{"$f":"' BORDRO HAZIRLIK'!AK15","v":0},0,0,{"$f":"' BORDRO HAZIRLIK'!AE15","v":0},0]
[null,{"$f":"PUANTAJ!A29","v":""},{"$f":"PUANTAJ!B29","v":" "},{"$f":"BD15+'PERSONEL BİLGİ GİRİŞİ'!AC16","v":0},{"$f":"BG15+'PERSONEL BİLGİ GİRİŞİ'!AL16","v":0},{"$f":"IF((MONTH(PUANTAJ!$B$2))=1,' BORDRO HAZIRLIK'!AK16,IF(G15>1,G15,(0)))","v":0},0,{"$f":"IF((MONTH(PUANTAJ!$B$2))=1,' BORDRO HAZIRLIK'!AE16,IF(I15>1,I15,(0)))","v":0},0,{"$f":"IF((MONTH(PUANTAJ!$B$2))=2,' BORDRO HAZIRLIK'!AK16,IF(K15>1,K15,(0)))","v":0},0,{"$f":"IF((MONTH(PUANTAJ!$B$2))=2,' BORDRO HAZIRLIK'!AE16,IF(M15>1,M15,(0)))","v":0},0,{"$f":"IF((MONTH(PUANTAJ!$B$2))=3,' BORDRO HAZIRLIK'!AK16,IF(O15>1,O15,(0)))","v":0},0,{"$f":"IF((MONTH(PUANTAJ!$B$2))=3,' BORDRO HAZIRLIK'!AE16,IF(Q15>1,Q15,(0)))","v":0},0,{"$f":"IF((MONTH(PUANTAJ!$B$2))=4,' BORDRO HAZIRLIK'!AK16,IF(S15>1,S15,(0)))","v":0},0,{"$f":"IF((MONTH(PUANTAJ!$B$2))=4,' BORDRO HAZIRLIK'!AE16,IF(U15>1,U15,(0)))","v":0},0,{"$f":"IF((MONTH(PUANTAJ!$B$2))=5,' BORDRO HAZIRLIK'!AK16,IF(W15>1,W15,(0)))","v":0},0,{"$f":"IF((MONTH(PUANTAJ!$B$2))=5,' BORDRO HAZIRLIK'!AE16,IF(Y15>1,Y15,(0)))","v":0},0,{"$f":"IF((MONTH(PUANTAJ!$B$2))=6,' BORDRO HAZIRLIK'!AK16,IF(AA15>1,AA15,(0)))","v":0},0,{"$f":"IF((MONTH(PUANTAJ!$B$2))=6,' BORDRO HAZIRLIK'!AE16,IF(AC15>1,AC15,(0)))","v":0},0,{"$f":"IF((MONTH(PUANTAJ!$B$2))=7,' BORDRO HAZIRLIK'!AK16,IF(AE15>1,AE15,(0)))","v":0},0,{"$f":"IF((MONTH(PUANTAJ!$B$2))=7,' BORDRO HAZIRLIK'!AE16,IF(AG15>1,AG15,(0)))","v":0},0,{"$f":"IF((MONTH(PUANTAJ!$B$2))=8,' BORDRO HAZIRLIK'!AK16,IF(AI15>1,AI15,(0)))","v":0},0,{"$f":"IF((MONTH(PUANTAJ!$B$2))=8,' BORDRO HAZIRLIK'!AE16,IF(AK15>1,AK15,(0)))","v":0},0,{"$f":"IF((MONTH(PUANTAJ!$B$2))=9,' BORDRO HAZIRLIK'!AK16,IF(AM15>1,AM15,(0)))","v":0},0,{"$f":"IF((MONTH(PUANTAJ!$B$2))=9,' BORDRO HAZIRLIK'!AE16,IF(AO15>1,AO15,(0)))","v":0},0,{"$f":"IF((MONTH(PUANTAJ!$B$2))=10,' BORDRO HAZIRLIK'!AK16,IF(AQ15>1,AQ15,(0)))","v":0},0,{"$f":"IF((MONTH(PUANTAJ!$B$2))=10,' BORDRO HAZIRLIK'!AE16,IF(AS15>1,AS15,(0)))","v":0},0,{"$f":"IF((MONTH(PUANTAJ!$B$2))=11,' BORDRO HAZIRLIK'!AK16,IF(AU15>1,AU15,(0)))","v":0},0,{"$f":"IF((MONTH(PUANTAJ!$B$2))=11,' BORDRO HAZIRLIK'!AE16,IF(AW15>1,AW15,(0)))","v":0},0,{"$f":"IF((MONTH(PUANTAJ!$B$2))=12,' BORDRO HAZIRLIK'!AK16,IF(AY15>1,AY15,(0)))","v":0},0,{"$f":"IF((MONTH(PUANTAJ!$B$2))=12,' BORDRO HAZIRLIK'!AE16,IF(BA15>1,BA15,(0)))","v":0},0,0,{"$f":"' BORDRO HAZIRLIK'!AK16","v":0},0,0,{"$f":"' BORDRO HAZIRLIK'!AE16","v":0},0]
[null,{"$f":"PUANTAJ!A31","v":""},{"$f":"PUANTAJ!B31","v":" "},{"$f":"BD16+'PERSONEL BİLGİ GİRİŞİ'!AC17","v":0},{"$f":"BG16+'PERSONEL BİLGİ GİRİŞİ'!AL17","v":0},{"$f":"IF((MONTH(PUANTAJ!$B$2))=1,' BORDRO HAZIRLIK'!AK17,IF(G16>1,G16,(0)))","v":0},0,{"$f":"IF((MONTH(PUANTAJ!$B$2))=1,' BORDRO HAZIRLIK'!AE17,IF(I16>1,I16,(0)))","v":0},0,{"$f":"IF((MONTH(PUANTAJ!$B$2))=2,' BORDRO HAZIRLIK'!AK17,IF(K16>1,K16,(0)))","v":0},0,{"$f":"IF((MONTH(PUANTAJ!$B$2))=2,' BORDRO HAZIRLIK'!AE17,IF(M16>1,M16,(0)))","v":0},0,{"$f":"IF((MONTH(PUANTAJ!$B$2))=3,' BORDRO HAZIRLIK'!AK17,IF(O16>1,O16,(0)))","v":0},0,{"$f":"IF((MONTH(PUANTAJ!$B$2))=3,' BORDRO HAZIRLIK'!AE17,IF(Q16>1,Q16,(0)))","v":0},0,{"$f":"IF((MONTH(PUANTAJ!$B$2))=4,' BORDRO HAZIRLIK'!AK17,IF(S16>1,S16,(0)))","v":0},0,{"$f":"IF((MONTH(PUANTAJ!$B$2))=4,' BORDRO HAZIRLIK'!AE17,IF(U16>1,U16,(0)))","v":0},0,{"$f":"IF((MONTH(PUANTAJ!$B$2))=5,' BORDRO HAZIRLIK'!AK17,IF(W16>1,W16,(0)))","v":0},0,{"$f":"IF((MONTH(PUANTAJ!$B$2))=5,' BORDRO HAZIRLIK'!AE17,IF(Y16>1,Y16,(0)))","v":0},0,{"$f":"IF((MONTH(PUANTAJ!$B$2))=6,' BORDRO HAZIRLIK'!AK17,IF(AA16>1,AA16,(0)))","v":0},0,{"$f":"IF((MONTH(PUANTAJ!$B$2))=6,' BORDRO HAZIRLIK'!AE17,IF(AC16>1,AC16,(0)))","v":0},0,{"$f":"IF((MONTH(PUANTAJ!$B$2))=7,' BORDRO HAZIRLIK'!AK17,IF(AE16>1,AE16,(0)))","v":0},0,{"$f":"IF((MONTH(PUANTAJ!$B$2))=7,' BORDRO HAZIRLIK'!AE17,IF(AG16>1,AG16,(0)))","v":0},0,{"$f":"IF((MONTH(PUANTAJ!$B$2))=8,' BORDRO HAZIRLIK'!AK17,IF(AI16>1,AI16,(0)))","v":0},0,{"$f":"IF((MONTH(PUANTAJ!$B$2))=8,' BORDRO HAZIRLIK'!AE17,IF(AK16>1,AK16,(0)))","v":0},0,{"$f":"IF((MONTH(PUANTAJ!$B$2))=9,' BORDRO HAZIRLIK'!AK17,IF(AM16>1,AM16,(0)))","v":0},0,{"$f":"IF((MONTH(PUANTAJ!$B$2))=9,' BORDRO HAZIRLIK'!AE17,IF(AO16>1,AO16,(0)))","v":0},0,{"$f":"IF((MONTH(PUANTAJ!$B$2))=10,' BORDRO HAZIRLIK'!AK17,IF(AQ16>1,AQ16,(0)))","v":0},0,{"$f":"IF((MONTH(PUANTAJ!$B$2))=10,' BORDRO HAZIRLIK'!AE17,IF(AS16>1,AS16,(0)))","v":0},0,{"$f":"IF((MONTH(PUANTAJ!$B$2))=11,' BORDRO HAZIRLIK'!AK17,IF(AU16>1,AU16,(0)))","v":0},0,{"$f":"IF((MONTH(PUANTAJ!$B$2))=11,' BORDRO HAZIRLIK'!AE17,IF(AW16>1,AW16,(0)))","v":0},0,{"$f":"IF((MONTH(PUANTAJ!$B$2))=12,' BORDRO HAZIRLIK'!AK17,IF(AY16>1,AY16,(0)))","v":0},0,{"$f":"IF((MONTH(PUANTAJ!$B$2))=12,' BORDRO HAZIRLIK'!AE17,IF(BA16>1,BA16,(0)))","v":0},0,0,{"$f":"' BORDRO HAZIRLIK'!AK17","v":0},0,0,{"$f":"' BORDRO HAZIRLIK'!AE17","v":0},0]
[null,{"$f":"PUANTAJ!A33","v":""},{"$f":"PUANTAJ!B33","v":" "},{"$f":"BD17+'PERSONEL BİLGİ GİRİŞİ'!AC18","v":0},{"$f":"BG17+'PERSONEL BİLGİ GİRİŞİ'!AL18","v":0},{"$f":"IF((MONTH(PUANTAJ!$B$2))=1,' BORDRO HAZIRLIK'!AK18,IF(G17>1,G17,(0)))","v":0},0,{"$f":"IF((MONTH(PUANTAJ!$B$2))=1,' BORDRO HAZIRLIK'!AE18,IF(I17>1,I17,(0)))","v":0},0,{"$f":"IF((MONTH(PUANTAJ!$B$2))=2,' BORDRO HAZIRLIK'!AK18,IF(K17>1,K17,(0)))","v":0},0,{"$f":"IF((MONTH(PUANTAJ!$B$2))=2,' BORDRO HAZIRLIK'!AE18,IF(M17>1,M17,(0)))","v":0},0,{"$f":"IF((MONTH(PUANTAJ!$B$2))=3,' BORDRO HAZIRLIK'!AK18,IF(O17>1,O17,(0)))","v":0},0,{"$f":"IF((MONTH(PUANTAJ!$B$2))=3,' BORDRO HAZIRLIK'!AE18,IF(Q17>1,Q17,(0)))","v":0},0,{"$f":"IF((MONTH(PUANTAJ!$B$2))=4,' BORDRO HAZIRLIK'!AK18,IF(S17>1,S17,(0)))","v":0},0,{"$f":"IF((MONTH(PUANTAJ!$B$2))=4,' BORDRO HAZIRLIK'!AE18,IF(U17>1,U17,(0)))","v":0},0,{"$f":"IF((MONTH(PUANTAJ!$B$2))=5,' BORDRO HAZIRLIK'!AK18,IF(W17>1,W17,(0)))","v":0},0,{"$f":"IF((MONTH(PUANTAJ!$B$2))=5,' BORDRO HAZIRLIK'!AE18,IF(Y17>1,Y17,(0)))","v":0},0,{"$f":"IF((MONTH(PUANTAJ!$B$2))=6,' BORDRO HAZIRLIK'!AK18,IF(AA17>1,AA17,(0)))","v":0},0,{"$f":"IF((MONTH(PUANTAJ!$B$2))=6,' BORDRO HAZIRLIK'!AE18,IF(AC17>1,AC17,(0)))","v":0},0,{"$f":"IF((MONTH(PUANTAJ!$B$2))=7,' BORDRO HAZIRLIK'!AK18,IF(AE17>1,AE17,(0)))","v":0},0,{"$f":"IF((MONTH(PUANTAJ!$B$2))=7,' BORDRO HAZIRLIK'!AE18,IF(AG17>1,AG17,(0)))","v":0},0,{"$f":"IF((MONTH(PUANTAJ!$B$2))=8,' BORDRO HAZIRLIK'!AK18,IF(AI17>1,AI17,(0)))","v":0},0,{"$f":"IF((MONTH(PUANTAJ!$B$2))=8,' BORDRO HAZIRLIK'!AE18,IF(AK17>1,AK17,(0)))","v":0},0,{"$f":"IF((MONTH(PUANTAJ!$B$2))=9,' BORDRO HAZIRLIK'!AK18,IF(AM17>1,AM17,(0)))","v":0},0,{"$f":"IF((MONTH(PUANTAJ!$B$2))=9,' BORDRO HAZIRLIK'!AE18,IF(AO17>1,AO17,(0)))","v":0},0,{"$f":"IF((MONTH(PUANTAJ!$B$2))=10,' BORDRO HAZIRLIK'!AK18,IF(AQ17>1,AQ17,(0)))","v":0},0,{"$f":"IF((MONTH(PUANTAJ!$B$2))=10,' BORDRO HAZIRLIK'!AE18,IF(AS17>1,AS17,(0)))","v":0},0,{"$f":"IF((MONTH(PUANTAJ!$B$2))=11,' BORDRO HAZIRLIK'!AK18,IF(AU17>1,AU17,(0)))","v":0},0,{"$f":"IF((MONTH(PUANTAJ!$B$2))=11,' BORDRO HAZIRLIK'!AE18,IF(AW17>1,AW17,(0)))","v":0},0,{"$f":"IF((MONTH(PUANTAJ!$B$2))=12,' BORDRO HAZIRLIK'!AK18,IF(AY17>1,AY17,(0)))","v":0},0,{"$f":"IF((MONTH(PUANTAJ!$B$2))=12,' BORDRO HAZIRLIK'!AE18,IF(BA17>1,BA17,(0)))","v":0},0,0,{"$f":"' BORDRO HAZIRLIK'!AK18","v":0},0,0,{"$f":"' BORDRO HAZIRLIK'!AE18","v":0},0]
[null,{"$f":"PUANTAJ!A35","v":""},{"$f":"PUANTAJ!B35","v":" "},{"$f":"BD18+'PERSONEL BİLGİ GİRİŞİ'!AC19","v":0},{"$f":"BG18+'PERSONEL BİLGİ GİRİŞİ'!AL19","v":0},{"$f":"IF((MONTH(PUANTAJ!$B$2))=1,' BORDRO HAZIRLIK'!AK19,IF(G18>1,G18,(0)))","v":0},0,{"$f":"IF((MONTH(PUANTAJ!$B$2))=1,' BORDRO HAZIRLIK'!AE19,IF(I18>1,I18,(0)))","v":0},0,{"$f":"IF((MONTH(PUANTAJ!$B$2))=2,' BORDRO HAZIRLIK'!AK19,IF(K18>1,K18,(0)))","v":0},0,{"$f":"IF((MONTH(PUANTAJ!$B$2))=2,' BORDRO HAZIRLIK'!AE19,IF(M18>1,M18,(0)))","v":0},0,{"$f":"IF((MONTH(PUANTAJ!$B$2))=3,' BORDRO HAZIRLIK'!AK19,IF(O18>1,O18,(0)))","v":0},0,{"$f":"IF((MONTH(PUANTAJ!$B$2))=3,' BORDRO HAZIRLIK'!AE19,IF(Q18>1,Q18,(0)))","v":0},0,{"$f":"IF((MONTH(PUANTAJ!$B$2))=4,' BORDRO HAZIRLIK'!AK19,IF(S18>1,S18,(0)))","v":0},0,{"$f":"IF((MONTH(PUANTAJ!$B$2))=4,' BORDRO HAZIRLIK'!AE19,IF(U18>1,U18,(0)))","v":0},0,{"$f":"IF((MONTH(PUANTAJ!$B$2))=5,' BORDRO HAZIRLIK'!AK19,IF(W18>1,W18,(0)))","v":0},0,{"$f":"IF((MONTH(PUANTAJ!$B$2))=5,' BORDRO HAZIRLIK'!AE19,IF(Y18>1,Y18,(0)))","v":0},0,{"$f":"IF((MONTH(PUANTAJ!$B$2))=6,' BORDRO HAZIRLIK'!AK19,IF(AA18>1,AA18,(0)))","v":0},0,{"$f":"IF((MONTH(PUANTAJ!$B$2))=6,' BORDRO HAZIRLIK'!AE19,IF(AC18>1,AC18,(0)))","v":0},0,{"$f":"IF((MONTH(PUANTAJ!$B$2))=7,' BORDRO HAZIRLIK'!AK19,IF(AE18>1,AE18,(0)))","v":0},0,{"$f":"IF((MONTH(PUANTAJ!$B$2))=7,' BORDRO HAZIRLIK'!AE19,IF(AG18>1,AG18,(0)))","v":0},0,{"$f":"IF((MONTH(PUANTAJ!$B$2))=8,' BORDRO HAZIRLIK'!AK19,IF(AI18>1,AI18,(0)))","v":0},0,{"$f":"IF((MONTH(PUANTAJ!$B$2))=8,' BORDRO HAZIRLIK'!AE19,IF(AK18>1,AK18,(0)))","v":0},0,{"$f":"IF((MONTH(PUANTAJ!$B$2))=9,' BORDRO HAZIRLIK'!AK19,IF(AM18>1,AM18,(0)))","v":0},0,{"$f":"IF((MONTH(PUANTAJ!$B$2))=9,' BORDRO HAZIRLIK'!AE19,IF(AO18>1,AO18,(0)))","v":0},0,{"$f":"IF((MONTH(PUANTAJ!$B$2))=10,' BORDRO HAZIRLIK'!AK19,IF(AQ18>1,AQ18,(0)))","v":0},0,{"$f":"IF((MONTH(PUANTAJ!$B$2))=10,' BORDRO HAZIRLIK'!AE19,IF(AS18>1,AS18,(0)))","v":0},0,{"$f":"IF((MONTH(PUANTAJ!$B$2))=11,' BORDRO HAZIRLIK'!AK19,IF(AU18>1,AU18,(0)))","v":0},0,{"$f":"IF((MONTH(PUANTAJ!$B$2))=11,' BORDRO HAZIRLIK'!AE19,IF(AW18>1,AW18,(0)))","v":0},0,{"$f":"IF((MONTH(PUANTAJ!$B$2))=12,' BORDRO HAZIRLIK'!AK19,IF(AY18>1,AY18,(0)))","v":0},0,{"$f":"IF((MONTH(PUANTAJ!$B$2))=12,' BORDRO HAZIRLIK'!AE19,IF(BA18>1,BA18,(0)))","v":0},0,0,{"$f":"' BORDRO HAZIRLIK'!AK19","v":0},0,0,{"$f":"' BORDRO HAZIRLIK'!AE19","v":0},0]
[null,{"$f":"PUANTAJ!A37","v":""},{"$f":"PUANTAJ!B37","v":" "},{"$f":"BD19+'PERSONEL BİLGİ GİRİŞİ'!AC20","v":0},{"$f":"BG19+'PERSONEL BİLGİ GİRİŞİ'!AL20","v":0},{"$f":"IF((MONTH(PUANTAJ!$B$2))=1,' BORDRO HAZIRLIK'!#REF!,IF(G19>1,G19,(0)))","v":{"$error":"#REF!"}},0,{"$f":"IF((MONTH(PUANTAJ!$B$2))=1,' BORDRO HAZIRLIK'!#REF!,IF(I19>1,I19,(0)))","v":{"$error":"#REF!"}},0,{"$f":"IF((MONTH(PUANTAJ!$B$2))=2,' BORDRO HAZIRLIK'!#REF!,IF(K19>1,K19,(0)))","v":0},0,{"$f":"IF((MONTH(PUANTAJ!$B$2))=2,' BORDRO HAZIRLIK'!#REF!,IF(M19>1,M19,(0)))","v":0},0,{"$f":"IF((MONTH(PUANTAJ!$B$2))=3,' BORDRO HAZIRLIK'!#REF!,IF(O19>1,O19,(0)))","v":0},0,{"$f":"IF((MONTH(PUANTAJ!$B$2))=3,' BORDRO HAZIRLIK'!#REF!,IF(Q19>1,Q19,(0)))","v":0},0,{"$f":"IF((MONTH(PUANTAJ!$B$2))=4,' BORDRO HAZIRLIK'!#REF!,IF(S19>1,S19,(0)))","v":0},0,{"$f":"IF((MONTH(PUANTAJ!$B$2))=4,' BORDRO HAZIRLIK'!#REF!,IF(U19>1,U19,(0)))","v":0},0,{"$f":"IF((MONTH(PUANTAJ!$B$2))=5,' BORDRO HAZIRLIK'!#REF!,IF(W19>1,W19,(0)))","v":0},0,{"$f":"IF((MONTH(PUANTAJ!$B$2))=5,' BORDRO HAZIRLIK'!#REF!,IF(Y19>1,Y19,(0)))","v":0},0,{"$f":"IF((MONTH(PUANTAJ!$B$2))=6,' BORDRO HAZIRLIK'!#REF!,IF(AA19>1,AA19,(0)))","v":0},0,{"$f":"IF((MONTH(PUANTAJ!$B$2))=6,' BORDRO HAZIRLIK'!#REF!,IF(AC19>1,AC19,(0)))","v":0},0,{"$f":"IF((MONTH(PUANTAJ!$B$2))=7,' BORDRO HAZIRLIK'!#REF!,IF(AE19>1,AE19,(0)))","v":0},0,{"$f":"IF((MONTH(PUANTAJ!$B$2))=7,' BORDRO HAZIRLIK'!#REF!,IF(AG19>1,AG19,(0)))","v":0},0,{"$f":"IF((MONTH(PUANTAJ!$B$2))=8,' BORDRO HAZIRLIK'!#REF!,IF(AI19>1,AI19,(0)))","v":0},0,{"$f":"IF((MONTH(PUANTAJ!$B$2))=8,' BORDRO HAZIRLIK'!#REF!,IF(AK19>1,AK19,(0)))","v":0},0,{"$f":"IF((MONTH(PUANTAJ!$B$2))=9,' BORDRO HAZIRLIK'!#REF!,IF(AM19>1,AM19,(0)))","v":0},0,{"$f":"IF((MONTH(PUANTAJ!$B$2))=9,' BORDRO HAZIRLIK'!#REF!,IF(AO19>1,AO19,(0)))","v":0},0,{"$f":"IF((MONTH(PUANTAJ!$B$2))=10,' BORDRO HAZIRLIK'!AK20,IF(AQ19>1,AQ19,(0)))","v":0},0,{"$f":"IF((MONTH(PUANTAJ!$B$2))=10,' BORDRO HAZIRLIK'!AE20,IF(AS19>1,AS19,(0)))","v":0},0,{"$f":"IF((MONTH(PUANTAJ!$B$2))=11,' BORDRO HAZIRLIK'!AK20,IF(AU19>1,AU19,(0)))","v":0},0,{"$f":"IF((MONTH(PUANTAJ!$B$2))=11,' BORDRO HAZIRLIK'!AE20,IF(AW19>1,AW19,(0)))","v":0},0,{"$f":"IF((MONTH(PUANTAJ!$B$2))=12,' BORDRO HAZIRLIK'!#REF!,IF(AY19>1,AY19,(0)))","v":0},0,{"$f":"IF((MONTH(PUANTAJ!$B$2))=12,' BORDRO HAZIRLIK'!#REF!,IF(BA19>1,BA19,(0)))","v":0},0,0,{"$f":"' BORDRO HAZIRLIK'!AK20","v":0},0,0,{"$f":"' BORDRO HAZIRLIK'!AE20","v":0},0]
[null,{"$f":"PUANTAJ!A39","v":""},{"$f":"PUANTAJ!B39","v":" "},{"$f":"BD20+'PERSONEL BİLGİ GİRİŞİ'!AC21","v":0},{"$f":"BG20+'PERSONEL BİLGİ GİRİŞİ'!AL21","v":0},{"$f":"IF((MONTH(PUANTAJ!$B$2))=1,' BORDRO HAZIRLIK'!AK20,IF(G20>1,G20,(0)))","v":0},0,{"$f":"IF((MONTH(PUANTAJ!$B$2))=1,' BORDRO HAZIRLIK'!AE20,IF(I20>1,I20,(0)))","v":0},0,{"$f":"IF((MONTH(PUANTAJ!$B$2))=2,' BORDRO HAZIRLIK'!AK20,IF(K20>1,K20,(0)))","v":0},0,{"$f":"IF((MONTH(PUANTAJ!$B$2))=2,' BORDRO HAZIRLIK'!AE20,IF(M20>1,M20,(0)))","v":0},0,{"$f":"IF((MONTH(PUANTAJ!$B$2))=3,' BORDRO HAZIRLIK'!AK20,IF(O20>1,O20,(0)))","v":0},0,{"$f":"IF((MONTH(PUANTAJ!$B$2))=3,' BORDRO HAZIRLIK'!AE20,IF(Q20>1,Q20,(0)))","v":0},0,{"$f":"IF((MONTH(PUANTAJ!$B$2))=4,' BORDRO HAZIRLIK'!AK20,IF(S20>1,S20,(0)))","v":0},0,{"$f":"IF((MONTH(PUANTAJ!$B$2))=4,' BORDRO HAZIRLIK'!AE20,IF(U20>1,U20,(0)))","v":0},0,{"$f":"IF((MONTH(PUANTAJ!$B$2))=5,' BORDRO HAZIRLIK'!AK20,IF(W20>1,W20,(0)))","v":0},0,{"$f":"IF((MONTH(PUANTAJ!$B$2))=5,' BORDRO HAZIRLIK'!AE20,IF(Y20>1,Y20,(0)))","v":0},0,{"$f":"IF((MONTH(PUANTAJ!$B$2))=6,' BORDRO HAZIRLIK'!AK20,IF(AA20>1,AA20,(0)))","v":0},0,{"$f":"IF((MONTH(PUANTAJ!$B$2))=6,' BORDRO HAZIRLIK'!AE20,IF(AC20>1,AC20,(0)))","v":0},0,{"$f":"IF((MONTH(PUANTAJ!$B$2))=7,' BORDRO HAZIRLIK'!AK20,IF(AE20>1,AE20,(0)))","v":0},0,{"$f":"IF((MONTH(PUANTAJ!$B$2))=7,' BORDRO HAZIRLIK'!AE20,IF(AG20>1,AG20,(0)))","v":0},0,{"$f":"IF((MONTH(PUANTAJ!$B$2))=8,' BORDRO HAZIRLIK'!AK20,IF(AI20>1,AI20,(0)))","v":0},0,{"$f":"IF((MONTH(PUANTAJ!$B$2))=8,' BORDRO HAZIRLIK'!AE20,IF(AK20>1,AK20,(0)))","v":0},0,{"$f":"IF((MONTH(PUANTAJ!$B$2))=9,' BORDRO HAZIRLIK'!AK20,IF(AM20>1,AM20,(0)))","v":0},0,{"$f":"IF((MONTH(PUANTAJ!$B$2))=9,' BORDRO HAZIRLIK'!AE20,IF(AO20>1,AO20,(0)))","v":0},0,{"$f":"IF((MONTH(PUANTAJ!$B$2))=10,' BORDRO HAZIRLIK'!AK21,IF(AQ20>1,AQ20,(0)))","v":0},0,{"$f":"IF((MONTH(PUANTAJ!$B$2))=10,' BORDRO HAZIRLIK'!AE21,IF(AS20>1,AS20,(0)))","v":0},0,{"$f":"IF((MONTH(PUANTAJ!$B$2))=11,' BORDRO HAZIRLIK'!AK21,IF(AU20>1,AU20,(0)))","v":0},0,{"$f":"IF((MONTH(PUANTAJ!$B$2))=11,' BORDRO HAZIRLIK'!AE21,IF(AW20>1,AW20,(0)))","v":0},0,{"$f":"IF((MONTH(PUANTAJ!$B$2))=12,' BORDRO HAZIRLIK'!AK20,IF(AY20>1,AY20,(0)))","v":0},0,{"$f":"IF((MONTH(PUANTAJ!$B$2))=12,' BORDRO HAZIRLIK'!AE20,IF(BA20>1,BA20,(0)))","v":0},0,0,{"$f":"' BORDRO HAZIRLIK'!AK21","v":0},0,0,{"$f":"' BORDRO HAZIRLIK'!AE21","v":0},0]
[null,{"$f":"PUANTAJ!A41","v":""},{"$f":"PUANTAJ!B41","v":" "},{"$f":"BD21+'PERSONEL BİLGİ GİRİŞİ'!AC22","v":0},{"$f":"BG21+'PERSONEL BİLGİ GİRİŞİ'!AL22","v":0},{"$f":"IF((MONTH(PUANTAJ!$B$2))=1,' BORDRO HAZIRLIK'!AK21,IF(G21>1,G21,(0)))","v":0},0,{"$f":"IF((MONTH(PUANTAJ!$B$2))=1,' BORDRO HAZIRLIK'!AE21,IF(I21>1,I21,(0)))","v":0},0,{"$f":"IF((MONTH(PUANTAJ!$B$2))=2,' BORDRO HAZIRLIK'!AK21,IF(K21>1,K21,(0)))","v":0},0,{"$f":"IF((MONTH(PUANTAJ!$B$2))=2,' BORDRO HAZIRLIK'!AE21,IF(M21>1,M21,(0)))","v":0},0,{"$f":"IF((MONTH(PUANTAJ!$B$2))=3,' BORDRO HAZIRLIK'!AK21,IF(O21>1,O21,(0)))","v":0},0,{"$f":"IF((MONTH(PUANTAJ!$B$2))=3,' BORDRO HAZIRLIK'!AE21,IF(Q21>1,Q21,(0)))","v":0},0,{"$f":"IF((MONTH(PUANTAJ!$B$2))=4,' BORDRO HAZIRLIK'!AK21,IF(S21>1,S21,(0)))","v":0},0,{"$f":"IF((MONTH(PUANTAJ!$B$2))=4,' BORDRO HAZIRLIK'!AE21,IF(U21>1,U21,(0)))","v":0},0,{"$f":"IF((MONTH(PUANTAJ!$B$2))=5,' BORDRO HAZIRLIK'!AK21,IF(W21>1,W21,(0)))","v":0},0,{"$f":"IF((MONTH(PUANTAJ!$B$2))=5,' BORDRO HAZIRLIK'!AE21,IF(Y21>1,Y21,(0)))","v":0},0,{"$f":"IF((MONTH(PUANTAJ!$B$2))=6,' BORDRO HAZIRLIK'!AK21,IF(AA21>1,AA21,(0)))","v":0},0,{"$f":"IF((MONTH(PUANTAJ!$B$2))=6,' BORDRO HAZIRLIK'!AE21,IF(AC21>1,AC21,(0)))","v":0},0,{"$f":"IF((MONTH(PUANTAJ!$B$2))=7,' BORDRO HAZIRLIK'!AK21,IF(AE21>1,AE21,(0)))","v":0},0,{"$f":"IF((MONTH(PUANTAJ!$B$2))=7,' BORDRO HAZIRLIK'!AE21,IF(AG21>1,AG21,(0)))","v":0},0,{"$f":"IF((MONTH(PUANTAJ!$B$2))=8,' BORDRO HAZIRLIK'!AK21,IF(AI21>1,AI21,(0)))","v":0},0,{"$f":"IF((MONTH(PUANTAJ!$B$2))=8,' BORDRO HAZIRLIK'!AE21,IF(AK21>1,AK21,(0)))","v":0},0,{"$f":"IF((MONTH(PUANTAJ!$B$2))=9,' BORDRO HAZIRLIK'!AK21,IF(AM21>1,AM21,(0)))","v":0},0,{"$f":"IF((MONTH(PUANTAJ!$B$2))=9,' BORDRO HAZIRLIK'!AE21,IF(AO21>1,AO21,(0)))","v":0},0,{"$f":"IF((MONTH(PUANTAJ!$B$2))=10,' BORDRO HAZIRLIK'!AK21,IF(AQ21>1,AQ21,(0)))","v":0},0,{"$f":"IF((MONTH(PUANTAJ!$B$2))=10,' BORDRO HAZIRLIK'!AE21,IF(AS21>1,AS21,(0)))","v":0},0,{"$f":"IF((MONTH(PUANTAJ!$B$2))=11,' BORDRO HAZIRLIK'!AK22,IF(AU21>1,AU21,(0)))","v":0},0,{"$f":"IF((MONTH(PUANTAJ!$B$2))=11,' BORDRO HAZIRLIK'!AE22,IF(AW21>1,AW21,(0)))","v":0},0,{"$f":"IF((MONTH(PUANTAJ!$B$2))=12,' BORDRO HAZIRLIK'!AK21,IF(AY21>1,AY21,(0)))","v":0},0,{"$f":"IF((MONTH(PUANTAJ!$B$2))=12,' BORDRO HAZIRLIK'!AE21,IF(BA21>1,BA21,(0)))","v":0},0,0,{"$f":"' BORDRO HAZIRLIK'!AK21","v":0},0,0,{"$f":"' BORDRO HAZIRLIK'!AE22","v":0},0]
[null,{"$f":"PUANTAJ!A43","v":""},{"$f":"PUANTAJ!B43","v":" "},{"$f":"BD22+'PERSONEL BİLGİ GİRİŞİ'!AC23","v":0},{"$f":"BG22+'PERSONEL BİLGİ GİRİŞİ'!AL23","v":0},{"$f":"IF((MONTH(PUANTAJ!$B$2))=1,' BORDRO HAZIRLIK'!AK22,IF(G22>1,G22,(0)))","v":0},0,{"$f":"IF((MONTH(PUANTAJ!$B$2))=1,' BORDRO HAZIRLIK'!AE22,IF(I22>1,I22,(0)))","v":0},0,{"$f":"IF((MONTH(PUANTAJ!$B$2))=2,' BORDRO HAZIRLIK'!AK22,IF(K22>1,K22,(0)))","v":0},0,{"$f":"IF((MONTH(PUANTAJ!$B$2))=2,' BORDRO HAZIRLIK'!AE22,IF(M22>1,M22,(0)))","v":0},0,{"$f":"IF((MONTH(PUANTAJ!$B$2))=3,' BORDRO HAZIRLIK'!AK22,IF(O22>1,O22,(0)))","v":0},0,{"$f":"IF((MONTH(PUANTAJ!$B$2))=3,' BORDRO HAZIRLIK'!AE22,IF(Q22>1,Q22,(0)))","v":0},0,{"$f":"IF((MONTH(PUANTAJ!$B$2))=4,' BORDRO HAZIRLIK'!AK22,IF(S22>1,S22,(0)))","v":0},0,{"$f":"IF((MONTH(PUANTAJ!$B$2))=4,' BORDRO HAZIRLIK'!AE22,IF(U22>1,U22,(0)))","v":0},0,{"$f":"IF((MONTH(PUANTAJ!$B$2))=5,' BORDRO HAZIRLIK'!AK22,IF(W22>1,W22,(0)))","v":0},0,{"$f":"IF((MONTH(PUANTAJ!$B$2))=5,' BORDRO HAZIRLIK'!AE22,IF(Y22>1,Y22,(0)))","v":0},0,{"$f":"IF((MONTH(PUANTAJ!$B$2))=6,' BORDRO HAZIRLIK'!AK22,IF(AA22>1,AA22,(0)))","v":0},0,{"$f":"IF((MONTH(PUANTAJ!$B$2))=6,' BORDRO HAZIRLIK'!AE22,IF(AC22>1,AC22,(0)))","v":0},0,{"$f":"IF((MONTH(PUANTAJ!$B$2))=7,' BORDRO HAZIRLIK'!AK22,IF(AE22>1,AE22,(0)))","v":0},0,{"$f":"IF((MONTH(PUANTAJ!$B$2))=7,' BORDRO HAZIRLIK'!AE22,IF(AG22>1,AG22,(0)))","v":0},0,{"$f":"IF((MONTH(PUANTAJ!$B$2))=8,' BORDRO HAZIRLIK'!AK22,IF(AI22>1,AI22,(0)))","v":0},0,{"$f":"IF((MONTH(PUANTAJ!$B$2))=8,' BORDRO HAZIRLIK'!AE22,IF(AK22>1,AK22,(0)))","v":0},0,{"$f":"IF((MONTH(PUANTAJ!$B$2))=9,' BORDRO HAZIRLIK'!AK22,IF(AM22>1,AM22,(0)))","v":0},0,{"$f":"IF((MONTH(PUANTAJ!$B$2))=9,' BORDRO HAZIRLIK'!AE22,IF(AO22>1,AO22,(0)))","v":0},0,{"$f":"IF((MONTH(PUANTAJ!$B$2))=10,' BORDRO HAZIRLIK'!AK22,IF(AQ22>1,AQ22,(0)))","v":0},0,{"$f":"IF((MONTH(PUANTAJ!$B$2))=10,' BORDRO HAZIRLIK'!AE22,IF(AS22>1,AS22,(0)))","v":0},0,{"$f":"IF((MONTH(PUANTAJ!$B$2))=11,' BORDRO HAZIRLIK'!AK23,IF(AU22>1,AU22,(0)))","v":0},0,{"$f":"IF((MONTH(PUANTAJ!$B$2))=11,' BORDRO HAZIRLIK'!AE23,IF(AW22>1,AW22,(0)))","v":0},0,{"$f":"IF((MONTH(PUANTAJ!$B$2))=12,' BORDRO HAZIRLIK'!AK22,IF(AY22>1,AY22,(0)))","v":0},0,{"$f":"IF((MONTH(PUANTAJ!$B$2))=12,' BORDRO HAZIRLIK'!AE22,IF(BA22>1,BA22,(0)))","v":0},0,0,{"$f":"' BORDRO HAZIRLIK'!AK22","v":0},0,0,{"$f":"' BORDRO HAZIRLIK'!AE23","v":0},0]
[null,{"$f":"PUANTAJ!A45","v":""},{"$f":"PUANTAJ!B45","v":" "},{"$f":"BD23+'PERSONEL BİLGİ GİRİŞİ'!AC24","v":0},{"$f":"BG23+'PERSONEL BİLGİ GİRİŞİ'!AL24","v":0},{"$f":"IF((MONTH(PUANTAJ!$B$2))=1,' BORDRO HAZIRLIK'!AK23,IF(G23>1,G23,(0)))","v":0},0,{"$f":"IF((MONTH(PUANTAJ!$B$2))=1,' BORDRO HAZIRLIK'!AE23,IF(I23>1,I23,(0)))","v":0},0,{"$f":"IF((MONTH(PUANTAJ!$B$2))=2,' BORDRO HAZIRLIK'!AK23,IF(K23>1,K23,(0)))","v":0},0,{"$f":"IF((MONTH(PUANTAJ!$B$2))=2,' BORDRO HAZIRLIK'!AE23,IF(M23>1,M23,(0)))","v":0},0,{"$f":"IF((MONTH(PUANTAJ!$B$2))=3,' BORDRO HAZIRLIK'!AK23,IF(O23>1,O23,(0)))","v":0},0,{"$f":"IF((MONTH(PUANTAJ!$B$2))=3,' BORDRO HAZIRLIK'!AE23,IF(Q23>1,Q23,(0)))","v":0},0,{"$f":"IF((MONTH(PUANTAJ!$B$2))=4,' BORDRO HAZIRLIK'!AK23,IF(S23>1,S23,(0)))","v":0},0,{"$f":"IF((MONTH(PUANTAJ!$B$2))=4,' BORDRO HAZIRLIK'!AE23,IF(U23>1,U23,(0)))","v":0},0,{"$f":"IF((MONTH(PUANTAJ!$B$2))=5,' BORDRO HAZIRLIK'!AK23,IF(W23>1,W23,(0)))","v":0},0,{"$f":"IF((MONTH(PUANTAJ!$B$2))=5,' BORDRO HAZIRLIK'!AE23,IF(Y23>1,Y23,(0)))","v":0},0,{"$f":"IF((MONTH(PUANTAJ!$B$2))=6,' BORDRO HAZIRLIK'!AK23,IF(AA23>1,AA23,(0)))","v":0},0,{"$f":"IF((MONTH(PUANTAJ!$B$2))=6,' BORDRO HAZIRLIK'!AE23,IF(AC23>1,AC23,(0)))","v":0},0,{"$f":"IF((MONTH(PUANTAJ!$B$2))=7,' BORDRO HAZIRLIK'!AK23,IF(AE23>1,AE23,(0)))","v":0},0,{"$f":"IF((MONTH(PUANTAJ!$B$2))=7,' BORDRO HAZIRLIK'!AE23,IF(AG23>1,AG23,(0)))","v":0},0,{"$f":"IF((MONTH(PUANTAJ!$B$2))=8,' BORDRO HAZIRLIK'!AK23,IF(AI23>1,AI23,(0)))","v":0},0,{"$f":"IF((MONTH(PUANTAJ!$B$2))=8,' BORDRO HAZIRLIK'!AE23,IF(AK23>1,AK23,(0)))","v":0},0,{"$f":"IF((MONTH(PUANTAJ!$B$2))=9,' BORDRO HAZIRLIK'!AK23,IF(AM23>1,AM23,(0)))","v":0},0,{"$f":"IF((MONTH(PUANTAJ!$B$2))=9,' BORDRO HAZIRLIK'!AE23,IF(AO23>1,AO23,(0)))","v":0},0,{"$f":"IF((MONTH(PUANTAJ!$B$2))=10,' BORDRO HAZIRLIK'!AK23,IF(AQ23>1,AQ23,(0)))","v":0},0,{"$f":"IF((MONTH(PUANTAJ!$B$2))=10,' BORDRO HAZIRLIK'!AE23,IF(AS23>1,AS23,(0)))","v":0},0,{"$f":"IF((MONTH(PUANTAJ!$B$2))=11,' BORDRO HAZIRLIK'!AK24,IF(AU23>1,AU23,(0)))","v":0},0,{"$f":"IF((MONTH(PUANTAJ!$B$2))=11,' BORDRO HAZIRLIK'!AE24,IF(AW23>1,AW23,(0)))","v":0},0,{"$f":"IF((MONTH(PUANTAJ!$B$2))=12,' BORDRO HAZIRLIK'!AK23,IF(AY23>1,AY23,(0)))","v":0},0,{"$f":"IF((MONTH(PUANTAJ!$B$2))=12,' BORDRO HAZIRLIK'!AE23,IF(BA23>1,BA23,(0)))","v":0},0,0,{"$f":"' BORDRO HAZIRLIK'!AK23","v":0},0,0,{"$f":"' BORDRO HAZIRLIK'!AE24","v":0},0]
[null,{"$f":"PUANTAJ!A47","v":""},{"$f":"PUANTAJ!B47","v":" "},{"$f":"BD24+'PERSONEL BİLGİ GİRİŞİ'!AC25","v":0},{"$f":"BG24+'PERSONEL BİLGİ GİRİŞİ'!AL25","v":0},{"$f":"IF((MONTH(PUANTAJ!$B$2))=1,' BORDRO HAZIRLIK'!AK24,IF(G24>1,G24,(0)))","v":0},0,{"$f":"IF((MONTH(PUANTAJ!$B$2))=1,' BORDRO HAZIRLIK'!AE24,IF(I24>1,I24,(0)))","v":0},0,{"$f":"IF((MONTH(PUANTAJ!$B$2))=2,' BORDRO HAZIRLIK'!AK24,IF(K24>1,K24,(0)))","v":0},0,{"$f":"IF((MONTH(PUANTAJ!$B$2))=2,' BORDRO HAZIRLIK'!AE24,IF(M24>1,M24,(0)))","v":0},0,{"$f":"IF((MONTH(PUANTAJ!$B$2))=3,' BORDRO HAZIRLIK'!AK24,IF(O24>1,O24,(0)))","v":0},0,{"$f":"IF((MONTH(PUANTAJ!$B$2))=3,' BORDRO HAZIRLIK'!AE24,IF(Q24>1,Q24,(0)))","v":0},0,{"$f":"IF((MONTH(PUANTAJ!$B$2))=4,' BORDRO HAZIRLIK'!AK24,IF(S24>1,S24,(0)))","v":0},0,{"$f":"IF((MONTH(PUANTAJ!$B$2))=4,' BORDRO HAZIRLIK'!AE24,IF(U24>1,U24,(0)))","v":0},0,{"$f":"IF((MONTH(PUANTAJ!$B$2))=5,' BORDRO HAZIRLIK'!AK24,IF(W24>1,W24,(0)))","v":0},0,{"$f":"IF((MONTH(PUANTAJ!$B$2))=5,' BORDRO HAZIRLIK'!AE24,IF(Y24>1,Y24,(0)))","v":0},0,{"$f":"IF((MONTH(PUANTAJ!$B$2))=6,' BORDRO HAZIRLIK'!AK24,IF(AA24>1,AA24,(0)))","v":0},0,{"$f":"IF((MONTH(PUANTAJ!$B$2))=6,' BORDRO HAZIRLIK'!AE24,IF(AC24>1,AC24,(0)))","v":0},0,{"$f":"IF((MONTH(PUANTAJ!$B$2))=7,' BORDRO HAZIRLIK'!AK24,IF(AE24>1,AE24,(0)))","v":0},0,{"$f":"IF((MONTH(PUANTAJ!$B$2))=7,' BORDRO HAZIRLIK'!AE24,IF(AG24>1,AG24,(0)))","v":0},0,{"$f":"IF((MONTH(PUANTAJ!$B$2))=8,' BORDRO HAZIRLIK'!AK24,IF(AI24>1,AI24,(0)))","v":0},0,{"$f":"IF((MONTH(PUANTAJ!$B$2))=8,' BORDRO HAZIRLIK'!AE24,IF(AK24>1,AK24,(0)))","v":0},0,{"$f":"IF((MONTH(PUANTAJ!$B$2))=9,' BORDRO HAZIRLIK'!AK24,IF(AM24>1,AM24,(0)))","v":0},0,{"$f":"IF((MONTH(PUANTAJ!$B$2))=9,' BORDRO HAZIRLIK'!AE24,IF(AO24>1,AO24,(0)))","v":0},0,{"$f":"IF((MONTH(PUANTAJ!$B$2))=10,' BORDRO HAZIRLIK'!AK24,IF(AQ24>1,AQ24,(0)))","v":0},0,{"$f":"IF((MONTH(PUANTAJ!$B$2))=10,' BORDRO HAZIRLIK'!AE24,IF(AS24>1,AS24,(0)))","v":0},0,{"$f":"IF((MONTH(PUANTAJ!$B$2))=11,' BORDRO HAZIRLIK'!AK25,IF(AU24>1,AU24,(0)))","v":0},0,{"$f":"IF((MONTH(PUANTAJ!$B$2))=11,' BORDRO HAZIRLIK'!AE25,IF(AW24>1,AW24,(0)))","v":0},0,{"$f":"IF((MONTH(PUANTAJ!$B$2))=12,' BORDRO HAZIRLIK'!AK24,IF(AY24>1,AY24,(0)))","v":0},0,{"$f":"IF((MONTH(PUANTAJ!$B$2))=12,' BORDRO HAZIRLIK'!AE24,IF(BA24>1,BA24,(0)))","v":0},0,0,{"$f":"' BORDRO HAZIRLIK'!AK24","v":0},0,0,{"$f":"' BORDRO HAZIRLIK'!AE25","v":0},0]
[null,{"$f":"PUANTAJ!A49","v":""},{"$f":"PUANTAJ!B49","v":" "},{"$f":"BD25+'PERSONEL BİLGİ GİRİŞİ'!AC26","v":0},{"$f":"BG25+'PERSONEL BİLGİ GİRİŞİ'!AL26","v":0},{"$f":"IF((MONTH(PUANTAJ!$B$2))=1,' BORDRO HAZIRLIK'!AK25,IF(G25>1,G25,(0)))","v":0},0,{"$f":"IF((MONTH(PUANTAJ!$B$2))=1,' BORDRO HAZIRLIK'!AE25,IF(I25>1,I25,(0)))","v":0},0,{"$f":"IF((MONTH(PUANTAJ!$B$2))=2,' BORDRO HAZIRLIK'!AK25,IF(K25>1,K25,(0)))","v":0},0,{"$f":"IF((MONTH(PUANTAJ!$B$2))=2,' BORDRO HAZIRLIK'!AE25,IF(M25>1,M25,(0)))","v":0},0,{"$f":"IF((MONTH(PUANTAJ!$B$2))=3,' BORDRO HAZIRLIK'!AK25,IF(O25>1,O25,(0)))","v":0},0,{"$f":"IF((MONTH(PUANTAJ!$B$2))=3,' BORDRO HAZIRLIK'!AE25,IF(Q25>1,Q25,(0)))","v":0},0,{"$f":"IF((MONTH(PUANTAJ!$B$2))=4,' BORDRO HAZIRLIK'!AK25,IF(S25>1,S25,(0)))","v":0},0,{"$f":"IF((MONTH(PUANTAJ!$B$2))=4,' BORDRO HAZIRLIK'!AE25,IF(U25>1,U25,(0)))","v":0},0,{"$f":"IF((MONTH(PUANTAJ!$B$2))=5,' BORDRO HAZIRLIK'!AK25,IF(W25>1,W25,(0)))","v":0},0,{"$f":"IF((MONTH(PUANTAJ!$B$2))=5,' BORDRO HAZIRLIK'!AE25,IF(Y25>1,Y25,(0)))","v":0},0,{"$f":"IF((MONTH(PUANTAJ!$B$2))=6,' BORDRO HAZIRLIK'!AK25,IF(AA25>1,AA25,(0)))","v":0},0,{"$f":"IF((MONTH(PUANTAJ!$B$2))=6,' BORDRO HAZIRLIK'!AE25,IF(AC25>1,AC25,(0)))","v":0},0,{"$f":"IF((MONTH(PUANTAJ!$B$2))=7,' BORDRO HAZIRLIK'!AK25,IF(AE25>1,AE25,(0)))","v":0},0,{"$f":"IF((MONTH(PUANTAJ!$B$2))=7,' BORDRO HAZIRLIK'!AE25,IF(AG25>1,AG25,(0)))","v":0},0,{"$f":"IF((MONTH(PUANTAJ!$B$2))=8,' BORDRO HAZIRLIK'!AK25,IF(AI25>1,AI25,(0)))","v":0},0,{"$f":"IF((MONTH(PUANTAJ!$B$2))=8,' BORDRO HAZIRLIK'!AE25,IF(AK25>1,AK25,(0)))","v":0},0,{"$f":"IF((MONTH(PUANTAJ!$B$2))=9,' BORDRO HAZIRLIK'!AK25,IF(AM25>1,AM25,(0)))","v":0},0,{"$f":"IF((MONTH(PUANTAJ!$B$2))=9,' BORDRO HAZIRLIK'!AE25,IF(AO25>1,AO25,(0)))","v":0},0,{"$f":"IF((MONTH(PUANTAJ!$B$2))=10,' BORDRO HAZIRLIK'!AK25,IF(AQ25>1,AQ25,(0)))","v":0},0,{"$f":"IF((MONTH(PUANTAJ!$B$2))=10,' BORDRO HAZIRLIK'!AE25,IF(AS25>1,AS25,(0)))","v":0},0,{"$f":"IF((MONTH(PUANTAJ!$B$2))=11,' BORDRO HAZIRLIK'!AK26,IF(AU25>1,AU25,(0)))","v":0},0,{"$f":"IF((MONTH(PUANTAJ!$B$2))=11,' BORDRO HAZIRLIK'!AE26,IF(AW25>1,AW25,(0)))","v":0},0,{"$f":"IF((MONTH(PUANTAJ!$B$2))=12,' BORDRO HAZIRLIK'!AK25,IF(AY25>1,AY25,(0)))","v":0},0,{"$f":"IF((MONTH(PUANTAJ!$B$2))=12,' BORDRO HAZIRLIK'!AE25,IF(BA25>1,BA25,(0)))","v":0},0,0,{"$f":"' BORDRO HAZIRLIK'!AK25","v":0},0,0,{"$f":"' BORDRO HAZIRLIK'!AE26","v":0},0]
[null,{"$f":"PUANTAJ!A51","v":""},{"$f":"PUANTAJ!B51","v":" "},{"$f":"BD26+'PERSONEL BİLGİ GİRİŞİ'!AC27","v":0},{"$f":"BG26+'PERSONEL BİLGİ GİRİŞİ'!AL27","v":0},{"$f":"IF((MONTH(PUANTAJ!$B$2))=1,' BORDRO HAZIRLIK'!AK26,IF(G26>1,G26,(0)))","v":0},0,{"$f":"IF((MONTH(PUANTAJ!$B$2))=1,' BORDRO HAZIRLIK'!AE26,IF(I26>1,I26,(0)))","v":0},0,{"$f":"IF((MONTH(PUANTAJ!$B$2))=2,' BORDRO HAZIRLIK'!AK26,IF(K26>1,K26,(0)))","v":0},0,{"$f":"IF((MONTH(PUANTAJ!$B$2))=2,' BORDRO HAZIRLIK'!AE26,IF(M26>1,M26,(0)))","v":0},0,{"$f":"IF((MONTH(PUANTAJ!$B$2))=3,' BORDRO HAZIRLIK'!AK26,IF(O26>1,O26,(0)))","v":0},0,{"$f":"IF((MONTH(PUANTAJ!$B$2))=3,' BORDRO HAZIRLIK'!AE26,IF(Q26>1,Q26,(0)))","v":0},0,{"$f":"IF((MONTH(PUANTAJ!$B$2))=4,' BORDRO HAZIRLIK'!AK26,IF(S26>1,S26,(0)))","v":0},0,{"$f":"IF((MONTH(PUANTAJ!$B$2))=4,' BORDRO HAZIRLIK'!AE26,IF(U26>1,U26,(0)))","v":0},0,{"$f":"IF((MONTH(PUANTAJ!$B$2))=5,' BORDRO HAZIRLIK'!AK26,IF(W26>1,W26,(0)))","v":0},0,{"$f":"IF((MONTH(PUANTAJ!$B$2))=5,' BORDRO HAZIRLIK'!AE26,IF(Y26>1,Y26,(0)))","v":0},0,{"$f":"IF((MONTH(PUANTAJ!$B$2))=6,' BORDRO HAZIRLIK'!AK26,IF(AA26>1,AA26,(0)))","v":0},0,{"$f":"IF((MONTH(PUANTAJ!$B$2))=6,' BORDRO HAZIRLIK'!AE26,IF(AC26>1,AC26,(0)))","v":0},0,{"$f":"IF((MONTH(PUANTAJ!$B$2))=7,' BORDRO HAZIRLIK'!AK26,IF(AE26>1,AE26,(0)))","v":0},0,{"$f":"IF((MONTH(PUANTAJ!$B$2))=7,' BORDRO HAZIRLIK'!AE26,IF(AG26>1,AG26,(0)))","v":0},0,{"$f":"IF((MONTH(PUANTAJ!$B$2))=8,' BORDRO HAZIRLIK'!AK26,IF(AI26>1,AI26,(0)))","v":0},0,{"$f":"IF((MONTH(PUANTAJ!$B$2))=8,' BORDRO HAZIRLIK'!AE26,IF(AK26>1,AK26,(0)))","v":0},0,{"$f":"IF((MONTH(PUANTAJ!$B$2))=9,' BORDRO HAZIRLIK'!AK26,IF(AM26>1,AM26,(0)))","v":0},0,{"$f":"IF((MONTH(PUANTAJ!$B$2))=9,' BORDRO HAZIRLIK'!AE26,IF(AO26>1,AO26,(0)))","v":0},0,{"$f":"IF((MONTH(PUANTAJ!$B$2))=10,' BORDRO HAZIRLIK'!AK26,IF(AQ26>1,AQ26,(0)))","v":0},0,{"$f":"IF((MONTH(PUANTAJ!$B$2))=10,' BORDRO HAZIRLIK'!AE26,IF(AS26>1,AS26,(0)))","v":0},0,{"$f":"IF((MONTH(PUANTAJ!$B$2))=11,' BORDRO HAZIRLIK'!AK27,IF(AU26>1,AU26,(0)))","v":0},0,{"$f":"IF((MONTH(PUANTAJ!$B$2))=11,' BORDRO HAZIRLIK'!AE27,IF(AW26>1,AW26,(0)))","v":0},0,{"$f":"IF((MONTH(PUANTAJ!$B$2))=12,' BORDRO HAZIRLIK'!AK26,IF(AY26>1,AY26,(0)))","v":0},0,{"$f":"IF((MONTH(PUANTAJ!$B$2))=12,' BORDRO HAZIRLIK'!AE26,IF(BA26>1,BA26,(0)))","v":0},0,0,{"$f":"' BORDRO HAZIRLIK'!AK26","v":0},0,0,{"$f":"' BORDRO HAZIRLIK'!AE27","v":0},0]
[null,{"$f":"PUANTAJ!A53","v":""},{"$f":"PUANTAJ!B53","v":" "},{"$f":"BD27+'PERSONEL BİLGİ GİRİŞİ'!AC28","v":0},{"$f":"BG27+'PERSONEL BİLGİ GİRİŞİ'!AL28","v":0},{"$f":"IF((MONTH(PUANTAJ!$B$2))=1,' BORDRO HAZIRLIK'!AK27,IF(G27>1,G27,(0)))","v":0},0,{"$f":"IF((MONTH(PUANTAJ!$B$2))=1,' BORDRO HAZIRLIK'!AE27,IF(I27>1,I27,(0)))","v":0},0,{"$f":"IF((MONTH(PUANTAJ!$B$2))=2,' BORDRO HAZIRLIK'!AK27,IF(K27>1,K27,(0)))","v":0},0,{"$f":"IF((MONTH(PUANTAJ!$B$2))=2,' BORDRO HAZIRLIK'!AE27,IF(M27>1,M27,(0)))","v":0},0,{"$f":"IF((MONTH(PUANTAJ!$B$2))=3,' BORDRO HAZIRLIK'!AK27,IF(O27>1,O27,(0)))","v":0},0,{"$f":"IF((MONTH(PUANTAJ!$B$2))=3,' BORDRO HAZIRLIK'!AE27,IF(Q27>1,Q27,(0)))","v":0},0,{"$f":"IF((MONTH(PUANTAJ!$B$2))=4,' BORDRO HAZIRLIK'!AK27,IF(S27>1,S27,(0)))","v":0},0,{"$f":"IF((MONTH(PUANTAJ!$B$2))=4,' BORDRO HAZIRLIK'!AE27,IF(U27>1,U27,(0)))","v":0},0,{"$f":"IF((MONTH(PUANTAJ!$B$2))=5,' BORDRO HAZIRLIK'!AK27,IF(W27>1,W27,(0)))","v":0},0,{"$f":"IF((MONTH(PUANTAJ!$B$2))=5,' BORDRO HAZIRLIK'!AE27,IF(Y27>1,Y27,(0)))","v":0},0,{"$f":"IF((MONTH(PUANTAJ!$B$2))=6,' BORDRO HAZIRLIK'!AK27,IF(AA27>1,AA27,(0)))","v":0},0,{"$f":"IF((MONTH(PUANTAJ!$B$2))=6,' BORDRO HAZIRLIK'!AE27,IF(AC27>1,AC27,(0)))","v":0},0,{"$f":"IF((MONTH(PUANTAJ!$B$2))=7,' BORDRO HAZIRLIK'!AK27,IF(AE27>1,AE27,(0)))","v":0},0,{"$f":"IF((MONTH(PUANTAJ!$B$2))=7,' BORDRO HAZIRLIK'!AE27,IF(AG27>1,AG27,(0)))","v":0},0,{"$f":"IF((MONTH(PUANTAJ!$B$2))=8,' BORDRO HAZIRLIK'!AK27,IF(AI27>1,AI27,(0)))","v":0},0,{"$f":"IF((MONTH(PUANTAJ!$B$2))=8,' BORDRO HAZIRLIK'!AE27,IF(AK27>1,AK27,(0)))","v":0},0,{"$f":"IF((MONTH(PUANTAJ!$B$2))=9,' BORDRO HAZIRLIK'!AK27,IF(AM27>1,AM27,(0)))","v":0},0,{"$f":"IF((MONTH(PUANTAJ!$B$2))=9,' BORDRO HAZIRLIK'!AE27,IF(AO27>1,AO27,(0)))","v":0},0,{"$f":"IF((MONTH(PUANTAJ!$B$2))=10,' BORDRO HAZIRLIK'!AK27,IF(AQ27>1,AQ27,(0)))","v":0},0,{"$f":"IF((MONTH(PUANTAJ!$B$2))=10,' BORDRO HAZIRLIK'!AE27,IF(AS27>1,AS27,(0)))","v":0},0,{"$f":"IF((MONTH(PUANTAJ!$B$2))=11,' BORDRO HAZIRLIK'!AK28,IF(AU27>1,AU27,(0)))","v":0},0,{"$f":"IF((MONTH(PUANTAJ!$B$2))=11,' BORDRO HAZIRLIK'!AE28,IF(AW27>1,AW27,(0)))","v":0},0,{"$f":"IF((MONTH(PUANTAJ!$B$2))=12,' BORDRO HAZIRLIK'!AK27,IF(AY27>1,AY27,(0)))","v":0},0,{"$f":"IF((MONTH(PUANTAJ!$B$2))=12,' BORDRO HAZIRLIK'!AE27,IF(BA27>1,BA27,(0)))","v":0},0,0,{"$f":"' BORDRO HAZIRLIK'!AK27","v":0},0,0,{"$f":"' BORDRO HAZIRLIK'!AE28","v":0},0]
[null,{"$f":"PUANTAJ!A55","v":""},{"$f":"PUANTAJ!B55","v":" "},{"$f":"BD28+'PERSONEL BİLGİ GİRİŞİ'!AC29","v":0},{"$f":"BG28+'PERSONEL BİLGİ GİRİŞİ'!AL29","v":0},{"$f":"IF((MONTH(PUANTAJ!$B$2))=1,' BORDRO HAZIRLIK'!AK28,IF(G28>1,G28,(0)))","v":0},0,{"$f":"IF((MONTH(PUANTAJ!$B$2))=1,' BORDRO HAZIRLIK'!AE28,IF(I28>1,I28,(0)))","v":0},0,{"$f":"IF((MONTH(PUANTAJ!$B$2))=2,' BORDRO HAZIRLIK'!AK28,IF(K28>1,K28,(0)))","v":0},0,{"$f":"IF((MONTH(PUANTAJ!$B$2))=2,' BORDRO HAZIRLIK'!AE28,IF(M28>1,M28,(0)))","v":0},0,{"$f":"IF((MONTH(PUANTAJ!$B$2))=3,' BORDRO HAZIRLIK'!AK28,IF(O28>1,O28,(0)))","v":0},0,{"$f":"IF((MONTH(PUANTAJ!$B$2))=3,' BORDRO HAZIRLIK'!AE28,IF(Q28>1,Q28,(0)))","v":0},0,{"$f":"IF((MONTH(PUANTAJ!$B$2))=4,' BORDRO HAZIRLIK'!AK28,IF(S28>1,S28,(0)))","v":0},0,{"$f":"IF((MONTH(PUANTAJ!$B$2))=4,' BORDRO HAZIRLIK'!AE28,IF(U28>1,U28,(0)))","v":0},0,{"$f":"IF((MONTH(PUANTAJ!$B$2))=5,' BORDRO HAZIRLIK'!AK28,IF(W28>1,W28,(0)))","v":0},0,{"$f":"IF((MONTH(PUANTAJ!$B$2))=5,' BORDRO HAZIRLIK'!AE28,IF(Y28>1,Y28,(0)))","v":0},0,{"$f":"IF((MONTH(PUANTAJ!$B$2))=6,' BORDRO HAZIRLIK'!AK28,IF(AA28>1,AA28,(0)))","v":0},0,{"$f":"IF((MONTH(PUANTAJ!$B$2))=6,' BORDRO HAZIRLIK'!AE28,IF(AC28>1,AC28,(0)))","v":0},0,{"$f":"IF((MONTH(PUANTAJ!$B$2))=7,' BORDRO HAZIRLIK'!AK28,IF(AE28>1,AE28,(0)))","v":0},0,{"$f":"IF((MONTH(PUANTAJ!$B$2))=7,' BORDRO HAZIRLIK'!AE28,IF(AG28>1,AG28,(0)))","v":0},0,{"$f":"IF((MONTH(PUANTAJ!$B$2))=8,' BORDRO HAZIRLIK'!AK28,IF(AI28>1,AI28,(0)))","v":0},0,{"$f":"IF((MONTH(PUANTAJ!$B$2))=8,' BORDRO HAZIRLIK'!AE28,IF(AK28>1,AK28,(0)))","v":0},0,{"$f":"IF((MONTH(PUANTAJ!$B$2))=9,' BORDRO HAZIRLIK'!AK28,IF(AM28>1,AM28,(0)))","v":0},0,{"$f":"IF((MONTH(PUANTAJ!$B$2))=9,' BORDRO HAZIRLIK'!AE28,IF(AO28>1,AO28,(0)))","v":0},0,{"$f":"IF((MONTH(PUANTAJ!$B$2))=10,' BORDRO HAZIRLIK'!AK28,IF(AQ28>1,AQ28,(0)))","v":0},0,{"$f":"IF((MONTH(PUANTAJ!$B$2))=10,' BORDRO HAZIRLIK'!AE28,IF(AS28>1,AS28,(0)))","v":0},0,{"$f":"IF((MONTH(PUANTAJ!$B$2))=11,' BORDRO HAZIRLIK'!AK29,IF(AU28>1,AU28,(0)))","v":0},0,{"$f":"IF((MONTH(PUANTAJ!$B$2))=11,' BORDRO HAZIRLIK'!AE29,IF(AW28>1,AW28,(0)))","v":0},0,{"$f":"IF((MONTH(PUANTAJ!$B$2))=12,' BORDRO HAZIRLIK'!AK28,IF(AY28>1,AY28,(0)))","v":0},0,{"$f":"IF((MONTH(PUANTAJ!$B$2))=12,' BORDRO HAZIRLIK'!AE28,IF(BA28>1,BA28,(0)))","v":0},0,0,{"$f":"' BORDRO HAZIRLIK'!AK28","v":0},0,0,{"$f":"' BORDRO HAZIRLIK'!AE29","v":0},0]
[null,{"$f":"PUANTAJ!A57","v":""},{"$f":"PUANTAJ!B57","v":" "},{"$f":"BD29+'PERSONEL BİLGİ GİRİŞİ'!AC30","v":0},{"$f":"BG29+'PERSONEL BİLGİ GİRİŞİ'!AL30","v":0},{"$f":"IF((MONTH(PUANTAJ!$B$2))=1,' BORDRO HAZIRLIK'!AK29,IF(G29>1,G29,(0)))","v":0},0,{"$f":"IF((MONTH(PUANTAJ!$B$2))=1,' BORDRO HAZIRLIK'!AE29,IF(I29>1,I29,(0)))","v":0},0,{"$f":"IF((MONTH(PUANTAJ!$B$2))=2,' BORDRO HAZIRLIK'!AK29,IF(K29>1,K29,(0)))","v":0},0,{"$f":"IF((MONTH(PUANTAJ!$B$2))=2,' BORDRO HAZIRLIK'!AE29,IF(M29>1,M29,(0)))","v":0},0,{"$f":"IF((MONTH(PUANTAJ!$B$2))=3,' BORDRO HAZIRLIK'!AK29,IF(O29>1,O29,(0)))","v":0},0,{"$f":"IF((MONTH(PUANTAJ!$B$2))=3,' BORDRO HAZIRLIK'!AE29,IF(Q29>1,Q29,(0)))","v":0},0,{"$f":"IF((MONTH(PUANTAJ!$B$2))=4,' BORDRO HAZIRLIK'!AK29,IF(S29>1,S29,(0)))","v":0},0,{"$f":"IF((MONTH(PUANTAJ!$B$2))=4,' BORDRO HAZIRLIK'!AE29,IF(U29>1,U29,(0)))","v":0},0,{"$f":"IF((MONTH(PUANTAJ!$B$2))=5,' BORDRO HAZIRLIK'!AK29,IF(W29>1,W29,(0)))","v":0},0,{"$f":"IF((MONTH(PUANTAJ!$B$2))=5,' BORDRO HAZIRLIK'!AE29,IF(Y29>1,Y29,(0)))","v":0},0,{"$f":"IF((MONTH(PUANTAJ!$B$2))=6,' BORDRO HAZIRLIK'!AK29,IF(AA29>1,AA29,(0)))","v":0},0,{"$f":"IF((MONTH(PUANTAJ!$B$2))=6,' BORDRO HAZIRLIK'!AE29,IF(AC29>1,AC29,(0)))","v":0},0,{"$f":"IF((MONTH(PUANTAJ!$B$2))=7,' BORDRO HAZIRLIK'!AK29,IF(AE29>1,AE29,(0)))","v":0},0,{"$f":"IF((MONTH(PUANTAJ!$B$2))=7,' BORDRO HAZIRLIK'!AE29,IF(AG29>1,AG29,(0)))","v":0},0,{"$f":"IF((MONTH(PUANTAJ!$B$2))=8,' BORDRO HAZIRLIK'!AK29,IF(AI29>1,AI29,(0)))","v":0},0,{"$f":"IF((MONTH(PUANTAJ!$B$2))=8,' BORDRO HAZIRLIK'!AE29,IF(AK29>1,AK29,(0)))","v":0},0,{"$f":"IF((MONTH(PUANTAJ!$B$2))=9,' BORDRO HAZIRLIK'!AK29,IF(AM29>1,AM29,(0)))","v":0},0,{"$f":"IF((MONTH(PUANTAJ!$B$2))=9,' BORDRO HAZIRLIK'!AE29,IF(AO29>1,AO29,(0)))","v":0},0,{"$f":"IF((MONTH(PUANTAJ!$B$2))=10,' BORDRO HAZIRLIK'!AK29,IF(AQ29>1,AQ29,(0)))","v":0},0,{"$f":"IF((MONTH(PUANTAJ!$B$2))=10,' BORDRO HAZIRLIK'!AE29,IF(AS29>1,AS29,(0)))","v":0},0,{"$f":"IF((MONTH(PUANTAJ!$B$2))=11,' BORDRO HAZIRLIK'!AK30,IF(AU29>1,AU29,(0)))","v":0},0,{"$f":"IF((MONTH(PUANTAJ!$B$2))=11,' BORDRO HAZIRLIK'!AE30,IF(AW29>1,AW29,(0)))","v":0},0,{"$f":"IF((MONTH(PUANTAJ!$B$2))=12,' BORDRO HAZIRLIK'!AK29,IF(AY29>1,AY29,(0)))","v":0},0,{"$f":"IF((MONTH(PUANTAJ!$B$2))=12,' BORDRO HAZIRLIK'!AE29,IF(BA29>1,BA29,(0)))","v":0},0,0,{"$f":"' BORDRO HAZIRLIK'!AK29","v":0},0,0,{"$f":"' BORDRO HAZIRLIK'!AE30","v":0},0]
[null,{"$f":"PUANTAJ!A59","v":""},{"$f":"PUANTAJ!B59","v":" "},{"$f":"BD30+'PERSONEL BİLGİ GİRİŞİ'!AC31","v":0},{"$f":"BG30+'PERSONEL BİLGİ GİRİŞİ'!AL31","v":0},{"$f":"IF((MONTH(PUANTAJ!$B$2))=1,' BORDRO HAZIRLIK'!AK30,IF(G30>1,G30,(0)))","v":0},0,{"$f":"IF((MONTH(PUANTAJ!$B$2))=1,' BORDRO HAZIRLIK'!AE30,IF(I30>1,I30,(0)))","v":0},0,{"$f":"IF((MONTH(PUANTAJ!$B$2))=2,' BORDRO HAZIRLIK'!AK30,IF(K30>1,K30,(0)))","v":0},0,{"$f":"IF((MONTH(PUANTAJ!$B$2))=2,' BORDRO HAZIRLIK'!AE30,IF(M30>1,M30,(0)))","v":0},0,{"$f":"IF((MONTH(PUANTAJ!$B$2))=3,' BORDRO HAZIRLIK'!AK30,IF(O30>1,O30,(0)))","v":0},0,{"$f":"IF((MONTH(PUANTAJ!$B$2))=3,' BORDRO HAZIRLIK'!AE30,IF(Q30>1,Q30,(0)))","v":0},0,{"$f":"IF((MONTH(PUANTAJ!$B$2))=4,' BORDRO HAZIRLIK'!AK30,IF(S30>1,S30,(0)))","v":0},0,{"$f":"IF((MONTH(PUANTAJ!$B$2))=4,' BORDRO HAZIRLIK'!AE30,IF(U30>1,U30,(0)))","v":0},0,{"$f":"IF((MONTH(PUANTAJ!$B$2))=5,' BORDRO HAZIRLIK'!AK30,IF(W30>1,W30,(0)))","v":0},0,{"$f":"IF((MONTH(PUANTAJ!$B$2))=5,' BORDRO HAZIRLIK'!AE30,IF(Y30>1,Y30,(0)))","v":0},0,{"$f":"IF((MONTH(PUANTAJ!$B$2))=6,' BORDRO HAZIRLIK'!AK30,IF(AA30>1,AA30,(0)))","v":0},0,{"$f":"IF((MONTH(PUANTAJ!$B$2))=6,' BORDRO HAZIRLIK'!AE30,IF(AC30>1,AC30,(0)))","v":0},0,{"$f":"IF((MONTH(PUANTAJ!$B$2))=7,' BORDRO HAZIRLIK'!AK30,IF(AE30>1,AE30,(0)))","v":0},0,{"$f":"IF((MONTH(PUANTAJ!$B$2))=7,' BORDRO HAZIRLIK'!AE30,IF(AG30>1,AG30,(0)))","v":0},0,{"$f":"IF((MONTH(PUANTAJ!$B$2))=8,' BORDRO HAZIRLIK'!AK30,IF(AI30>1,AI30,(0)))","v":0},0,{"$f":"IF((MONTH(PUANTAJ!$B$2))=8,' BORDRO HAZIRLIK'!AE30,IF(AK30>1,AK30,(0)))","v":0},0,{"$f":"IF((MONTH(PUANTAJ!$B$2))=9,' BORDRO HAZIRLIK'!AK30,IF(AM30>1,AM30,(0)))","v":0},0,{"$f":"IF((MONTH(PUANTAJ!$B$2))=9,' BORDRO HAZIRLIK'!AE30,IF(AO30>1,AO30,(0)))","v":0},0,{"$f":"IF((MONTH(PUANTAJ!$B$2))=10,' BORDRO HAZIRLIK'!AK30,IF(AQ30>1,AQ30,(0)))","v":0},0,{"$f":"IF((MONTH(PUANTAJ!$B$2))=10,' BORDRO HAZIRLIK'!AE30,IF(AS30>1,AS30,(0)))","v":0},0,{"$f":"IF((MONTH(PUANTAJ!$B$2))=11,' BORDRO HAZIRLIK'!AK31,IF(AU30>1,AU30,(0)))","v":0},0,{"$f":"IF((MONTH(PUANTAJ!$B$2))=11,' BORDRO HAZIRLIK'!AE31,IF(AW30>1,AW30,(0)))","v":0},0,{"$f":"IF((MONTH(PUANTAJ!$B$2))=12,' BORDRO HAZIRLIK'!AK30,IF(AY30>1,AY30,(0)))","v":0},0,{"$f":"IF((MONTH(PUANTAJ!$B$2))=12,' BORDRO HAZIRLIK'!AE30,IF(BA30>1,BA30,(0)))","v":0},0,0,{"$f":"' BORDRO HAZIRLIK'!AK30","v":0},0,0,{"$f":"' BORDRO HAZIRLIK'!AE31","v":0},0]
[null,{"$f":"PUANTAJ!A61","v":""},{"$f":"PUANTAJ!B61","v":" "},{"$f":"BD31+'PERSONEL BİLGİ GİRİŞİ'!AC32","v":0},{"$f":"BG31+'PERSONEL BİLGİ GİRİŞİ'!AL32","v":0},{"$f":"IF((MONTH(PUANTAJ!$B$2))=1,' BORDRO HAZIRLIK'!AK31,IF(G31>1,G31,(0)))","v":0},0,{"$f":"IF((MONTH(PUANTAJ!$B$2))=1,' BORDRO HAZIRLIK'!AE31,IF(I31>1,I31,(0)))","v":0},0,{"$f":"IF((MONTH(PUANTAJ!$B$2))=2,' BORDRO HAZIRLIK'!AK31,IF(K31>1,K31,(0)))","v":0},0,{"$f":"IF((MONTH(PUANTAJ!$B$2))=2,' BORDRO HAZIRLIK'!AE31,IF(M31>1,M31,(0)))","v":0},0,{"$f":"IF((MONTH(PUANTAJ!$B$2))=3,' BORDRO HAZIRLIK'!AK31,IF(O31>1,O31,(0)))","v":0},0,{"$f":"IF((MONTH(PUANTAJ!$B$2))=3,' BORDRO HAZIRLIK'!AE31,IF(Q31>1,Q31,(0)))","v":0},0,{"$f":"IF((MONTH(PUANTAJ!$B$2))=4,' BORDRO HAZIRLIK'!AK31,IF(S31>1,S31,(0)))","v":0},0,{"$f":"IF((MONTH(PUANTAJ!$B$2))=4,' BORDRO HAZIRLIK'!AE31,IF(U31>1,U31,(0)))","v":0},0,{"$f":"IF((MONTH(PUANTAJ!$B$2))=5,' BORDRO HAZIRLIK'!AK31,IF(W31>1,W31,(0)))","v":0},0,{"$f":"IF((MONTH(PUANTAJ!$B$2))=5,' BORDRO HAZIRLIK'!AE31,IF(Y31>1,Y31,(0)))","v":0},0,{"$f":"IF((MONTH(PUANTAJ!$B$2))=6,' BORDRO HAZIRLIK'!AK31,IF(AA31>1,AA31,(0)))","v":0},0,{"$f":"IF((MONTH(PUANTAJ!$B$2))=6,' BORDRO HAZIRLIK'!AE31,IF(AC31>1,AC31,(0)))","v":0},0,{"$f":"IF((MONTH(PUANTAJ!$B$2))=7,' BORDRO HAZIRLIK'!AK31,IF(AE31>1,AE31,(0)))","v":0},0,{"$f":"IF((MONTH(PUANTAJ!$B$2))=7,' BORDRO HAZIRLIK'!AE31,IF(AG31>1,AG31,(0)))","v":0},0,{"$f":"IF((MONTH(PUANTAJ!$B$2))=8,' BORDRO HAZIRLIK'!AK31,IF(AI31>1,AI31,(0)))","v":0},0,{"$f":"IF((MONTH(PUANTAJ!$B$2))=8,' BORDRO HAZIRLIK'!AE31,IF(AK31>1,AK31,(0)))","v":0},0,{"$f":"IF((MONTH(PUANTAJ!$B$2))=9,' BORDRO HAZIRLIK'!AK31,IF(AM31>1,AM31,(0)))","v":0},0,{"$f":"IF((MONTH(PUANTAJ!$B$2))=9,' BORDRO HAZIRLIK'!AE31,IF(AO31>1,AO31,(0)))","v":0},0,{"$f":"IF((MONTH(PUANTAJ!$B$2))=10,' BORDRO HAZIRLIK'!AK31,IF(AQ31>1,AQ31,(0)))","v":0},0,{"$f":"IF((MONTH(PUANTAJ!$B$2))=10,' BORDRO HAZIRLIK'!AE31,IF(AS31>1,AS31,(0)))","v":0},0,{"$f":"IF((MONTH(PUANTAJ!$B$2))=11,' BORDRO HAZIRLIK'!AK32,IF(AU31>1,AU31,(0)))","v":0},0,{"$f":"IF((MONTH(PUANTAJ!$B$2))=11,' BORDRO HAZIRLIK'!AE32,IF(AW31>1,AW31,(0)))","v":0},0,{"$f":"IF((MONTH(PUANTAJ!$B$2))=12,' BORDRO HAZIRLIK'!AK31,IF(AY31>1,AY31,(0)))","v":0},0,{"$f":"IF((MONTH(PUANTAJ!$B$2))=12,' BORDRO HAZIRLIK'!AE31,IF(BA31>1,BA31,(0)))","v":0},0,0,{"$f":"' BORDRO HAZIRLIK'!AK31","v":0},0,0,{"$f":"' BORDRO HAZIRLIK'!AE32","v":0},0]
[null,{"$f":"PUANTAJ!A63","v":""},{"$f":"PUANTAJ!B63","v":" "},{"$f":"BD32+'PERSONEL BİLGİ GİRİŞİ'!AC33","v":0},{"$f":"BG32+'PERSONEL BİLGİ GİRİŞİ'!AL33","v":0},{"$f":"IF((MONTH(PUANTAJ!$B$2))=1,' BORDRO HAZIRLIK'!AK32,IF(G32>1,G32,(0)))","v":0},0,{"$f":"IF((MONTH(PUANTAJ!$B$2))=1,' BORDRO HAZIRLIK'!AE32,IF(I32>1,I32,(0)))","v":0},0,{"$f":"IF((MONTH(PUANTAJ!$B$2))=2,' BORDRO HAZIRLIK'!AK32,IF(K32>1,K32,(0)))","v":0},0,{"$f":"IF((MONTH(PUANTAJ!$B$2))=2,' BORDRO HAZIRLIK'!AE32,IF(M32>1,M32,(0)))","v":0},0,{"$f":"IF((MONTH(PUANTAJ!$B$2))=3,' BORDRO HAZIRLIK'!AK32,IF(O32>1,O32,(0)))","v":0},0,{"$f":"IF((MONTH(PUANTAJ!$B$2))=3,' BORDRO HAZIRLIK'!AE32,IF(Q32>1,Q32,(0)))","v":0},0,{"$f":"IF((MONTH(PUANTAJ!$B$2))=4,' BORDRO HAZIRLIK'!AK32,IF(S32>1,S32,(0)))","v":0},0,{"$f":"IF((MONTH(PUANTAJ!$B$2))=4,' BORDRO HAZIRLIK'!AE32,IF(U32>1,U32,(0)))","v":0},0,{"$f":"IF((MONTH(PUANTAJ!$B$2))=5,' BORDRO HAZIRLIK'!AK32,IF(W32>1,W32,(0)))","v":0},0,{"$f":"IF((MONTH(PUANTAJ!$B$2))=5,' BORDRO HAZIRLIK'!AE32,IF(Y32>1,Y32,(0)))","v":0},0,{"$f":"IF((MONTH(PUANTAJ!$B$2))=6,' BORDRO HAZIRLIK'!AK32,IF(AA32>1,AA32,(0)))","v":0},0,{"$f":"IF((MONTH(PUANTAJ!$B$2))=6,' BORDRO HAZIRLIK'!AE32,IF(AC32>1,AC32,(0)))","v":0},0,{"$f":"IF((MONTH(PUANTAJ!$B$2))=7,' BORDRO HAZIRLIK'!AK32,IF(AE32>1,AE32,(0)))","v":0},0,{"$f":"IF((MONTH(PUANTAJ!$B$2))=7,' BORDRO HAZIRLIK'!AE32,IF(AG32>1,AG32,(0)))","v":0},0,{"$f":"IF((MONTH(PUANTAJ!$B$2))=8,' BORDRO HAZIRLIK'!AK32,IF(AI32>1,AI32,(0)))","v":0},0,{"$f":"IF((MONTH(PUANTAJ!$B$2))=8,' BORDRO HAZIRLIK'!AE32,IF(AK32>1,AK32,(0)))","v":0},0,{"$f":"IF((MONTH(PUANTAJ!$B$2))=9,' BORDRO HAZIRLIK'!AK32,IF(AM32>1,AM32,(0)))","v":0},0,{"$f":"IF((MONTH(PUANTAJ!$B$2))=9,' BORDRO HAZIRLIK'!AE32,IF(AO32>1,AO32,(0)))","v":0},0,{"$f":"IF((MONTH(PUANTAJ!$B$2))=10,' BORDRO HAZIRLIK'!AK32,IF(AQ32>1,AQ32,(0)))","v":0},0,{"$f":"IF((MONTH(PUANTAJ!$B$2))=10,' BORDRO HAZIRLIK'!AE32,IF(AS32>1,AS32,(0)))","v":0},0,{"$f":"IF((MONTH(PUANTAJ!$B$2))=11,' BORDRO HAZIRLIK'!AK33,IF(AU32>1,AU32,(0)))","v":0},0,{"$f":"IF((MONTH(PUANTAJ!$B$2))=11,' BORDRO HAZIRLIK'!AE33,IF(AW32>1,AW32,(0)))","v":0},0,{"$f":"IF((MONTH(PUANTAJ!$B$2))=12,' BORDRO HAZIRLIK'!AK32,IF(AY32>1,AY32,(0)))","v":0},0,{"$f":"IF((MONTH(PUANTAJ!$B$2))=12,' BORDRO HAZIRLIK'!AE32,IF(BA32>1,BA32,(0)))","v":0},0,0,{"$f":"' BORDRO HAZIRLIK'!AK32","v":0},0,0,{"$f":"' BORDRO HAZIRLIK'!AE33","v":0},0]
[null,{"$f":"PUANTAJ!A65","v":""},{"$f":"PUANTAJ!B65","v":" "},{"$f":"BD33+'PERSONEL BİLGİ GİRİŞİ'!AC34","v":0},{"$f":"BG33+'PERSONEL BİLGİ GİRİŞİ'!AL34","v":0},{"$f":"IF((MONTH(PUANTAJ!$B$2))=1,' BORDRO HAZIRLIK'!AK33,IF(G33>1,G33,(0)))","v":0},0,{"$f":"IF((MONTH(PUANTAJ!$B$2))=1,' BORDRO HAZIRLIK'!AE33,IF(I33>1,I33,(0)))","v":0},0,{"$f":"IF((MONTH(PUANTAJ!$B$2))=2,' BORDRO HAZIRLIK'!AK33,IF(K33>1,K33,(0)))","v":0},0,{"$f":"IF((MONTH(PUANTAJ!$B$2))=2,' BORDRO HAZIRLIK'!AE33,IF(M33>1,M33,(0)))","v":0},0,{"$f":"IF((MONTH(PUANTAJ!$B$2))=3,' BORDRO HAZIRLIK'!AK33,IF(O33>1,O33,(0)))","v":0},0,{"$f":"IF((MONTH(PUANTAJ!$B$2))=3,' BORDRO HAZIRLIK'!AE33,IF(Q33>1,Q33,(0)))","v":0},0,{"$f":"IF((MONTH(PUANTAJ!$B$2))=4,' BORDRO HAZIRLIK'!AK33,IF(S33>1,S33,(0)))","v":0},0,{"$f":"IF((MONTH(PUANTAJ!$B$2))=4,' BORDRO HAZIRLIK'!AE33,IF(U33>1,U33,(0)))","v":0},0,{"$f":"IF((MONTH(PUANTAJ!$B$2))=5,' BORDRO HAZIRLIK'!AK33,IF(W33>1,W33,(0)))","v":0},0,{"$f":"IF((MONTH(PUANTAJ!$B$2))=5,' BORDRO HAZIRLIK'!AE33,IF(Y33>1,Y33,(0)))","v":0},0,{"$f":"IF((MONTH(PUANTAJ!$B$2))=6,' BORDRO HAZIRLIK'!AK33,IF(AA33>1,AA33,(0)))","v":0},0,{"$f":"IF((MONTH(PUANTAJ!$B$2))=6,' BORDRO HAZIRLIK'!AE33,IF(AC33>1,AC33,(0)))","v":0},0,{"$f":"IF((MONTH(PUANTAJ!$B$2))=7,' BORDRO HAZIRLIK'!AK33,IF(AE33>1,AE33,(0)))","v":0},0,{"$f":"IF((MONTH(PUANTAJ!$B$2))=7,' BORDRO HAZIRLIK'!AE33,IF(AG33>1,AG33,(0)))","v":0},0,{"$f":"IF((MONTH(PUANTAJ!$B$2))=8,' BORDRO HAZIRLIK'!AK33,IF(AI33>1,AI33,(0)))","v":0},0,{"$f":"IF((MONTH(PUANTAJ!$B$2))=8,' BORDRO HAZIRLIK'!AE33,IF(AK33>1,AK33,(0)))","v":0},0,{"$f":"IF((MONTH(PUANTAJ!$B$2))=9,' BORDRO HAZIRLIK'!AK33,IF(AM33>1,AM33,(0)))","v":0},0,{"$f":"IF((MONTH(PUANTAJ!$B$2))=9,' BORDRO HAZIRLIK'!AE33,IF(AO33>1,AO33,(0)))","v":0},0,{"$f":"IF((MONTH(PUANTAJ!$B$2))=10,' BORDRO HAZIRLIK'!AK33,IF(AQ33>1,AQ33,(0)))","v":0},0,{"$f":"IF((MONTH(PUANTAJ!$B$2))=10,' BORDRO HAZIRLIK'!AE33,IF(AS33>1,AS33,(0)))","v":0},0,{"$f":"IF((MONTH(PUANTAJ!$B$2))=11,' BORDRO HAZIRLIK'!AK34,IF(AU33>1,AU33,(0)))","v":0},0,{"$f":"IF((MONTH(PUANTAJ!$B$2))=11,' BORDRO HAZIRLIK'!AE34,IF(AW33>1,AW33,(0)))","v":0},0,{"$f":"IF((MONTH(PUANTAJ!$B$2))=12,' BORDRO HAZIRLIK'!AK33,IF(AY33>1,AY33,(0)))","v":0},0,{"$f":"IF((MONTH(PUANTAJ!$B$2))=12,' BORDRO HAZIRLIK'!AE33,IF(BA33>1,BA33,(0)))","v":0},0,0,{"$f":"' BORDRO HAZIRLIK'!AK33","v":0},0,0,{"$f":"' BORDRO HAZIRLIK'!AE34","v":0},0]
[null,{"$f":"PUANTAJ!A67","v":""},{"$f":"PUANTAJ!B67","v":" "},{"$f":"BD34+'PERSONEL BİLGİ GİRİŞİ'!AC35","v":0},{"$f":"BG34+'PERSONEL BİLGİ GİRİŞİ'!AL35","v":0},{"$f":"IF((MONTH(PUANTAJ!$B$2))=1,' BORDRO HAZIRLIK'!AK34,IF(G34>1,G34,(0)))","v":0},0,{"$f":"IF((MONTH(PUANTAJ!$B$2))=1,' BORDRO HAZIRLIK'!AE34,IF(I34>1,I34,(0)))","v":0},0,{"$f":"IF((MONTH(PUANTAJ!$B$2))=2,' BORDRO HAZIRLIK'!AK34,IF(K34>1,K34,(0)))","v":0},0,{"$f":"IF((MONTH(PUANTAJ!$B$2))=2,' BORDRO HAZIRLIK'!AE34,IF(M34>1,M34,(0)))","v":0},0,{"$f":"IF((MONTH(PUANTAJ!$B$2))=3,' BORDRO HAZIRLIK'!AK34,IF(O34>1,O34,(0)))","v":0},0,{"$f":"IF((MONTH(PUANTAJ!$B$2))=3,' BORDRO HAZIRLIK'!AE34,IF(Q34>1,Q34,(0)))","v":0},0,{"$f":"IF((MONTH(PUANTAJ!$B$2))=4,' BORDRO HAZIRLIK'!AK34,IF(S34>1,S34,(0)))","v":0},0,{"$f":"IF((MONTH(PUANTAJ!$B$2))=4,' BORDRO HAZIRLIK'!AE34,IF(U34>1,U34,(0)))","v":0},0,{"$f":"IF((MONTH(PUANTAJ!$B$2))=5,' BORDRO HAZIRLIK'!AK34,IF(W34>1,W34,(0)))","v":0},0,{"$f":"IF((MONTH(PUANTAJ!$B$2))=5,' BORDRO HAZIRLIK'!AE34,IF(Y34>1,Y34,(0)))","v":0},0,{"$f":"IF((MONTH(PUANTAJ!$B$2))=6,' BORDRO HAZIRLIK'!AK34,IF(AA34>1,AA34,(0)))","v":0},0,{"$f":"IF((MONTH(PUANTAJ!$B$2))=6,' BORDRO HAZIRLIK'!AE34,IF(AC34>1,AC34,(0)))","v":0},0,{"$f":"IF((MONTH(PUANTAJ!$B$2))=7,' BORDRO HAZIRLIK'!AK34,IF(AE34>1,AE34,(0)))","v":0},0,{"$f":"IF((MONTH(PUANTAJ!$B$2))=7,' BORDRO HAZIRLIK'!AE34,IF(AG34>1,AG34,(0)))","v":0},0,{"$f":"IF((MONTH(PUANTAJ!$B$2))=8,' BORDRO HAZIRLIK'!AK34,IF(AI34>1,AI34,(0)))","v":0},0,{"$f":"IF((MONTH(PUANTAJ!$B$2))=8,' BORDRO HAZIRLIK'!AE34,IF(AK34>1,AK34,(0)))","v":0},0,{"$f":"IF((MONTH(PUANTAJ!$B$2))=9,' BORDRO HAZIRLIK'!AK34,IF(AM34>1,AM34,(0)))","v":0},0,{"$f":"IF((MONTH(PUANTAJ!$B$2))=9,' BORDRO HAZIRLIK'!AE34,IF(AO34>1,AO34,(0)))","v":0},0,{"$f":"IF((MONTH(PUANTAJ!$B$2))=10,' BORDRO HAZIRLIK'!AK34,IF(AQ34>1,AQ34,(0)))","v":0},0,{"$f":"IF((MONTH(PUANTAJ!$B$2))=10,' BORDRO HAZIRLIK'!AE34,IF(AS34>1,AS34,(0)))","v":0},0,{"$f":"IF((MONTH(PUANTAJ!$B$2))=11,' BORDRO HAZIRLIK'!AK35,IF(AU34>1,AU34,(0)))","v":0},0,{"$f":"IF((MONTH(PUANTAJ!$B$2))=11,' BORDRO HAZIRLIK'!AE35,IF(AW34>1,AW34,(0)))","v":0},0,{"$f":"IF((MONTH(PUANTAJ!$B$2))=12,' BORDRO HAZIRLIK'!AK34,IF(AY34>1,AY34,(0)))","v":0},0,{"$f":"IF((MONTH(PUANTAJ!$B$2))=12,' BORDRO HAZIRLIK'!AE34,IF(BA34>1,BA34,(0)))","v":0},0,0,{"$f":"' BORDRO HAZIRLIK'!AK34","v":0},0,0,{"$f":"' BORDRO HAZIRLIK'!AE35","v":0},0]
[null,{"$f":"PUANTAJ!A69","v":""},{"$f":"PUANTAJ!B69","v":" "},{"$f":"BD35+'PERSONEL BİLGİ GİRİŞİ'!AC36","v":0},{"$f":"BG35+'PERSONEL BİLGİ GİRİŞİ'!AL36","v":0},{"$f":"IF((MONTH(PUANTAJ!$B$2))=1,' BORDRO HAZIRLIK'!AK35,IF(G35>1,G35,(0)))","v":0},0,{"$f":"IF((MONTH(PUANTAJ!$B$2))=1,' BORDRO HAZIRLIK'!AE35,IF(I35>1,I35,(0)))","v":0},0,{"$f":"IF((MONTH(PUANTAJ!$B$2))=2,' BORDRO HAZIRLIK'!AK35,IF(K35>1,K35,(0)))","v":0},0,{"$f":"IF((MONTH(PUANTAJ!$B$2))=2,' BORDRO HAZIRLIK'!AE35,IF(M35>1,M35,(0)))","v":0},0,{"$f":"IF((MONTH(PUANTAJ!$B$2))=3,' BORDRO HAZIRLIK'!AK35,IF(O35>1,O35,(0)))","v":0},0,{"$f":"IF((MONTH(PUANTAJ!$B$2))=3,' BORDRO HAZIRLIK'!AE35,IF(Q35>1,Q35,(0)))","v":0},0,{"$f":"IF((MONTH(PUANTAJ!$B$2))=4,' BORDRO HAZIRLIK'!AK35,IF(S35>1,S35,(0)))","v":0},0,{"$f":"IF((MONTH(PUANTAJ!$B$2))=4,' BORDRO HAZIRLIK'!AE35,IF(U35>1,U35,(0)))","v":0},0,{"$f":"IF((MONTH(PUANTAJ!$B$2))=5,' BORDRO HAZIRLIK'!AK35,IF(W35>1,W35,(0)))","v":0},0,{"$f":"IF((MONTH(PUANTAJ!$B$2))=5,' BORDRO HAZIRLIK'!AE35,IF(Y35>1,Y35,(0)))","v":0},0,{"$f":"IF((MONTH(PUANTAJ!$B$2))=6,' BORDRO HAZIRLIK'!AK35,IF(AA35>1,AA35,(0)))","v":0},0,{"$f":"IF((MONTH(PUANTAJ!$B$2))=6,' BORDRO HAZIRLIK'!AE35,IF(AC35>1,AC35,(0)))","v":0},0,{"$f":"IF((MONTH(PUANTAJ!$B$2))=7,' BORDRO HAZIRLIK'!AK35,IF(AE35>1,AE35,(0)))","v":0},0,{"$f":"IF((MONTH(PUANTAJ!$B$2))=7,' BORDRO HAZIRLIK'!AE35,IF(AG35>1,AG35,(0)))","v":0},0,{"$f":"IF((MONTH(PUANTAJ!$B$2))=8,' BORDRO HAZIRLIK'!AK35,IF(AI35>1,AI35,(0)))","v":0},0,{"$f":"IF((MONTH(PUANTAJ!$B$2))=8,' BORDRO HAZIRLIK'!AE35,IF(AK35>1,AK35,(0)))","v":0},0,{"$f":"IF((MONTH(PUANTAJ!$B$2))=9,' BORDRO HAZIRLIK'!AK35,IF(AM35>1,AM35,(0)))","v":0},0,{"$f":"IF((MONTH(PUANTAJ!$B$2))=9,' BORDRO HAZIRLIK'!AE35,IF(AO35>1,AO35,(0)))","v":0},0,{"$f":"IF((MONTH(PUANTAJ!$B$2))=10,' BORDRO HAZIRLIK'!AK35,IF(AQ35>1,AQ35,(0)))","v":0},0,{"$f":"IF((MONTH(PUANTAJ!$B$2))=10,' BORDRO HAZIRLIK'!AE35,IF(AS35>1,AS35,(0)))","v":0},0,{"$f":"IF((MONTH(PUANTAJ!$B$2))=11,' BORDRO HAZIRLIK'!AK36,IF(AU35>1,AU35,(0)))","v":0},0,{"$f":"IF((MONTH(PUANTAJ!$B$2))=11,' BORDRO HAZIRLIK'!AE36,IF(AW35>1,AW35,(0)))","v":0},0,{"$f":"IF((MONTH(PUANTAJ!$B$2))=12,' BORDRO HAZIRLIK'!AK35,IF(AY35>1,AY35,(0)))","v":0},0,{"$f":"IF((MONTH(PUANTAJ!$B$2))=12,' BORDRO HAZIRLIK'!AE35,IF(BA35>1,BA35,(0)))","v":0},0,0,{"$f":"' BORDRO HAZIRLIK'!AK35","v":0},0,0,{"$f":"' BORDRO HAZIRLIK'!AE36","v":0},0]
[null,{"$f":"PUANTAJ!A71","v":""},{"$f":"PUANTAJ!B71","v":" "},{"$f":"BD36+'PERSONEL BİLGİ GİRİŞİ'!AC37","v":0},{"$f":"BG36+'PERSONEL BİLGİ GİRİŞİ'!AL37","v":0},{"$f":"IF((MONTH(PUANTAJ!$B$2))=1,' BORDRO HAZIRLIK'!AK36,IF(G36>1,G36,(0)))","v":0},0,{"$f":"IF((MONTH(PUANTAJ!$B$2))=1,' BORDRO HAZIRLIK'!AE36,IF(I36>1,I36,(0)))","v":0},0,{"$f":"IF((MONTH(PUANTAJ!$B$2))=2,' BORDRO HAZIRLIK'!AK36,IF(K36>1,K36,(0)))","v":0},0,{"$f":"IF((MONTH(PUANTAJ!$B$2))=2,' BORDRO HAZIRLIK'!AE36,IF(M36>1,M36,(0)))","v":0},0,{"$f":"IF((MONTH(PUANTAJ!$B$2))=3,' BORDRO HAZIRLIK'!AK36,IF(O36>1,O36,(0)))","v":0},0,{"$f":"IF((MONTH(PUANTAJ!$B$2))=3,' BORDRO HAZIRLIK'!AE36,IF(Q36>1,Q36,(0)))","v":0},0,{"$f":"IF((MONTH(PUANTAJ!$B$2))=4,' BORDRO HAZIRLIK'!AK36,IF(S36>1,S36,(0)))","v":0},0,{"$f":"IF((MONTH(PUANTAJ!$B$2))=4,' BORDRO HAZIRLIK'!AE36,IF(U36>1,U36,(0)))","v":0},0,{"$f":"IF((MONTH(PUANTAJ!$B$2))=5,' BORDRO HAZIRLIK'!AK36,IF(W36>1,W36,(0)))","v":0},0,{"$f":"IF((MONTH(PUANTAJ!$B$2))=5,' BORDRO HAZIRLIK'!AE36,IF(Y36>1,Y36,(0)))","v":0},0,{"$f":"IF((MONTH(PUANTAJ!$B$2))=6,' BORDRO HAZIRLIK'!AK36,IF(AA36>1,AA36,(0)))","v":0},0,{"$f":"IF((MONTH(PUANTAJ!$B$2))=6,' BORDRO HAZIRLIK'!AE36,IF(AC36>1,AC36,(0)))","v":0},0,{"$f":"IF((MONTH(PUANTAJ!$B$2))=7,' BORDRO HAZIRLIK'!AK36,IF(AE36>1,AE36,(0)))","v":0},0,{"$f":"IF((MONTH(PUANTAJ!$B$2))=7,' BORDRO HAZIRLIK'!AE36,IF(AG36>1,AG36,(0)))","v":0},0,{"$f":"IF((MONTH(PUANTAJ!$B$2))=8,' BORDRO HAZIRLIK'!AK36,IF(AI36>1,AI36,(0)))","v":0},0,{"$f":"IF((MONTH(PUANTAJ!$B$2))=8,' BORDRO HAZIRLIK'!AE36,IF(AK36>1,AK36,(0)))","v":0},0,{"$f":"IF((MONTH(PUANTAJ!$B$2))=9,' BORDRO HAZIRLIK'!AK36,IF(AM36>1,AM36,(0)))","v":0},0,{"$f":"IF((MONTH(PUANTAJ!$B$2))=9,' BORDRO HAZIRLIK'!AE36,IF(AO36>1,AO36,(0)))","v":0},0,{"$f":"IF((MONTH(PUANTAJ!$B$2))=10,' BORDRO HAZIRLIK'!AK36,IF(AQ36>1,AQ36,(0)))","v":0},0,{"$f":"IF((MONTH(PUANTAJ!$B$2))=10,' BORDRO HAZIRLIK'!AE36,IF(AS36>1,AS36,(0)))","v":0},0,{"$f":"IF((MONTH(PUANTAJ!$B$2))=11,' BORDRO HAZIRLIK'!AK37,IF(AU36>1,AU36,(0)))","v":0},0,{"$f":"IF((MONTH(PUANTAJ!$B$2))=11,' BORDRO HAZIRLIK'!AE37,IF(AW36>1,AW36,(0)))","v":0},0,{"$f":"IF((MONTH(PUANTAJ!$B$2))=12,' BORDRO HAZIRLIK'!AK36,IF(AY36>1,AY36,(0)))","v":0},0,{"$f":"IF((MONTH(PUANTAJ!$B$2))=12,' BORDRO HAZIRLIK'!AE36,IF(BA36>1,BA36,(0)))","v":0},0,0,{"$f":"' BORDRO HAZIRLIK'!AK36","v":0},0,0,{"$f":"' BORDRO HAZIRLIK'!AE37","v":0},0]
[null,{"$f":"PUANTAJ!A73","v":""},{"$f":"PUANTAJ!B73","v":" "},{"$f":"BD37+'PERSONEL BİLGİ GİRİŞİ'!AC38","v":0},{"$f":"BG37+'PERSONEL BİLGİ GİRİŞİ'!AL38","v":0},{"$f":"IF((MONTH(PUANTAJ!$B$2))=1,' BORDRO HAZIRLIK'!AK37,IF(G37>1,G37,(0)))","v":0},0,{"$f":"IF((MONTH(PUANTAJ!$B$2))=1,' BORDRO HAZIRLIK'!AE37,IF(I37>1,I37,(0)))","v":0},0,{"$f":"IF((MONTH(PUANTAJ!$B$2))=2,' BORDRO HAZIRLIK'!AK37,IF(K37>1,K37,(0)))","v":0},0,{"$f":"IF((MONTH(PUANTAJ!$B$2))=2,' BORDRO HAZIRLIK'!AE37,IF(M37>1,M37,(0)))","v":0},0,{"$f":"IF((MONTH(PUANTAJ!$B$2))=3,' BORDRO HAZIRLIK'!AK37,IF(O37>1,O37,(0)))","v":0},0,{"$f":"IF((MONTH(PUANTAJ!$B$2))=3,' BORDRO HAZIRLIK'!AE37,IF(Q37>1,Q37,(0)))","v":0},0,{"$f":"IF((MONTH(PUANTAJ!$B$2))=4,' BORDRO HAZIRLIK'!AK37,IF(S37>1,S37,(0)))","v":0},0,{"$f":"IF((MONTH(PUANTAJ!$B$2))=4,' BORDRO HAZIRLIK'!AE37,IF(U37>1,U37,(0)))","v":0},0,{"$f":"IF((MONTH(PUANTAJ!$B$2))=5,' BORDRO HAZIRLIK'!AK37,IF(W37>1,W37,(0)))","v":0},0,{"$f":"IF((MONTH(PUANTAJ!$B$2))=5,' BORDRO HAZIRLIK'!AE37,IF(Y37>1,Y37,(0)))","v":0},0,{"$f":"IF((MONTH(PUANTAJ!$B$2))=6,' BORDRO HAZIRLIK'!AK37,IF(AA37>1,AA37,(0)))","v":0},0,{"$f":"IF((MONTH(PUANTAJ!$B$2))=6,' BORDRO HAZIRLIK'!AE37,IF(AC37>1,AC37,(0)))","v":0},0,{"$f":"IF((MONTH(PUANTAJ!$B$2))=7,' BORDRO HAZIRLIK'!AK37,IF(AE37>1,AE37,(0)))","v":0},0,{"$f":"IF((MONTH(PUANTAJ!$B$2))=7,' BORDRO HAZIRLIK'!AE37,IF(AG37>1,AG37,(0)))","v":0},0,{"$f":"IF((MONTH(PUANTAJ!$B$2))=8,' BORDRO HAZIRLIK'!AK37,IF(AI37>1,AI37,(0)))","v":0},0,{"$f":"IF((MONTH(PUANTAJ!$B$2))=8,' BORDRO HAZIRLIK'!AE37,IF(AK37>1,AK37,(0)))","v":0},0,{"$f":"IF((MONTH(PUANTAJ!$B$2))=9,' BORDRO HAZIRLIK'!AK37,IF(AM37>1,AM37,(0)))","v":0},0,{"$f":"IF((MONTH(PUANTAJ!$B$2))=9,' BORDRO HAZIRLIK'!AE37,IF(AO37>1,AO37,(0)))","v":0},0,{"$f":"IF((MONTH(PUANTAJ!$B$2))=10,' BORDRO HAZIRLIK'!AK37,IF(AQ37>1,AQ37,(0)))","v":0},0,{"$f":"IF((MONTH(PUANTAJ!$B$2))=10,' BORDRO HAZIRLIK'!AE37,IF(AS37>1,AS37,(0)))","v":0},0,{"$f":"IF((MONTH(PUANTAJ!$B$2))=11,' BORDRO HAZIRLIK'!AK38,IF(AU37>1,AU37,(0)))","v":0},0,{"$f":"IF((MONTH(PUANTAJ!$B$2))=11,' BORDRO HAZIRLIK'!AE38,IF(AW37>1,AW37,(0)))","v":0},0,{"$f":"IF((MONTH(PUANTAJ!$B$2))=12,' BORDRO HAZIRLIK'!AK37,IF(AY37>1,AY37,(0)))","v":0},0,{"$f":"IF((MONTH(PUANTAJ!$B$2))=12,' BORDRO HAZIRLIK'!AE37,IF(BA37>1,BA37,(0)))","v":0},0,{"$f":"G37+K37+O37+S37+W37+AA37+AE37+AI37+AM37+AQ37+AU37+AY37","v":0},{"$f":"' BORDRO HAZIRLIK'!AK37","v":0},{"$f":"BB37+BC37","v":0},{"$f":"I37+M37+Q37+U37+Y37+AC37+AG37+AK37+AO37+AS37+AW37+BA37","v":0},{"$f":"' BORDRO HAZIRLIK'!AE38","v":0},{"$f":"BE37+BF37","v":0}]
[null,{"$f":"PUANTAJ!A75","v":""},{"$f":"PUANTAJ!B75","v":" "},{"$f":"BD38+'PERSONEL BİLGİ GİRİŞİ'!AC39","v":0},{"$f":"BG38+'PERSONEL BİLGİ GİRİŞİ'!AL39","v":0},{"$f":"IF((MONTH(PUANTAJ!$B$2))=1,' BORDRO HAZIRLIK'!AK38,IF(G38>1,G38,(0)))","v":0},0,{"$f":"IF((MONTH(PUANTAJ!$B$2))=1,' BORDRO HAZIRLIK'!AE38,IF(I38>1,I38,(0)))","v":0},0,{"$f":"IF((MONTH(PUANTAJ!$B$2))=2,' BORDRO HAZIRLIK'!AK38,IF(K38>1,K38,(0)))","v":0},0,{"$f":"IF((MONTH(PUANTAJ!$B$2))=2,' BORDRO HAZIRLIK'!AE38,IF(M38>1,M38,(0)))","v":0},0,{"$f":"IF((MONTH(PUANTAJ!$B$2))=3,' BORDRO HAZIRLIK'!AK38,IF(O38>1,O38,(0)))","v":0},0,{"$f":"IF((MONTH(PUANTAJ!$B$2))=3,' BORDRO HAZIRLIK'!AE38,IF(Q38>1,Q38,(0)))","v":0},0,{"$f":"IF((MONTH(PUANTAJ!$B$2))=4,' BORDRO HAZIRLIK'!AK38,IF(S38>1,S38,(0)))","v":0},0,{"$f":"IF((MONTH(PUANTAJ!$B$2))=4,' BORDRO HAZIRLIK'!AE38,IF(U38>1,U38,(0)))","v":0},0,{"$f":"IF((MONTH(PUANTAJ!$B$2))=5,' BORDRO HAZIRLIK'!AK38,IF(W38>1,W38,(0)))","v":0},0,{"$f":"IF((MONTH(PUANTAJ!$B$2))=5,' BORDRO HAZIRLIK'!AE38,IF(Y38>1,Y38,(0)))","v":0},0,{"$f":"IF((MONTH(PUANTAJ!$B$2))=6,' BORDRO HAZIRLIK'!AK38,IF(AA38>1,AA38,(0)))","v":0},0,{"$f":"IF((MONTH(PUANTAJ!$B$2))=6,' BORDRO HAZIRLIK'!AE38,IF(AC38>1,AC38,(0)))","v":0},0,{"$f":"IF((MONTH(PUANTAJ!$B$2))=7,' BORDRO HAZIRLIK'!AK38,IF(AE38>1,AE38,(0)))","v":0},0,{"$f":"IF((MONTH(PUANTAJ!$B$2))=7,' BORDRO HAZIRLIK'!AE38,IF(AG38>1,AG38,(0)))","v":0},0,{"$f":"IF((MONTH(PUANTAJ!$B$2))=8,' BORDRO HAZIRLIK'!AK38,IF(AI38>1,AI38,(0)))","v":0},0,{"$f":"IF((MONTH(PUANTAJ!$B$2))=8,' BORDRO HAZIRLIK'!AE38,IF(AK38>1,AK38,(0)))","v":0},0,{"$f":"IF((MONTH(PUANTAJ!$B$2))=9,' BORDRO HAZIRLIK'!AK38,IF(AM38>1,AM38,(0)))","v":0},0,{"$f":"IF((MONTH(PUANTAJ!$B$2))=9,' BORDRO HAZIRLIK'!AE38,IF(AO38>1,AO38,(0)))","v":0},0,{"$f":"IF((MONTH(PUANTAJ!$B$2))=10,' BORDRO HAZIRLIK'!AK38,IF(AQ38>1,AQ38,(0)))","v":0},0,{"$f":"IF((MONTH(PUANTAJ!$B$2))=10,' BORDRO HAZIRLIK'!AE38,IF(AS38>1,AS38,(0)))","v":0},0,{"$f":"IF((MONTH(PUANTAJ!$B$2))=11,' BORDRO HAZIRLIK'!AK39,IF(AU38>1,AU38,(0)))","v":0},0,{"$f":"IF((MONTH(PUANTAJ!$B$2))=11,' BORDRO HAZIRLIK'!AE39,IF(AW38>1,AW38,(0)))","v":0},0,{"$f":"IF((MONTH(PUANTAJ!$B$2))=12,' BORDRO HAZIRLIK'!AK38,IF(AY38>1,AY38,(0)))","v":0},0,{"$f":"IF((MONTH(PUANTAJ!$B$2))=12,' BORDRO HAZIRLIK'!AE38,IF(BA38>1,BA38,(0)))","v":0},0,0,{"$f":"' BORDRO HAZIRLIK'!AK38","v":0},0,0,{"$f":"' BORDRO HAZIRLIK'!AE39","v":0},0]
[null,null,{"$f":"SUM(C4:C38)","v":0},{"$f":"BD39+'PERSONEL BİLGİ GİRİŞİ'!AC40","v":18779.48},{"$f":"BG39+'PERSONEL BİLGİ GİRİŞİ'!AL40","v":17002.12},{"$f":"SUM(F4:F38)","v":{"$error":"#REF!"}},0,{"$f":"SUM(H4:H38)","v":{"$error":"#REF!"}},0,{"$f":"SUM(J4:J38)","v":0},0,{"$f":"SUM(L4:L38)","v":0},0,{"$f":"SUM(N4:N38)","v":0},0,{"$f":"SUM(P4:P38)","v":0},0,{"$f":"SUM(R4:R38)","v":0},0,{"$f":"SUM(T4:T38)","v":0},0,{"$f":"SUM(V4:V38)","v":0},0,{"$f":"SUM(X4:X38)","v":0},0,{"$f":"SUM(Z4:Z38)","v":0},0,{"$f":"SUM(AB4:AB38)","v":0},0,{"$f":"SUM(AD4:AD38)","v":0},0,{"$f":"SUM(AF4:AF38)","v":0},0,{"$f":"SUM(AH4:AH38)","v":0},0,{"$f":"SUM(AJ4:AJ38)","v":0},0,{"$f":"SUM(AL4:AL38)","v":0},0,{"$f":"SUM(AN4:AN38)","v":0},0,{"$f":"SUM(AP4:AP38)","v":0},0,{"$f":"SUM(AR4:AR38)","v":0},0,{"$f":"IF((MONTH(PUANTAJ!$B$2))=11,' BORDRO HAZIRLIK'!AK40,IF(AU39>1,AU39,(0)))","v":0},0,{"$f":"IF((MONTH(PUANTAJ!$B$2))=11,' BORDRO HAZIRLIK'!AE40,IF(AW39>1,AW39,(0)))","v":0},0,{"$f":"SUM(AX4:AX38)","v":0},0,{"$f":"SUM(AZ4:AZ38)","v":0},0,{"$f":"SUM(BB4:BB38)","v":0},18779.48,18779.48,0,17002.12,17002.12]
[null,null,null,null,null,null,0,null,0,null,0,null,0,null,0,null,0,null,0,null,0,null,0,null,0,null,0,null,0,null,0,null,0,null,0,null,0,null,0,null,0,null,0,null,0,null,0,null,0,null,0]
[null,null,null,null,null,null,0,null,0,null,0,null,0,null,0,null,0,null,0,null,0,null,0,null,0,null,0,null,0,null,0,null,0,null,0,null,0,null,0,null,0,null,0,null,0,null,0,null,0,null,0]
[null,null,null,null,null,null,0,null,0,null,0,null,0,null,0,null,0,null,0,null,0,null,0,null,0,null,0,null,0,null,0,null,0,null,0,null,0,null,0,null,0,null,0,null,0,null,0,null,0,null,0]
[null,null,null,null,null,null,0,null,0,null,0,null,0,null,0,null,0,null,0,null,0,null,0,null,0,null,0,null,0,null,0,null,0,null,0,null,0,null,0,null,0,null,0,null,0,null,0,null,0,null,0]
[null,null,null,null,null,null,0,null,0,null,0,null,0,null,0,null,0,null,0,null,0,null,0,null,0,null,0,null,0,null,0,null,0,null,0,null,0,null,0,null,0,null,0,null,0,null,0,null,0,null,0]
[null,null,null,null,null,null,0,null,0,null,0,null,0,null,0,null,0,null,0,null,0,null,0,null,0,null,0,null,0,null,0,null,0,null,0,null,0,null,0,null,0,null,0,null,0,null,0,null,0,null,0]
[null,null,null,null,null,null,0,null,0,null,0,null,0,null,0,null,0,null,0,null,0,null,0,null,0,null,0,null,0,null,0,null,0,null,0,null,0,null,0,null,0,null,0,null,0,null,0,null,0,null,0]
[null,null,null,null,null,null,0,null,0,null,0,null,0,null,0,null,0,null,0,null,0,null,0,null,0,null,0,null,0,null,0,null,0,null,0,null,0,null,0,null,0,null,0,null,0,null,0,null,0,null,0]
[null,null,null,null,null,null,0,null,0,null,0,null,0,null,0,null,0,null,0,null,0,null,0,null,0,null,0,null,0,null,0,null,0,null,0,null,0,null,0,null,0,null,0,null,0,null,0,null,0,null,0]
[null,null,null,null,null,null,0,null,0,null,0,null,0,null,0,null,0,null,0,null,0,null,0,null,0,null,0,null,0,null,0,null,0,null,0,null,0,null,0,null,0,null,0,null,0,null,0,null,0,null,0]
[null,null,null,null,null,null,0,null,0,null,0,null,0,null,0,null,0,null,0,null,0,null,0,null,0,null,0,null,0,null,0,null,0,null,0,null,0,null,0,null,0,null,0,null,0,null,0,null,0,null,0]
[null,null,null,null,null,null,0,null,0,null,0,null,0,null,0,null,0,null,0,null,0,null,0,null,0,null,0,null,0,null,0,null,0,null,0,null,0,null,0,null,0,null,0,null,0,null,0,null,0,null,0]
[null,null,null,null,null,null,0,null,0,null,0,null,0,null,0,null,0,null,0,null,0,null,0,null,0,null,0,null,0,null,0,null,0,null,0,null,0,null,0,null,0,null,0,null,0,null,0,null,0,null,0]
[null,null,null,null,null,null,0,null,0,null,0,null,0,null,0,null,0,null,0,null,0,null,0,null,0,null,0,null,0,null,0,null,0,null,0,null,0,null,0,null,0,null,0,null,0,null,0,null,0,null,0]
[null,null,null,null,null,null,0,null,0,null,0,null,0,null,0,null,0,null,0,null,0,null,0,null,0,null,0,null,0,null,0,null,0,null,0,null,0,null,0,null,0,null,0,null,0,null,0,null,0,null,0]
[null,null,null,null,null,null,0,null,0,null,0,null,0,null,0,null,0,null,0,null,0,null,0,null,0,null,0,null,0,null,0,null,0,null,0,null,0,null,0,null,0,null,0,null,0,null,0,null,0,null,0]
[null,null,null,null,null,null,0,null,0,null,0,null,0,null,0,null,0,null,0,null,0,null,0,null,0,null,0,null,0,null,0,null,0,null,0,null,0,null,0,null,0,null,0,null,0,null,0,null,0,null,0]
[null,null,null,null,null,null,0,null,0,null,0,null,0,null,0,null,0,null,0,null,0,null,0,null,0,null,0,null,0,null,0,null,0,null,0,null,0,null,0,null,0,null,0,null,0,null,0,null,0,null,0]
[null,null,null,null,null,null,0,null,0,null,0,null,0,null,0,null,0,null,0,null,0,null,0,null,0,null,0,null,0,null,0,null,0,null,0,null,0,null,0,null,0,null,0,null,0,null,0,null,0,null,0]
[null,null,null,null,null,null,0,null,0,null,0,null,0,null,0,null,0,null,0,null,0,null,0,null,0,null,0,null,0,null,0,null,0,null,0,null,0,null,0,null,0,null,0,null,0,null,0,null,0,null,0]
[null,null,null,null,null,null,0,null,0,null,0,null,0,null,0,null,0,null,0,null,0,null,0,null,0,null,0,null,0,null,0,null,0,null,0,null,0,null,0,null,0,null,0,null,0,null,0,null,0,null,0]
[null,null,null,null,null,null,0,null,0,null,0,null,0,null,0,null,0,null,0,null,0,null,0,null,0,null,0,null,0,null,0,null,0,null,0,null,0,null,0,null,0,null,0,null,0,null,0,null,0,null,0]
[null,null,null,null,null,null,0,null,0,null,0,null,0,null,0,null,0,null,0,null,0,null,0,null,0,null,0,null,0,null,0,null,0,null,0,null,0,null,0,null,0,null,0,null,0,null,0,null,0,null,0]
[null,null,null,null,null,null,0,null,0,null,0,null,0,null,0,null,0,null,0,null,0,null,0,null,0,null,0,null,0,null,0,null,0,null,0,null,0,null,0,null,0,null,0,null,0,null,0,null,0,null,0]
[null,null,null,null,null,null,0,null,0,null,0,null,0,null,0,null,0,null,0,null,0,null,0,null,0,null,0,null,0,null,0,null,0,null,0,null,0,null,0,null,0,null,0,null,0,null,0,null,0,null,0]
[null,null,null,null,null,null,0,null,0,null,0,null,0,null,0,null,0,null,0,null,0,null,0,null,0,null,0,null,0,null,0,null,0,null,0,null,0,null,0,null,0,null,0,null,0,null,0,null,0,null,0]
[null,null,null,null,null,null,0,null,0,null,0,null,0,null,0,null,0,null,0,null,0,null,0,null,0,null,0,null,0,null,0,null,0,null,0,null,0,null,0,null,0,null,0,null,0,null,0,null,0,null,0]
[null,null,null,null,null,null,0,null,0,null,0,null,0,null,0,null,0,null,0,null,0,null,0,null,0,null,0,null,0,null,0,null,0,null,0,null,0,null,0,null,0,null,0,null,0,null,0,null,0,null,0]
[null,null,null,null,null,null,0,null,0,null,0,null,0,null,0,null,0,null,0,null,0,null,0,null,0,null,0,null,0,null,0,null,0,null,0,null,0,null,0,null,0,null,0,null,0,null,0,null,0,null,0]
[null,null,null,null,null,null,0,null,0,null,0,null,0,null,0,null,0,null,0,null,0,null,0,null,0,null,0,null,0,null,0,null,0,null,0,null,0,null,0,null,0,null,0,null,0,null,0,null,0,null,0]
[null,null,null,null,null,null,0,null,0,null,0,null,0,null,0,null,0,null,0,null,0,null,0,null,0,null,0,null,0,null,0,null,0,null,0,null,0,null,0,null,0,null,0,null,0,null,0,null,0,null,0]
[null,null,null,null,null,null,0,null,0,null,0,null,0,null,0,null,0,null,0,null,0,null,0,null,0,null,0,null,0,null,0,null,0,null,0,null,0,null,0,null,0,null,0,null,0,null,0,null,0,null,0]
[null,null,null,null,null,null,0,null,0,null,0,null,0,null,0,null,0,null,0,null,0,null,0,null,0,null,0,null,0,null,0,null,0,null,0,null,0,null,0,null,0,null,0,null,0,null,0,null,0,null,0]
[null,null,null,null,null,null,0,null,0,null,0,null,0,null,0,null,0,null,0,null,0,null,0,null,0,null,0,null,0,null,0,null,0,null,0,null,0,null,0,null,0,null,0,null,0,null,0,null,0,null,0]
[null,null,null,null,null,null,0,null,0,null,0,null,0,null,0,null,0,null,0,null,0,null,0,null,0,null,0,null,0,null,0,null,0,null,0,null,0,null,0,null,0,null,0,null,0,null,0,null,0,null,0]
[null,null,null,null,null,null,0,null,0,null,0,null,0,null,0,null,0,null,0,null,0,null,0,null,0,null,0,null,0,null,0,null,0,null,0,null,0,null,0,null,0,null,0,null,0,null,0,null,0,null,0]
[null,null,null,null,null,null,0,null,0,null,0,null,0,null,0,null,0,null,0,null,0,null,0,null,0,null,0,null,0,null,0,null,0,null,0,null,0,null,0,null,0,null,0,null,0,null,0,null,0,null,0]
[null,null,null,null,null,null,0,null,0,null,0,null,0,null,0,null,0,null,0,null,0,null,0,null,0,null,0,null,0,null,0,null,0,null,0,null,0,null,0,null,0,null,0,null,0,null,0,null,0,null,0]
[null,null,null,null,null,null,0,null,0,null,0,null,0,null,0,null,0,null,0,null,0,null,0,null,0,null,0,null,0,null,0,null,0,null,0,null,0,null,0,null,0,null,0,null,0,null,0,null,0,null,0]

{"sheet":"TEK KİŞİ BORD","index":3,"n_rows":41,"n_cols":72,"rows_kept":41,"cut":false,"hidden":false,"merged":[[7,12,12,16],[30,4,30,5],[25,4,25,5],[26,4,29,5],[35,1,35,3],[23,4,24,4],[23,5,24,5],[19,2,19,3],[13,0,13,1],[14,0,14,1],[15,0,15,1],[36,1,36,3],[32,0,32,5],[33,0,33,5],[34,0,34,5],[30,1,30,3],[0,0,0,5],[1,18,4,18],[1,4,1,5],[2,2,2,3],[2,4,2,5],[3,4,3,5],[4,4,4,5],[1,1,1,3],[0,8,0,9],[4,2,4,3],[3,2,3,3]]}
[{"$f":"'ANA SAYFA'!A1","v":"AİLE VE SOSYAL HİZMETLER İL MÜDÜRLÜĞÜ"},null,null,null,null,null,null,null,"E-POSTA DÜZETLME"]
[{"$f":"PUANTAJ!AI2","v":"2024-01-01"},"K İ Ş İ  B O R D R O S U",null,null,{"$f":"TODAY()","v":"2024-02-05"}]
["ASGARİ ÜCRET",{"$f":"'ANA SAYFA'!J15","v":20002.5},"EK DERS",null,"ANA SAYFA",null,null,null,null,null,null,null,null,null,null,null,null,null,null,null,null,1,2,3,4,5,6,7,8,9,10,11,12,13,14,15,16,17,18,19,20,21,22,23,24,25,26,27,28,29,30,31,32,33,34,35,36,37,38,39,40,41,42,43,44,45,46,47,48,49,50,51]
["AD-SOYAD","T.C. KİMLİK NO","HAM ÜCRET",null,"Meslek-Ünvan",null,null,null,null,null,null,null,null,null,null,null,null,null,null,null,null,"AD SOYAD","TC","BÜRÜT TUTAR","GÜNDÜZ","GECE","MESLEĞİ","SGK","aylık istisna","toplam istisna","gündüz","NET  ÜCRET","aylık vergi","gelir vergisi","damga vergisi","sgk matrahı","toplam gelir vergisi matr.","HİZMET DESTEK GÖREVİ saati","HİZMET DESTEK GÖREVİ",null,null,"GÜNDÜZ ","GECE","HAFTA SONU","TOPLAM SAAT",null,null,null,"MALULUK YAŞLILIK (İŞVEREN-İŞÇİ)         %11","MALULUK YAŞLILIK (İŞTİRAKÇİ-İŞÇİ)          %9","G.S.S.  (İŞTİRAKÇİ İŞÇİ)           %5","G.S.S.  (İŞVEREN İŞÇİ)           %7.5",null,"SGK ASGARİ ÜCRET  İŞVEREN FARKI","BRÜT ÜCRET",null,"bes","İCRA","ödeme günü",null,null,"KISA VAADELİ SİGORTA KOLLARI PİRİMİ         %2","İŞSİZLİK SİGORTASI PİRİMİ- İŞVEREN            %2","İŞSİZLİK SİGORTASI PİRİMİ- İŞÇİ             %1  ","E MAİL",null,null,null,null,null,"İSTİSNA GLİR","İSTİSNA DAMGA"]
["ALİ BZC ",{"$f":"VLOOKUP(A5,V5:Y80,2,FALSE)","v":0},{"$f":"VLOOKUP(A5,V5:Y80,3,FALSE)","v":17469.599999999999},null,{"$f":"VLOOKUP(A5,V5:AA80,6,FALSE)","v":0},null,null,null,null,null,null,null,null,null,null,null,null,null,null,null,1,{"$f":"PUANTAJ!B7","v":"ALİ BZC "},{"$f":"'PERSONEL BİLGİ GİRİŞİ'!H5","v":0},{"$f":"'PERSONEL BİLGİ GİRİŞİ'!Q5","v":17469.599999999999},{"$f":"'PERSONEL BİLGİ GİRİŞİ'!R5","v":106.52},{"$f":"'PERSONEL BİLGİ GİRİŞİ'!U5","v":114.13},{"$f":"'PERSONEL BİLGİ GİRİŞİ'!E5","v":0},{"$f":"PUANTAJ!AU7","v":30},{"$f":"' BORDRO HAZIRLIK'!AE5","v":17002.12},{"$f":"' BORDRO HAZIRLIK'!AF5","v":17002.12},{"$f":"' BORDRO HAZIRLIK'!K5","v":17469.28},{"$f":"' BORDRO HAZIRLIK'!BH5","v":18498.96},{"$f":"' BORDRO HAZIRLIK'!AK5","v":18779.48},{"$f":"' BORDRO HAZIRLIK'!AO5","v":266.60000000000002},{"$f":"' BORDRO HAZIRLIK'!AP5","v":13.92},{"$f":"' BORDRO HAZIRLIK'!AQ5","v":21836.6},{"$f":"' BORDRO HAZIRLIK'!AN5","v":18779.48},{"$f":"' BORDRO HAZIRLIK'!P5","v":41},{"$f":"' BORDRO HAZIRLIK'!Q5","v":4367.32},null,null,{"$f":"PUANTAJ!AI7","v":164},{"$f":"PUANTAJ!AJ7","v":0},{"$f":"PUANTAJ!AK7","v":0},{"$f":"PUANTAJ!AM7","v":205},null,null,null,{"$f":"' BORDRO HAZIRLIK'!AY5","v":2402.04},{"$f":"' BORDRO HAZIRLIK'!AZ5","v":1965.29},{"$f":"' BORDRO HAZIRLIK'!BA5","v":1091.83},{"$f":"' BORDRO HAZIRLIK'!BB5","v":1637.75},null,{"$f":"' BORDRO HAZIRLIK'!AR5","v":0},{"$f":"' BORDRO HAZIRLIK'!AJ5","v":21836.6},null,{"$f":"' BORDRO HAZIRLIK'!AS5","v":0},{"$f":"' BORDRO HAZIRLIK'!AT5","v":0},{"$f":"' BORDRO HAZIRLIK'!I5","v":23},null,null,{"$f":"' BORDRO HAZIRLIK'!BC5","v":436.73},{"$f":"' BORDRO HAZIRLIK'!BD5","v":0},{"$f":"' BORDRO HAZIRLIK'!BE5","v":0},{"$f":"'PERSONEL BİLGİ GİRİŞİ'!I5","v":0},null,null,null,null,null,{"$f":"' BORDRO HAZIRLIK'!AG5","v":2550.3200000000002},{"$f":"' BORDRO HAZIRLIK'!AH5","v":151.82}]
["Çalışma (Ödeme) Günü",{"$f":"VLOOKUP(A5,V5:BG80,38,FALSE)","v":23},null,null,null,null,null,null,null,null,null,null,null,null,null,null,null,null,null,null,2,{"$f":"PUANTAJ!B9","v":" "},{"$f":"'PERSONEL BİLGİ GİRİŞİ'!H6","v":0},{"$f":"'PERSONEL BİLGİ GİRİŞİ'!Q6","v":0},{"$f":"'PERSONEL BİLGİ GİRİŞİ'!R6","v":0},{"$f":"'PERSONEL BİLGİ GİRİŞİ'!U6","v":0},{"$f":"'PERSONEL BİLGİ GİRİŞİ'!E6","v":0},{"$f":"PUANTAJ!AU9","v":0},{"$f":"' BORDRO HAZIRLIK'!AE6","v":0},{"$f":"' BORDRO HAZIRLIK'!AF6","v":0},{"$f":"' BORDRO HAZIRLIK'!K6","v":0},{"$f":"' BORDRO HAZIRLIK'!BH6","v":0},{"$f":"' BORDRO HAZIRLIK'!AK6","v":0},{"$f":"' BORDRO HAZIRLIK'!AO6","v":0},{"$f":"' BORDRO HAZIRLIK'!AP6","v":0},{"$f":"' BORDRO HAZIRLIK'!AQ6","v":0},{"$f":"' BORDRO HAZIRLIK'!AN6","v":0},{"$f":"' BORDRO HAZIRLIK'!P6","v":0},{"$f":"' BORDRO HAZIRLIK'!Q6","v":0},null,null,{"$f":"PUANTAJ!AI9","v":0},{"$f":"PUANTAJ!AJ9","v":0},{"$f":"PUANTAJ!AK9","v":0},{"$f":"PUANTAJ!AM9","v":0},null,null,null,{"$f":"' BORDRO HAZIRLIK'!AY6","v":0},{"$f":"' BORDRO HAZIRLIK'!AZ6","v":0},{"$f":"' BORDRO HAZIRLIK'!BA6","v":0},{"$f":"' BORDRO HAZIRLIK'!BB6","v":0},null,{"$f":"' BORDRO HAZIRLIK'!AR6","v":0},{"$f":"' BORDRO HAZIRLIK'!AJ6","v":0},null,{"$f":"' BORDRO HAZIRLIK'!AS6","v":0},{"$f":"' BORDRO HAZIRLIK'!AT6","v":0},{"$f":"' BORDRO HAZIRLIK'!I6","v":0},null,null,{"$f":"' BORDRO HAZIRLIK'!BC6","v":0},{"$f":"' BORDRO HAZIRLIK'!BD6","v":0},{"$f":"' BORDRO HAZIRLIK'!BE6","v":0},{"$f":"'PERSONEL BİLGİ GİRİŞİ'!I6","v":0},null,null,null,null,null,{"$f":"' BORDRO HAZIRLIK'!AG6","v":0},{"$f":"' BORDRO HAZIRLIK'!AH6","v":0}]
["SGK Günü",{"$f":"VLOOKUP(A5,V5:AB80,7,FALSE)","v":30},null,null,null,null,null,null,null,null,null,"Mail Başlığı:","[TARİH] Tarihli Bordronuz",null,null,null,null,null,null,null,3,{"$f":"PUANTAJ!B11","v":" "},{"$f":"'PERSONEL BİLGİ GİRİŞİ'!H7","v":0},{"$f":"'PERSONEL BİLGİ GİRİŞİ'!Q7","v":0},{"$f":"'PERSONEL BİLGİ GİRİŞİ'!R7","v":0},{"$f":"'PERSONEL BİLGİ GİRİŞİ'!U7","v":0},{"$f":"'PERSONEL BİLGİ GİRİŞİ'!E7","v":0},{"$f":"PUANTAJ!AU11","v":0},{"$f":"' BORDRO HAZIRLIK'!AE7","v":0},{"$f":"' BORDRO HAZIRLIK'!AF7","v":0},{"$f":"' BORDRO HAZIRLIK'!K7","v":0},{"$f":"' BORDRO HAZIRLIK'!BH7","v":0},{"$f":"' BORDRO HAZIRLIK'!AK7","v":0},{"$f":"' BORDRO HAZIRLIK'!AO7","v":0},{"$f":"' BORDRO HAZIRLIK'!AP7","v":0},{"$f":"' BORDRO HAZIRLIK'!AQ7","v":0},{"$f":"' BORDRO HAZIRLIK'!AN7","v":0},{"$f":"' BORDRO HAZIRLIK'!P7","v":0},{"$f":"' BORDRO HAZIRLIK'!Q7","v":0},null,null,{"$f":"PUANTAJ!AI11","v":0},{"$f":"PUANTAJ!AJ11","v":0},{"$f":"PUANTAJ!AK11","v":0},{"$f":"PUANTAJ!AM11","v":0},null,null,null,{"$f":"' BORDRO HAZIRLIK'!AY7","v":0},{"$f":"' BORDRO HAZIRLIK'!AZ7","v":0},{"$f":"' BORDRO HAZIRLIK'!BA7","v":0},{"$f":"' BORDRO HAZIRLIK'!BB7","v":0},null,{"$f":"' BORDRO HAZIRLIK'!AR7","v":0},{"$f":"' BORDRO HAZIRLIK'!AJ7","v":0},null,{"$f":"' BORDRO HAZIRLIK'!AS7","v":0},{"$f":"' BORDRO HAZIRLIK'!AT7","v":0},{"$f":"' BORDRO HAZIRLIK'!I7","v":0},null,null,{"$f":"' BORDRO HAZIRLIK'!BC7","v":0},{"$f":"' BORDRO HAZIRLIK'!BD7","v":0},{"$f":"' BORDRO HAZIRLIK'!BE7","v":0},{"$f":"'PERSONEL BİLGİ GİRİŞİ'!I7","v":0},null,null,null,null,null,{"$f":"' BORDRO HAZIRLIK'!AG7","v":0},{"$f":"' BORDRO HAZIRLIK'!AH7","v":0}]
["Aylık İstisna",{"$f":"VLOOKUP(A5,V5:AC80,8,FALSE)","v":17002},null,null,"Gelir Vergisi",{"$f":"VLOOKUP(A5,V5:AO80,13,FALSE)","v":266.60000000000002},null,null,null,null,null,"Mail İçeriği:","Sayın [İSİM],\n\n[TARİH] tarihli bordronuzu ekte bulabilirsiniz.\n\nİyi Çalışmalar,",null,null,null,null,null,null,null,4,{"$f":"PUANTAJ!B13","v":" "},{"$f":"'PERSONEL BİLGİ GİRİŞİ'!H8","v":0},{"$f":"'PERSONEL BİLGİ GİRİŞİ'!Q8","v":0},{"$f":"'PERSONEL BİLGİ GİRİŞİ'!R8","v":0},{"$f":"'PERSONEL BİLGİ GİRİŞİ'!U8","v":0},{"$f":"'PERSONEL BİLGİ GİRİŞİ'!E8","v":0},{"$f":"PUANTAJ!AU13","v":0},{"$f":"' BORDRO HAZIRLIK'!AE8","v":0},{"$f":"' BORDRO HAZIRLIK'!AF8","v":0},{"$f":"' BORDRO HAZIRLIK'!K8","v":0},{"$f":"' BORDRO HAZIRLIK'!BH8","v":0},{"$f":"' BORDRO HAZIRLIK'!AK8","v":0},{"$f":"' BORDRO HAZIRLIK'!AO8","v":0},{"$f":"' BORDRO HAZIRLIK'!AP8","v":0},{"$f":"' BORDRO HAZIRLIK'!AQ8","v":0},{"$f":"' BORDRO HAZIRLIK'!AN8","v":0},{"$f":"' BORDRO HAZIRLIK'!P8","v":0},{"$f":"' BORDRO HAZIRLIK'!Q8","v":0},null,null,{"$f":"PUANTAJ!AI13","v":0},{"$f":"PUANTAJ!AJ13","v":0},{"$f":"PUANTAJ!AK13","v":0},{"$f":"PUANTAJ!AM13","v":0},null,null,null,{"$f":"' BORDRO HAZIRLIK'!AY8","v":0},{"$f":"' BORDRO HAZIRLIK'!AZ8","v":0},{"$f":"' BORDRO HAZIRLIK'!BA8","v":0},{"$f":"' BORDRO HAZIRLIK'!BB8","v":0},null,{"$f":"' BORDRO HAZIRLIK'!AR8","v":0},{"$f":"' BORDRO HAZIRLIK'!AJ8","v":0},null,{"$f":"' BORDRO HAZIRLIK'!AS8","v":0},{"$f":"' BORDRO HAZIRLIK'!AT8","v":0},{"$f":"' BORDRO HAZIRLIK'!I8","v":0},null,null,{"$f":"' BORDRO HAZIRLIK'!BC8","v":0},{"$f":"' BORDRO HAZIRLIK'!BD8","v":0},{"$f":"' BORDRO HAZIRLIK'!BE8","v":0},{"$f":"'PERSONEL BİLGİ GİRİŞİ'!I8","v":0},null,null,null,null,null,{"$f":"' BORDRO HAZIRLIK'!AG8","v":0},{"$f":"' BORDRO HAZIRLIK'!AH8","v":0}]
["Bürüt Ücret",{"$f":"VLOOKUP(A5,V5:BC80,34,FALSE)","v":21836.6},null,null,"Damga Vergisi",{"$f":"VLOOKUP(A5,V5:AO80,14,FALSE)","v":13.92},null,null,null,null,null,null,null,null,null,null,null,null,null,null,5,{"$f":"PUANTAJ!B15","v":" "},{"$f":"'PERSONEL BİLGİ GİRİŞİ'!H9","v":0},{"$f":"'PERSONEL BİLGİ GİRİŞİ'!Q9","v":0},{"$f":"'PERSONEL BİLGİ GİRİŞİ'!R9","v":0},{"$f":"'PERSONEL BİLGİ GİRİŞİ'!U9","v":0},{"$f":"'PERSONEL BİLGİ GİRİŞİ'!E9","v":0},{"$f":"PUANTAJ!AU15","v":0},{"$f":"' BORDRO HAZIRLIK'!AE9","v":0},{"$f":"' BORDRO HAZIRLIK'!AF9","v":0},{"$f":"' BORDRO HAZIRLIK'!K9","v":0},{"$f":"' BORDRO HAZIRLIK'!BH9","v":0},{"$f":"' BORDRO HAZIRLIK'!AK9","v":0},{"$f":"' BORDRO HAZIRLIK'!AO9","v":0},{"$f":"' BORDRO HAZIRLIK'!AP9","v":0},{"$f":"' BORDRO HAZIRLIK'!AQ9","v":0},{"$f":"' BORDRO HAZIRLIK'!AN9","v":0},{"$f":"' BORDRO HAZIRLIK'!P9","v":0},{"$f":"' BORDRO HAZIRLIK'!Q9","v":0},null,null,{"$f":"PUANTAJ!AI15","v":0},{"$f":"PUANTAJ!AJ15","v":0},{"$f":"PUANTAJ!AK15","v":0},{"$f":"PUANTAJ!AM15","v":0},null,null,null,{"$f":"' BORDRO HAZIRLIK'!AY9","v":0},{"$f":"' BORDRO HAZIRLIK'!AZ9","v":0},{"$f":"' BORDRO HAZIRLIK'!BA9","v":0},{"$f":"' BORDRO HAZIRLIK'!BB9","v":0},null,{"$f":"' BORDRO HAZIRLIK'!AR9","v":0},{"$f":"' BORDRO HAZIRLIK'!AJ9","v":0},null,{"$f":"' BORDRO HAZIRLIK'!AS9","v":0},{"$f":"' BORDRO HAZIRLIK'!AT9","v":0},{"$f":"' BORDRO HAZIRLIK'!I9","v":0},null,null,{"$f":"' BORDRO HAZIRLIK'!BC9","v":0},{"$f":"' BORDRO HAZIRLIK'!BD9","v":0},{"$f":"' BORDRO HAZIRLIK'!BE9","v":0},{"$f":"'PERSONEL BİLGİ GİRİŞİ'!I9","v":0},null,null,null,null,null,{"$f":"' BORDRO HAZIRLIK'!AG9","v":0},{"$f":"' BORDRO HAZIRLIK'!AH9","v":0}]
["Uygulanan Toplam İstisna",{"$f":"VLOOKUP(A5,V5:AD80,9,FALSE)","v":17002.12},null,null,"SGK Matrahı",{"$f":"VLOOKUP(A5,V5:AO80,15,FALSE)","v":21836.6},null,null,null,null,null,null,null,null,null,null,null,null,null,null,6,{"$f":"PUANTAJ!B17","v":" "},{"$f":"'PERSONEL BİLGİ GİRİŞİ'!H10","v":0},{"$f":"'PERSONEL BİLGİ GİRİŞİ'!Q10","v":0},{"$f":"'PERSONEL BİLGİ GİRİŞİ'!R10","v":0},{"$f":"'PERSONEL BİLGİ GİRİŞİ'!U10","v":0},{"$f":"'PERSONEL BİLGİ GİRİŞİ'!E10","v":0},{"$f":"PUANTAJ!AU17","v":0},{"$f":"' BORDRO HAZIRLIK'!AE10","v":0},{"$f":"' BORDRO HAZIRLIK'!AF10","v":0},{"$f":"' BORDRO HAZIRLIK'!K10","v":0},{"$f":"' BORDRO HAZIRLIK'!BH10","v":0},{"$f":"' BORDRO HAZIRLIK'!AK10","v":0},{"$f":"' BORDRO HAZIRLIK'!AO10","v":0},{"$f":"' BORDRO HAZIRLIK'!AP10","v":0},{"$f":"' BORDRO HAZIRLIK'!AQ10","v":0},{"$f":"' BORDRO HAZIRLIK'!AN10","v":0},{"$f":"' BORDRO HAZIRLIK'!P10","v":0},{"$f":"' BORDRO HAZIRLIK'!Q10","v":0},null,null,{"$f":"PUANTAJ!AI17","v":0},{"$f":"PUANTAJ!AJ17","v":0},{"$f":"PUANTAJ!AK17","v":0},{"$f":"PUANTAJ!AM17","v":0},null,null,null,{"$f":"' BORDRO HAZIRLIK'!AY10","v":0},{"$f":"' BORDRO HAZIRLIK'!AZ10","v":0},{"$f":"' BORDRO HAZIRLIK'!BA10","v":0},{"$f":"' BORDRO HAZIRLIK'!BB10","v":0},null,{"$f":"' BORDRO HAZIRLIK'!AR10","v":0},{"$f":"' BORDRO HAZIRLIK'!AJ10","v":0},null,{"$f":"' BORDRO HAZIRLIK'!AS10","v":0},{"$f":"' BORDRO HAZIRLIK'!AT10","v":0},{"$f":"' BORDRO HAZIRLIK'!I10","v":0},null,null,{"$f":"' BORDRO HAZIRLIK'!BC10","v":0},{"$f":"' BORDRO HAZIRLIK'!BD10","v":0},{"$f":"' BORDRO HAZIRLIK'!BE10","v":0},{"$f":"'PERSONEL BİLGİ GİRİŞİ'!I10","v":0},null,null,null,null,null,{"$f":"' BORDRO HAZIRLIK'!AG10","v":0},{"$f":"' BORDRO HAZIRLIK'!AH10","v":0}]
["Gündüz",{"$f":"VLOOKUP(A5,V5:AE780,10,FALSE)","v":17469.28},{"$f":"VLOOKUP(A5,V5:BR80,21,FALSE)","v":164},"SAAT","MALULUK YAŞLILIK (İŞVEREN-İŞÇİ)  %11",{"$f":"VLOOKUP(A5,V5:AZ80,28,FALSE)","v":2402.04},null,null,null,null,null,null,null,null,null,null,null,null,null,null,7,{"$f":"PUANTAJ!B19","v":" "},{"$f":"'PERSONEL BİLGİ GİRİŞİ'!H11","v":0},{"$f":"'PERSONEL BİLGİ GİRİŞİ'!Q11","v":0},{"$f":"'PERSONEL BİLGİ GİRİŞİ'!R11","v":0},{"$f":"'PERSONEL BİLGİ GİRİŞİ'!U11","v":0},{"$f":"'PERSONEL BİLGİ GİRİŞİ'!E11","v":0},{"$f":"PUANTAJ!AU19","v":0},{"$f":"' BORDRO HAZIRLIK'!AE11","v":0},{"$f":"' BORDRO HAZIRLIK'!AF11","v":0},{"$f":"' BORDRO HAZIRLIK'!K11","v":0},{"$f":"' BORDRO HAZIRLIK'!BH11","v":0},{"$f":"' BORDRO HAZIRLIK'!AK11","v":0},{"$f":"' BORDRO HAZIRLIK'!AO11","v":0},{"$f":"' BORDRO HAZIRLIK'!AP11","v":0},{"$f":"' BORDRO HAZIRLIK'!AQ11","v":0},{"$f":"' BORDRO HAZIRLIK'!AN11","v":0},{"$f":"' BORDRO HAZIRLIK'!P11","v":0},{"$f":"' BORDRO HAZIRLIK'!Q11","v":0},null,null,{"$f":"PUANTAJ!AI19","v":0},{"$f":"PUANTAJ!AJ19","v":0},{"$f":"PUANTAJ!AK19","v":0},{"$f":"PUANTAJ!AM19","v":0},null,null,null,{"$f":"' BORDRO HAZIRLIK'!AY11","v":0},{"$f":"' BORDRO HAZIRLIK'!AZ11","v":0},{"$f":"' BORDRO HAZIRLIK'!BA11","v":0},{"$f":"' BORDRO HAZIRLIK'!BB11","v":0},null,{"$f":"' BORDRO HAZIRLIK'!AR11","v":0},{"$f":"' BORDRO HAZIRLIK'!AJ11","v":0},null,{"$f":"' BORDRO HAZIRLIK'!AS11","v":0},{"$f":"' BORDRO HAZIRLIK'!AT11","v":0},{"$f":"' BORDRO HAZIRLIK'!I11","v":0},null,null,{"$f":"' BORDRO HAZIRLIK'!BC11","v":0},{"$f":"' BORDRO HAZIRLIK'!BD11","v":0},{"$f":"' BORDRO HAZIRLIK'!BE11","v":0},{"$f":"'PERSONEL BİLGİ GİRİŞİ'!I11","v":0},null,null,null,null,null,{"$f":"' BORDRO HAZIRLIK'!AG11","v":0},{"$f":"' BORDRO HAZIRLIK'!AH11","v":0}]
["Gece",{"$f":"VLOOKUP(A5,V5:AS80,22,FALSE)","v":0},{"$f":"VLOOKUP(A5,V5:BR80,22,FALSE)","v":0},"SAAT","MALULUK YAŞLILIK (İŞTİRAKÇİ-İŞÇİ)  %9",{"$f":"VLOOKUP(A5,V5:AZ80,29,FALSE)","v":1965.29},null,null,null,null,null,null,null,null,null,null,null,null,null,null,8,{"$f":"PUANTAJ!B21","v":" "},{"$f":"'PERSONEL BİLGİ GİRİŞİ'!H12","v":0},{"$f":"'PERSONEL BİLGİ GİRİŞİ'!Q12","v":0},{"$f":"'PERSONEL BİLGİ GİRİŞİ'!R12","v":0},{"$f":"'PERSONEL BİLGİ GİRİŞİ'!U12","v":0},{"$f":"'PERSONEL BİLGİ GİRİŞİ'!E12","v":0},{"$f":"PUANTAJ!AU21","v":0},{"$f":"' BORDRO HAZIRLIK'!AE12","v":0},{"$f":"' BORDRO HAZIRLIK'!AF12","v":0},{"$f":"' BORDRO HAZIRLIK'!K12","v":0},{"$f":"' BORDRO HAZIRLIK'!BH12","v":0},{"$f":"' BORDRO HAZIRLIK'!AK12","v":0},{"$f":"' BORDRO HAZIRLIK'!AO12","v":0},{"$f":"' BORDRO HAZIRLIK'!AP12","v":0},{"$f":"' BORDRO HAZIRLIK'!AQ12","v":0},{"$f":"' BORDRO HAZIRLIK'!AN12","v":0},{"$f":"' BORDRO HAZIRLIK'!P12","v":0},{"$f":"' BORDRO HAZIRLIK'!Q12","v":0},null,null,{"$f":"PUANTAJ!AI21","v":0},{"$f":"PUANTAJ!AJ21","v":0},{"$f":"PUANTAJ!AK21","v":0},{"$f":"PUANTAJ!AM21","v":0},null,null,null,{"$f":"' BORDRO HAZIRLIK'!AY12","v":0},{"$f":"' BORDRO HAZIRLIK'!AZ12","v":0},{"$f":"' BORDRO HAZIRLIK'!BA12","v":0},{"$f":"' BORDRO HAZIRLIK'!BB12","v":0},null,{"$f":"' BORDRO HAZIRLIK'!AR12","v":0},{"$f":"' BORDRO HAZIRLIK'!AJ12","v":0},null,{"$f":"' BORDRO HAZIRLIK'!AS12","v":0},{"$f":"' BORDRO HAZIRLIK'!AT12","v":0},{"$f":"' BORDRO HAZIRLIK'!I12","v":0},null,null,{"$f":"' BORDRO HAZIRLIK'!BC12","v":0},{"$f":"' BORDRO HAZIRLIK'!BD12","v":0},{"$f":"' BORDRO HAZIRLIK'!BE12","v":0},{"$f":"'PERSONEL BİLGİ GİRİŞİ'!I12","v":0},null,null,null,null,null,{"$f":"' BORDRO HAZIRLIK'!AG12","v":0},{"$f":"' BORDRO HAZIRLIK'!AH12","v":0}]
["Hafta Sonu",{"$f":"VLOOKUP(A5,V5:AS80,21,FALSE)","v":164},{"$f":"VLOOKUP(A5,V5:BR80,23,FALSE)","v":0},"SAAT","G.S.S.  (İŞTİRAKÇİ İŞÇİ)  %5",{"$f":"VLOOKUP(A5,V5:AZ80,30,FALSE)","v":1091.83},null,null,null,null,null,null,null,null,null,null,null,null,null,null,9,{"$f":"PUANTAJ!B23","v":" "},{"$f":"'PERSONEL BİLGİ GİRİŞİ'!H13","v":0},{"$f":"'PERSONEL BİLGİ GİRİŞİ'!Q13","v":0},{"$f":"'PERSONEL BİLGİ GİRİŞİ'!R13","v":0},{"$f":"'PERSONEL BİLGİ GİRİŞİ'!U13","v":0},{"$f":"'PERSONEL BİLGİ GİRİŞİ'!E13","v":0},{"$f":"PUANTAJ!AU23","v":0},{"$f":"' BORDRO HAZIRLIK'!AE13","v":0},{"$f":"' BORDRO HAZIRLIK'!AF13","v":0},{"$f":"' BORDRO HAZIRLIK'!K13","v":0},{"$f":"' BORDRO HAZIRLIK'!BH13","v":0},{"$f":"' BORDRO HAZIRLIK'!AK13","v":0},{"$f":"' BORDRO HAZIRLIK'!AO13","v":0},{"$f":"' BORDRO HAZIRLIK'!AP13","v":0},{"$f":"' BORDRO HAZIRLIK'!AQ13","v":0},{"$f":"' BORDRO HAZIRLIK'!AN13","v":0},{"$f":"' BORDRO HAZIRLIK'!P13","v":0},{"$f":"' BORDRO HAZIRLIK'!Q13","v":0},null,null,{"$f":"PUANTAJ!AI23","v":0},{"$f":"PUANTAJ!AJ23","v":0},{"$f":"PUANTAJ!AK23","v":0},{"$f":"PUANTAJ!AM23","v":0},null,null,null,{"$f":"' BORDRO HAZIRLIK'!AY13","v":0},{"$f":"' BORDRO HAZIRLIK'!AZ13","v":0},{"$f":"' BORDRO HAZIRLIK'!BA13","v":0},{"$f":"' BORDRO HAZIRLIK'!BB13","v":0},null,{"$f":"' BORDRO HAZIRLIK'!AR13","v":0},{"$f":"' BORDRO HAZIRLIK'!AJ13","v":0},null,{"$f":"' BORDRO HAZIRLIK'!AS13","v":0},{"$f":"' BORDRO HAZIRLIK'!AT13","v":0},{"$f":"' BORDRO HAZIRLIK'!I13","v":0},null,null,{"$f":"' BORDRO HAZIRLIK'!BC13","v":0},{"$f":"' BORDRO HAZIRLIK'!BD13","v":0},{"$f":"' BORDRO HAZIRLIK'!BE13","v":0},{"$f":"'PERSONEL BİLGİ GİRİŞİ'!I13","v":0},null,null,null,null,null,{"$f":"' BORDRO HAZIRLIK'!AG13","v":0},{"$f":"' BORDRO HAZIRLIK'!AH13","v":0}]
["TOPLAM ÇALIŞMA SAATİ",null,{"$f":"SUM(C11:C13)","v":164},"SAAT","G.S.S.  (İŞVEREN İŞÇİ)           %7.5",{"$f":"VLOOKUP(A5,V5:AZ80,31,FALSE)","v":1637.75},null,null,null,null,null,null,null,null,null,null,null,null,null,null,10,{"$f":"PUANTAJ!B25","v":" "},{"$f":"'PERSONEL BİLGİ GİRİŞİ'!H14","v":0},{"$f":"'PERSONEL BİLGİ GİRİŞİ'!Q14","v":0},{"$f":"'PERSONEL BİLGİ GİRİŞİ'!R14","v":0},{"$f":"'PERSONEL BİLGİ GİRİŞİ'!U14","v":0},{"$f":"'PERSONEL BİLGİ GİRİŞİ'!E14","v":0},{"$f":"PUANTAJ!AU25","v":0},{"$f":"' BORDRO HAZIRLIK'!AE14","v":0},{"$f":"' BORDRO HAZIRLIK'!AF14","v":0},{"$f":"' BORDRO HAZIRLIK'!K14","v":0},{"$f":"' BORDRO HAZIRLIK'!BH14","v":0},{"$f":"' BORDRO HAZIRLIK'!AK14","v":0},{"$f":"' BORDRO HAZIRLIK'!AO14","v":0},{"$f":"' BORDRO HAZIRLIK'!AP14","v":0},{"$f":"' BORDRO HAZIRLIK'!AQ14","v":0},{"$f":"' BORDRO HAZIRLIK'!AN14","v":0},{"$f":"' BORDRO HAZIRLIK'!P14","v":0},{"$f":"' BORDRO HAZIRLIK'!Q14","v":0},null,null,{"$f":"PUANTAJ!AI25","v":0},{"$f":"PUANTAJ!AJ25","v":0},{"$f":"PUANTAJ!AK25","v":0},{"$f":"PUANTAJ!AM25","v":0},null,null,null,{"$f":"' BORDRO HAZIRLIK'!AY14","v":0},{"$f":"' BORDRO HAZIRLIK'!AZ14","v":0},{"$f":"' BORDRO HAZIRLIK'!BA14","v":0},{"$f":"' BORDRO HAZIRLIK'!BB14","v":0},null,{"$f":"' BORDRO HAZIRLIK'!AR14","v":0},{"$f":"' BORDRO HAZIRLIK'!AJ14","v":0},null,{"$f":"' BORDRO HAZIRLIK'!AS14","v":0},{"$f":"' BORDRO HAZIRLIK'!AT14","v":0},{"$f":"' BORDRO HAZIRLIK'!I14","v":0},null,null,{"$f":"' BORDRO HAZIRLIK'!BC14","v":0},{"$f":"' BORDRO HAZIRLIK'!BD14","v":0},{"$f":"' BORDRO HAZIRLIK'!BE14","v":0},{"$f":"'PERSONEL BİLGİ GİRİŞİ'!I14","v":0},null,null,null,null,null,{"$f":"' BORDRO HAZIRLIK'!AG14","v":0},{"$f":"' BORDRO HAZIRLIK'!AH14","v":0}]
["HİZMET DESTEK GÖREVİ EK ÖDEME SAATİ",null,{"$f":"VLOOKUP(A5,V5:AS80,17,FALSE)","v":41},"SAAT","KISA VAADELİ SİGORTA KOLLARI PİRİMİ   %2",{"$f":"VLOOKUP(A5,V5:BL80,41,FALSE)","v":436.73},null,null,null,null,null,null,null,null,null,null,null,null,null,null,11,{"$f":"PUANTAJ!B27","v":" "},{"$f":"'PERSONEL BİLGİ GİRİŞİ'!H15","v":0},{"$f":"'PERSONEL BİLGİ GİRİŞİ'!Q15","v":0},{"$f":"'PERSONEL BİLGİ GİRİŞİ'!R15","v":0},{"$f":"'PERSONEL BİLGİ GİRİŞİ'!U15","v":0},{"$f":"'PERSONEL BİLGİ GİRİŞİ'!E15","v":0},{"$f":"PUANTAJ!AU27","v":0},{"$f":"' BORDRO HAZIRLIK'!AE15","v":0},{"$f":"' BORDRO HAZIRLIK'!AF15","v":0},{"$f":"' BORDRO HAZIRLIK'!K15","v":0},{"$f":"' BORDRO HAZIRLIK'!BH15","v":0},{"$f":"' BORDRO HAZIRLIK'!AK15","v":0},{"$f":"' BORDRO HAZIRLIK'!AO15","v":0},{"$f":"' BORDRO HAZIRLIK'!AP15","v":0},{"$f":"' BORDRO HAZIRLIK'!AQ15","v":0},{"$f":"' BORDRO HAZIRLIK'!AN15","v":0},{"$f":"' BORDRO HAZIRLIK'!P15","v":0},{"$f":"' BORDRO HAZIRLIK'!Q15","v":0},null,null,{"$f":"PUANTAJ!AI27","v":0},{"$f":"PUANTAJ!AJ27","v":0},{"$f":"PUANTAJ!AK27","v":0},{"$f":"PUANTAJ!AM27","v":0},null,null,null,{"$f":"' BORDRO HAZIRLIK'!AY15","v":0},{"$f":"' BORDRO HAZIRLIK'!AZ15","v":0},{"$f":"' BORDRO HAZIRLIK'!BA15","v":0},{"$f":"' BORDRO HAZIRLIK'!BB15","v":0},null,{"$f":"' BORDRO HAZIRLIK'!AR15","v":0},{"$f":"' BORDRO HAZIRLIK'!AJ15","v":0},null,{"$f":"' BORDRO HAZIRLIK'!AS15","v":0},{"$f":"' BORDRO HAZIRLIK'!AT15","v":0},{"$f":"' BORDRO HAZIRLIK'!I15","v":0},null,null,{"$f":"' BORDRO HAZIRLIK'!BC15","v":0},{"$f":"' BORDRO HAZIRLIK'!BD15","v":0},{"$f":"' BORDRO HAZIRLIK'!BE15","v":0},{"$f":"'PERSONEL BİLGİ GİRİŞİ'!I15","v":0},null,null,null,null,null,{"$f":"' BORDRO HAZIRLIK'!AG15","v":0},{"$f":"' BORDRO HAZIRLIK'!AH15","v":0}]
["HİZMET DESTEK GÖREVİ EK ÖDEME",null,{"$f":"VLOOKUP(A5,V5:AS80,18,FALSE)","v":4367},"TL","İŞSİZLİK SİGORTASI PİRİMİ- İŞVEREN   %2",{"$f":"VLOOKUP(A5,V5:BL80,42,FALSE)","v":0},null,null,null,null,null,null,null,null,null,null,null,null,null,null,12,{"$f":"PUANTAJ!B29","v":" "},{"$f":"'PERSONEL BİLGİ GİRİŞİ'!H16","v":0},{"$f":"'PERSONEL BİLGİ GİRİŞİ'!Q16","v":0},{"$f":"'PERSONEL BİLGİ GİRİŞİ'!R16","v":0},{"$f":"'PERSONEL BİLGİ GİRİŞİ'!U16","v":0},{"$f":"'PERSONEL BİLGİ GİRİŞİ'!E16","v":0},{"$f":"PUANTAJ!AU29","v":0},{"$f":"' BORDRO HAZIRLIK'!AE16","v":0},{"$f":"' BORDRO HAZIRLIK'!AF16","v":0},{"$f":"' BORDRO HAZIRLIK'!K16","v":0},{"$f":"' BORDRO HAZIRLIK'!BH16","v":0},{"$f":"' BORDRO HAZIRLIK'!AK16","v":0},{"$f":"' BORDRO HAZIRLIK'!AO16","v":0},{"$f":"' BORDRO HAZIRLIK'!AP16","v":0},{"$f":"' BORDRO HAZIRLIK'!AQ16","v":0},{"$f":"' BORDRO HAZIRLIK'!AN16","v":0},{"$f":"' BORDRO HAZIRLIK'!P16","v":0},{"$f":"' BORDRO HAZIRLIK'!Q16","v":0},null,null,{"$f":"PUANTAJ!AI29","v":0},{"$f":"PUANTAJ!AJ29","v":0},{"$f":"PUANTAJ!AK29","v":0},{"$f":"PUANTAJ!AM29","v":0},null,null,null,{"$f":"' BORDRO HAZIRLIK'!AY16","v":0},{"$f":"' BORDRO HAZIRLIK'!AZ16","v":0},{"$f":"' BORDRO HAZIRLIK'!BA16","v":0},{"$f":"' BORDRO HAZIRLIK'!BB16","v":0},null,{"$f":"' BORDRO HAZIRLIK'!AR16","v":0},{"$f":"' BORDRO HAZIRLIK'!AJ16","v":0},null,{"$f":"' BORDRO HAZIRLIK'!AS16","v":0},{"$f":"' BORDRO HAZIRLIK'!AT16","v":0},{"$f":"' BORDRO HAZIRLIK'!I16","v":0},null,null,{"$f":"' BORDRO HAZIRLIK'!BC16","v":0},{"$f":"' BORDRO HAZIRLIK'!BD16","v":0},{"$f":"' BORDRO HAZIRLIK'!BE16","v":0},{"$f":"'PERSONEL BİLGİ GİRİŞİ'!I16","v":0},null,null,null,null,null,{"$f":"' BORDRO HAZIRLIK'!AG16","v":0},{"$f":"' BORDRO HAZIRLIK'!AH16","v":0}]
[null,null,null,null,"İŞSİZLİK SİGORTASI PİRİMİ- İŞÇİ  %1  ",{"$f":"VLOOKUP(A5,V5:BL80,43,FALSE)","v":0},null,null,null,null,null,null,null,null,null,null,null,null,null,null,13,{"$f":"PUANTAJ!B31","v":" "},{"$f":"'PERSONEL BİLGİ GİRİŞİ'!H17","v":0},{"$f":"'PERSONEL BİLGİ GİRİŞİ'!Q17","v":0},{"$f":"'PERSONEL BİLGİ GİRİŞİ'!R17","v":0},{"$f":"'PERSONEL BİLGİ GİRİŞİ'!U17","v":0},{"$f":"'PERSONEL BİLGİ GİRİŞİ'!E17","v":0},{"$f":"PUANTAJ!AU31","v":0},{"$f":"' BORDRO HAZIRLIK'!AE17","v":0},{"$f":"' BORDRO HAZIRLIK'!AF17","v":0},{"$f":"' BORDRO HAZIRLIK'!K17","v":0},{"$f":"' BORDRO HAZIRLIK'!BH17","v":0},{"$f":"' BORDRO HAZIRLIK'!AK17","v":0},{"$f":"' BORDRO HAZIRLIK'!AO17","v":0},{"$f":"' BORDRO HAZIRLIK'!AP17","v":0},{"$f":"' BORDRO HAZIRLIK'!AQ17","v":0},{"$f":"' BORDRO HAZIRLIK'!AN17","v":0},{"$f":"' BORDRO HAZIRLIK'!P17","v":0},{"$f":"' BORDRO HAZIRLIK'!Q17","v":0},null,null,{"$f":"PUANTAJ!AI31","v":0},{"$f":"PUANTAJ!AJ31","v":0},{"$f":"PUANTAJ!AK31","v":0},{"$f":"PUANTAJ!AM31","v":0},null,null,null,{"$f":"' BORDRO HAZIRLIK'!AY17","v":0},{"$f":"' BORDRO HAZIRLIK'!AZ17","v":0},{"$f":"' BORDRO HAZIRLIK'!BA17","v":0},{"$f":"' BORDRO HAZIRLIK'!BB17","v":0},null,{"$f":"' BORDRO HAZIRLIK'!AR17","v":0},{"$f":"' BORDRO HAZIRLIK'!AJ17","v":0},null,{"$f":"' BORDRO HAZIRLIK'!AS17","v":0},{"$f":"' BORDRO HAZIRLIK'!AT17","v":0},{"$f":"' BORDRO HAZIRLIK'!I17","v":0},null,null,{"$f":"' BORDRO HAZIRLIK'!BC17","v":0},{"$f":"' BORDRO HAZIRLIK'!BD17","v":0},{"$f":"' BORDRO HAZIRLIK'!BE17","v":0},{"$f":"'PERSONEL BİLGİ GİRİŞİ'!I17","v":0},null,null,null,null,null,{"$f":"' BORDRO HAZIRLIK'!AG17","v":0},{"$f":"' BORDRO HAZIRLIK'!AH17","v":0}]
[null,null,null,null,"SGK ASG. ÜCR. İŞVEREN FARK",{"$f":"VLOOKUP(A5,V5:BB80,33,FALSE)","v":0},null,null,null,null,null,null,null,null,null,null,null,null,null,null,14,{"$f":"PUANTAJ!B33","v":" "},{"$f":"'PERSONEL BİLGİ GİRİŞİ'!H18","v":0},{"$f":"'PERSONEL BİLGİ GİRİŞİ'!Q18","v":0},{"$f":"'PERSONEL BİLGİ GİRİŞİ'!R18","v":0},{"$f":"'PERSONEL BİLGİ GİRİŞİ'!U18","v":0},{"$f":"'PERSONEL BİLGİ GİRİŞİ'!E18","v":0},{"$f":"PUANTAJ!AU33","v":0},{"$f":"' BORDRO HAZIRLIK'!AE18","v":0},{"$f":"' BORDRO HAZIRLIK'!AF18","v":0},{"$f":"' BORDRO HAZIRLIK'!K18","v":0},{"$f":"' BORDRO HAZIRLIK'!BH18","v":0},{"$f":"' BORDRO HAZIRLIK'!AK18","v":0},{"$f":"' BORDRO HAZIRLIK'!AO18","v":0},{"$f":"' BORDRO HAZIRLIK'!AP18","v":0},{"$f":"' BORDRO HAZIRLIK'!AQ18","v":0},{"$f":"' BORDRO HAZIRLIK'!AN18","v":0},{"$f":"' BORDRO HAZIRLIK'!P18","v":0},{"$f":"' BORDRO HAZIRLIK'!Q18","v":0},null,null,{"$f":"PUANTAJ!AI33","v":0},{"$f":"PUANTAJ!AJ33","v":0},{"$f":"PUANTAJ!AK33","v":0},{"$f":"PUANTAJ!AM33","v":0},null,null,null,{"$f":"' BORDRO HAZIRLIK'!AY18","v":0},{"$f":"' BORDRO HAZIRLIK'!AZ18","v":0},{"$f":"' BORDRO HAZIRLIK'!BA18","v":0},{"$f":"' BORDRO HAZIRLIK'!BB18","v":0},null,{"$f":"' BORDRO HAZIRLIK'!AR18","v":0},{"$f":"' BORDRO HAZIRLIK'!AJ18","v":0},null,{"$f":"' BORDRO HAZIRLIK'!AS18","v":0},{"$f":"' BORDRO HAZIRLIK'!AT18","v":0},{"$f":"' BORDRO HAZIRLIK'!I18","v":0},null,null,{"$f":"' BORDRO HAZIRLIK'!BC18","v":0},{"$f":"' BORDRO HAZIRLIK'!BD18","v":0},{"$f":"' BORDRO HAZIRLIK'!BE18","v":0},{"$f":"'PERSONEL BİLGİ GİRİŞİ'!I18","v":0},null,null,null,null,null,{"$f":"' BORDRO HAZIRLIK'!AG18","v":0},{"$f":"' BORDRO HAZIRLIK'!AH18","v":0}]
[null,null,null,null,"Bes",{"$f":"VLOOKUP(A5,V5:BE80,36,FALSE)","v":0},null,null,null,null,null,null,null,null,null,null,null,null,null,null,15,{"$f":"PUANTAJ!B35","v":" "},{"$f":"'PERSONEL BİLGİ GİRİŞİ'!H19","v":0},{"$f":"'PERSONEL BİLGİ GİRİŞİ'!Q19","v":0},{"$f":"'PERSONEL BİLGİ GİRİŞİ'!R19","v":0},{"$f":"'PERSONEL BİLGİ GİRİŞİ'!U19","v":0},{"$f":"'PERSONEL BİLGİ GİRİŞİ'!E19","v":0},{"$f":"PUANTAJ!AU35","v":0},{"$f":"' BORDRO HAZIRLIK'!AE19","v":0},{"$f":"' BORDRO HAZIRLIK'!AF19","v":0},{"$f":"' BORDRO HAZIRLIK'!K19","v":0},{"$f":"' BORDRO HAZIRLIK'!BH19","v":0},{"$f":"' BORDRO HAZIRLIK'!AK19","v":0},{"$f":"' BORDRO HAZIRLIK'!AO19","v":0},{"$f":"' BORDRO HAZIRLIK'!AP19","v":0},{"$f":"' BORDRO HAZIRLIK'!AQ19","v":0},{"$f":"' BORDRO HAZIRLIK'!AN19","v":0},{"$f":"' BORDRO HAZIRLIK'!P19","v":0},{"$f":"' BORDRO HAZIRLIK'!Q19","v":0},null,null,{"$f":"PUANTAJ!AI35","v":0},{"$f":"PUANTAJ!AJ35","v":0},{"$f":"PUANTAJ!AK35","v":0},{"$f":"PUANTAJ!AM35","v":0},null,null,null,{"$f":"' BORDRO HAZIRLIK'!AY19","v":0},{"$f":"' BORDRO HAZIRLIK'!AZ19","v":0},{"$f":"' BORDRO HAZIRLIK'!BA19","v":0},{"$f":"' BORDRO HAZIRLIK'!BB19","v":0},null,{"$f":"' BORDRO HAZIRLIK'!AR19","v":0},{"$f":"' BORDRO HAZIRLIK'!AJ19","v":0},null,{"$f":"' BORDRO HAZIRLIK'!AS19","v":0},{"$f":"' BORDRO HAZIRLIK'!AT19","v":0},{"$f":"' BORDRO HAZIRLIK'!I19","v":0},null,null,{"$f":"' BORDRO HAZIRLIK'!BC19","v":0},{"$f":"' BORDRO HAZIRLIK'!BD19","v":0},{"$f":"' BORDRO HAZIRLIK'!BE19","v":0},{"$f":"'PERSONEL BİLGİ GİRİŞİ'!I19","v":0},null,null,null,null,null,{"$f":"' BORDRO HAZIRLIK'!AG19","v":0},{"$f":"' BORDRO HAZIRLIK'!AH19","v":0}]
["TOPLAM",{"$f":"VLOOKUP(A5,V5:BT780,24,FALSE)","v":205},"SAAT",null,"İcra",{"$f":"VLOOKUP(A5,V5:BF80,37,FALSE)","v":0},null,null,null,null,null,null,null,null,null,null,null,null,null,null,16,{"$f":"PUANTAJ!B37","v":" "},{"$f":"'PERSONEL BİLGİ GİRİŞİ'!H20","v":0},{"$f":"'PERSONEL BİLGİ GİRİŞİ'!Q20","v":0},{"$f":"'PERSONEL BİLGİ GİRİŞİ'!R20","v":0},{"$f":"'PERSONEL BİLGİ GİRİŞİ'!U20","v":0},{"$f":"'PERSONEL BİLGİ GİRİŞİ'!E20","v":0},{"$f":"PUANTAJ!AU37","v":0},{"$f":"' BORDRO HAZIRLIK'!AE20","v":0},{"$f":"' BORDRO HAZIRLIK'!AF20","v":0},{"$f":"' BORDRO HAZIRLIK'!K20","v":0},{"$f":"' BORDRO HAZIRLIK'!BH20","v":0},{"$f":"' BORDRO HAZIRLIK'!AK20","v":0},{"$f":"' BORDRO HAZIRLIK'!AO20","v":0},{"$f":"' BORDRO HAZIRLIK'!AP20","v":0},{"$f":"' BORDRO HAZIRLIK'!AQ20","v":0},{"$f":"' BORDRO HAZIRLIK'!AN20","v":0},{"$f":"' BORDRO HAZIRLIK'!P20","v":0},{"$f":"' BORDRO HAZIRLIK'!Q20","v":0},null,null,{"$f":"PUANTAJ!AI37","v":0},{"$f":"PUANTAJ!AJ37","v":0},{"$f":"PUANTAJ!AK37","v":0},{"$f":"PUANTAJ!AM37","v":0},null,null,null,{"$f":"' BORDRO HAZIRLIK'!AY20","v":0},{"$f":"' BORDRO HAZIRLIK'!AZ20","v":0},{"$f":"' BORDRO HAZIRLIK'!BA20","v":0},{"$f":"' BORDRO HAZIRLIK'!BB20","v":0},null,{"$f":"' BORDRO HAZIRLIK'!AR20","v":0},{"$f":"' BORDRO HAZIRLIK'!AJ20","v":0},null,{"$f":"' BORDRO HAZIRLIK'!AS20","v":0},{"$f":"' BORDRO HAZIRLIK'!AT20","v":0},{"$f":"' BORDRO HAZIRLIK'!I20","v":0},null,null,{"$f":"' BORDRO HAZIRLIK'!BC20","v":0},{"$f":"' BORDRO HAZIRLIK'!BD20","v":0},{"$f":"' BORDRO HAZIRLIK'!BE20","v":0},{"$f":"'PERSONEL BİLGİ GİRİŞİ'!I20","v":0},null,null,null,null,null,{"$f":"' BORDRO HAZIRLIK'!AG20","v":0},{"$f":"' BORDRO HAZIRLIK'!AH20","v":0}]
[null,null,null,null,"Nafaka",{"$f":"VLOOKUP(A5,V5:BF80,19,FALSE)","v":0},null,null,null,null,null,null,null,null,null,null,null,null,null,null,17,{"$f":"PUANTAJ!B39","v":" "},{"$f":"'PERSONEL BİLGİ GİRİŞİ'!H21","v":0},{"$f":"'PERSONEL BİLGİ GİRİŞİ'!Q21","v":0},{"$f":"'PERSONEL BİLGİ GİRİŞİ'!R21","v":0},{"$f":"'PERSONEL BİLGİ GİRİŞİ'!U21","v":0},{"$f":"'PERSONEL BİLGİ GİRİŞİ'!E21","v":0},{"$f":"PUANTAJ!AU39","v":0},{"$f":"' BORDRO HAZIRLIK'!AE21","v":0},{"$f":"' BORDRO HAZIRLIK'!AF21","v":0},{"$f":"' BORDRO HAZIRLIK'!K21","v":0},{"$f":"' BORDRO HAZIRLIK'!BH21","v":0},{"$f":"' BORDRO HAZIRLIK'!AK21","v":0},{"$f":"' BORDRO HAZIRLIK'!AO21","v":0},{"$f":"' BORDRO HAZIRLIK'!AP21","v":0},{"$f":"' BORDRO HAZIRLIK'!AQ21","v":0},{"$f":"' BORDRO HAZIRLIK'!AN21","v":0},{"$f":"' BORDRO HAZIRLIK'!P21","v":0},{"$f":"' BORDRO HAZIRLIK'!Q21","v":0},null,null,{"$f":"PUANTAJ!AI39","v":0},{"$f":"PUANTAJ!AJ39","v":0},{"$f":"PUANTAJ!AK39","v":0},{"$f":"PUANTAJ!AM39","v":0},null,null,null,{"$f":"' BORDRO HAZIRLIK'!AY21","v":0},{"$f":"' BORDRO HAZIRLIK'!AZ21","v":0},{"$f":"' BORDRO HAZIRLIK'!BA21","v":0},{"$f":"' BORDRO HAZIRLIK'!BB21","v":0},null,{"$f":"' BORDRO HAZIRLIK'!AR21","v":0},{"$f":"' BORDRO HAZIRLIK'!AJ21","v":0},null,{"$f":"' BORDRO HAZIRLIK'!AS21","v":0},{"$f":"' BORDRO HAZIRLIK'!AT21","v":0},{"$f":"' BORDRO HAZIRLIK'!I21","v":0},null,null,{"$f":"' BORDRO HAZIRLIK'!BC21","v":0},{"$f":"' BORDRO HAZIRLIK'!BD21","v":0},{"$f":"' BORDRO HAZIRLIK'!BE21","v":0},{"$f":"'PERSONEL BİLGİ GİRİŞİ'!I21","v":0},null,null,null,null,null,{"$f":"' BORDRO HAZIRLIK'!AG21","v":0},{"$f":"' BORDRO HAZIRLIK'!AH21","v":0}]
["GÜNDÜZ SAAT ÜCRETİ(1SAAT)",{"$f":"VLOOKUP(A5,V5:AS80,4,FALSE)","v":106.52},null,null,"KESİNTİLER",{"$f":"SUM(F6:F21)-F10","v":7814.16},null,null,null,null,null,null,null,null,null,null,null,null,null,null,18,{"$f":"PUANTAJ!B41","v":" "},{"$f":"'PERSONEL BİLGİ GİRİŞİ'!H22","v":0},{"$f":"'PERSONEL BİLGİ GİRİŞİ'!Q22","v":0},{"$f":"'PERSONEL BİLGİ GİRİŞİ'!R22","v":0},{"$f":"'PERSONEL BİLGİ GİRİŞİ'!U22","v":0},{"$f":"'PERSONEL BİLGİ GİRİŞİ'!E22","v":0},{"$f":"PUANTAJ!AU41","v":0},{"$f":"' BORDRO HAZIRLIK'!AE22","v":0},{"$f":"' BORDRO HAZIRLIK'!AF22","v":0},{"$f":"' BORDRO HAZIRLIK'!K22","v":0},{"$f":"' BORDRO HAZIRLIK'!BH22","v":0},{"$f":"' BORDRO HAZIRLIK'!AK22","v":0},{"$f":"' BORDRO HAZIRLIK'!AO22","v":0},{"$f":"' BORDRO HAZIRLIK'!AP22","v":0},{"$f":"' BORDRO HAZIRLIK'!AQ22","v":0},{"$f":"' BORDRO HAZIRLIK'!AN22","v":0},{"$f":"' BORDRO HAZIRLIK'!P22","v":0},{"$f":"' BORDRO HAZIRLIK'!Q22","v":0},null,null,{"$f":"PUANTAJ!AI41","v":0},{"$f":"PUANTAJ!AJ41","v":0},{"$f":"PUANTAJ!AK41","v":0},{"$f":"PUANTAJ!AM41","v":0},null,null,null,{"$f":"' BORDRO HAZIRLIK'!AY22","v":0},{"$f":"' BORDRO HAZIRLIK'!AZ22","v":0},{"$f":"' BORDRO HAZIRLIK'!BA22","v":0},{"$f":"' BORDRO HAZIRLIK'!BB22","v":0},null,{"$f":"' BORDRO HAZIRLIK'!AR22","v":0},{"$f":"' BORDRO HAZIRLIK'!AJ22","v":0},null,{"$f":"' BORDRO HAZIRLIK'!AS22","v":0},{"$f":"' BORDRO HAZIRLIK'!AT22","v":0},{"$f":"' BORDRO HAZIRLIK'!I22","v":0},null,null,{"$f":"' BORDRO HAZIRLIK'!BC22","v":0},{"$f":"' BORDRO HAZIRLIK'!BD22","v":0},{"$f":"' BORDRO HAZIRLIK'!BE22","v":0},{"$f":"'PERSONEL BİLGİ GİRİŞİ'!I22","v":0},null,null,null,null,null,{"$f":"' BORDRO HAZIRLIK'!AG22","v":0},{"$f":"' BORDRO HAZIRLIK'!AH22","v":0}]
["GECE SAAT ÜCRETİ(1 SAAT)",{"$f":"VLOOKUP(A5,V5:AS80,5,FALSE)","v":114.13},null,null,"KAZANÇ",{"$f":"B9+B10","v":38838.720000000001},null,null,null,null,null,null,null,null,null,null,null,null,null,null,19,{"$f":"PUANTAJ!B43","v":" "},{"$f":"'PERSONEL BİLGİ GİRİŞİ'!H23","v":0},{"$f":"'PERSONEL BİLGİ GİRİŞİ'!Q23","v":0},{"$f":"'PERSONEL BİLGİ GİRİŞİ'!R23","v":0},{"$f":"'PERSONEL BİLGİ GİRİŞİ'!U23","v":0},{"$f":"'PERSONEL BİLGİ GİRİŞİ'!E23","v":0},{"$f":"PUANTAJ!AU43","v":0},{"$f":"' BORDRO HAZIRLIK'!AE23","v":0},{"$f":"' BORDRO HAZIRLIK'!AF23","v":0},{"$f":"' BORDRO HAZIRLIK'!K23","v":0},{"$f":"' BORDRO HAZIRLIK'!BH23","v":0},{"$f":"' BORDRO HAZIRLIK'!AK23","v":0},{"$f":"' BORDRO HAZIRLIK'!AO23","v":0},{"$f":"' BORDRO HAZIRLIK'!AP23","v":0},{"$f":"' BORDRO HAZIRLIK'!AQ23","v":0},{"$f":"' BORDRO HAZIRLIK'!AN23","v":0},{"$f":"' BORDRO HAZIRLIK'!P23","v":0},{"$f":"' BORDRO HAZIRLIK'!Q23","v":0},null,null,{"$f":"PUANTAJ!AI43","v":0},{"$f":"PUANTAJ!AJ43","v":0},{"$f":"PUANTAJ!AK43","v":0},{"$f":"PUANTAJ!AM43","v":0},null,null,null,{"$f":"' BORDRO HAZIRLIK'!AY23","v":0},{"$f":"' BORDRO HAZIRLIK'!AZ23","v":0},{"$f":"' BORDRO HAZIRLIK'!BA23","v":0},{"$f":"' BORDRO HAZIRLIK'!BB23","v":0},null,{"$f":"' BORDRO HAZIRLIK'!AR23","v":0},{"$f":"' BORDRO HAZIRLIK'!AJ23","v":0},null,{"$f":"' BORDRO HAZIRLIK'!AS23","v":0},{"$f":"' BORDRO HAZIRLIK'!AT23","v":0},{"$f":"' BORDRO HAZIRLIK'!I23","v":0},null,null,{"$f":"' BORDRO HAZIRLIK'!BC23","v":0},{"$f":"' BORDRO HAZIRLIK'!BD23","v":0},{"$f":"' BORDRO HAZIRLIK'!BE23","v":0},{"$f":"'PERSONEL BİLGİ GİRİŞİ'!I23","v":0},null,null,null,null,null,{"$f":"' BORDRO HAZIRLIK'!AG23","v":0},{"$f":"' BORDRO HAZIRLIK'!AH23","v":0}]
["GELİR VERGİSİ İSTİSNA TUTARI",{"$f":"VLOOKUP(A5,V5:BU79,50,FALSE)","v":2550.3200000000002},null,null,"NET ÜCRET",{"$f":"VLOOKUP(A5,V5:AF80,11,FALSE)","v":18498.96},null,null,null,null,null,null,null,null,null,null,null,null,null,null,20,{"$f":"PUANTAJ!B45","v":" "},{"$f":"'PERSONEL BİLGİ GİRİŞİ'!H24","v":0},{"$f":"'PERSONEL BİLGİ GİRİŞİ'!Q24","v":0},{"$f":"'PERSONEL BİLGİ GİRİŞİ'!R24","v":0},{"$f":"'PERSONEL BİLGİ GİRİŞİ'!U24","v":0},{"$f":"'PERSONEL BİLGİ GİRİŞİ'!E24","v":0},{"$f":"PUANTAJ!AU45","v":0},{"$f":"' BORDRO HAZIRLIK'!AE24","v":0},{"$f":"' BORDRO HAZIRLIK'!AF24","v":0},{"$f":"' BORDRO HAZIRLIK'!K24","v":0},{"$f":"' BORDRO HAZIRLIK'!BH24","v":0},{"$f":"' BORDRO HAZIRLIK'!AK24","v":0},{"$f":"' BORDRO HAZIRLIK'!AO24","v":0},{"$f":"' BORDRO HAZIRLIK'!AP24","v":0},{"$f":"' BORDRO HAZIRLIK'!AQ24","v":0},{"$f":"' BORDRO HAZIRLIK'!AN24","v":0},{"$f":"' BORDRO HAZIRLIK'!P24","v":0},{"$f":"' BORDRO HAZIRLIK'!Q24","v":0},null,null,{"$f":"PUANTAJ!AI45","v":0},{"$f":"PUANTAJ!AJ45","v":0},{"$f":"PUANTAJ!AK45","v":0},{"$f":"PUANTAJ!AM45","v":0},null,null,null,{"$f":"' BORDRO HAZIRLIK'!AY24","v":0},{"$f":"' BORDRO HAZIRLIK'!AZ24","v":0},{"$f":"' BORDRO HAZIRLIK'!BA24","v":0},{"$f":"' BORDRO HAZIRLIK'!BB24","v":0},null,{"$f":"' BORDRO HAZIRLIK'!AR24","v":0},{"$f":"' BORDRO HAZIRLIK'!AJ24","v":0},null,{"$f":"' BORDRO HAZIRLIK'!AS24","v":0},{"$f":"' BORDRO HAZIRLIK'!AT24","v":0},{"$f":"' BORDRO HAZIRLIK'!I24","v":0},null,null,{"$f":"' BORDRO HAZIRLIK'!BC24","v":0},{"$f":"' BORDRO HAZIRLIK'!BD24","v":0},{"$f":"' BORDRO HAZIRLIK'!BE24","v":0},{"$f":"'PERSONEL BİLGİ GİRİŞİ'!I24","v":0},null,null,null,null,null,{"$f":"' BORDRO HAZIRLIK'!AG24","v":0},{"$f":"' BORDRO HAZIRLIK'!AH24","v":0}]
["DAMGA VERGİSİ İSTİSNA TUTARI",{"$f":"VLOOKUP(A5,V5:BU79,51,FALSE)","v":151.82},null,null,null,null,null,null,null,null,null,null,null,null,null,null,null,null,null,null,21,{"$f":"PUANTAJ!B47","v":" "},{"$f":"'PERSONEL BİLGİ GİRİŞİ'!H25","v":0},{"$f":"'PERSONEL BİLGİ GİRİŞİ'!Q25","v":0},{"$f":"'PERSONEL BİLGİ GİRİŞİ'!R25","v":0},{"$f":"'PERSONEL BİLGİ GİRİŞİ'!U25","v":0},{"$f":"'PERSONEL BİLGİ GİRİŞİ'!E25","v":0},{"$f":"PUANTAJ!AU47","v":0},{"$f":"' BORDRO HAZIRLIK'!AE25","v":0},{"$f":"' BORDRO HAZIRLIK'!AF25","v":0},{"$f":"' BORDRO HAZIRLIK'!K25","v":0},{"$f":"' BORDRO HAZIRLIK'!BH25","v":0},{"$f":"' BORDRO HAZIRLIK'!AK25","v":0},{"$f":"' BORDRO HAZIRLIK'!AO25","v":0},{"$f":"' BORDRO HAZIRLIK'!AP25","v":0},{"$f":"' BORDRO HAZIRLIK'!AQ25","v":0},{"$f":"' BORDRO HAZIRLIK'!AN25","v":0},{"$f":"' BORDRO HAZIRLIK'!P25","v":0},{"$f":"' BORDRO HAZIRLIK'!Q25","v":0},null,null,{"$f":"PUANTAJ!AI47","v":0},{"$f":"PUANTAJ!AJ47","v":0},{"$f":"PUANTAJ!AK47","v":0},{"$f":"PUANTAJ!AM47","v":0},null,null,null,{"$f":"' BORDRO HAZIRLIK'!AY25","v":0},{"$f":"' BORDRO HAZIRLIK'!AZ25","v":0},{"$f":"' BORDRO HAZIRLIK'!BA25","v":0},{"$f":"' BORDRO HAZIRLIK'!BB25","v":0},null,{"$f":"' BORDRO HAZIRLIK'!AR25","v":0},{"$f":"' BORDRO HAZIRLIK'!AJ25","v":0},null,{"$f":"' BORDRO HAZIRLIK'!AS25","v":0},{"$f":"' BORDRO HAZIRLIK'!AT25","v":0},{"$f":"' BORDRO HAZIRLIK'!I25","v":0},null,null,{"$f":"' BORDRO HAZIRLIK'!BC25","v":0},{"$f":"' BORDRO HAZIRLIK'!BD25","v":0},{"$f":"' BORDRO HAZIRLIK'!BE25","v":0},{"$f":"'PERSONEL BİLGİ GİRİŞİ'!I25","v":0},null,null,null,null,null,{"$f":"' BORDRO HAZIRLIK'!AG25","v":0},{"$f":"' BORDRO HAZIRLIK'!AH25","v":0}]
[null,null,null,null,"İMZA",null,null,null,null,null,null,null,null,null,null,null,null,null,null,null,22,{"$f":"PUANTAJ!B49","v":" "},{"$f":"'PERSONEL BİLGİ GİRİŞİ'!H26","v":0},{"$f":"'PERSONEL BİLGİ GİRİŞİ'!Q26","v":0},{"$f":"'PERSONEL BİLGİ GİRİŞİ'!R26","v":0},{"$f":"'PERSONEL BİLGİ GİRİŞİ'!U26","v":0},{"$f":"'PERSONEL BİLGİ GİRİŞİ'!E26","v":0},{"$f":"PUANTAJ!AU49","v":0},{"$f":"' BORDRO HAZIRLIK'!AE26","v":0},{"$f":"' BORDRO HAZIRLIK'!AF26","v":0},{"$f":"' BORDRO HAZIRLIK'!K26","v":0},{"$f":"' BORDRO HAZIRLIK'!BH26","v":0},{"$f":"' BORDRO HAZIRLIK'!AK26","v":0},{"$f":"' BORDRO HAZIRLIK'!AO26","v":0},{"$f":"' BORDRO HAZIRLIK'!AP26","v":0},{"$f":"' BORDRO HAZIRLIK'!AQ26","v":0},{"$f":"' BORDRO HAZIRLIK'!AN26","v":0},{"$f":"' BORDRO HAZIRLIK'!P26","v":0},{"$f":"' BORDRO HAZIRLIK'!Q26","v":0},null,null,{"$f":"PUANTAJ!AI49","v":0},{"$f":"PUANTAJ!AJ49","v":0},{"$f":"PUANTAJ!AK49","v":0},{"$f":"PUANTAJ!AM49","v":0},null,null,null,{"$f":"' BORDRO HAZIRLIK'!AY26","v":0},{"$f":"' BORDRO HAZIRLIK'!AZ26","v":0},{"$f":"' BORDRO HAZIRLIK'!BA26","v":0},{"$f":"' BORDRO HAZIRLIK'!BB26","v":0},null,{"$f":"' BORDRO HAZIRLIK'!AR26","v":0},{"$f":"' BORDRO HAZIRLIK'!AJ26","v":0},null,{"$f":"' BORDRO HAZIRLIK'!AS26","v":0},{"$f":"' BORDRO HAZIRLIK'!AT26","v":0},{"$f":"' BORDRO HAZIRLIK'!I26","v":0},null,null,{"$f":"' BORDRO HAZIRLIK'!BC26","v":0},{"$f":"' BORDRO HAZIRLIK'!BD26","v":0},{"$f":"' BORDRO HAZIRLIK'!BE26","v":0},{"$f":"'PERSONEL BİLGİ GİRİŞİ'!I26","v":0},null,null,null,null,null,{"$f":"' BORDRO HAZIRLIK'!AG26","v":0},{"$f":"' BORDRO HAZIRLIK'!AH26","v":0}]
["Aylık Gelir Vergi Matr.",{"$f":"VLOOKUP(A5,V5:AO80,12,FALSE)","v":18779.48},"%",{"$f":"IF(B28<'ANA SAYFA'!P19,15,IF(B28<'ANA SAYFA'!P20,20,27))","v":15},{"$f":"A5","v":"ALİ BZC "},null,null,null,null,null,null,null,null,null,null,null,null,null,null,null,23,{"$f":"PUANTAJ!B51","v":" "},{"$f":"'PERSONEL BİLGİ GİRİŞİ'!H27","v":0},{"$f":"'PERSONEL BİLGİ GİRİŞİ'!Q27","v":0},{"$f":"'PERSONEL BİLGİ GİRİŞİ'!R27","v":0},{"$f":"'PERSONEL BİLGİ GİRİŞİ'!U27","v":0},{"$f":"'PERSONEL BİLGİ GİRİŞİ'!E27","v":0},{"$f":"PUANTAJ!AU51","v":0},{"$f":"' BORDRO HAZIRLIK'!AE27","v":0},{"$f":"' BORDRO HAZIRLIK'!AF27","v":0},{"$f":"' BORDRO HAZIRLIK'!K27","v":0},{"$f":"' BORDRO HAZIRLIK'!BH27","v":0},{"$f":"' BORDRO HAZIRLIK'!AK27","v":0},{"$f":"' BORDRO HAZIRLIK'!AO27","v":0},{"$f":"' BORDRO HAZIRLIK'!AP27","v":0},{"$f":"' BORDRO HAZIRLIK'!AQ27","v":0},{"$f":"' BORDRO HAZIRLIK'!AN27","v":0},{"$f":"' BORDRO HAZIRLIK'!P27","v":0},{"$f":"' BORDRO HAZIRLIK'!Q27","v":0},null,null,{"$f":"PUANTAJ!AI51","v":0},{"$f":"PUANTAJ!AJ51","v":0},{"$f":"PUANTAJ!AK51","v":0},{"$f":"PUANTAJ!AM51","v":0},null,null,null,{"$f":"' BORDRO HAZIRLIK'!AY27","v":0},{"$f":"' BORDRO HAZIRLIK'!AZ27","v":0},{"$f":"' BORDRO HAZIRLIK'!BA27","v":0},{"$f":"' BORDRO HAZIRLIK'!BB27","v":0},null,{"$f":"' BORDRO HAZIRLIK'!AR27","v":0},{"$f":"' BORDRO HAZIRLIK'!AJ27","v":0},null,{"$f":"' BORDRO HAZIRLIK'!AS27","v":0},{"$f":"' BORDRO HAZIRLIK'!AT27","v":0},{"$f":"' BORDRO HAZIRLIK'!I27","v":0},null,null,{"$f":"' BORDRO HAZIRLIK'!BC27","v":0},{"$f":"' BORDRO HAZIRLIK'!BD27","v":0},{"$f":"' BORDRO HAZIRLIK'!BE27","v":0},{"$f":"'PERSONEL BİLGİ GİRİŞİ'!I27","v":0},null,null,null,null,null,{"$f":"' BORDRO HAZIRLIK'!AG27","v":0},{"$f":"' BORDRO HAZIRLIK'!AH27","v":0}]
["Yıllık Toplam Gelir Vergisi",{"$f":"VLOOKUP(A5,V5:AK80,16,FALSE)","v":18779.48},null,null,null,null,null,null,null,null,null,null,null,null,null,null,null,null,null,null,24,{"$f":"PUANTAJ!B53","v":" "},{"$f":"'PERSONEL BİLGİ GİRİŞİ'!H28","v":0},{"$f":"'PERSONEL BİLGİ GİRİŞİ'!Q28","v":0},{"$f":"'PERSONEL BİLGİ GİRİŞİ'!R28","v":0},{"$f":"'PERSONEL BİLGİ GİRİŞİ'!U28","v":0},{"$f":"'PERSONEL BİLGİ GİRİŞİ'!E28","v":0},{"$f":"PUANTAJ!AU53","v":0},{"$f":"' BORDRO HAZIRLIK'!AE28","v":0},{"$f":"' BORDRO HAZIRLIK'!AF28","v":0},{"$f":"' BORDRO HAZIRLIK'!K28","v":0},{"$f":"' BORDRO HAZIRLIK'!BH28","v":0},{"$f":"' BORDRO HAZIRLIK'!AK28","v":0},{"$f":"' BORDRO HAZIRLIK'!AO28","v":0},{"$f":"' BORDRO HAZIRLIK'!AP28","v":0},{"$f":"' BORDRO HAZIRLIK'!AQ28","v":0},{"$f":"' BORDRO HAZIRLIK'!AN28","v":0},{"$f":"' BORDRO HAZIRLIK'!P28","v":0},{"$f":"' BORDRO HAZIRLIK'!Q28","v":0},null,null,{"$f":"PUANTAJ!AI53","v":0},{"$f":"PUANTAJ!AJ53","v":0},{"$f":"PUANTAJ!AK53","v":0},{"$f":"PUANTAJ!AM53","v":0},null,null,null,{"$f":"' BORDRO HAZIRLIK'!AY28","v":0},{"$f":"' BORDRO HAZIRLIK'!AZ28","v":0},{"$f":"' BORDRO HAZIRLIK'!BA28","v":0},{"$f":"' BORDRO HAZIRLIK'!BB28","v":0},null,{"$f":"' BORDRO HAZIRLIK'!AR28","v":0},{"$f":"' BORDRO HAZIRLIK'!AJ28","v":0},null,{"$f":"' BORDRO HAZIRLIK'!AS28","v":0},{"$f":"' BORDRO HAZIRLIK'!AT28","v":0},{"$f":"' BORDRO HAZIRLIK'!I28","v":0},null,null,{"$f":"' BORDRO HAZIRLIK'!BC28","v":0},{"$f":"' BORDRO HAZIRLIK'!BD28","v":0},{"$f":"' BORDRO HAZIRLIK'!BE28","v":0},{"$f":"'PERSONEL BİLGİ GİRİŞİ'!I28","v":0},null,null,null,null,null,{"$f":"' BORDRO HAZIRLIK'!AG28","v":0},{"$f":"' BORDRO HAZIRLIK'!AH28","v":0}]
["İstisna Aylık Gelir Vergi Matr.",{"$f":"VLOOKUP(A5,V5:AO80,8,FALSE)","v":17002.12},"%",{"$f":"IF(B30<'ANA SAYFA'!P19,15,IF(B30<'ANA SAYFA'!P20,20,27))","v":15},null,null,null,null,null,null,null,null,null,null,null,null,null,null,null,null,25,{"$f":"PUANTAJ!B55","v":" "},{"$f":"'PERSONEL BİLGİ GİRİŞİ'!H29","v":0},{"$f":"'PERSONEL BİLGİ GİRİŞİ'!Q29","v":0},{"$f":"'PERSONEL BİLGİ GİRİŞİ'!R29","v":0},{"$f":"'PERSONEL BİLGİ GİRİŞİ'!U29","v":0},{"$f":"'PERSONEL BİLGİ GİRİŞİ'!E29","v":0},{"$f":"PUANTAJ!AU55","v":0},{"$f":"' BORDRO HAZIRLIK'!AE29","v":0},{"$f":"' BORDRO HAZIRLIK'!AF29","v":0},{"$f":"' BORDRO HAZIRLIK'!K29","v":0},{"$f":"' BORDRO HAZIRLIK'!BH29","v":0},{"$f":"' BORDRO HAZIRLIK'!AK29","v":0},{"$f":"' BORDRO HAZIRLIK'!AO29","v":0},{"$f":"' BORDRO HAZIRLIK'!AP29","v":0},{"$f":"' BORDRO HAZIRLIK'!AQ29","v":0},{"$f":"' BORDRO HAZIRLIK'!AN29","v":0},{"$f":"' BORDRO HAZIRLIK'!P29","v":0},{"$f":"' BORDRO HAZIRLIK'!Q29","v":0},null,null,{"$f":"PUANTAJ!AI55","v":0},{"$f":"PUANTAJ!AJ55","v":0},{"$f":"PUANTAJ!AK55","v":0},{"$f":"PUANTAJ!AM55","v":0},null,null,null,{"$f":"' BORDRO HAZIRLIK'!AY29","v":0},{"$f":"' BORDRO HAZIRLIK'!AZ29","v":0},{"$f":"' BORDRO HAZIRLIK'!BA29","v":0},{"$f":"' BORDRO HAZIRLIK'!BB29","v":0},null,{"$f":"' BORDRO HAZIRLIK'!AR29","v":0},{"$f":"' BORDRO HAZIRLIK'!AJ29","v":0},null,{"$f":"' BORDRO HAZIRLIK'!AS29","v":0},{"$f":"' BORDRO HAZIRLIK'!AT29","v":0},{"$f":"' BORDRO HAZIRLIK'!I29","v":0},null,null,{"$f":"' BORDRO HAZIRLIK'!BC29","v":0},{"$f":"' BORDRO HAZIRLIK'!BD29","v":0},{"$f":"' BORDRO HAZIRLIK'!BE29","v":0},{"$f":"'PERSONEL BİLGİ GİRİŞİ'!I29","v":0},null,null,null,null,null,{"$f":"' BORDRO HAZIRLIK'!AG29","v":0},{"$f":"' BORDRO HAZIRLIK'!AH29","v":0}]
["İstisna Yıllık Top. Gelir Vergisi",{"$f":"VLOOKUP(A5,V5:AK80,9,FALSE)","v":17002.12},null,null,null,null,null,null,null,null,null,null,null,null,null,null,null,null,null,null,26,{"$f":"PUANTAJ!B57","v":" "},{"$f":"'PERSONEL BİLGİ GİRİŞİ'!H30","v":0},{"$f":"'PERSONEL BİLGİ GİRİŞİ'!Q30","v":0},{"$f":"'PERSONEL BİLGİ GİRİŞİ'!R30","v":0},{"$f":"'PERSONEL BİLGİ GİRİŞİ'!U30","v":0},{"$f":"'PERSONEL BİLGİ GİRİŞİ'!E30","v":0},{"$f":"PUANTAJ!AU57","v":0},{"$f":"' BORDRO HAZIRLIK'!AE30","v":0},{"$f":"' BORDRO HAZIRLIK'!AF30","v":0},{"$f":"' BORDRO HAZIRLIK'!K30","v":0},{"$f":"' BORDRO HAZIRLIK'!BH30","v":0},{"$f":"' BORDRO HAZIRLIK'!AK30","v":0},{"$f":"' BORDRO HAZIRLIK'!AO30","v":0},{"$f":"' BORDRO HAZIRLIK'!AP30","v":0},{"$f":"' BORDRO HAZIRLIK'!AQ30","v":0},{"$f":"' BORDRO HAZIRLIK'!AN30","v":0},{"$f":"' BORDRO HAZIRLIK'!P30","v":0},{"$f":"' BORDRO HAZIRLIK'!Q30","v":0},null,null,{"$f":"PUANTAJ!AI57","v":0},{"$f":"PUANTAJ!AJ57","v":0},{"$f":"PUANTAJ!AK57","v":0},{"$f":"PUANTAJ!AM57","v":0},null,null,null,{"$f":"' BORDRO HAZIRLIK'!AY30","v":0},{"$f":"' BORDRO HAZIRLIK'!AZ30","v":0},{"$f":"' BORDRO HAZIRLIK'!BA30","v":0},{"$f":"' BORDRO HAZIRLIK'!BB30","v":0},null,{"$f":"' BORDRO HAZIRLIK'!AR30","v":0},{"$f":"' BORDRO HAZIRLIK'!AJ30","v":0},null,{"$f":"' BORDRO HAZIRLIK'!AS30","v":0},{"$f":"' BORDRO HAZIRLIK'!AT30","v":0},{"$f":"' BORDRO HAZIRLIK'!I30","v":0},null,null,{"$f":"' BORDRO HAZIRLIK'!BC30","v":0},{"$f":"' BORDRO HAZIRLIK'!BD30","v":0},{"$f":"' BORDRO HAZIRLIK'!BE30","v":0},{"$f":"'PERSONEL BİLGİ GİRİŞİ'!I30","v":0},null,null,null,null,null,{"$f":"' BORDRO HAZIRLIK'!AG30","v":0},{"$f":"' BORDRO HAZIRLIK'!AH30","v":0}]
["E MAİL",{"$f":"VLOOKUP(A5,V5:BM45,44,FALSE)","v":0},null,null,{"$f":"TODAY()","v":"2024-02-05"},null,null,null,null,null,null,null,null,null,null,null,null,null,null,null,27,{"$f":"PUANTAJ!B59","v":" "},{"$f":"'PERSONEL BİLGİ GİRİŞİ'!H31","v":0},{"$f":"'PERSONEL BİLGİ GİRİŞİ'!Q31","v":0},{"$f":"'PERSONEL BİLGİ GİRİŞİ'!R31","v":0},{"$f":"'PERSONEL BİLGİ GİRİŞİ'!U31","v":0},{"$f":"'PERSONEL BİLGİ GİRİŞİ'!E31","v":0},{"$f":"PUANTAJ!AU59","v":0},{"$f":"' BORDRO HAZIRLIK'!AE31","v":0},{"$f":"' BORDRO HAZIRLIK'!AF31","v":0},{"$f":"' BORDRO HAZIRLIK'!K31","v":0},{"$f":"' BORDRO HAZIRLIK'!BH31","v":0},{"$f":"' BORDRO HAZIRLIK'!AK31","v":0},{"$f":"' BORDRO HAZIRLIK'!AO31","v":0},{"$f":"' BORDRO HAZIRLIK'!AP31","v":0},{"$f":"' BORDRO HAZIRLIK'!AQ31","v":0},{"$f":"' BORDRO HAZIRLIK'!AN31","v":0},{"$f":"' BORDRO HAZIRLIK'!P31","v":0},{"$f":"' BORDRO HAZIRLIK'!Q31","v":0},null,null,{"$f":"PUANTAJ!AI59","v":0},{"$f":"PUANTAJ!AJ59","v":0},{"$f":"PUANTAJ!AK59","v":0},{"$f":"PUANTAJ!AM59","v":0},null,null,null,{"$f":"' BORDRO HAZIRLIK'!AY31","v":0},{"$f":"' BORDRO HAZIRLIK'!AZ31","v":0},{"$f":"' BORDRO HAZIRLIK'!BA31","v":0},{"$f":"' BORDRO HAZIRLIK'!BB31","v":0},null,{"$f":"' BORDRO HAZIRLIK'!AR31","v":0},{"$f":"' BORDRO HAZIRLIK'!AJ31","v":0},null,{"$f":"' BORDRO HAZIRLIK'!AS31","v":0},{"$f":"' BORDRO HAZIRLIK'!AT31","v":0},{"$f":"' BORDRO HAZIRLIK'!I31","v":0},null,null,{"$f":"' BORDRO HAZIRLIK'!BC31","v":0},{"$f":"' BORDRO HAZIRLIK'!BD31","v":0},{"$f":"' BORDRO HAZIRLIK'!BE31","v":0},{"$f":"'PERSONEL BİLGİ GİRİŞİ'!I31","v":0},null,null,null,null,null,{"$f":"' BORDRO HAZIRLIK'!AG31","v":0},{"$f":"' BORDRO HAZIRLIK'!AH31","v":0}]
[null,null,null,null,null,null,null,null,null,null,null,null,null,null,null,null,null,null,null,null,28,{"$f":"PUANTAJ!B61","v":" "},{"$f":"'PERSONEL BİLGİ GİRİŞİ'!H32","v":0},{"$f":"'PERSONEL BİLGİ GİRİŞİ'!Q32","v":0},{"$f":"'PERSONEL BİLGİ GİRİŞİ'!R32","v":0},{"$f":"'PERSONEL BİLGİ GİRİŞİ'!U32","v":0},{"$f":"'PERSONEL BİLGİ GİRİŞİ'!E32","v":0},{"$f":"PUANTAJ!AU61","v":0},{"$f":"' BORDRO HAZIRLIK'!AE32","v":0},{"$f":"' BORDRO HAZIRLIK'!AF32","v":0},{"$f":"' BORDRO HAZIRLIK'!K32","v":0},{"$f":"' BORDRO HAZIRLIK'!BH32","v":0},{"$f":"' BORDRO HAZIRLIK'!AK32","v":0},{"$f":"' BORDRO HAZIRLIK'!AO32","v":0},{"$f":"' BORDRO HAZIRLIK'!AP32","v":0},{"$f":"' BORDRO HAZIRLIK'!AQ32","v":0},{"$f":"' BORDRO HAZIRLIK'!AN32","v":0},{"$f":"' BORDRO HAZIRLIK'!P32","v":0},{"$f":"' BORDRO HAZIRLIK'!Q32","v":0},null,null,{"$f":"PUANTAJ!AI61","v":0},{"$f":"PUANTAJ!AJ61","v":0},{"$f":"PUANTAJ!AK61","v":0},{"$f":"PUANTAJ!AM61","v":0},null,null,null,{"$f":"' BORDRO HAZIRLIK'!AY32","v":0},{"$f":"' BORDRO HAZIRLIK'!AZ32","v":0},{"$f":"' BORDRO HAZIRLIK'!BA32","v":0},{"$f":"' BORDRO HAZIRLIK'!BB32","v":0},null,{"$f":"' BORDRO HAZIRLIK'!AR32","v":0},{"$f":"' BORDRO HAZIRLIK'!AJ32","v":0},null,{"$f":"' BORDRO HAZIRLIK'!AS32","v":0},{"$f":"' BORDRO HAZIRLIK'!AT32","v":0},{"$f":"' BORDRO HAZIRLIK'!I32","v":0},null,null,{"$f":"' BORDRO HAZIRLIK'!BC32","v":0},{"$f":"' BORDRO HAZIRLIK'!BD32","v":0},{"$f":"' BORDRO HAZIRLIK'!BE32","v":0},{"$f":"'PERSONEL BİLGİ GİRİŞİ'!I32","v":0},null,null,null,null,null,{"$f":"' BORDRO HAZIRLIK'!AG32","v":0},{"$f":"' BORDRO HAZIRLIK'!AH32","v":0}]
[{"$f":"'PERSONEL BİLGİ GİRİŞİ'!J82","v":0},null,null,null,null,null,null,null,null,null,null,null,null,null,null,null,null,null,null,null,29,{"$f":"PUANTAJ!B63","v":" "},{"$f":"'PERSONEL BİLGİ GİRİŞİ'!H33","v":0},{"$f":"'PERSONEL BİLGİ GİRİŞİ'!Q33","v":0},{"$f":"'PERSONEL BİLGİ GİRİŞİ'!R33","v":0},{"$f":"'PERSONEL BİLGİ GİRİŞİ'!U33","v":0},{"$f":"'PERSONEL BİLGİ GİRİŞİ'!E33","v":0},{"$f":"PUANTAJ!AU63","v":0},{"$f":"' BORDRO HAZIRLIK'!AE33","v":0},{"$f":"' BORDRO HAZIRLIK'!AF33","v":0},{"$f":"' BORDRO HAZIRLIK'!K33","v":0},{"$f":"' BORDRO HAZIRLIK'!BH33","v":0},{"$f":"' BORDRO HAZIRLIK'!AK33","v":0},{"$f":"' BORDRO HAZIRLIK'!AO33","v":0},{"$f":"' BORDRO HAZIRLIK'!AP33","v":0},{"$f":"' BORDRO HAZIRLIK'!AQ33","v":0},{"$f":"' BORDRO HAZIRLIK'!AN33","v":0},{"$f":"' BORDRO HAZIRLIK'!P33","v":0},{"$f":"' BORDRO HAZIRLIK'!Q33","v":0},null,null,{"$f":"PUANTAJ!AI63","v":0},{"$f":"PUANTAJ!AJ63","v":0},{"$f":"PUANTAJ!AK63","v":0},{"$f":"PUANTAJ!AM63","v":0},null,null,null,{"$f":"' BORDRO HAZIRLIK'!AY33","v":0},{"$f":"' BORDRO HAZIRLIK'!AZ33","v":0},{"$f":"' BORDRO HAZIRLIK'!BA33","v":0},{"$f":"' BORDRO HAZIRLIK'!BB33","v":0},null,{"$f":"' BORDRO HAZIRLIK'!AR33","v":0},{"$f":"' BORDRO HAZIRLIK'!AJ33","v":0},null,{"$f":"' BORDRO HAZIRLIK'!AS33","v":0},{"$f":"' BORDRO HAZIRLIK'!AT33","v":0},{"$f":"' BORDRO HAZIRLIK'!I33","v":0},null,null,{"$f":"' BORDRO HAZIRLIK'!BC33","v":0},{"$f":"' BORDRO HAZIRLIK'!BD33","v":0},{"$f":"' BORDRO HAZIRLIK'!BE33","v":0},{"$f":"'PERSONEL BİLGİ GİRİŞİ'!I33","v":0},null,null,null,null,null,{"$f":"' BORDRO HAZIRLIK'!AG33","v":0},{"$f":"' BORDRO HAZIRLIK'!AH33","v":0}]
[{"$f":"'PERSONEL BİLGİ GİRİŞİ'!J83","v":{"$error":"#N/A"}},null,null,null,null,null,null,null,null,null,null,null,null,null,null,null,null,null,null,null,30,{"$f":"PUANTAJ!B65","v":" "},{"$f":"'PERSONEL BİLGİ GİRİŞİ'!H34","v":0},{"$f":"'PERSONEL BİLGİ GİRİŞİ'!Q34","v":0},{"$f":"'PERSONEL BİLGİ GİRİŞİ'!R34","v":0},{"$f":"'PERSONEL BİLGİ GİRİŞİ'!U34","v":0},{"$f":"'PERSONEL BİLGİ GİRİŞİ'!E34","v":0},{"$f":"PUANTAJ!AU65","v":0},{"$f":"' BORDRO HAZIRLIK'!AE34","v":0},{"$f":"' BORDRO HAZIRLIK'!AF34","v":0},{"$f":"' BORDRO HAZIRLIK'!K34","v":0},{"$f":"' BORDRO HAZIRLIK'!BH34","v":0},{"$f":"' BORDRO HAZIRLIK'!AK34","v":0},{"$f":"' BORDRO HAZIRLIK'!AO34","v":0},{"$f":"' BORDRO HAZIRLIK'!AP34","v":0},{"$f":"' BORDRO HAZIRLIK'!AQ34","v":0},{"$f":"' BORDRO HAZIRLIK'!AN34","v":0},{"$f":"' BORDRO HAZIRLIK'!P34","v":0},{"$f":"' BORDRO HAZIRLIK'!Q34","v":0},null,null,{"$f":"PUANTAJ!AI65","v":0},{"$f":"PUANTAJ!AJ65","v":0},{"$f":"PUANTAJ!AK65","v":0},{"$f":"PUANTAJ!AM65","v":0},null,null,null,{"$f":"' BORDRO HAZIRLIK'!AY34","v":0},{"$f":"' BORDRO HAZIRLIK'!AZ34","v":0},{"$f":"' BORDRO HAZIRLIK'!BA34","v":0},{"$f":"' BORDRO HAZIRLIK'!BB34","v":0},null,{"$f":"' BORDRO HAZIRLIK'!AR34","v":0},{"$f":"' BORDRO HAZIRLIK'!AJ34","v":0},null,{"$f":"' BORDRO HAZIRLIK'!AS34","v":0},{"$f":"' BORDRO HAZIRLIK'!AT34","v":0},{"$f":"' BORDRO HAZIRLIK'!I34","v":0},null,null,{"$f":"' BORDRO HAZIRLIK'!BC34","v":0},{"$f":"' BORDRO HAZIRLIK'!BD34","v":0},{"$f":"' BORDRO HAZIRLIK'!BE34","v":0},{"$f":"'PERSONEL BİLGİ GİRİŞİ'!I34","v":0},null,null,null,null,null,{"$f":"' BORDRO HAZIRLIK'!AG34","v":0},{"$f":"' BORDRO HAZIRLIK'!AH34","v":0}]
[{"$f":"TODAY()","v":"2024-02-05"},null,null,null,null,null,null,null,null,null,null,null,null,null,null,null,null,null,null,null,31,{"$f":"PUANTAJ!B67","v":" "},{"$f":"'PERSONEL BİLGİ GİRİŞİ'!H35","v":0},{"$f":"'PERSONEL BİLGİ GİRİŞİ'!Q35","v":0},{"$f":"'PERSONEL BİLGİ GİRİŞİ'!R35","v":0},{"$f":"'PERSONEL BİLGİ GİRİŞİ'!U35","v":0},{"$f":"'PERSONEL BİLGİ GİRİŞİ'!E35","v":0},{"$f":"PUANTAJ!AU67","v":0},{"$f":"' BORDRO HAZIRLIK'!AE35","v":0},{"$f":"' BORDRO HAZIRLIK'!AF35","v":0},{"$f":"' BORDRO HAZIRLIK'!K35","v":0},{"$f":"' BORDRO HAZIRLIK'!BH35","v":0},{"$f":"' BORDRO HAZIRLIK'!AK35","v":0},{"$f":"' BORDRO HAZIRLIK'!AO35","v":0},{"$f":"' BORDRO HAZIRLIK'!AP35","v":0},{"$f":"' BORDRO HAZIRLIK'!AQ35","v":0},{"$f":"' BORDRO HAZIRLIK'!AN35","v":0},{"$f":"' BORDRO HAZIRLIK'!P35","v":0},{"$f":"' BORDRO HAZIRLIK'!Q35","v":0},null,null,{"$f":"PUANTAJ!AI67","v":0},{"$f":"PUANTAJ!AJ67","v":0},{"$f":"PUANTAJ!AK67","v":0},{"$f":"PUANTAJ!AM67","v":0},null,null,null,{"$f":"' BORDRO HAZIRLIK'!AY35","v":0},{"$f":"' BORDRO HAZIRLIK'!AZ35","v":0},{"$f":"' BORDRO HAZIRLIK'!BA35","v":0},{"$f":"' BORDRO HAZIRLIK'!BB35","v":0},null,{"$f":"' BORDRO HAZIRLIK'!AR35","v":0},{"$f":"' BORDRO HAZIRLIK'!AJ35","v":0},null,{"$f":"' BORDRO HAZIRLIK'!AS35","v":0},{"$f":"' BORDRO HAZIRLIK'!AT35","v":0},{"$f":"' BORDRO HAZIRLIK'!I35","v":0},null,null,{"$f":"' BORDRO HAZIRLIK'!BC35","v":0},{"$f":"' BORDRO HAZIRLIK'!BD35","v":0},{"$f":"' BORDRO HAZIRLIK'!BE35","v":0},{"$f":"'PERSONEL BİLGİ GİRİŞİ'!I35","v":0},null,null,null,null,null,{"$f":"' BORDRO HAZIRLIK'!AG35","v":0},{"$f":"' BORDRO HAZIRLIK'!AH35","v":0}]
[null,null,null,null,null,null,null,null,null,null,null,null,null,null,null,null,null,null,null,null,32,{"$f":"PUANTAJ!B69","v":" "},{"$f":"'PERSONEL BİLGİ GİRİŞİ'!H36","v":0},{"$f":"'PERSONEL BİLGİ GİRİŞİ'!Q36","v":0},{"$f":"'PERSONEL BİLGİ GİRİŞİ'!R36","v":0},{"$f":"'PERSONEL BİLGİ GİRİŞİ'!U36","v":0},{"$f":"'PERSONEL BİLGİ GİRİŞİ'!E36","v":0},{"$f":"PUANTAJ!AU69","v":0},{"$f":"' BORDRO HAZIRLIK'!AE36","v":0},{"$f":"' BORDRO HAZIRLIK'!AF36","v":0},{"$f":"' BORDRO HAZIRLIK'!K36","v":0},{"$f":"' BORDRO HAZIRLIK'!BH36","v":0},{"$f":"' BORDRO HAZIRLIK'!AK36","v":0},{"$f":"' BORDRO HAZIRLIK'!AO36","v":0},{"$f":"' BORDRO HAZIRLIK'!AP36","v":0},{"$f":"' BORDRO HAZIRLIK'!AQ36","v":0},{"$f":"' BORDRO HAZIRLIK'!AN36","v":0},{"$f":"' BORDRO HAZIRLIK'!P36","v":0},{"$f":"' BORDRO HAZIRLIK'!Q36","v":0},null,null,{"$f":"PUANTAJ!AI69","v":0},{"$f":"PUANTAJ!AJ69","v":0},{"$f":"PUANTAJ!AK69","v":0},{"$f":"PUANTAJ!AM69","v":0},null,null,null,{"$f":"' BORDRO HAZIRLIK'!AY36","v":0},{"$f":"' BORDRO HAZIRLIK'!AZ36","v":0},{"$f":"' BORDRO HAZIRLIK'!BA36","v":0},{"$f":"' BORDRO HAZIRLIK'!BB36","v":0},null,{"$f":"' BORDRO HAZIRLIK'!AR36","v":0},{"$f":"' BORDRO HAZIRLIK'!AJ36","v":0},null,{"$f":"' BORDRO HAZIRLIK'!AS36","v":0},{"$f":"' BORDRO HAZIRLIK'!AT36","v":0},{"$f":"' BORDRO HAZIRLIK'!I36","v":0},null,null,{"$f":"' BORDRO HAZIRLIK'!BC36","v":0},{"$f":"' BORDRO HAZIRLIK'!BD36","v":0},{"$f":"' BORDRO HAZIRLIK'!BE36","v":0},{"$f":"'PERSONEL BİLGİ GİRİŞİ'!I36","v":0},null,null,null,null,null,{"$f":"' BORDRO HAZIRLIK'!AG36","v":0},{"$f":"' BORDRO HAZIRLIK'!AH36","v":0}]
[null,null,null,null,null,null,null,null,null,null,null,null,null,null,null,null,null,null,null,null,33,{"$f":"PUANTAJ!B71","v":" "},{"$f":"'PERSONEL BİLGİ GİRİŞİ'!H37","v":0},{"$f":"'PERSONEL BİLGİ GİRİŞİ'!Q37","v":0},{"$f":"'PERSONEL BİLGİ GİRİŞİ'!R37","v":0},{"$f":"'PERSONEL BİLGİ GİRİŞİ'!U37","v":0},{"$f":"'PERSONEL BİLGİ GİRİŞİ'!E37","v":0},{"$f":"PUANTAJ!AU71","v":0},{"$f":"' BORDRO HAZIRLIK'!AE37","v":0},{"$f":"' BORDRO HAZIRLIK'!AF37","v":0},{"$f":"' BORDRO HAZIRLIK'!K37","v":0},{"$f":"' BORDRO HAZIRLIK'!BH37","v":0},{"$f":"' BORDRO HAZIRLIK'!AK37","v":0},{"$f":"' BORDRO HAZIRLIK'!AO37","v":0},{"$f":"' BORDRO HAZIRLIK'!AP37","v":0},{"$f":"' BORDRO HAZIRLIK'!AQ37","v":0},{"$f":"' BORDRO HAZIRLIK'!AN37","v":0},{"$f":"' BORDRO HAZIRLIK'!P37","v":0},{"$f":"' BORDRO HAZIRLIK'!Q37","v":0},null,null,{"$f":"PUANTAJ!AI71","v":0},{"$f":"PUANTAJ!AJ71","v":0},{"$f":"PUANTAJ!AK71","v":0},{"$f":"PUANTAJ!AM71","v":0},null,null,null,{"$f":"' BORDRO HAZIRLIK'!AY37","v":0},{"$f":"' BORDRO HAZIRLIK'!AZ37","v":0},{"$f":"' BORDRO HAZIRLIK'!BA37","v":0},{"$f":"' BORDRO HAZIRLIK'!BB37","v":0},null,{"$f":"' BORDRO HAZIRLIK'!AR37","v":0},{"$f":"' BORDRO HAZIRLIK'!AJ37","v":0},null,{"$f":"' BORDRO HAZIRLIK'!AS37","v":0},{"$f":"' BORDRO HAZIRLIK'!AT37","v":0},{"$f":"' BORDRO HAZIRLIK'!I37","v":0},null,null,{"$f":"' BORDRO HAZIRLIK'!BC37","v":0},{"$f":"' BORDRO HAZIRLIK'!BD37","v":0},{"$f":"' BORDRO HAZIRLIK'!BE37","v":0},{"$f":"'PERSONEL BİLGİ GİRİŞİ'!I37","v":0},null,null,null,null,null,{"$f":"' BORDRO HAZIRLIK'!AG37","v":0},{"$f":"' BORDRO HAZIRLIK'!AH37","v":0}]
[null,null,null,null,null,null,null,null,null,null,null,null,null,null,null,null,null,null,null,null,34,{"$f":"PUANTAJ!B73","v":" "},{"$f":"'PERSONEL BİLGİ GİRİŞİ'!H38","v":0},{"$f":"'PERSONEL BİLGİ GİRİŞİ'!Q38","v":0},{"$f":"'PERSONEL BİLGİ GİRİŞİ'!R38","v":0},{"$f":"'PERSONEL BİLGİ GİRİŞİ'!U38","v":0},{"$f":"'PERSONEL BİLGİ GİRİŞİ'!E38","v":0},{"$f":"PUANTAJ!AU73","v":0},{"$f":"' BORDRO HAZIRLIK'!AE38","v":0},{"$f":"' BORDRO HAZIRLIK'!AF38","v":0},{"$f":"' BORDRO HAZIRLIK'!K38","v":0},{"$f":"' BORDRO HAZIRLIK'!BH38","v":0},{"$f":"' BORDRO HAZIRLIK'!AK38","v":0},{"$f":"' BORDRO HAZIRLIK'!AO38","v":0},{"$f":"' BORDRO HAZIRLIK'!AP38","v":0},{"$f":"' BORDRO HAZIRLIK'!AQ38","v":0},{"$f":"' BORDRO HAZIRLIK'!AN38","v":0},{"$f":"' BORDRO HAZIRLIK'!P38","v":0},{"$f":"' BORDRO HAZIRLIK'!Q38","v":0},null,null,{"$f":"PUANTAJ!AI73","v":0},{"$f":"PUANTAJ!AJ73","v":0},{"$f":"PUANTAJ!AK73","v":0},{"$f":"PUANTAJ!AM73","v":0},null,null,null,{"$f":"' BORDRO HAZIRLIK'!AY38","v":0},{"$f":"' BORDRO HAZIRLIK'!AZ38","v":0},{"$f":"' BORDRO HAZIRLIK'!BA38","v":0},{"$f":"' BORDRO HAZIRLIK'!BB38","v":0},null,{"$f":"' BORDRO HAZIRLIK'!AR38","v":0},{"$f":"' BORDRO HAZIRLIK'!AJ38","v":0},null,{"$f":"' BORDRO HAZIRLIK'!AS38","v":0},{"$f":"' BORDRO HAZIRLIK'!AT38","v":0},{"$f":"' BORDRO HAZIRLIK'!I38","v":0},null,null,{"$f":"' BORDRO HAZIRLIK'!BC38","v":0},{"$f":"' BORDRO HAZIRLIK'!BD38","v":0},{"$f":"' BORDRO HAZIRLIK'!BE38","v":0},{"$f":"'PERSONEL BİLGİ GİRİŞİ'!I38","v":0},null,null,null,null,null,{"$f":"' BORDRO HAZIRLIK'!AG38","v":0},{"$f":"' BORDRO HAZIRLIK'!AH38","v":0}]
[null,null,null,null,null,null,null,null,null,null,null,null,null,null,null,null,null,null,null,null,35,{"$f":"PUANTAJ!B75","v":" "},{"$f":"'PERSONEL BİLGİ GİRİŞİ'!H39","v":0},{"$f":"'PERSONEL BİLGİ GİRİŞİ'!Q39","v":0},{"$f":"'PERSONEL BİLGİ GİRİŞİ'!R39","v":0},{"$f":"'PERSONEL BİLGİ GİRİŞİ'!U39","v":0},{"$f":"'PERSONEL BİLGİ GİRİŞİ'!E39","v":0},{"$f":"PUANTAJ!AU75","v":0},{"$f":"' BORDRO HAZIRLIK'!#REF!","v":{"$error":"#REF!"}},{"$f":"' BORDRO HAZIRLIK'!#REF!","v":{"$error":"#REF!"}},{"$f":"' BORDRO HAZIRLIK'!#REF!","v":{"$error":"#REF!"}},{"$f":"' BORDRO HAZIRLIK'!#REF!","v":{"$error":"#REF!"}},{"$f":"' BORDRO HAZIRLIK'!#REF!","v":{"$error":"#REF!"}},{"$f":"' BORDRO HAZIRLIK'!#REF!","v":{"$error":"#REF!"}},{"$f":"' BORDRO HAZIRLIK'!#REF!","v":{"$error":"#REF!"}},{"$f":"' BORDRO HAZIRLIK'!#REF!","v":{"$error":"#REF!"}},{"$f":"' BORDRO HAZIRLIK'!#REF!","v":{"$error":"#REF!"}},{"$f":"' BORDRO HAZIRLIK'!#REF!","v":{"$error":"#REF!"}},{"$f":"' BORDRO HAZIRLIK'!#REF!","v":{"$error":"#REF!"}},null,null,{"$f":"PUANTAJ!AI75","v":0},{"$f":"PUANTAJ!AJ75","v":0},{"$f":"PUANTAJ!AK75","v":0},{"$f":"PUANTAJ!AM75","v":0},null,null,null,{"$f":"' BORDRO HAZIRLIK'!#REF!","v":{"$error":"#REF!"}},{"$f":"' BORDRO HAZIRLIK'!#REF!","v":{"$error":"#REF!"}},{"$f":"' BORDRO HAZIRLIK'!#REF!","v":{"$error":"#REF!"}},{"$f":"' BORDRO HAZIRLIK'!#REF!","v":{"$error":"#REF!"}},null,{"$f":"' BORDRO HAZIRLIK'!#REF!","v":{"$error":"#REF!"}},{"$f":"' BORDRO HAZIRLIK'!#REF!","v":{"$error":"#REF!"}},null,{"$f":"' BORDRO HAZIRLIK'!#REF!","v":{"$error":"#REF!"}},{"$f":"' BORDRO HAZIRLIK'!#REF!","v":{"$error":"#REF!"}},{"$f":"' BORDRO HAZIRLIK'!#REF!","v":{"$error":"#REF!"}},null,null,{"$f":"' BORDRO HAZIRLIK'!#REF!","v":{"$error":"#REF!"}},{"$f":"' BORDRO HAZIRLIK'!#REF!","v":{"$error":"#REF!"}},{"$f":"' BORDRO HAZIRLIK'!#REF!","v":{"$error":"#REF!"}},{"$f":"'PERSONEL BİLGİ GİRİŞİ'!I39","v":0},null,null,null,null,null,{"$f":"' BORDRO HAZIRLIK'!#REF!","v":{"$error":"#REF!"}},{"$f":"' BORDRO HAZIRLIK'!#REF!","v":{"$error":"#REF!"}}]
[null,null,null,null,null,null,null,null,null,null,null,null,null,null,null,null,null,null,null,null,36,{"$f":"PUANTAJ!#REF!","v":{"$error":"#REF!"}},{"$f":"'PERSONEL BİLGİ GİRİŞİ'!H40","v":0},{"$f":"'PERSONEL BİLGİ GİRİŞİ'!Q40","v":0},{"$f":"'PERSONEL BİLGİ GİRİŞİ'!R40","v":0},{"$f":"'PERSONEL BİLGİ GİRİŞİ'!U40","v":0},{"$f":"'PERSONEL BİLGİ GİRİŞİ'!E40","v":0},{"$f":"PUANTAJ!#REF!","v":{"$error":"#REF!"}},{"$f":"' BORDRO HAZIRLIK'!#REF!","v":{"$error":"#REF!"}},{"$f":"' BORDRO HAZIRLIK'!#REF!","v":{"$error":"#REF!"}},{"$f":"' BORDRO HAZIRLIK'!#REF!","v":{"$error":"#REF!"}},{"$f":"' BORDRO HAZIRLIK'!#REF!","v":{"$error":"#REF!"}},{"$f":"' BORDRO HAZIRLIK'!#REF!","v":{"$error":"#REF!"}},{"$f":"' BORDRO HAZIRLIK'!#REF!","v":{"$error":"#REF!"}},{"$f":"' BORDRO HAZIRLIK'!#REF!","v":{"$error":"#REF!"}},{"$f":"' BORDRO HAZIRLIK'!#REF!","v":{"$error":"#REF!"}},{"$f":"' BORDRO HAZIRLIK'!#REF!","v":{"$error":"#REF!"}},{"$f":"' BORDRO HAZIRLIK'!#REF!","v":{"$error":"#REF!"}},{"$f":"' BORDRO HAZIRLIK'!#REF!","v":{"$error":"#REF!"}},null,null,{"$f":"PUANTAJ!#REF!","v":{"$error":"#REF!"}},{"$f":"PUANTAJ!#REF!","v":{"$error":"#REF!"}},{"$f":"PUANTAJ!#REF!","v":{"$error":"#REF!"}},{"$f":"PUANTAJ!#REF!","v":{"$error":"#REF!"}},null,null,null,{"$f":"' BORDRO HAZIRLIK'!#REF!","v":{"$error":"#REF!"}},{"$f":"' BORDRO HAZIRLIK'!#REF!","v":{"$error":"#REF!"}},{"$f":"' BORDRO HAZIRLIK'!#REF!","v":{"$error":"#REF!"}},{"$f":"' BORDRO HAZIRLIK'!#REF!","v":{"$error":"#REF!"}},null,{"$f":"' BORDRO HAZIRLIK'!#REF!","v":{"$error":"#REF!"}},{"$f":"' BORDRO HAZIRLIK'!#REF!","v":{"$error":"#REF!"}},null,{"$f":"' BORDRO HAZIRLIK'!#REF!","v":{"$error":"#REF!"}},{"$f":"' BORDRO HAZIRLIK'!#REF!","v":{"$error":"#REF!"}},{"$f":"' BORDRO HAZIRLIK'!#REF!","v":{"$error":"#REF!"}},null,null,{"$f":"' BORDRO HAZIRLIK'!#REF!","v":{"$error":"#REF!"}},{"$f":"' BORDRO HAZIRLIK'!#REF!","v":{"$error":"#REF!"}},{"$f":"' BORDRO HAZIRLIK'!#REF!","v":{"$error":"#REF!"}},{"$f":"'PERSONEL BİLGİ GİRİŞİ'!I40","v":0},null,null,null,null,null,{"$f":"' BORDRO HAZIRLIK'!#REF!","v":{"$error":"#REF!"}},{"$f":"' BORDRO HAZIRLIK'!#REF!","v":{"$error":"#REF!"}}]
[null,null,null,null,null,null,null,null,null,null,null,null,null,null,null,null,null,null,null,null,37,{"$f":"PUANTAJ!#REF!","v":{"$error":"#REF!"}},{"$f":"'PERSONEL BİLGİ GİRİŞİ'!H41","v":0},{"$f":"'PERSONEL BİLGİ GİRİŞİ'!Q41","v":0},{"$f":"'PERSONEL BİLGİ GİRİŞİ'!R41","v":0},{"$f":"'PERSONEL BİLGİ GİRİŞİ'!U41","v":0},{"$f":"'PERSONEL BİLGİ GİRİŞİ'!E41","v":0},{"$f":"PUANTAJ!#REF!","v":{"$error":"#REF!"}},{"$f":"' BORDRO HAZIRLIK'!AE40","v":17002.12},{"$f":"' BORDRO HAZIRLIK'!AF40","v":17002.12},{"$f":"' BORDRO HAZIRLIK'!K40","v":17469.28},{"$f":"' BORDRO HAZIRLIK'!BH40","v":18498.96},{"$f":"' BORDRO HAZIRLIK'!AK40","v":18779.48},{"$f":"' BORDRO HAZIRLIK'!AO40","v":266.60000000000002},{"$f":"' BORDRO HAZIRLIK'!AP40","v":13.92},{"$f":"' BORDRO HAZIRLIK'!AQ40","v":21836.6},{"$f":"' BORDRO HAZIRLIK'!AN40","v":18779.48},{"$f":"' BORDRO HAZIRLIK'!P40","v":41},{"$f":"' BORDRO HAZIRLIK'!Q40","v":4367.32},null,null,{"$f":"PUANTAJ!#REF!","v":{"$error":"#REF!"}},{"$f":"PUANTAJ!#REF!","v":{"$error":"#REF!"}},{"$f":"PUANTAJ!#REF!","v":{"$error":"#REF!"}},{"$f":"PUANTAJ!#REF!","v":{"$error":"#REF!"}},null,null,null,{"$f":"' BORDRO HAZIRLIK'!AY40","v":2402.04},{"$f":"' BORDRO HAZIRLIK'!AZ40","v":1965.29},{"$f":"' BORDRO HAZIRLIK'!BA40","v":1091.83},{"$f":"' BORDRO HAZIRLIK'!BB40","v":1637.75},null,{"$f":"' BORDRO HAZIRLIK'!AR40","v":0},{"$f":"' BORDRO HAZIRLIK'!AJ40","v":21836.6},null,{"$f":"' BORDRO HAZIRLIK'!AS40","v":0},{"$f":"' BORDRO HAZIRLIK'!AT40","v":0},{"$f":"' BORDRO HAZIRLIK'!I40","v":23},null,null,{"$f":"' BORDRO HAZIRLIK'!BC40","v":436.73},{"$f":"' BORDRO HAZIRLIK'!BD40","v":0},{"$f":"' BORDRO HAZIRLIK'!BE40","v":0},{"$f":"'PERSONEL BİLGİ GİRİŞİ'!I41","v":0},null,null,null,null,null,{"$f":"' BORDRO HAZIRLIK'!AG40","v":2550.3200000000002},{"$f":"' BORDRO HAZIRLIK'!AH40","v":151.82}]

{"sheet":"PERSONEL BİLGİ GİRİŞİ","index":4,"n_rows":108,"n_cols":65,"rows_kept":108,"cut":false,"hidden":false,"merged":[[4,64,4,65],[0,0,0,57],[83,10,83,15],[80,0,80,1],[1,0,1,4],[80,10,80,15],[81,10,81,15],[82,10,82,15],[81,0,81,1],[82,0,82,1],[83,0,83,1],[2,27,2,28],[2,32,2,35]]}
[{"$f":"'ANA SAYFA'!A1","v":"AİLE VE SOSYAL HİZMETLER İL MÜDÜRLÜĞÜ"}]
[null,null,null,null,null,null,null,null,null,"ANASAYFA","ASGARİ ÜCRET",null,null,null,null,null,"ANA SAYFA",null,null,null,null,null,null,null,null,null,null,null,null,null,null,null,null,null,null,null,null,null,null,null,null,"ANASAYFA",null,null,null,null,null,null,null,null,null,null,null,null,"ANA SAYFA"]
[{"$f":"CONCATENATE('PERSONEL BİLGİ GİRİŞİ'!B5,\" \")","v":"ALİ BZC "},null,null,null,null,13,"00000",null,null,{"$f":"PUANTAJ!AI2","v":"2024-01-01"},null,null,null,null,null,null,null,null,null,null,null,null,null,null,null,null,null,null,null,null,null,null,"EĞİTİM YARDIMI"]
["SIRA NO","ADI","SOYADI","İLK SOYADI","MESLEK KODU","Belge Türü","Kanun No (5 Hane)","TC. KİMLİK NO","E-POSTA                                                                             Göndermek için tıkla","İBAN HESAP NO","İŞE GİRİŞ","İŞTEN ÇIKIŞ","İŞTEN ÇIKIŞ NEDENİ","EKSİK GÜN NEDENİ","1            GÜNLÜK BÜRÜT ÜCRET","1 GÜNLÜK     ÜCRET                        +                        ÜCRET ZAMMI","BÜRÜT        ÜCRET","GÜNDÜZ            SAAT                   ÜCRETİ","2.ZAM GÜNDÜZ","2.ZAM GECE","GECE                           VE                          HAFTA SONU      SAAT                   ÜCRETİ","SEHVEN\nÖDENEMEYEN \nÜCRET","SEHVEN\nÖDENEMEYEN \nÜCRETİN\nNEDENİ","KİŞİ\nBORCU\n(BRÜT)","KİŞİ\nBORCU\n NEDENİ","AGİ                   İNDİRİM ORANI","AGİ",null,"EK                  VERGİ               MATRAHI","EK                  VERGİ               MATRAHI","EK                  VERGİ               MATRAHI","EK                  VERGİ               MATRAHI","EK                  VERGİ               MATRAHI","EK                  VERGİ               MATRAHI","EK                  VERGİ               MATRAHI","EK                  VERGİ               MATRAHI","EK                  VERGİ               MATRAHI","İSTİSNA\nEK \nVERGİ \nMATRAHI","BES","BAYRAM","İCRA","İKRAMİYE\nTEDİYE","KISTELYEVM İKRAMİYE","EVLENME","DOĞUM\nYARDIMI","NAFAKA","ÖLÜM       YARDIMI","SENDİKA AİDAT",null,null,"ENGELLİ\nVERGİ İNDİRİMİ",null,null,null,null,"KEFALET GİRİŞ AİDAT KESİNTİSİ","KEFALET KESİNTİSİ","14       GÜNLÜK MAAŞ FARKI"]
[{"$f":"IF(B5=\"\",\"\",ROW(B5)-4)","v":1},"ALİ BZC",null,null,null,{"$f":"IF(B5<>\"\",$F$3,\"\")","v":13},{"$f":"IF(B5<>\"\",$G$3,\"\")","v":"00000"},null,null,null,null,null,null,null,{"$f":"Q5/30","v":582.32000000000005},{"$f":"O5","v":582.32000000000005},{"$f":"('ANA SAYFA'!$N$24*'ANA SAYFA'!$N$25*(PUANTAJ!AI7))+('ANA SAYFA'!$N$24*'ANA SAYFA'!$N$3*(PUANTAJ!AJ7+PUANTAJ!AK7))","v":17469.599999999999},{"$f":"IF(Q5=0,(0),'ANA SAYFA'!$H$15*'ANA SAYFA'!$N$25)","v":106.52},null,null,{"$f":"IF(Q5=0,0,'ANA SAYFA'!$H$15*'ANA SAYFA'!$O$25)","v":114.13},null,null,null,null,null,{"$f":"ROUND('ANA SAYFA'!$J$15*15/100*Z5/100,2)","v":0},null,0,85247.76,84508.26,85247.76,84508.26,85247.76,84508.26,85247.76,84508.26,0,null,null,null,null,null,null,null,null,null,null,null,null,null,null,null,null,null,null,null,null,null,null,null,"EKSİK GÜN NEDENLERİ",null,null,"İŞTEN ÇIKIŞ NEDENLERİ"]
[{"$f":"IF(B6=\"\",\"\",ROW(B6)-4)","v":""},null,null,null,null,{"$f":"IF(B6<>\"\",$F$3,\"\")","v":""},{"$f":"IF(B6<>\"\",$G$3,\"\")","v":""},null,null,null,null,null,null,null,{"$f":"Q6/30","v":0},{"$f":"O6","v":0},{"$f":"('ANA SAYFA'!$N$24*'ANA SAYFA'!$N$25*(PUANTAJ!AI9))+('ANA SAYFA'!$N$24*'ANA SAYFA'!$N$3*(PUANTAJ!AJ9+PUANTAJ!AK9))","v":0},{"$f":"IF(Q6=0,(0),'ANA SAYFA'!$H$15*'ANA SAYFA'!$N$25)","v":0},null,null,{"$f":"IF(Q6=0,0,'ANA SAYFA'!$H$15*'ANA SAYFA'!$O$25)","v":0},null,null,null,null,null,{"$f":"ROUND('ANA SAYFA'!$J$15*15/100*Z6/100,2)","v":0},null,0,85247.76,84252,85247.76,84252,85248,84252,85248,84252.42,0]
["",null,null,null,null,"","",null,null,null,null,null,null,null,0,0,{"$f":"('ANA SAYFA'!$N$24*'ANA SAYFA'!$N$25*(PUANTAJ!AI11))+('ANA SAYFA'!$N$24*'ANA SAYFA'!$N$3*(PUANTAJ!AJ11+PUANTAJ!AK11))","v":0},{"$f":"IF(Q7=0,(0),'ANA SAYFA'!$H$15*'ANA SAYFA'!$N$25)","v":0},null,null,{"$f":"IF(Q7=0,0,'ANA SAYFA'!$H$15*'ANA SAYFA'!$O$25)","v":0},null,null,null,null,null,{"$f":"ROUND('ANA SAYFA'!$J$15*15/100*Z7/100,2)","v":0},null,0,85247.76,84414,85247.76,84414,85248,84414,85248,84413.52,0]
["",null,null,null,null,"","",null,null,null,null,null,null,null,0,0,{"$f":"('ANA SAYFA'!$N$24*'ANA SAYFA'!$N$25*(PUANTAJ!AI13))+('ANA SAYFA'!$N$24*'ANA SAYFA'!$N$3*(PUANTAJ!AJ13+PUANTAJ!AK13))","v":0},{"$f":"IF(Q8=0,(0),'ANA SAYFA'!$H$15*'ANA SAYFA'!$N$25)","v":0},null,null,{"$f":"IF(Q8=0,0,'ANA SAYFA'!$H$15*'ANA SAYFA'!$O$25)","v":0},null,null,null,null,null,{"$f":"ROUND('ANA SAYFA'!$J$15*15/100*Z8/100,2)","v":0},null,0,85247.76,85625,85247.76,85625,85248,85625,85248,85625.48,0]
["",null,null,null,null,"","",null,null,null,null,null,null,null,0,0,{"$f":"('ANA SAYFA'!$N$24*'ANA SAYFA'!$N$25*(PUANTAJ!AI15))+('ANA SAYFA'!$N$24*'ANA SAYFA'!$N$3*(PUANTAJ!AJ15+PUANTAJ!AK15))","v":0},{"$f":"IF(Q9=0,(0),'ANA SAYFA'!$H$15*'ANA SAYFA'!$N$25)","v":0},null,null,{"$f":"IF(Q9=0,0,'ANA SAYFA'!$H$15*'ANA SAYFA'!$O$25)","v":0},null,null,null,null,null,{"$f":"ROUND('ANA SAYFA'!$J$15*15/100*Z9/100,2)","v":0},null,0,null,null,null,null,null,null,null,null,0]
["",null,null,null,null,"","",null,null,null,null,null,null,null,0,0,{"$f":"('ANA SAYFA'!$N$24*'ANA SAYFA'!$N$25*(PUANTAJ!AI17))+('ANA SAYFA'!$N$24*'ANA SAYFA'!$N$3*(PUANTAJ!AJ17+PUANTAJ!AK17))","v":0},{"$f":"IF(Q10=0,(0),'ANA SAYFA'!$H$15*'ANA SAYFA'!$N$25)","v":0},null,null,{"$f":"IF(Q10=0,0,'ANA SAYFA'!$H$15*'ANA SAYFA'!$O$25)","v":0},null,null,null,null,null,{"$f":"ROUND('ANA SAYFA'!$J$15*15/100*Z10/100,2)","v":0},null,0,null,null,null,null,null,null,null,null,0]
["",null,null,null,null,"","",null,null,null,null,null,null,null,0,0,{"$f":"('ANA SAYFA'!$N$24*'ANA SAYFA'!$N$25*(PUANTAJ!AI19))+('ANA SAYFA'!$N$24*'ANA SAYFA'!$N$3*(PUANTAJ!AJ19+PUANTAJ!AK19))","v":0},{"$f":"IF(Q11=0,(0),'ANA SAYFA'!$H$15*'ANA SAYFA'!$N$25)","v":0},null,null,{"$f":"IF(Q11=0,0,'ANA SAYFA'!$H$15*'ANA SAYFA'!$O$25)","v":0},null,null,null,null,null,{"$f":"ROUND('ANA SAYFA'!$J$15*15/100*Z11/100,2)","v":0},null,0,null,null,null,null,null,null,null,null,0]
["",null,null,null,null,"","",null,null,null,null,null,null,null,0,0,{"$f":"('ANA SAYFA'!$N$24*'ANA SAYFA'!$N$25*(PUANTAJ!AI21))+('ANA SAYFA'!$N$24*'ANA SAYFA'!$N$3*(PUANTAJ!AJ21+PUANTAJ!AK21))","v":0},{"$f":"IF(Q12=0,(0),'ANA SAYFA'!$H$15*'ANA SAYFA'!$N$25)","v":0},null,null,{"$f":"IF(Q12=0,0,'ANA SAYFA'!$H$15*'ANA SAYFA'!$O$25)","v":0},null,null,null,null,null,{"$f":"ROUND('ANA SAYFA'!$J$15*15/100*Z12/100,2)","v":0},null,0,null,null,null,null,null,null,null,null,0]
["",null,null,null,null,"","",null,null,null,null,null,null,null,0,0,{"$f":"('ANA SAYFA'!$N$24*'ANA SAYFA'!$N$25*(PUANTAJ!AI23))+('ANA SAYFA'!$N$24*'ANA SAYFA'!$N$3*(PUANTAJ!AJ23+PUANTAJ!AK23))","v":0},{"$f":"IF(Q13=0,(0),'ANA SAYFA'!$H$15*'ANA SAYFA'!$N$25)","v":0},null,null,{"$f":"IF(Q13=0,0,'ANA SAYFA'!$H$15*'ANA SAYFA'!$O$25)","v":0},null,null,null,null,null,{"$f":"ROUND('ANA SAYFA'!$J$15*15/100*Z13/100,2)","v":0},null,0,null,null,null,null,null,null,null,null,0]
["",null,null,null,null,"","",null,null,null,null,null,null,null,0,0,{"$f":"('ANA SAYFA'!$N$24*'ANA SAYFA'!$N$25*(PUANTAJ!AI25))+('ANA SAYFA'!$N$24*'ANA SAYFA'!$N$3*(PUANTAJ!AJ25+PUANTAJ!AK25))","v":0},{"$f":"IF(Q14=0,(0),'ANA SAYFA'!$H$15*'ANA SAYFA'!$N$25)","v":0},null,null,{"$f":"IF(Q14=0,0,'ANA SAYFA'!$H$15*'ANA SAYFA'!$O$25)","v":0},null,null,null,null,null,{"$f":"ROUND('ANA SAYFA'!$J$15*15/100*Z14/100,2)","v":0},null,0,null,null,null,null,null,null,null,null,0]
["",null,null,null,null,"","",null,null,null,null,null,null,null,0,0,{"$f":"('ANA SAYFA'!$N$24*'ANA SAYFA'!$N$25*(PUANTAJ!AI27))+('ANA SAYFA'!$N$24*'ANA SAYFA'!$N$3*(PUANTAJ!AJ27+PUANTAJ!AK27))","v":0},{"$f":"IF(Q15=0,(0),'ANA SAYFA'!$H$15*'ANA SAYFA'!$N$25)","v":0},null,null,{"$f":"IF(Q15=0,0,'ANA SAYFA'!$H$15*'ANA SAYFA'!$O$25)","v":0},null,null,null,null,null,{"$f":"ROUND('ANA SAYFA'!$J$15*15/100*Z15/100,2)","v":0},null,0,null,null,null,null,null,null,null,null,0]
["",null,null,null,null,"","",null,null,null,null,null,null,null,0,0,{"$f":"('ANA SAYFA'!$N$24*'ANA SAYFA'!$N$25*(PUANTAJ!AI29))+('ANA SAYFA'!$N$24*'ANA SAYFA'!$N$3*(PUANTAJ!AJ29+PUANTAJ!AK29))","v":0},{"$f":"IF(Q16=0,(0),'ANA SAYFA'!$H$15*'ANA SAYFA'!$N$25)","v":0},null,null,{"$f":"IF(Q16=0,0,'ANA SAYFA'!$H$15*'ANA SAYFA'!$O$25)","v":0},null,null,null,null,null,{"$f":"ROUND('ANA SAYFA'!$J$15*15/100*Z16/100,2)","v":0},null,0,null,null,null,null,null,null,null,null,0]
["",null,null,null,null,"","",null,null,null,null,null,null,null,0,0,{"$f":"('ANA SAYFA'!$N$24*'ANA SAYFA'!$N$25*(PUANTAJ!AI31))+('ANA SAYFA'!$N$24*'ANA SAYFA'!$N$3*(PUANTAJ!AJ31+PUANTAJ!AK31))","v":0},{"$f":"IF(Q17=0,(0),'ANA SAYFA'!$H$15*'ANA SAYFA'!$N$25)","v":0},null,null,{"$f":"IF(Q17=0,0,'ANA SAYFA'!$H$15*'ANA SAYFA'!$O$25)","v":0},null,null,null,null,null,{"$f":"ROUND('ANA SAYFA'!$J$15*15/100*Z17/100,2)","v":0},null,0,null,null,null,null,null,null,null,null,0]
["",null,null,null,null,"","",null,null,null,null,null,null,null,0,0,{"$f":"('ANA SAYFA'!$N$24*'ANA SAYFA'!$N$25*(PUANTAJ!AI33))+('ANA SAYFA'!$N$24*'ANA SAYFA'!$N$3*(PUANTAJ!AJ33+PUANTAJ!AK33))","v":0},{"$f":"IF(Q18=0,(0),'ANA SAYFA'!$H$15*'ANA SAYFA'!$N$25)","v":0},null,null,{"$f":"IF(Q18=0,0,'ANA SAYFA'!$H$15*'ANA SAYFA'!$O$25)","v":0},null,null,null,null,null,{"$f":"ROUND('ANA SAYFA'!$J$15*15/100*Z18/100,2)","v":0},null,0,null,null,null,null,null,null,null,null,0]
["",null,null,null,null,"","",null,null,null,null,null,null,null,0,0,{"$f":"('ANA SAYFA'!$N$24*'ANA SAYFA'!$N$25*(PUANTAJ!AI35))+('ANA SAYFA'!$N$24*'ANA SAYFA'!$N$3*(PUANTAJ!AJ35+PUANTAJ!AK35))","v":0},{"$f":"IF(Q19=0,(0),'ANA SAYFA'!$H$15*'ANA SAYFA'!$N$25)","v":0},null,null,{"$f":"IF(Q19=0,0,'ANA SAYFA'!$H$15*'ANA SAYFA'!$O$25)","v":0},null,null,null,null,null,{"$f":"ROUND('ANA SAYFA'!$J$15*15/100*Z19/100,2)","v":0},null,0,null,null,null,null,null,null,null,null,0]
["",null,null,null,null,"","",null,null,null,null,null,null,null,0,0,{"$f":"('ANA SAYFA'!$N$24*'ANA SAYFA'!$N$25*(PUANTAJ!AI37))+('ANA SAYFA'!$N$24*'ANA SAYFA'!$N$3*(PUANTAJ!AJ37+PUANTAJ!AK37))","v":0},{"$f":"IF(Q20=0,(0),'ANA SAYFA'!$H$15*'ANA SAYFA'!$N$25)","v":0},null,null,{"$f":"IF(Q20=0,0,'ANA SAYFA'!$H$15*'ANA SAYFA'!$O$25)","v":0},null,null,null,null,null,{"$f":"ROUND('ANA SAYFA'!$J$15*15/100*Z20/100,2)","v":0},null,0,null,null,null,null,null,null,null,null,0]
["",null,null,null,null,"","",null,null,null,null,null,null,null,0,0,{"$f":"('ANA SAYFA'!$N$24*'ANA SAYFA'!$N$25*(PUANTAJ!AI39))+('ANA SAYFA'!$N$24*'ANA SAYFA'!$N$3*(PUANTAJ!AJ39+PUANTAJ!AK39))","v":0},{"$f":"IF(Q21=0,(0),'ANA SAYFA'!$H$15*'ANA SAYFA'!$N$25)","v":0},null,null,{"$f":"IF(Q21=0,0,'ANA SAYFA'!$H$15*'ANA SAYFA'!$O$25)","v":0},null,null,null,null,null,{"$f":"ROUND('ANA SAYFA'!$J$15*15/100*Z21/100,2)","v":0},null,0,null,null,null,null,null,null,null,null,0]
["",null,null,null,null,"","",null,null,null,null,null,null,null,0,0,{"$f":"('ANA SAYFA'!$N$24*'ANA SAYFA'!$N$25*(PUANTAJ!AI41))+('ANA SAYFA'!$N$24*'ANA SAYFA'!$N$3*(PUANTAJ!AJ41+PUANTAJ!AK41))","v":0},{"$f":"IF(Q22=0,(0),'ANA SAYFA'!$H$15*'ANA SAYFA'!$N$25)","v":0},null,null,{"$f":"IF(Q22=0,0,'ANA SAYFA'!$H$15*'ANA SAYFA'!$O$25)","v":0},null,null,null,null,null,{"$f":"ROUND('ANA SAYFA'!$J$15*15/100*Z22/100,2)","v":0},null,0,null,null,null,null,null,null,null,null,0]
["",null,null,null,null,"","",null,null,null,null,null,null,null,0,0,{"$f":"('ANA SAYFA'!$N$24*'ANA SAYFA'!$N$25*(PUANTAJ!AI43))+('ANA SAYFA'!$N$24*'ANA SAYFA'!$N$3*(PUANTAJ!AJ43+PUANTAJ!AK43))","v":0},{"$f":"IF(Q23=0,(0),'ANA SAYFA'!$H$15*'ANA SAYFA'!$N$25)","v":0},null,null,{"$f":"IF(Q23=0,0,'ANA SAYFA'!$H$15*'ANA SAYFA'!$O$25)","v":0},null,null,null,null,null,{"$f":"ROUND('ANA SAYFA'!$J$15*15/100*Z23/100,2)","v":0},null,0,null,null,null,null,null,null,null,null,0]
["",null,null,null,null,"","",null,null,null,null,null,null,null,0,0,{"$f":"('ANA SAYFA'!$N$24*'ANA SAYFA'!$N$25*(PUANTAJ!AI45))+('ANA SAYFA'!$N$24*'ANA SAYFA'!$N$3*(PUANTAJ!AJ45+PUANTAJ!AK45))","v":0},{"$f":"IF(Q24=0,(0),'ANA SAYFA'!$H$15*'ANA SAYFA'!$N$25)","v":0},null,null,{"$f":"IF(Q24=0,0,'ANA SAYFA'!$H$15*'ANA SAYFA'!$O$25)","v":0},null,null,null,null,null,{"$f":"ROUND('ANA SAYFA'!$J$15*15/100*Z24/100,2)","v":0},null,0,null,null,null,null,null,null,null,null,0]
["",null,null,null,null,"","",null,null,null,null,null,null,null,0,0,{"$f":"('ANA SAYFA'!$N$24*'ANA SAYFA'!$N$25*(PUANTAJ!AI47))+('ANA SAYFA'!$N$24*'ANA SAYFA'!$N$3*(PUANTAJ!AJ47+PUANTAJ!AK47))","v":0},{"$f":"IF(Q25=0,(0),'ANA SAYFA'!$H$15*'ANA SAYFA'!$N$25)","v":0},null,null,{"$f":"IF(Q25=0,0,'ANA SAYFA'!$H$15*'ANA SAYFA'!$O$25)","v":0},null,null,null,null,null,{"$f":"ROUND('ANA SAYFA'!$J$15*15/100*Z25/100,2)","v":0},null,0,null,null,null,null,null,null,null,null,0]
["",null,null,null,null,"","",null,null,null,null,null,null,null,0,0,{"$f":"('ANA SAYFA'!$N$24*'ANA SAYFA'!$N$25*(PUANTAJ!AI49))+('ANA SAYFA'!$N$24*'ANA SAYFA'!$N$3*(PUANTAJ!AJ49+PUANTAJ!AK49))","v":0},{"$f":"IF(Q26=0,(0),'ANA SAYFA'!$H$15*'ANA SAYFA'!$N$25)","v":0},null,null,{"$f":"IF(Q26=0,0,'ANA SAYFA'!$H$15*'ANA SAYFA'!$O$25)","v":0},null,null,null,null,null,{"$f":"ROUND('ANA SAYFA'!$J$15*15/100*Z26/100,2)","v":0},null,0,null,null,null,null,null,null,null,null,0]
["",null,null,null,null,"","",null,null,null,null,null,null,null,0,0,{"$f":"('ANA SAYFA'!$N$24*'ANA SAYFA'!$N$25*(PUANTAJ!AI51))+('ANA SAYFA'!$N$24*'ANA SAYFA'!$N$3*(PUANTAJ!AJ51+PUANTAJ!AK51))","v":0},{"$f":"IF(Q27=0,(0),'ANA SAYFA'!$H$15*'ANA SAYFA'!$N$25)","v":0},null,null,{"$f":"IF(Q27=0,0,'ANA SAYFA'!$H$15*'ANA SAYFA'!$O$25)","v":0},null,null,null,null,null,{"$f":"ROUND('ANA SAYFA'!$J$15*15/100*Z27/100,2)","v":0},null,0,null,null,null,null,null,null,null,null,0]
["",null,null,null,null,"","",null,null,null,null,null,null,null,0,0,{"$f":"('ANA SAYFA'!$N$24*'ANA SAYFA'!$N$25*(PUANTAJ!AI53))+('ANA SAYFA'!$N$24*'ANA SAYFA'!$N$3*(PUANTAJ!AJ53+PUANTAJ!AK53))","v":0},{"$f":"IF(Q28=0,(0),'ANA SAYFA'!$H$15*'ANA SAYFA'!$N$25)","v":0},null,null,{"$f":"IF(Q28=0,0,'ANA SAYFA'!$H$15*'ANA SAYFA'!$O$25)","v":0},null,null,null,null,null,{"$f":"ROUND('ANA SAYFA'!$J$15*15/100*Z28/100,2)","v":0},null,0,3.57,null,null,null,null,null,null,null,0,null,null,null,null,null,null,null,null,null,null,null,null,null,null,null,null,null,null,null,null,null,null,"24","24-YARIM ÇALIŞMA ÖDENEĞİ VE DİĞER NEDENLER",null,"24"]
["",null,null,null,null,"","",null,null,null,null,null,null,null,0,0,{"$f":"('ANA SAYFA'!$N$24*'ANA SAYFA'!$N$25*(PUANTAJ!AI55))+('ANA SAYFA'!$N$24*'ANA SAYFA'!$N$3*(PUANTAJ!AJ55+PUANTAJ!AK55))","v":0},{"$f":"IF(Q29=0,(0),'ANA SAYFA'!$H$15*'ANA SAYFA'!$N$25)","v":0},null,null,{"$f":"IF(Q29=0,0,'ANA SAYFA'!$H$15*'ANA SAYFA'!$O$25)","v":0},null,null,null,null,null,{"$f":"ROUND('ANA SAYFA'!$J$15*15/100*Z29/100,2)","v":0},null,0,3.57,null,null,null,null,null,null,null,0,null,null,null,null,null,null,null,null,null,null,null,null,null,null,null,null,null,null,null,null,null,null,"25","25-DİĞER BELGE/KANUN TÜRLERİNDEN GÜN TAMAMLAMA",null,"25"]
["",null,null,null,null,"","",null,null,null,null,null,null,null,0,0,{"$f":"('ANA SAYFA'!$N$24*'ANA SAYFA'!$N$25*(PUANTAJ!AI57))+('ANA SAYFA'!$N$24*'ANA SAYFA'!$N$3*(PUANTAJ!AJ57+PUANTAJ!AK57))","v":0},{"$f":"IF(Q30=0,(0),'ANA SAYFA'!$H$15*'ANA SAYFA'!$N$25)","v":0},null,null,{"$f":"IF(Q30=0,0,'ANA SAYFA'!$H$15*'ANA SAYFA'!$O$25)","v":0},null,null,null,null,null,{"$f":"ROUND('ANA SAYFA'!$J$15*15/100*Z30/100,2)","v":0},null,0,3.57,null,null,null,null,null,null,null,0,null,null,null,null,null,null,null,null,null,null,null,null,null,null,null,null,null,null,null,null,null,null,"26","26-KISMİ İSTİHDAMA İZİN VERİLEN YABANCI UYRUKLU",null,"26"]
["",null,null,null,null,"","",null,null,null,null,null,null,null,0,0,{"$f":"('ANA SAYFA'!$N$24*'ANA SAYFA'!$N$25*(PUANTAJ!AI59))+('ANA SAYFA'!$N$24*'ANA SAYFA'!$N$3*(PUANTAJ!AJ59+PUANTAJ!AK59))","v":0},{"$f":"IF(Q31=0,(0),'ANA SAYFA'!$H$15*'ANA SAYFA'!$N$25)","v":0},null,null,{"$f":"IF(Q31=0,0,'ANA SAYFA'!$H$15*'ANA SAYFA'!$O$25)","v":0},null,null,null,null,null,{"$f":"ROUND('ANA SAYFA'!$J$15*15/100*Z31/100,2)","v":0},null,0,3.57,null,null,null,null,null,null,null,0,null,null,null,null,null,null,null,null,null,null,null,null,null,null,null,null,null,null,null,null,null,null,"27","27-KISA ÇALIŞMA ÖDENEĞİ VE DİĞER NEDENLER",null,"27"]
["",null,null,null,null,"","",null,null,null,null,null,null,null,0,0,{"$f":"('ANA SAYFA'!$N$24*'ANA SAYFA'!$N$25*(PUANTAJ!AI61))+('ANA SAYFA'!$N$24*'ANA SAYFA'!$N$3*(PUANTAJ!AJ61+PUANTAJ!AK61))","v":0},{"$f":"IF(Q32=0,(0),'ANA SAYFA'!$H$15*'ANA SAYFA'!$N$25)","v":0},null,null,{"$f":"IF(Q32=0,0,'ANA SAYFA'!$H$15*'ANA SAYFA'!$O$25)","v":0},null,null,null,null,null,{"$f":"ROUND('ANA SAYFA'!$J$15*15/100*Z32/100,2)","v":0},null,0,3.57,null,null,null,null,null,null,null,0,null,null,null,null,null,null,null,null,null,null,null,null,null,null,null,null,null,null,null,null,null,null,"28","28-PANDEMİ ÜCRETSİZ İZİN(4857 GEÇ. 10.MD)",null,"28"]
["",null,null,null,null,"","",null,null,null,null,null,null,null,0,0,{"$f":"('ANA SAYFA'!$N$24*'ANA SAYFA'!$N$25*(PUANTAJ!AI63))+('ANA SAYFA'!$N$24*'ANA SAYFA'!$N$3*(PUANTAJ!AJ63+PUANTAJ!AK63))","v":0},{"$f":"IF(Q33=0,(0),'ANA SAYFA'!$H$15*'ANA SAYFA'!$N$25)","v":0},null,null,{"$f":"IF(Q33=0,0,'ANA SAYFA'!$H$15*'ANA SAYFA'!$O$25)","v":0},null,null,null,null,null,{"$f":"ROUND('ANA SAYFA'!$J$15*15/100*Z33/100,2)","v":0},null,0,3.57,null,null,null,null,null,null,null,0,null,null,null,null,null,null,null,null,null,null,null,null,null,null,null,null,null,null,null,null,null,null,"29","29-29-PANDEMİ ÜCRETSİ İZİN(4857. GEÇ.10.MD) VE DİĞER",null,"30"]
["",null,null,null,null,"","",null,null,null,null,null,null,null,0,0,{"$f":"('ANA SAYFA'!$N$24*'ANA SAYFA'!$N$25*(PUANTAJ!AI65))+('ANA SAYFA'!$N$24*'ANA SAYFA'!$N$3*(PUANTAJ!AJ65+PUANTAJ!AK65))","v":0},{"$f":"IF(Q34=0,(0),'ANA SAYFA'!$H$15*'ANA SAYFA'!$N$25)","v":0},null,null,{"$f":"IF(Q34=0,0,'ANA SAYFA'!$H$15*'ANA SAYFA'!$O$25)","v":0},null,null,null,null,null,{"$f":"ROUND('ANA SAYFA'!$J$15*15/100*Z34/100,2)","v":0},null,0,3.57,null,null,null,null,null,null,null,0,null,null,null,null,null,null,null,null,null,null,null,null,null,null,null,null,null,null,null,null,null,null,null,null,null,"31"]
["",null,null,null,null,"","",null,null,null,null,null,null,null,0,0,{"$f":"('ANA SAYFA'!$N$24*'ANA SAYFA'!$N$25*(PUANTAJ!AI67))+('ANA SAYFA'!$N$24*'ANA SAYFA'!$N$3*(PUANTAJ!AJ67+PUANTAJ!AK67))","v":0},{"$f":"IF(Q35=0,(0),'ANA SAYFA'!$H$15*'ANA SAYFA'!$N$25)","v":0},null,null,{"$f":"IF(Q35=0,0,'ANA SAYFA'!$H$15*'ANA SAYFA'!$O$25)","v":0},null,null,null,null,null,{"$f":"ROUND('ANA SAYFA'!$J$15*15/100*Z35/100,2)","v":0},null,0,3.57,null,null,null,null,null,null,null,0,null,null,null,null,null,null,null,null,null,null,null,null,null,null,null,null,null,null,null,null,null,null,null,null,null,"32"]
["",null,null,null,null,"","",null,null,null,null,null,null,null,0,0,{"$f":"('ANA SAYFA'!$N$24*'ANA SAYFA'!$N$25*(PUANTAJ!AI69))+('ANA SAYFA'!$N$24*'ANA SAYFA'!$N$3*(PUANTAJ!AJ69+PUANTAJ!AK69))","v":0},{"$f":"IF(Q36=0,(0),'ANA SAYFA'!$H$15*'ANA SAYFA'!$N$25)","v":0},null,null,{"$f":"IF(Q36=0,0,'ANA SAYFA'!$H$15*'ANA SAYFA'!$O$25)","v":0},null,null,null,null,null,{"$f":"ROUND('ANA SAYFA'!$J$15*15/100*Z36/100,2)","v":0},null,0,3.57,null,null,null,null,null,null,null,0,null,null,null,null,null,null,null,null,null,null,null,null,null,null,null,null,null,null,null,null,null,null,null,null,null,"33"]
["",null,null,null,null,"","",null,null,null,null,null,null,null,0,0,{"$f":"('ANA SAYFA'!$N$24*'ANA SAYFA'!$N$25*(PUANTAJ!AI71))+('ANA SAYFA'!$N$24*'ANA SAYFA'!$N$3*(PUANTAJ!AJ71+PUANTAJ!AK71))","v":0},{"$f":"IF(Q37=0,(0),'ANA SAYFA'!$H$15*'ANA SAYFA'!$N$25)","v":0},null,null,{"$f":"IF(Q37=0,0,'ANA SAYFA'!$H$15*'ANA SAYFA'!$O$25)","v":0},null,null,null,null,null,{"$f":"ROUND('ANA SAYFA'!$J$15*15/100*Z37/100,2)","v":0},null,0,3.57,null,null,null,null,null,null,null,0,null,null,null,null,null,null,null,null,null,null,null,null,null,null,null,null,null,null,null,null,null,null,null,null,null,"34"]
["",null,null,null,null,"","",null,null,null,null,null,null,null,0,0,{"$f":"('ANA SAYFA'!$N$24*'ANA SAYFA'!$N$25*(PUANTAJ!AI73))+('ANA SAYFA'!$N$24*'ANA SAYFA'!$N$3*(PUANTAJ!AJ73+PUANTAJ!AK73))","v":0},{"$f":"IF(Q38=0,(0),'ANA SAYFA'!$H$15*'ANA SAYFA'!$N$25)","v":0},null,null,{"$f":"IF(Q38=0,0,'ANA SAYFA'!$H$15*'ANA SAYFA'!$O$25)","v":0},null,null,null,null,null,{"$f":"ROUND('ANA SAYFA'!$J$15*15/100*Z38/100,2)","v":0},null,0,3.57,null,null,null,null,null,null,null,0,null,null,null,null,null,null,null,null,null,null,null,null,null,null,null,null,null,null,null,null,null,null,null,null,null,"37"]
["",null,null,null,null,"","",null,null,null,null,null,null,null,0,0,{"$f":"('ANA SAYFA'!$N$24*'ANA SAYFA'!$N$25*(PUANTAJ!AI75))+('ANA SAYFA'!$N$24*'ANA SAYFA'!$N$3*(PUANTAJ!AJ75+PUANTAJ!AK75))","v":0},{"$f":"IF(Q39=0,(0),'ANA SAYFA'!$H$15*'ANA SAYFA'!$N$25)","v":0},null,null,{"$f":"IF(Q39=0,0,'ANA SAYFA'!$H$15*'ANA SAYFA'!$O$25)","v":0},null,null,null,null,null,{"$f":"ROUND('ANA SAYFA'!$J$15*15/100*Z39/100,2)","v":0},null,0,3.57,null,null,null,null,null,null,null,0,null,null,null,null,null,null,null,null,null,null,null,null,null,null,null,null,null,null,null,null,null,null,null,null,null,"38"]
[null,null,null,null,null,null,null,null,null,null,null,null,null,null,null,null,null,null,null,null,null,null,null,null,null,null,null,null,0,null,null,null,null,null,null,null,null,0,null,null,null,null,null,null,null,null,null,null,null,null,null,null,null,null,null,null,null,null,null,null,null,null,null,"39"]
[null,null,null,null,null,null,null,null,null,null,null,null,null,null,null,null,null,null,null,null,null,null,null,null,null,null,null,null,0,null,null,null,null,null,null,null,null,0,null,null,null,null,null,null,null,null,null,null,null,null,null,null,null,null,null,null,null,null,null,null,null,null,null,"40"]
[null,null,null,null,null,null,null,null,null,null,null,null,null,null,null,null,null,null,null,null,null,null,null,null,null,null,null,null,0,null,null,null,null,null,null,null,null,0,null,null,null,null,null,null,null,null,null,null,null,null,null,null,null,null,null,null,null,null,null,null,null,null,null,"42"]
[null,null,null,null,null,null,null,null,null,null,null,null,null,null,null,null,null,null,null,null,null,null,null,null,null,null,null,null,0,null,null,null,null,null,null,null,null,0,null,null,null,null,null,null,null,null,null,null,null,null,null,null,null,null,null,null,null,null,null,null,null,null,null,"43"]
[null,null,null,null,null,null,null,null,null,null,null,null,null,null,null,null,null,null,null,null,null,null,null,null,null,null,null,null,0,null,null,null,null,null,null,null,null,0,null,null,null,null,null,null,null,null,null,null,null,null,null,null,null,null,null,null,null,null,null,null,null,null,null,"44"]
[null,null,null,null,null,null,null,null,null,null,null,null,null,null,null,null,null,null,null,null,null,null,null,null,null,null,null,null,0,null,null,null,null,null,null,null,null,0,null,null,null,null,null,null,null,null,null,null,null,null,null,null,null,null,null,null,null,null,null,null,null,null,null,"45"]
[null,null,null,null,null,null,null,null,null,null,null,null,null,null,null,null,null,null,null,null,null,null,null,null,null,null,null,null,0,null,null,null,null,null,null,null,null,0,null,null,null,null,null,null,null,null,null,null,null,null,null,null,null,null,null,null,null,null,null,null,null,null,null,"46"]
[null,null,null,null,null,null,null,null,null,null,null,null,null,null,null,null,null,null,null,null,null,null,null,null,null,null,null,null,0,null,null,null,null,null,null,null,null,0,null,null,null,null,null,null,null,null,null,null,null,null,null,null,null,null,null,null,null,null,null,null,null,null,null,"47"]
[null,null,null,null,null,null,null,null,null,null,null,null,null,null,null,null,null,null,null,null,null,null,null,null,null,null,null,null,0,null,null,null,null,null,null,null,null,0,null,null,null,null,null,null,null,null,null,null,null,null,null,null,null,null,null,null,null,null,null,null,null,null,null,"48"]
[null,null,null,null,null,null,null,null,null,null,null,null,null,null,null,null,null,null,null,null,null,null,null,null,null,null,null,null,0,null,null,null,null,null,null,null,null,0,null,null,null,null,null,null,null,null,null,null,null,null,null,null,null,null,null,null,null,null,null,null,null,null,null,"49"]
[null,null,null,null,null,null,null,null,null,null,null,null,null,null,null,null,null,null,null,null,null,null,null,null,null,null,null,null,0,null,null,null,null,null,null,null,null,0,null,null,null,null,null,null,null,null,null,null,null,null,null,null,null,null,null,null,null,null,null,null,null,null,null,"50"]
[null,null,null,null,null,null,null,null,null,null,null,null,null,null,null,null,null,null,null,null,null,null,null,null,null,null,null,null,0,null,null,null,null,null,null,null,null,0]
[null,null,null,null,null,null,null,null,null,null,null,null,null,null,null,null,null,null,null,null,null,null,null,null,null,null,null,null,0,null,null,null,null,null,null,null,null,0]
[null,null,null,null,null,null,null,null,null,null,null,null,null,null,null,null,null,null,null,null,null,null,null,null,null,null,null,null,0,null,null,null,null,null,null,null,null,0]
[null,null,null,null,null,null,null,null,null,null,null,null,null,null,null,null,null,null,null,null,null,null,null,null,null,null,null,null,0,null,null,null,null,null,null,null,null,0]
[null,null,null,null,null,null,null,null,null,null,null,null,null,null,null,null,null,null,null,null,null,null,null,null,null,null,null,null,0,null,null,null,null,null,null,null,null,0]
[null,null,null,null,null,null,null,null,null,null,null,null,null,null,null,null,null,null,null,null,null,null,null,null,null,null,null,null,0,null,null,null,null,null,null,null,null,0]
[null,null,null,null,null,null,null,null,null,null,null,null,null,null,null,null,null,null,null,null,null,null,null,null,null,null,null,null,0,null,null,null,null,null,null,null,null,0]
[null,null,null,null,null,null,null,null,null,null,null,null,null,null,null,null,null,null,null,null,null,null,null,null,null,null,null,null,0,null,null,null,null,null,null,null,null,0]
[null,null,null,null,null,null,null,null,null,null,null,null,null,null,null,null,null,null,null,null,null,null,null,null,null,null,null,null,0,null,null,null,null,null,null,null,null,0]
[null,null,null,null,null,null,null,null,null,null,null,null,null,null,null,null,null,null,null,null,null,null,null,null,null,null,null,null,0,null,null,null,null,null,null,null,null,0]
[null,null,null,null,null,null,null,null,null,null,null,null,null,null,null,null,null,null,null,null,null,null,null,null,null,null,null,null,0,null,null,null,null,null,null,null,null,0]
[null,null,null,null,null,null,null,null,null,null,null,null,null,null,null,null,null,null,null,null,null,null,null,null,null,null,null,null,0,null,null,null,null,null,null,null,null,0]
[null,null,null,null,null,null,null,null,null,null,null,null,null,null,null,null,null,null,null,null,null,null,null,null,null,null,null,null,0,null,null,null,null,null,null,null,null,0]
[null,null,null,null,null,null,null,null,null,null,null,null,null,null,null,null,null,null,null,null,null,null,null,null,null,null,null,null,0,null,null,null,null,null,null,null,null,0]
[null,null,null,null,null,null,null,null,null,null,null,null,null,null,null,null,null,null,null,null,null,null,null,null,null,null,null,null,0,null,null,null,null,null,null,null,null,0]
[null,null,null,null,null,null,null,null,null,null,null,null,null,null,null,null,null,null,null,null,null,null,null,null,null,null,null,null,0,null,null,null,null,null,null,null,null,0]
[null,null,null,null,null,null,null,null,null,null,null,null,null,null,null,null,null,null,null,null,null,null,null,null,null,null,null,null,0,null,null,null,null,null,null,null,null,0]
[null,null,null,null,null,null,null,null,null,null,null,null,null,null,null,null,null,null,null,null,null,null,null,null,null,null,null,null,0,null,null,null,null,null,null,null,null,0]
[null,null,null,null,null,null,null,null,null,null,null,null,null,null,null,null,null,null,null,null,null,null,null,null,null,null,null,null,0,null,null,null,null,null,null,null,null,0]
[null,null,null,null,null,null,null,null,null,null,null,null,null,null,null,null,null,null,null,null,null,null,null,null,null,null,null,null,0,null,null,null,null,null,null,null,null,0]
[null,null,null,null,null,null,null,null,null,null,null,null,null,null,null,null,null,null,null,null,null,null,null,null,null,null,null,null,0,null,null,null,null,null,null,null,null,0]
[null,null,null,null,null,null,null,null,null,null,null,null,null,null,null,null,null,null,null,null,null,null,null,null,null,null,null,null,0,null,null,null,null,null,null,null,null,0]
[null,null,null,null,null,null,null,null,null,null,null,null,null,null,null,null,null,null,null,null,null,null,null,null,null,null,null,null,0,null,null,null,null,null,null,null,null,0]
[null,null,null,null,null,null,null,null,null,null,null,null,null,null,null,null,null,null,null,null,null,null,null,null,null,null,null,null,0,null,null,null,null,null,null,null,null,0]
[null,null,null,null,null,null,null,null,null,null,null,null,null,null,null,null,null,null,null,null,null,null,null,null,null,null,null,null,0,null,null,null,null,null,null,null,null,0]
[null,null,null,null,null,null,null,null,null,null,null,null,null,null,null,null,null,null,null,null,null,null,null,null,null,null,null,null,0,null,null,null,null,null,null,null,null,0]
[null,null,null,null,null,null,null,null,null,null,null,null,null,null,null,null,null,null,null,null,null,null,null,null,null,null,null,null,0,null,null,null,null,null,null,null,null,0]
[null,null,null,null,null,null,null,null,null,null,null,null,null,null,null,null,null,null,null,null,null,null,null,null,null,null,null,null,0,null,null,null,null,null,null,null,null,0]
[null,null,null,null,null,null,null,null,null,null,null,null,null,null,null,null,null,null,null,null,null,null,null,null,null,null,null,null,0,null,null,null,null,null,null,null,null,0]
[]
[{"$f":"'ANA SAYFA'!G13","v":"MAAŞ MUTEMEDİ"},null,null,null,null,null,null,null,null,{"$f":"'ANA SAYFA'!G12","v":"GERÇEKLEŞTİRME GÖREVLİSİ"},{"$f":"'ANA SAYFA'!G11","v":"HARCAMA YETKİLİSİ"}]
[{"$f":"'ANA SAYFA'!H13","v":0},null,null,null,null,null,null,null,null,{"$f":"'ANA SAYFA'!H12","v":0},{"$f":"'ANA SAYFA'!H11","v":0}]
[{"$f":"'ANA SAYFA'!J13","v":{"$error":"#N/A"}},null,null,null,null,null,null,null,null,{"$f":"'ANA SAYFA'!J12","v":{"$error":"#N/A"}},{"$f":"'ANA SAYFA'!J11","v":{"$error":"#N/A"}}]
[{"$f":"TODAY()","v":"2024-02-05"},null,null,null,null,null,null,null,null,{"$f":"TODAY()","v":"2024-02-05"},{"$f":"TODAY()","v":"2024-02-05"},null,null,null,null,null,null,null,null,null,null,null,null,null,null,null,null,null,null,null,null,"VAR (30 Gün)"]
[null,null,null,null,null,null,null,null,null,null,null,null,null,null,null,null,null,null,null,null,null,null,null,null,null,null,null,null,null,null,null,"VAR (13 Gün)"]
[null,null,null,null,null,null,null,null,null,null,null,null,null,null,null,null,null,null,null,null,10,50,null,null,null,null,null,null,null,null,null,"YOK",null,null,null,null,null,null,null,"VAR(KENDİSİ)",null,null,null,"YOK"]
[null,null,null,null,null,null,null,null,null,null,null,null,null,null,null,null,null,null,null,null,20,57.5,null,null,null,null,null,null,null,null,null,null,null,null,null,null,null,null,null,"VAR(İŞ KAZASI)",null,null,null,"SENDİKA"]
[null,null,null,null,null,null,null,null,null,null,null,null,null,null,null,null,null,null,null,null,30,60,null,null,null,null,null,null,null,null,null,null,null,null,null,null,null,null,null,"VAR(YAKINI)",null,null,null,"DAYANIŞMA"]
[null,null,null,null,null,null,null,null,null,null,null,null,null,null,null,null,null,null,null,null,40,65,null,null,null,null,null,null,null,null,null,null,null,null,null,null,null,null,null,"YOK"]
[null,null,null,null,null,null,null,null,null,null,null,null,null,null,null,null,null,null,null,null,50,67.5]
[null,null,null,null,null,null,null,null,null,null,null,null,null,null,null,null,null,null,null,null,55,75]
[null,null,null,null,null,null,null,null,null,null,null,null,null,null,null,null,null,null,null,null,60,80]
[null,null,null,null,null,null,null,null,null,null,null,null,null,null,null,null,null,null,null,null,65,85]
[null,null,null,null,null,null,null,null,null,null,null,null,null,null,null,null,null,null,null,null,70]
[null,null,null,null,null,null,null,null,null,null,null,null,null,null,null,null,null,null,null,null,75]
[null,null,null,null,null,null,null,null,null,null,null,null,null,null,null,null,null,null,null,null,80]
[null,null,null,null,null,null,null,null,null,null,null,null,null,null,null,null,null,null,null,null,100]
[null,null,null,null,null,null,null,null,null,null,null,null,null,null,null,null,null,null,null,null,110,null,null,null,null,null,"Çalışanın kendisi (bekar)                                    %50"]
[null,null,null,null,null,null,null,null,null,null,null,null,null,null,null,null,null,null,null,null,120,null,null,null,null,null,"Evli eşi çalışmayan ve çocuksuz                       %60"]
[null,null,null,null,null,null,null,null,null,null,null,null,null,null,null,null,null,null,null,null,null,null,null,null,null,null,"Evli eşi çalışmayan ve 1 çocuklu                      %67,5",null,null,null,null,null,100,"İLKOKUL"]
[null,null,null,null,null,null,null,null,null,null,null,null,null,null,null,null,null,null,null,null,null,null,null,null,null,null,"Evli eşi çalışmayan ve 2 çocuklu                      %75",null,null,null,null,null,110,"ORTAOKUL"]
[null,null,null,null,null,null,null,null,null,null,null,null,null,null,null,null,null,null,null,null,null,null,null,null,null,null,"Evli eşi çalışmayan ve 3 çocuklu                      %80",null,null,null,null,null,120,"LİSE"]
[null,null,null,null,null,null,null,null,null,null,null,null,null,null,null,null,null,null,null,null,null,null,null,null,null,null,"Evli eşi çalışmayan ve 4 çocuklu                      %85",null,null,null,null,null,140,"ÜNİVERSİTE"]
[null,null,null,null,null,null,null,null,null,null,null,null,null,null,null,null,null,null,null,null,null,null,null,null,null,null,"Evli eşi çalışan ve çocuksuz                                %50"]
[null,null,null,null,null,null,null,null,null,null,null,null,null,null,null,null,null,null,null,null,null,null,null,null,null,null,"Evli eşi çalışan ve 1 çocuklu                               %57,5"]
[null,null,null,null,null,null,null,null,null,null,null,null,null,null,null,null,null,null,null,null,null,null,null,null,null,null,"Evli eşi çalışan ve 2 çocuklu                               %65"]
[null,null,null,null,null,null,null,null,null,null,null,null,null,null,null,null,null,null,null,null,null,null,null,null,null,null,"Evli eşi çalışan ve 3 çocuklu                               %70"]
[null,null,null,null,null,null,null,null,null,null,null,null,null,null,null,null,null,null,null,null,null,null,null,null,null,null,"Evli eşi çalışan ve 4 çocuklu                               %75"]

{"sheet":"PUANTAJ","index":5,"n_rows":116,"n_cols":58,"rows_kept":116,"cut":false,"hidden":false,"merged":[[4,45,5,45],[81,46,81,51],[83,42,83,50],[86,12,86,20],[86,27,86,34],[78,14,78,28],[79,14,79,28],[80,14,80,28],[46,49,47,51],[48,49,49,51],[50,49,51,51],[52,49,53,51],[54,49,55,51],[56,49,57,51],[6,34,7,34],[6,35,7,35],[6,36,7,36],[6,37,7,37],[6,38,7,38],[6,39,7,39],[6,40,7,40],[6,41,7,41],[6,42,7,42],[6,43,7,43],[91,1,91,2],[92,1,92,2],[86,2,86,5],[84,12,84,20],[85,12,85,20],[89,1,89,2],[90,1,90,2],[83,27,83,34],[84,27,84,34],[83,12,83,20],[87,27,87,35],[93,1,93,2],[99,1,99,2],[100,1,100,2],[94,1,94,2],[95,1,95,2],[96,1,96,2],[97,1,97,2],[98,1,98,2],[1,3,3,3],[83,2,83,5],[84,2,84,5],[85,2,85,5],[81,0,81,2],[79,0,79,2],[78,0,78,2],[77,0,77,2],[76,0,76,2],[76,3,76,51],[4,38,5,38],[4,39,5,39],[1,27,3,27],[1,22,3,22],[1,1,1,2],[1,18,3,18],[80,0,80,2],[4,0,5,0],[81,14,81,28],[1,28,3,28],[85,27,85,40],[2,34,3,51],[1,15,3,15],[1,33,3,33],[1,32,3,32],[1,16,3,16],[1,17,3,17],[1,26,3,26],[2,0,3,2],[4,1,4,2],[1,49,1,51],[1,34,1,48],[1,30,3,30],[4,49,5,51],[77,46,77,51],[1,9,3,9],[1,10,3,10],[78,46,78,51],[79,46,79,51],[80,46,80,51],[1,11,3,11],[0,2,0,51],[0,0,0,1],[1,29,3,29],[1,23,3,23],[1,24,3,24],[1,25,3,25],[1,14,3,14],[1,7,3,7],[1,8,3,8],[1,12,3,12],[1,13,3,13],[1,4,3,4],[1,5,3,5],[1,19,3,19],[1,20,3,20],[1,21,3,21],[1,6,3,6],[1,31,3,31],[6,1,7,1],[6,2,7,2],[6,0,7,0],[8,1,9,1],[10,1,11,1],[12,1,13,1],[14,1,15,1],[16,1,17,1],[18,1,19,1],[20,1,21,1],[22,1,23,1],[24,1,25,1],[26,1,27,1],[28,1,29,1],[30,1,31,1],[32,1,33,1],[34,1,35,1],[36,1,37,1],[38,1,39,1],[40,1,41,1],[42,1,43,1],[44,1,45,1],[46,1,47,1],[48,1,49,1],[50,1,51,1],[52,1,53,1],[54,1,55,1],[56,1,57,1],[58,1,59,1],[60,1,61,1],[62,1,63,1],[64,1,65,1],[66,1,67,1],[68,1,69,1],[70,1,71,1],[72,1,73,1],[74,1,75,1],[8,0,9,0],[10,0,11,0],[12,0,13,0],[14,0,15,0],[16,0,17,0],[18,0,19,0],[20,0,21,0],[22,0,23,0],[24,0,25,0],[26,0,27,0],[28,0,29,0],[30,0,31,0],[32,0,33,0],[34,0,35,0],[36,0,37,0],[38,0,39,0],[40,0,41,0],[42,0,43,0],[44,0,45,0],[46,0,47,0],[48,0,49,0],[50,0,51,0],[52,0,53,0],[54,0,55,0],[56,0,57,0],[58,0,59,0],[60,0,61,0],[62,0,63,0],[64,0,65,0],[66,0,67,0],[68,0,69,0],[70,0,71,0],[72,0,73,0],[74,0,75,0],[8,2,9,2],[10,2,11,2],[12,2,13,2],[14,2,15,2],[16,2,17,2],[18,2,19,2],[20,2,21,2],[22,2,23,2],[24,2,25,2],[26,2,27,2],[28,2,29,2],[30,2,31,2],[32,2,33,2],[34,2,35,2],[36,2,37,2],[38,2,39,2],[40,2,41,2],[42,2,43,2],[44,2,45,2],[46,2,47,2],[48,2,49,2],[50,2,51,2],[52,2,53,2],[54,2,55,2],[56,2,57,2],[58,2,59,2],[60,2,61,2],[62,2,63,2],[64,2,65,2],[66,2,67,2],[68,2,69,2],[70,2,71,2],[72,2,73,2],[74,2,75,2],[6,44,7,44],[6,45,7,45],[6,46,7,46],[12,39,13,39],[12,40,13,40],[12,41,13,41],[12,42,13,42],[12,43,13,43],[12,44,13,44],[12,45,13,45],[12,46,13,46],[20,34,21,34],[20,35,21,35],[20,36,21,36],[20,37,21,37],[20,38,21,38],[16,39,17,39],[16,40,17,40],[10,41,11,41],[10,42,11,42],[10,43,11,43],[6,47,7,47],[6,57,7,57],[8,57,9,57],[6,56,7,56],[8,56,9,56],[6,48,7,48],[6,49,7,51],[8,48,9,48],[10,56,11,56],[10,57,11,57],[8,47,9,47],[10,48,11,48],[8,49,9,51],[10,49,11,51],[12,56,13,56],[12,57,13,57],[14,56,15,56],[14,57,15,57],[16,56,17,56],[16,57,17,57],[18,56,19,56],[18,57,19,57],[20,56,21,56],[20,57,21,57],[22,56,23,56],[22,57,23,57],[24,56,25,56],[24,57,25,57],[26,56,27,56],[26,57,27,57],[28,56,29,56],[28,57,29,57],[30,56,31,56],[30,57,31,57],[32,56,33,56],[32,57,33,57],[34,56,35,56],[34,57,35,57],[36,56,37,56],[36,57,37,57],[38,56,39,56],[38,57,39,57],[40,56,41,56],[40,57,41,57],[42,56,43,56],[42,57,43,57],[44,56,45,56],[44,57,45,57],[46,56,47,56],[46,57,47,57],[48,56,49,56],[48,57,49,57],[50,56,51,56],[50,57,51,57],[52,56,53,56],[52,57,53,57],[54,56,55,56],[54,57,55,57],[56,56,57,56],[56,57,57,57],[58,56,59,56],[58,57,59,57],[60,56,61,56],[60,57,61,57],[62,56,63,56],[62,57,63,57],[64,56,65,56],[64,57,65,57],[66,56,67,56],[66,57,67,57],[68,56,69,56],[68,57,69,57],[70,56,71,56],[70,57,71,57],[72,56,73,56],[72,57,73,57],[74,56,75,56],[74,57,75,57],[8,34,9,34],[8,35,9,35],[8,36,9,36],[8,37,9,37],[8,38,9,38],[10,34,11,34],[10,35,11,35],[10,36,11,36],[10,37,11,37],[10,38,11,38],[8,39,9,39],[8,40,9,40],[8,41,9,41],[8,42,9,42],[8,43,9,43],[8,44,9,44],[8,45,9,45],[8,46,9,46],[10,39,11,39],[10,40,11,40],[10,44,11,44],[10,45,11,45],[10,46,11,46],[10,47,11,47],[14,48,15,48],[12,34,13,34],[12,35,13,35],[12,36,13,36],[12,37,13,37],[12,38,13,38],[14,34,15,34],[14,35,15,35],[14,36,15,36],[14,37,15,37],[14,38,15,38],[14,39,15,39],[14,40,15,40],[14,41,15,41],[14,42,15,42],[14,43,15,43],[14,44,15,44],[14,45,15,45],[14,46,15,46],[14,47,15,47],[12,47,13,47],[12,48,13,48],[16,34,17,34],[16,35,17,35],[16,36,17,36],[16,37,17,37],[16,38,17,38],[18,34,19,34],[18,35,19,35],[18,36,19,36],[18,37,19,37],[18,38,19,38],[16,43,17,43],[16,44,17,44],[16,45,17,45],[16,46,17,46],[16,47,17,47],[18,39,19,39],[18,40,19,40],[18,41,19,41],[18,42,19,42],[18,43,19,43],[18,44,19,44],[18,45,19,45],[22,43,23,43],[22,44,23,44],[22,45,23,45],[22,46,23,46],[22,47,23,47],[18,46,19,46],[18,47,19,47],[16,41,17,41],[16,42,17,42],[20,43,21,43],[20,44,21,44],[20,45,21,45],[20,46,21,46],[20,47,21,47],[20,39,21,39],[20,40,21,40],[20,41,21,41],[20,42,21,42],[22,34,23,34],[22,35,23,35],[22,36,23,36],[22,37,23,37],[22,38,23,38],[22,39,23,39],[22,40,23,40],[22,41,23,41],[22,42,23,42],[28,34,29,34],[28,35,29,35],[28,36,29,36],[28,37,29,37],[28,38,29,38],[24,39,25,39],[24,40,25,40],[24,41,25,41],[24,42,25,42],[28,39,29,39],[28,40,29,40],[28,41,29,41],[28,42,29,42],[24,34,25,34],[24,35,25,35],[24,36,25,36],[24,37,25,37],[24,38,25,38],[26,34,27,34],[26,35,27,35],[26,36,27,36],[26,37,27,37],[26,38,27,38],[24,43,25,43],[24,44,25,44],[24,45,25,45],[24,46,25,46],[24,47,25,47],[26,39,27,39],[26,40,27,40],[26,41,27,41],[26,42,27,42],[26,43,27,43],[26,44,27,44],[26,45,27,45],[26,46,27,46],[26,47,27,47],[28,43,29,43],[28,44,29,44],[28,45,29,45],[28,46,29,46],[28,47,29,47],[30,39,31,39],[30,40,31,40],[30,41,31,41],[30,42,31,42],[30,43,31,43],[30,44,31,44],[30,45,31,45],[30,46,31,46],[30,47,31,47],[32,39,33,39],[32,40,33,40],[32,41,33,41],[32,42,33,42],[32,43,33,43],[32,44,33,44],[32,45,33,45],[32,46,33,46],[32,47,33,47],[34,39,35,39],[34,40,35,40],[34,41,35,41],[34,42,35,42],[34,43,35,43],[34,44,35,44],[34,45,35,45],[34,46,35,46],[34,47,35,47],[36,39,37,39],[36,40,37,40],[36,41,37,41],[36,42,37,42],[36,43,37,43],[36,44,37,44],[36,45,37,45],[36,46,37,46],[36,47,37,47],[38,39,39,39],[38,40,39,40],[38,41,39,41],[38,42,39,42],[38,43,39,43],[38,44,39,44],[38,45,39,45],[38,46,39,46],[38,47,39,47],[40,39,41,39],[40,40,41,40],[40,41,41,41],[40,42,41,42],[40,43,41,43],[40,44,41,44],[40,45,41,45],[40,46,41,46],[40,47,41,47],[42,39,43,39],[42,40,43,40],[42,41,43,41],[42,42,43,42],[42,43,43,43],[42,44,43,44],[42,45,43,45],[42,46,43,46],[42,47,43,47],[44,39,45,39],[44,40,45,40],[44,41,45,41],[44,42,45,42],[44,43,45,43],[44,44,45,44],[44,45,45,45],[44,46,45,46],[44,47,45,47],[46,39,47,39],[46,40,47,40],[46,41,47,41],[46,42,47,42],[46,43,47,43],[46,44,47,44],[46,45,47,45],[46,46,47,46],[46,47,47,47],[48,39,49,39],[48,40,49,40],[48,41,49,41],[48,42,49,42],[48,43,49,43],[48,44,49,44],[48,45,49,45],[48,46,49,46],[48,47,49,47],[50,39,51,39],[50,40,51,40],[50,41,51,41],[50,42,51,42],[50,43,51,43],[50,44,51,44],[50,45,51,45],[50,46,51,46],[50,47,51,47],[52,39,53,39],[52,40,53,40],[52,41,53,41],[52,42,53,42],[52,43,53,43],[52,44,53,44],[52,45,53,45],[52,46,53,46],[52,47,53,47],[54,39,55,39],[54,40,55,40],[54,41,55,41],[54,42,55,42],[54,43,55,43],[54,44,55,44],[54,45,55,45],[54,46,55,46],[54,47,55,47],[56,39,57,39],[56,40,57,40],[56,41,57,41],[56,42,57,42],[56,43,57,43],[56,44,57,44],[56,45,57,45],[56,46,57,46],[56,47,57,47],[58,39,59,39],[58,40,59,40],[58,41,59,41],[58,42,59,42],[58,43,59,43],[58,44,59,44],[58,45,59,45],[58,46,59,46],[58,47,59,47],[60,39,61,39],[60,40,61,40],[60,41,61,41],[60,42,61,42],[60,43,61,43],[60,44,61,44],[60,45,61,45],[60,46,61,46],[60,47,61,47],[62,39,63,39],[62,40,63,40],[62,41,63,41],[62,42,63,42],[62,43,63,43],[62,44,63,44],[62,45,63,45],[62,46,63,46],[62,47,63,47],[64,39,65,39],[64,40,65,40],[64,41,65,41],[64,42,65,42],[64,43,65,43],[64,44,65,44],[64,45,65,45],[64,46,65,46],[64,47,65,47],[66,39,67,39],[66,40,67,40],[66,41,67,41],[66,42,67,42],[66,43,67,43],[66,44,67,44],[66,45,67,45],[66,46,67,46],[66,47,67,47],[68,39,69,39],[68,40,69,40],[68,41,69,41],[68,42,69,42],[68,43,69,43],[68,44,69,44],[68,45,69,45],[68,46,69,46],[68,47,69,47],[70,39,71,39],[70,40,71,40],[70,41,71,41],[70,42,71,42],[70,43,71,43],[70,44,71,44],[70,45,71,45],[70,46,71,46],[70,47,71,47],[72,39,73,39],[72,40,73,40],[72,41,73,41],[72,42,73,42],[72,43,73,43],[72,44,73,44],[72,45,73,45],[72,46,73,46],[72,47,73,47],[74,39,75,39],[74,40,75,40],[74,41,75,41],[74,42,75,42],[74,43,75,43],[74,44,75,44],[74,45,75,45],[74,46,75,46],[74,47,75,47],[30,34,31,34],[30,35,31,35],[30,36,31,36],[30,37,31,37],[30,38,31,38],[32,34,33,34],[32,35,33,35],[32,36,33,36],[32,37,33,37],[32,38,33,38],[34,34,35,34],[34,35,35,35],[34,36,35,36],[34,37,35,37],[34,38,35,38],[36,34,37,34],[36,35,37,35],[36,36,37,36],[36,37,37,37],[36,38,37,38],[38,34,39,34],[38,35,39,35],[38,36,39,36],[38,37,39,37],[38,38,39,38],[40,34,41,34],[40,35,41,35],[40,36,41,36],[40,37,41,37],[40,38,41,38],[42,34,43,34],[42,35,43,35],[42,36,43,36],[42,37,43,37],[42,38,43,38],[44,34,45,34],[44,35,45,35],[44,36,45,36],[44,37,45,37],[44,38,45,38],[46,34,47,34],[46,35,47,35],[46,36,47,36],[46,37,47,37],[46,38,47,38],[48,34,49,34],[48,35,49,35],[48,36,49,36],[48,37,49,37],[48,38,49,38],[50,34,51,34],[50,35,51,35],[50,36,51,36],[50,37,51,37],[50,38,51,38],[52,34,53,34],[52,35,53,35],[52,36,53,36],[52,37,53,37],[52,38,53,38],[54,34,55,34],[54,35,55,35],[54,36,55,36],[54,37,55,37],[54,38,55,38],[56,34,57,34],[56,35,57,35],[56,36,57,36],[56,37,57,37],[56,38,57,38],[58,34,59,34],[58,35,59,35],[58,36,59,36],[58,37,59,37],[58,38,59,38],[60,34,61,34],[60,35,61,35],[60,36,61,36],[60,37,61,37],[60,38,61,38],[62,34,63,34],[62,35,63,35],[62,36,63,36],[62,37,63,37],[62,38,63,38],[64,34,65,34],[64,35,65,35],[64,36,65,36],[64,37,65,37],[64,38,65,38],[66,34,67,34],[66,35,67,35],[66,36,67,36],[66,37,67,37],[66,38,67,38],[68,34,69,34],[68,35,69,35],[68,36,69,36],[68,37,69,37],[68,38,69,38],[70,34,71,34],[70,35,71,35],[70,36,71,36],[70,37,71,37],[70,38,71,38],[72,34,73,34],[72,35,73,35],[72,36,73,36],[72,37,73,37],[72,38,73,38],[74,34,75,34],[74,35,75,35],[74,36,75,36],[74,37,75,37],[74,38,75,38],[12,49,13,51],[14,49,15,51],[16,49,17,51],[18,49,19,51],[20,49,21,51],[22,49,23,51],[24,49,25,51],[26,49,27,51],[28,49,29,51],[30,49,31,51],[32,49,33,51],[34,49,35,51],[36,49,37,51],[38,49,39,51],[40,49,41,51],[42,49,43,51],[44,49,45,51],[58,49,59,51],[60,49,61,51],[62,49,63,51],[64,49,65,51],[66,49,67,51],[68,49,69,51],[70,49,71,51],[72,49,73,51],[74,49,75,51],[16,48,17,48],[18,48,19,48],[20,48,21,48],[22,48,23,48],[24,48,25,48],[26,48,27,48],[28,48,29,48],[30,48,31,48],[32,48,33,48],[34,48,35,48],[36,48,37,48],[38,48,39,48],[40,48,41,48],[42,48,43,48],[44,48,45,48],[46,48,47,48],[48,48,49,48],[50,48,51,48],[70,48,71,48],[72,48,73,48],[74,48,75,48],[52,48,53,48],[54,48,55,48],[56,48,57,48],[58,48,59,48],[60,48,61,48],[62,48,63,48],[64,48,65,48],[66,48,67,48],[68,48,69,48]]}
["ANA SAYFA",null,{"$f":"'PERSONEL BİLGİ GİRİŞİ'!A1","v":"AİLE VE SOSYAL HİZMETLER İL MÜDÜRLÜĞÜ"}]
[null,"2024-01-01",null,{"$f":"B2","v":"2024-01-01"},{"$f":"IFERROR(IF((D2+1)<=VLOOKUP($B$2,TAKVİM!$A:$C,3,0),D2+1,\"\"),\"\")","v":"2024-01-02"},{"$f":"IFERROR(IF((E2+1)<=VLOOKUP($B$2,TAKVİM!$A:$C,3,0),E2+1,\"\"),\"\")","v":"2024-01-03"},{"$f":"IFERROR(IF((F2+1)<=VLOOKUP($B$2,TAKVİM!$A:$C,3,0),F2+1,\"\"),\"\")","v":"2024-01-04"},{"$f":"IFERROR(IF((G2+1)<=VLOOKUP($B$2,TAKVİM!$A:$C,3,0),G2+1,\"\"),\"\")","v":"2024-01-05"},{"$f":"IFERROR(IF((H2+1)<=VLOOKUP($B$2,TAKVİM!$A:$C,3,0),H2+1,\"\"),\"\")","v":"2024-01-06"},{"$f":"IFERROR(IF((I2+1)<=VLOOKUP($B$2,TAKVİM!$A:$C,3,0),I2+1,\"\"),\"\")","v":"2024-01-07"},{"$f":"IFERROR(IF((J2+1)<=VLOOKUP($B$2,TAKVİM!$A:$C,3,0),J2+1,\"\"),\"\")","v":"2024-01-08"},{"$f":"IFERROR(IF((K2+1)<=VLOOKUP($B$2,TAKVİM!$A:$C,3,0),K2+1,\"\"),\"\")","v":"2024-01-09"},{"$f":"IFERROR(IF((L2+1)<=VLOOKUP($B$2,TAKVİM!$A:$C,3,0),L2+1,\"\"),\"\")","v":"2024-01-10"},{"$f":"IFERROR(IF((M2+1)<=VLOOKUP($B$2,TAKVİM!$A:$C,3,0),M2+1,\"\"),\"\")","v":"2024-01-11"},{"$f":"IFERROR(IF((N2+1)<=VLOOKUP($B$2,TAKVİM!$A:$C,3,0),N2+1,\"\"),\"\")","v":"2024-01-12"},{"$f":"IFERROR(IF((O2+1)<=VLOOKUP($B$2,TAKVİM!$A:$C,3,0),O2+1,\"\"),\"\")","v":"2024-01-13"},{"$f":"IFERROR(IF((P2+1)<=VLOOKUP($B$2,TAKVİM!$A:$C,3,0),P2+1,\"\"),\"\")","v":"2024-01-14"},{"$f":"IFERROR(IF((Q2+1)<=VLOOKUP($B$2,TAKVİM!$A:$C,3,0),Q2+1,\"\"),\"\")","v":"2024-01-15"},{"$f":"IFERROR(IF((R2+1)<=VLOOKUP($B$2,TAKVİM!$A:$C,3,0),R2+1,\"\"),\"\")","v":"2024-01-16"},{"$f":"IFERROR(IF((S2+1)<=VLOOKUP($B$2,TAKVİM!$A:$C,3,0),S2+1,\"\"),\"\")","v":"2024-01-17"},{"$f":"IFERROR(IF((T2+1)<=VLOOKUP($B$2,TAKVİM!$A:$C,3,0),T2+1,\"\"),\"\")","v":"2024-01-18"},{"$f":"IFERROR(IF((U2+1)<=VLOOKUP($B$2,TAKVİM!$A:$C,3,0),U2+1,\"\"),\"\")","v":"2024-01-19"},{"$f":"IFERROR(IF((V2+1)<=VLOOKUP($B$2,TAKVİM!$A:$C,3,0),V2+1,\"\"),\"\")","v":"2024-01-20"},{"$f":"IFERROR(IF((W2+1)<=VLOOKUP($B$2,TAKVİM!$A:$C,3,0),W2+1,\"\"),\"\")","v":"2024-01-21"},{"$f":"IFERROR(IF((X2+1)<=VLOOKUP($B$2,TAKVİM!$A:$C,3,0),X2+1,\"\"),\"\")","v":"2024-01-22"},{"$f":"IFERROR(IF((Y2+1)<=VLOOKUP($B$2,TAKVİM!$A:$C,3,0),Y2+1,\"\"),\"\")","v":"2024-01-23"},{"$f":"IFERROR(IF((Z2+1)<=VLOOKUP($B$2,TAKVİM!$A:$C,3,0),Z2+1,\"\"),\"\")","v":"2024-01-24"},{"$f":"IFERROR(IF((AA2+1)<=VLOOKUP($B$2,TAKVİM!$A:$C,3,0),AA2+1,\"\"),\"\")","v":"2024-01-25"},{"$f":"IFERROR(IF((AB2+1)<=VLOOKUP($B$2,TAKVİM!$A:$C,3,0),AB2+1,\"\"),\"\")","v":"2024-01-26"},{"$f":"IFERROR(IF((AC2+1)<=VLOOKUP($B$2,TAKVİM!$A:$C,3,0),AC2+1,\"\"),\"\")","v":"2024-01-27"},{"$f":"IFERROR(IF((AD2+1)<=VLOOKUP($B$2,TAKVİM!$A:$C,3,0),AD2+1,\"\"),\"\")","v":"2024-01-28"},{"$f":"IFERROR(IF((AE2+1)<=VLOOKUP($B$2,TAKVİM!$A:$C,3,0),AE2+1,\"\"),\"\")","v":"2024-01-29"},{"$f":"IFERROR(IF((AF2+1)<=VLOOKUP($B$2,TAKVİM!$A:$C,3,0),AF2+1,\"\"),\"\")","v":"2024-01-30"},{"$f":"IFERROR(IF((AG2+1)<=VLOOKUP($B$2,TAKVİM!$A:$C,3,0),AG2+1,\"\"),\"\")","v":"2024-01-31"},{"$f":"B2","v":"2024-01-01"},null,null,null,null,null,null,null,null,null,null,null,null,null,null,"ANA SAYFA"]
["P U A N T A J   L İ S T E S İ",null,null,null,null,null,null,null,null,null,null,null,null,null,null,null,null,null,null,null,null,null,null,null,null,null,null,null,null,null,null,null,null,null,"Toplam"]
[]
[{"$f":"' BORDRO HAZIRLIK'!A4","v":"SIRA NO"},null,null,{"$f":"B2","v":"2024-01-01"},{"$f":"IFERROR(IF((D2+1)<=VLOOKUP($B$2,TAKVİM!$A:$C,3,0),D2+1,\"\"),\"\")","v":"2024-01-02"},{"$f":"IFERROR(IF((E2+1)<=VLOOKUP($B$2,TAKVİM!$A:$C,3,0),E2+1,\"\"),\"\")","v":"2024-01-03"},{"$f":"IFERROR(IF((F2+1)<=VLOOKUP($B$2,TAKVİM!$A:$C,3,0),F2+1,\"\"),\"\")","v":"2024-01-04"},{"$f":"IFERROR(IF((G2+1)<=VLOOKUP($B$2,TAKVİM!$A:$C,3,0),G2+1,\"\"),\"\")","v":"2024-01-05"},{"$f":"IFERROR(IF((H2+1)<=VLOOKUP($B$2,TAKVİM!$A:$C,3,0),H2+1,\"\"),\"\")","v":"2024-01-06"},{"$f":"IFERROR(IF((I2+1)<=VLOOKUP($B$2,TAKVİM!$A:$C,3,0),I2+1,\"\"),\"\")","v":"2024-01-07"},{"$f":"IFERROR(IF((J2+1)<=VLOOKUP($B$2,TAKVİM!$A:$C,3,0),J2+1,\"\"),\"\")","v":"2024-01-08"},{"$f":"IFERROR(IF((K2+1)<=VLOOKUP($B$2,TAKVİM!$A:$C,3,0),K2+1,\"\"),\"\")","v":"2024-01-09"},{"$f":"IFERROR(IF((L2+1)<=VLOOKUP($B$2,TAKVİM!$A:$C,3,0),L2+1,\"\"),\"\")","v":"2024-01-10"},{"$f":"IFERROR(IF((M2+1)<=VLOOKUP($B$2,TAKVİM!$A:$C,3,0),M2+1,\"\"),\"\")","v":"2024-01-11"},{"$f":"IFERROR(IF((N2+1)<=VLOOKUP($B$2,TAKVİM!$A:$C,3,0),N2+1,\"\"),\"\")","v":"2024-01-12"},{"$f":"IFERROR(IF((O2+1)<=VLOOKUP($B$2,TAKVİM!$A:$C,3,0),O2+1,\"\"),\"\")","v":"2024-01-13"},{"$f":"IFERROR(IF((P2+1)<=VLOOKUP($B$2,TAKVİM!$A:$C,3,0),P2+1,\"\"),\"\")","v":"2024-01-14"},{"$f":"IFERROR(IF((Q2+1)<=VLOOKUP($B$2,TAKVİM!$A:$C,3,0),Q2+1,\"\"),\"\")","v":"2024-01-15"},{"$f":"IFERROR(IF((R2+1)<=VLOOKUP($B$2,TAKVİM!$A:$C,3,0),R2+1,\"\"),\"\")","v":"2024-01-16"},{"$f":"IFERROR(IF((S2+1)<=VLOOKUP($B$2,TAKVİM!$A:$C,3,0),S2+1,\"\"),\"\")","v":"2024-01-17"},{"$f":"IFERROR(IF((T2+1)<=VLOOKUP($B$2,TAKVİM!$A:$C,3,0),T2+1,\"\"),\"\")","v":"2024-01-18"},{"$f":"IFERROR(IF((U2+1)<=VLOOKUP($B$2,TAKVİM!$A:$C,3,0),U2+1,\"\"),\"\")","v":"2024-01-19"},{"$f":"IFERROR(IF((V2+1)<=VLOOKUP($B$2,TAKVİM!$A:$C,3,0),V2+1,\"\"),\"\")","v":"2024-01-20"},{"$f":"IFERROR(IF((W2+1)<=VLOOKUP($B$2,TAKVİM!$A:$C,3,0),W2+1,\"\"),\"\")","v":"2024-01-21"},{"$f":"IFERROR(IF((X2+1)<=VLOOKUP($B$2,TAKVİM!$A:$C,3,0),X2+1,\"\"),\"\")","v":"2024-01-22"},{"$f":"IFERROR(IF((Y2+1)<=VLOOKUP($B$2,TAKVİM!$A:$C,3,0),Y2+1,\"\"),\"\")","v":"2024-01-23"},{"$f":"IFERROR(IF((Z2+1)<=VLOOKUP($B$2,TAKVİM!$A:$C,3,0),Z2+1,\"\"),\"\")","v":"2024-01-24"},{"$f":"IFERROR(IF((AA2+1)<=VLOOKUP($B$2,TAKVİM!$A:$C,3,0),AA2+1,\"\"),\"\")","v":"2024-01-25"},{"$f":"IFERROR(IF((AB2+1)<=VLOOKUP($B$2,TAKVİM!$A:$C,3,0),AB2+1,\"\"),\"\")","v":"2024-01-26"},{"$f":"IFERROR(IF((AC2+1)<=VLOOKUP($B$2,TAKVİM!$A:$C,3,0),AC2+1,\"\"),\"\")","v":"2024-01-27"},{"$f":"IFERROR(IF((AD2+1)<=VLOOKUP($B$2,TAKVİM!$A:$C,3,0),AD2+1,\"\"),\"\")","v":"2024-01-28"},{"$f":"IFERROR(IF((AE2+1)<=VLOOKUP($B$2,TAKVİM!$A:$C,3,0),AE2+1,\"\"),\"\")","v":"2024-01-29"},{"$f":"IFERROR(IF((AF2+1)<=VLOOKUP($B$2,TAKVİM!$A:$C,3,0),AF2+1,\"\"),\"\")","v":"2024-01-30"},{"$f":"IFERROR(IF((AG2+1)<=VLOOKUP($B$2,TAKVİM!$A:$C,3,0),AG2+1,\"\"),\"\")","v":"2024-01-31"},"GÜNDÜZ","GECE","HAFTA SONU","EK SAAT","TOPLAM SAAT","OTALAMA SAAT","FAZLA ÇALIŞMA","HAFTA TATİLİ","MAZERET İZNİ","ÜCRETSİZ İZİN","RESMİ TATİL","TOPLAM ÇALIŞMA GÜNÜ","S G K","RAPOR","İstirhat  Süresince Çalışmamıştır.","İMZA",null,null,null,null,null,null,null,19]
[null,{"$f":"' BORDRO HAZIRLIK'!B4","v":"AD-SOYAD"},{"$f":"' BORDRO HAZIRLIK'!C4","v":"TC. \nKİMLİK NO"},{"$f":"+TEXT(D5,\"gggg\")","v":"Pazartesi"},{"$f":"+TEXT(E5,\"gggg\")","v":"Salı"},{"$f":"+TEXT(F5,\"gggg\")","v":"Çarşamba"},{"$f":"+TEXT(G5,\"gggg\")","v":"Perşembe"},"Cuma","Cumartesi","Pazar","Pazartesi","Salı","Çarşamba","Perşembe","Cuma","Cumartesi","Pazar","Pazartesi","Salı","Çarşamba","Perşembe","Cuma","Cumartesi","Pazar","Pazartesi","Salı","Çarşamba","Perşembe","Cuma","Cumartesi","Pazar","Pazartesi","Salı","Çarşamba","SAAT","SAAT","SAAT","SAAT",null,null,"GÜN","GÜN","GÜN","GÜN","GÜN",null,"GÜN","GÜN","Evet Hayır",null,null,null,null,"EKSİK GÜN NEDENİ",null,null,null,"ÜCRETSİZ İZİN"]
[{"$f":"'PERSONEL BİLGİ GİRİŞİ'!A5","v":1},{"$f":"CONCATENATE('PERSONEL BİLGİ GİRİŞİ'!B5,\" \",'PERSONEL BİLGİ GİRİŞİ'!C5)","v":"ALİ BZC "},{"$f":"'PERSONEL BİLGİ GİRİŞİ'!H5","v":0},"rt",8,8,8,8,"t","t",8,8,8,8,4,"t","t",8,8,8,8,4,"t","t",8,8,8,8,4,"t","t",8,8,8,{"$f":"IF(A7=\"\",0,COUNTIF(D7:AH8,\"1\")*1+COUNTIF(D7:AH8,\"2\")*2+COUNTIF(D7:AH8,\"3\")*3+COUNTIF(D7:AH8,\"4\")*4+COUNTIF(D7:AH8,\"5\")*5+COUNTIF(D7:AH8,\"6\")*6+COUNTIF(D7:AH8,\"7\")*7+COUNTIF(D7:AH8,\"8\")*8+COUNTIF(D7:AH8,\"9\")*9+COUNTIF(D7:AH8,\"10\")*10+COUNTIF(D7:AH8,\"Mİ\")*8)","v":164},{"$f":"IF(A7=\"\",0,COUNTIF(D7:AH8,\"GC1\")*1+COUNTIF(D7:AH8,\"GC2\")*2+COUNTIF(D7:AH8,\"GC3\")*3+COUNTIF(D7:AH8,\"GC4\")*4+COUNTIF(D7:AH8,\"GC5\")*5+COUNTIF(D7:AH8,\"GC6\")*6+COUNTIF(D7:AH8,\"GC7\")*7+COUNTIF(D7:AH8,\"GC8\")*8)","v":0},{"$f":"IF(A7=\"\",0,COUNTIF(D7:AH8,\"HS4\")*4+COUNTIF(D7:AH8,\"HS8\")*8)","v":0},{"$f":"(AI7+AJ7+AK7)/4","v":41},{"$f":"IF(A7=\"\",0,(AI7+AJ7+AK7)+AL7)","v":205},{"$f":"(AI7+AJ7+AK7)/4","v":41},{"$f":"IF(A7=\"\",0,COUNTIF(D7:AH8,\"FÇ\"))","v":0},{"$f":"IF(A7=\"\",0,COUNTIF(D7:AH8,\"T\"))","v":8},{"$f":"IF(A7=\"\",0,COUNTIF(D7:AH8,\"Mİ\"))","v":0},{"$f":"IF(A7=\"\",0,COUNTIF(D7:AH8,\"Üİ\"))","v":0},{"$f":"IF(A7=\"\",0,COUNTIF(D7:AH8,\"RT\"))","v":1},{"$f":"IF(A7=\"\",0,COUNTIF(D7:AH7,\"1\")+COUNTIF(D7:AH7,\"2\")+COUNTIF(D7:AH7,\"3\")+COUNTIF(D7:AH7,\"4\")+COUNTIF(D7:AH7,\"5\")+COUNTIF(D7:AH7,\"6\")+COUNTIF(D7:AH7,\"7\")+COUNTIF(D7:AH7,\"8\")+COUNTIF(D7:AH7,\"9\")+COUNTIF(D7:AH7,\"HS4\")+COUNTIF(D7:AH7,\"HS8\")+COUNTIF(D7:AH7,\"GC1\")+COUNTIF(D7:AH7,\"GC2\")+COUNTIF(D7:AH7,\"GC3\")+COUNTIF(D7:AH7,\"GC4\")+COUNTIF(D7:AH7,\"GC5\")+COUNTIF(D7:AH7,\"GC6\")+COUNTIF(D7:AH7,\"GC7\")+COUNTIF(D7:AH7,\"GC8\")+AO7+AQ7+AS7+AP7)","v":31},{"$f":"IF(AN7<30,ROUNDUP(((AM7-AL7)/7.5),0),IF(AV7+AR7=0,30,AT7))","v":30},{"$f":"IF(A7=\"\",0,IF(AN7<30,(COUNTA(D7:AH7)-AU7),COUNTIF(D7:AH7,\"R\")))","v":0},{"$f":"IF(((COUNTIF(D7:AH7,\"R\")))>=1,\"E\",\"\")","v":""},null,null,null,null,null,null,null,1,{"$f":"COUNTIF(D7:AH7,\"Üİ\")","v":0}]
[]
[{"$f":"'PERSONEL BİLGİ GİRİŞİ'!A6","v":""},{"$f":"CONCATENATE('PERSONEL BİLGİ GİRİŞİ'!B6,\" \",'PERSONEL BİLGİ GİRİŞİ'!C6)","v":" "},{"$f":"'PERSONEL BİLGİ GİRİŞİ'!H6","v":0},null,null,null,null,null,null,null,null,null,null,null,null,null,null,null,null,null,null,null,null,null,null,null,null,null,null,null,null,null,null,null,{"$f":"IF(A9=\"\",0,COUNTIF(D9:AH10,\"1\")*1+COUNTIF(D9:AH10,\"2\")*2+COUNTIF(D9:AH10,\"3\")*3+COUNTIF(D9:AH10,\"4\")*4+COUNTIF(D9:AH10,\"5\")*5+COUNTIF(D9:AH10,\"6\")*6+COUNTIF(D9:AH10,\"7\")*7+COUNTIF(D9:AH10,\"8\")*8+COUNTIF(D9:AH10,\"9\")*9+COUNTIF(D9:AH10,\"10\")*10+COUNTIF(D9:AH10,\"Mİ\")*8)","v":0},{"$f":"IF(A9=\"\",0,COUNTIF(D9:AH10,\"GC1\")*1+COUNTIF(D9:AH10,\"GC2\")*2+COUNTIF(D9:AH10,\"GC3\")*3+COUNTIF(D9:AH10,\"GC4\")*4+COUNTIF(D9:AH10,\"GC5\")*5+COUNTIF(D9:AH10,\"GC6\")*6+COUNTIF(D9:AH10,\"GC7\")*7+COUNTIF(D9:AH10,\"GC8\")*8)","v":0},{"$f":"IF(A9=\"\",0,COUNTIF(D9:AH10,\"HS4\")*4+COUNTIF(D9:AH10,\"HS8\")*8)","v":0},{"$f":"(AI9+AJ9+AK9)/4","v":0},{"$f":"IF(A9=\"\",0,(AI9+AJ9+AK9)+AL9)","v":0},{"$f":"(AI9+AJ9+AK9)/4","v":0},{"$f":"IF(A9=\"\",0,COUNTIF(D9:AH10,\"FÇ\"))","v":0},{"$f":"IF(A9=\"\",0,COUNTIF(D9:AH10,\"T\"))","v":0},{"$f":"IF(A9=\"\",0,COUNTIF(D9:AH10,\"Mİ\"))","v":0},{"$f":"IF(A9=\"\",0,COUNTIF(D9:AH10,\"Üİ\"))","v":0},{"$f":"IF(A9=\"\",0,COUNTIF(D9:AH10,\"RT\"))","v":0},{"$f":"IF(A9=\"\",0,COUNTIF(D9:AH9,\"1\")+COUNTIF(D9:AH9,\"2\")+COUNTIF(D9:AH9,\"3\")+COUNTIF(D9:AH9,\"4\")+COUNTIF(D9:AH9,\"5\")+COUNTIF(D9:AH9,\"6\")+COUNTIF(D9:AH9,\"7\")+COUNTIF(D9:AH9,\"8\")+COUNTIF(D9:AH9,\"9\")+COUNTIF(D9:AH9,\"HS4\")+COUNTIF(D9:AH9,\"HS8\")+COUNTIF(D9:AH9,\"GC1\")+COUNTIF(D9:AH9,\"GC2\")+COUNTIF(D9:AH9,\"GC3\")+COUNTIF(D9:AH9,\"GC4\")+COUNTIF(D9:AH9,\"GC5\")+COUNTIF(D9:AH9,\"GC6\")+COUNTIF(D9:AH9,\"GC7\")+COUNTIF(D9:AH9,\"GC8\")+AO9+AQ9+AS9+AP9)","v":0},{"$f":"IF(AN9<30,ROUNDUP(((AM9-AL9)/7.5),0),IF(AV9+AR9=0,30,AT9))","v":0},{"$f":"IF(A9=\"\",0,IF(AN9<30,(COUNTA(D9:AH9)-AU9),COUNTIF(D9:AH9,\"R\")))","v":0},{"$f":"IF(((COUNTIF(D9:AH9,\"R\")))>=1,\"E\",\"\")","v":""},null,null,null,null,null,null,null,2,{"$f":"COUNTIF(D9:AH9,\"Üİ\")","v":0}]
[]
[{"$f":"'PERSONEL BİLGİ GİRİŞİ'!A7","v":""},{"$f":"CONCATENATE('PERSONEL BİLGİ GİRİŞİ'!B7,\" \",'PERSONEL BİLGİ GİRİŞİ'!C7)","v":" "},{"$f":"'PERSONEL BİLGİ GİRİŞİ'!H7","v":0},null,null,null,null,null,null,null,null,null,null,null,null,null,null,null,null,null,null,null,null,null,null,null,null,null,null,null,null,null,null,null,{"$f":"IF(A11=\"\",0,COUNTIF(D11:AH12,\"1\")*1+COUNTIF(D11:AH12,\"2\")*2+COUNTIF(D11:AH12,\"3\")*3+COUNTIF(D11:AH12,\"4\")*4+COUNTIF(D11:AH12,\"5\")*5+COUNTIF(D11:AH12,\"6\")*6+COUNTIF(D11:AH12,\"7\")*7+COUNTIF(D11:AH12,\"8\")*8+COUNTIF(D11:AH12,\"9\")*9+COUNTIF(D11:AH12,\"10\")*10+COUNTIF(D11:AH12,\"Mİ\")*8)","v":0},{"$f":"IF(A11=\"\",0,COUNTIF(D11:AH12,\"GC1\")*1+COUNTIF(D11:AH12,\"GC2\")*2+COUNTIF(D11:AH12,\"GC3\")*3+COUNTIF(D11:AH12,\"GC4\")*4+COUNTIF(D11:AH12,\"GC5\")*5+COUNTIF(D11:AH12,\"GC6\")*6+COUNTIF(D11:AH12,\"GC7\")*7+COUNTIF(D11:AH12,\"GC8\")*8)","v":0},{"$f":"IF(A11=\"\",0,COUNTIF(D11:AH12,\"HS4\")*4+COUNTIF(D11:AH12,\"HS8\")*8)","v":0},{"$f":"(AI11+AJ11+AK11)/4","v":0},{"$f":"IF(A11=\"\",0,(AI11+AJ11+AK11)+AL11)","v":0},{"$f":"(AI11+AJ11+AK11)/4","v":0},{"$f":"IF(A11=\"\",0,COUNTIF(D11:AH12,\"FÇ\"))","v":0},{"$f":"IF(A11=\"\",0,COUNTIF(D11:AH12,\"T\"))","v":0},{"$f":"IF(A11=\"\",0,COUNTIF(D11:AH12,\"Mİ\"))","v":0},{"$f":"IF(A11=\"\",0,COUNTIF(D11:AH12,\"Üİ\"))","v":0},{"$f":"IF(A11=\"\",0,COUNTIF(D11:AH12,\"RT\"))","v":0},{"$f":"IF(A11=\"\",0,COUNTIF(D11:AH11,\"1\")+COUNTIF(D11:AH11,\"2\")+COUNTIF(D11:AH11,\"3\")+COUNTIF(D11:AH11,\"4\")+COUNTIF(D11:AH11,\"5\")+COUNTIF(D11:AH11,\"6\")+COUNTIF(D11:AH11,\"7\")+COUNTIF(D11:AH11,\"8\")+COUNTIF(D11:AH11,\"9\")+COUNTIF(D11:AH11,\"HS4\")+COUNTIF(D11:AH11,\"HS8\")+COUNTIF(D11:AH11,\"GC1\")+COUNTIF(D11:AH11,\"GC2\")+COUNTIF(D11:AH11,\"GC3\")+COUNTIF(D11:AH11,\"GC4\")+COUNTIF(D11:AH11,\"GC5\")+COUNTIF(D11:AH11,\"GC6\")+COUNTIF(D11:AH11,\"GC7\")+COUNTIF(D11:AH11,\"GC8\")+AO11+AQ11+AS11+AP11)","v":0},{"$f":"IF(AN11<30,ROUNDUP(((AM11-AL11)/7.5),0),IF(AV11+AR11=0,30,AT11))","v":0},{"$f":"IF(A11=\"\",0,IF(AN11<30,(COUNTA(D11:AH11)-AU11),COUNTIF(D11:AH11,\"R\")))","v":0},{"$f":"IF(((COUNTIF(D11:AH11,\"R\")))>=1,\"E\",\"\")","v":""},null,null,null,null,null,null,null,3,{"$f":"COUNTIF(D11:AH11,\"Üİ\")","v":0}]
[]
[{"$f":"'PERSONEL BİLGİ GİRİŞİ'!A8","v":""},{"$f":"CONCATENATE('PERSONEL BİLGİ GİRİŞİ'!B8,\" \",'PERSONEL BİLGİ GİRİŞİ'!C8)","v":" "},{"$f":"'PERSONEL BİLGİ GİRİŞİ'!H8","v":0},null,null,null,null,null,null,null,null,null,null,null,null,null,null,null,null,null,null,null,null,null,null,null,null,null,null,null,null,null,null,null,{"$f":"IF(A13=\"\",0,COUNTIF(D13:AH14,\"1\")*1+COUNTIF(D13:AH14,\"2\")*2+COUNTIF(D13:AH14,\"3\")*3+COUNTIF(D13:AH14,\"4\")*4+COUNTIF(D13:AH14,\"5\")*5+COUNTIF(D13:AH14,\"6\")*6+COUNTIF(D13:AH14,\"7\")*7+COUNTIF(D13:AH14,\"8\")*8+COUNTIF(D13:AH14,\"9\")*9+COUNTIF(D13:AH14,\"10\")*10+COUNTIF(D13:AH14,\"Mİ\")*8)","v":0},{"$f":"IF(A13=\"\",0,COUNTIF(D13:AH14,\"GC1\")*1+COUNTIF(D13:AH14,\"GC2\")*2+COUNTIF(D13:AH14,\"GC3\")*3+COUNTIF(D13:AH14,\"GC4\")*4+COUNTIF(D13:AH14,\"GC5\")*5+COUNTIF(D13:AH14,\"GC6\")*6+COUNTIF(D13:AH14,\"GC7\")*7+COUNTIF(D13:AH14,\"GC8\")*8)","v":0},{"$f":"IF(A13=\"\",0,COUNTIF(D13:AH14,\"HS4\")*4+COUNTIF(D13:AH14,\"HS8\")*8)","v":0},{"$f":"(AI13+AJ13+AK13)/4","v":0},{"$f":"IF(A13=\"\",0,(AI13+AJ13+AK13)+AL13)","v":0},{"$f":"(AI13+AJ13+AK13)/4","v":0},{"$f":"IF(A13=\"\",0,COUNTIF(D13:AH14,\"FÇ\"))","v":0},{"$f":"IF(A13=\"\",0,COUNTIF(D13:AH14,\"T\"))","v":0},{"$f":"IF(A13=\"\",0,COUNTIF(D13:AH14,\"Mİ\"))","v":0},{"$f":"IF(A13=\"\",0,COUNTIF(D13:AH14,\"Üİ\"))","v":0},{"$f":"IF(A13=\"\",0,COUNTIF(D13:AH14,\"RT\"))","v":0},{"$f":"IF(A13=\"\",0,COUNTIF(D13:AH13,\"1\")+COUNTIF(D13:AH13,\"2\")+COUNTIF(D13:AH13,\"3\")+COUNTIF(D13:AH13,\"4\")+COUNTIF(D13:AH13,\"5\")+COUNTIF(D13:AH13,\"6\")+COUNTIF(D13:AH13,\"7\")+COUNTIF(D13:AH13,\"8\")+COUNTIF(D13:AH13,\"9\")+COUNTIF(D13:AH13,\"HS4\")+COUNTIF(D13:AH13,\"HS8\")+COUNTIF(D13:AH13,\"GC1\")+COUNTIF(D13:AH13,\"GC2\")+COUNTIF(D13:AH13,\"GC3\")+COUNTIF(D13:AH13,\"GC4\")+COUNTIF(D13:AH13,\"GC5\")+COUNTIF(D13:AH13,\"GC6\")+COUNTIF(D13:AH13,\"GC7\")+COUNTIF(D13:AH13,\"GC8\")+AO13+AQ13+AS13+AP13)","v":0},{"$f":"IF(AN13<30,ROUNDUP(((AM13-AL13)/7.5),0),IF(AV13+AR13=0,30,AT13))","v":0},{"$f":"IF(A13=\"\",0,IF(AN13<30,(COUNTA(D13:AH13)-AU13),COUNTIF(D13:AH13,\"R\")))","v":0},{"$f":"IF(((COUNTIF(D13:AH13,\"R\")))>=1,\"E\",\"\")","v":""},null,null,null,null,null,null,null,4,{"$f":"COUNTIF(D13:AH13,\"Üİ\")","v":0}]
[]
[{"$f":"'PERSONEL BİLGİ GİRİŞİ'!A9","v":""},{"$f":"CONCATENATE('PERSONEL BİLGİ GİRİŞİ'!B9,\" \",'PERSONEL BİLGİ GİRİŞİ'!C9)","v":" "},{"$f":"'PERSONEL BİLGİ GİRİŞİ'!H9","v":0},null,null,null,null,null,null,null,null,null,null,null,null,null,null,null,null,null,null,null,null,null,null,null,null,null,null,null,null,null,null,null,{"$f":"IF(A15=\"\",0,COUNTIF(D15:AH16,\"1\")*1+COUNTIF(D15:AH16,\"2\")*2+COUNTIF(D15:AH16,\"3\")*3+COUNTIF(D15:AH16,\"4\")*4+COUNTIF(D15:AH16,\"5\")*5+COUNTIF(D15:AH16,\"6\")*6+COUNTIF(D15:AH16,\"7\")*7+COUNTIF(D15:AH16,\"8\")*8+COUNTIF(D15:AH16,\"9\")*9+COUNTIF(D15:AH16,\"10\")*10+COUNTIF(D15:AH16,\"Mİ\")*8)","v":0},{"$f":"IF(A15=\"\",0,COUNTIF(D15:AH16,\"GC1\")*1+COUNTIF(D15:AH16,\"GC2\")*2+COUNTIF(D15:AH16,\"GC3\")*3+COUNTIF(D15:AH16,\"GC4\")*4+COUNTIF(D15:AH16,\"GC5\")*5+COUNTIF(D15:AH16,\"GC6\")*6+COUNTIF(D15:AH16,\"GC7\")*7+COUNTIF(D15:AH16,\"GC8\")*8)","v":0},{"$f":"IF(A15=\"\",0,COUNTIF(D15:AH16,\"HS4\")*4+COUNTIF(D15:AH16,\"HS8\")*8)","v":0},{"$f":"(AI15+AJ15+AK15)/4","v":0},{"$f":"IF(A15=\"\",0,(AI15+AJ15+AK15)+AL15)","v":0},{"$f":"(AI15+AJ15+AK15)/4","v":0},{"$f":"IF(A15=\"\",0,COUNTIF(D15:AH16,\"FÇ\"))","v":0},{"$f":"IF(A15=\"\",0,COUNTIF(D15:AH16,\"T\"))","v":0},{"$f":"IF(A15=\"\",0,COUNTIF(D15:AH16,\"Mİ\"))","v":0},{"$f":"IF(A15=\"\",0,COUNTIF(D15:AH16,\"Üİ\"))","v":0},{"$f":"IF(A15=\"\",0,COUNTIF(D15:AH16,\"RT\"))","v":0},{"$f":"IF(A15=\"\",0,COUNTIF(D15:AH15,\"1\")+COUNTIF(D15:AH15,\"2\")+COUNTIF(D15:AH15,\"3\")+COUNTIF(D15:AH15,\"4\")+COUNTIF(D15:AH15,\"5\")+COUNTIF(D15:AH15,\"6\")+COUNTIF(D15:AH15,\"7\")+COUNTIF(D15:AH15,\"8\")+COUNTIF(D15:AH15,\"9\")+COUNTIF(D15:AH15,\"HS4\")+COUNTIF(D15:AH15,\"HS8\")+COUNTIF(D15:AH15,\"GC1\")+COUNTIF(D15:AH15,\"GC2\")+COUNTIF(D15:AH15,\"GC3\")+COUNTIF(D15:AH15,\"GC4\")+COUNTIF(D15:AH15,\"GC5\")+COUNTIF(D15:AH15,\"GC6\")+COUNTIF(D15:AH15,\"GC7\")+COUNTIF(D15:AH15,\"GC8\")+AO15+AQ15+AS15+AP15)","v":0},{"$f":"IF(AN15<30,ROUNDUP(((AM15-AL15)/7.5),0),IF(AV15+AR15=0,30,AT15))","v":0},{"$f":"IF(A15=\"\",0,IF(AN15<30,(COUNTA(D15:AH15)-AU15),COUNTIF(D15:AH15,\"R\")))","v":0},{"$f":"IF(((COUNTIF(D15:AH15,\"R\")))>=1,\"E\",\"\")","v":""},null,null,null,null,null,null,null,5,{"$f":"COUNTIF(D15:AH15,\"Üİ\")","v":0}]
[]
[{"$f":"'PERSONEL BİLGİ GİRİŞİ'!A10","v":""},{"$f":"CONCATENATE('PERSONEL BİLGİ GİRİŞİ'!B10,\" \",'PERSONEL BİLGİ GİRİŞİ'!C10)","v":" "},{"$f":"'PERSONEL BİLGİ GİRİŞİ'!H10","v":0},null,null,null,null,null,null,null,null,null,null,null,null,null,null,null,null,null,null,null,null,null,null,null,null,null,null,null,null,null,null,null,{"$f":"IF(A17=\"\",0,COUNTIF(D17:AH18,\"1\")*1+COUNTIF(D17:AH18,\"2\")*2+COUNTIF(D17:AH18,\"3\")*3+COUNTIF(D17:AH18,\"4\")*4+COUNTIF(D17:AH18,\"5\")*5+COUNTIF(D17:AH18,\"6\")*6+COUNTIF(D17:AH18,\"7\")*7+COUNTIF(D17:AH18,\"8\")*8+COUNTIF(D17:AH18,\"9\")*9+COUNTIF(D17:AH18,\"10\")*10+COUNTIF(D17:AH18,\"Mİ\")*8)","v":0},{"$f":"IF(A17=\"\",0,COUNTIF(D17:AH18,\"GC1\")*1+COUNTIF(D17:AH18,\"GC2\")*2+COUNTIF(D17:AH18,\"GC3\")*3+COUNTIF(D17:AH18,\"GC4\")*4+COUNTIF(D17:AH18,\"GC5\")*5+COUNTIF(D17:AH18,\"GC6\")*6+COUNTIF(D17:AH18,\"GC7\")*7+COUNTIF(D17:AH18,\"GC8\")*8)","v":0},{"$f":"IF(A17=\"\",0,COUNTIF(D17:AH18,\"HS4\")*4+COUNTIF(D17:AH18,\"HS8\")*8)","v":0},{"$f":"(AI17+AJ17+AK17)/4","v":0},{"$f":"IF(A17=\"\",0,(AI17+AJ17+AK17)+AL17)","v":0},{"$f":"(AI17+AJ17+AK17)/4","v":0},{"$f":"IF(A17=\"\",0,COUNTIF(D17:AH18,\"FÇ\"))","v":0},{"$f":"IF(A17=\"\",0,COUNTIF(D17:AH18,\"T\"))","v":0},{"$f":"IF(A17=\"\",0,COUNTIF(D17:AH18,\"Mİ\"))","v":0},{"$f":"IF(A17=\"\",0,COUNTIF(D17:AH18,\"Üİ\"))","v":0},{"$f":"IF(A17=\"\",0,COUNTIF(D17:AH18,\"RT\"))","v":0},{"$f":"IF(A17=\"\",0,COUNTIF(D17:AH17,\"1\")+COUNTIF(D17:AH17,\"2\")+COUNTIF(D17:AH17,\"3\")+COUNTIF(D17:AH17,\"4\")+COUNTIF(D17:AH17,\"5\")+COUNTIF(D17:AH17,\"6\")+COUNTIF(D17:AH17,\"7\")+COUNTIF(D17:AH17,\"8\")+COUNTIF(D17:AH17,\"9\")+COUNTIF(D17:AH17,\"HS4\")+COUNTIF(D17:AH17,\"HS8\")+COUNTIF(D17:AH17,\"GC1\")+COUNTIF(D17:AH17,\"GC2\")+COUNTIF(D17:AH17,\"GC3\")+COUNTIF(D17:AH17,\"GC4\")+COUNTIF(D17:AH17,\"GC5\")+COUNTIF(D17:AH17,\"GC6\")+COUNTIF(D17:AH17,\"GC7\")+COUNTIF(D17:AH17,\"GC8\")+AO17+AQ17+AS17+AP17)","v":0},{"$f":"IF(AN17<30,ROUNDUP(((AM17-AL17)/7.5),0),IF(AV17+AR17=0,30,AT17))","v":0},{"$f":"IF(A17=\"\",0,IF(AN17<30,(COUNTA(D17:AH17)-AU17),COUNTIF(D17:AH17,\"R\")))","v":0},{"$f":"IF(((COUNTIF(D17:AH17,\"R\")))>=1,\"E\",\"\")","v":""},null,null,null,null,null,null,null,6,{"$f":"COUNTIF(D17:AH17,\"Üİ\")","v":0}]
[]
[{"$f":"'PERSONEL BİLGİ GİRİŞİ'!A11","v":""},{"$f":"CONCATENATE('PERSONEL BİLGİ GİRİŞİ'!B11,\" \",'PERSONEL BİLGİ GİRİŞİ'!C11)","v":" "},{"$f":"'PERSONEL BİLGİ GİRİŞİ'!H11","v":0},null,null,null,null,null,null,null,null,null,null,null,null,null,null,null,null,null,null,null,null,null,null,null,null,null,null,null,null,null,null,null,{"$f":"IF(A19=\"\",0,COUNTIF(D19:AH20,\"1\")*1+COUNTIF(D19:AH20,\"2\")*2+COUNTIF(D19:AH20,\"3\")*3+COUNTIF(D19:AH20,\"4\")*4+COUNTIF(D19:AH20,\"5\")*5+COUNTIF(D19:AH20,\"6\")*6+COUNTIF(D19:AH20,\"7\")*7+COUNTIF(D19:AH20,\"8\")*8+COUNTIF(D19:AH20,\"9\")*9+COUNTIF(D19:AH20,\"10\")*10+COUNTIF(D19:AH20,\"Mİ\")*8)","v":0},{"$f":"IF(A19=\"\",0,COUNTIF(D19:AH20,\"GC1\")*1+COUNTIF(D19:AH20,\"GC2\")*2+COUNTIF(D19:AH20,\"GC3\")*3+COUNTIF(D19:AH20,\"GC4\")*4+COUNTIF(D19:AH20,\"GC5\")*5+COUNTIF(D19:AH20,\"GC6\")*6+COUNTIF(D19:AH20,\"GC7\")*7+COUNTIF(D19:AH20,\"GC8\")*8)","v":0},{"$f":"IF(A19=\"\",0,COUNTIF(D19:AH20,\"HS4\")*4+COUNTIF(D19:AH20,\"HS8\")*8)","v":0},{"$f":"(AI19+AJ19+AK19)/4","v":0},{"$f":"IF(A19=\"\",0,(AI19+AJ19+AK19)+AL19)","v":0},{"$f":"(AI19+AJ19+AK19)/4","v":0},{"$f":"IF(A19=\"\",0,COUNTIF(D19:AH20,\"FÇ\"))","v":0},{"$f":"IF(A19=\"\",0,COUNTIF(D19:AH20,\"T\"))","v":0},{"$f":"IF(A19=\"\",0,COUNTIF(D19:AH20,\"Mİ\"))","v":0},{"$f":"IF(A19=\"\",0,COUNTIF(D19:AH20,\"Üİ\"))","v":0},{"$f":"IF(A19=\"\",0,COUNTIF(D19:AH20,\"RT\"))","v":0},{"$f":"IF(A19=\"\",0,COUNTIF(D19:AH19,\"1\")+COUNTIF(D19:AH19,\"2\")+COUNTIF(D19:AH19,\"3\")+COUNTIF(D19:AH19,\"4\")+COUNTIF(D19:AH19,\"5\")+COUNTIF(D19:AH19,\"6\")+COUNTIF(D19:AH19,\"7\")+COUNTIF(D19:AH19,\"8\")+COUNTIF(D19:AH19,\"9\")+COUNTIF(D19:AH19,\"HS4\")+COUNTIF(D19:AH19,\"HS8\")+COUNTIF(D19:AH19,\"GC1\")+COUNTIF(D19:AH19,\"GC2\")+COUNTIF(D19:AH19,\"GC3\")+COUNTIF(D19:AH19,\"GC4\")+COUNTIF(D19:AH19,\"GC5\")+COUNTIF(D19:AH19,\"GC6\")+COUNTIF(D19:AH19,\"GC7\")+COUNTIF(D19:AH19,\"GC8\")+AO19+AQ19+AS19+AP19)","v":0},{"$f":"IF(AN19<30,ROUNDUP(((AM19-AL19)/7.5),0),IF(AV19+AR19=0,30,AT19))","v":0},{"$f":"IF(A19=\"\",0,IF(AN19<30,(COUNTA(D19:AH19)-AU19),COUNTIF(D19:AH19,\"R\")))","v":0},{"$f":"IF(((COUNTIF(D19:AH19,\"R\")))>=1,\"E\",\"\")","v":""},null,null,null,null,null,null,null,7,{"$f":"COUNTIF(D19:AH19,\"Üİ\")","v":0}]
[]
[{"$f":"'PERSONEL BİLGİ GİRİŞİ'!A12","v":""},{"$f":"CONCATENATE('PERSONEL BİLGİ GİRİŞİ'!B12,\" \",'PERSONEL BİLGİ GİRİŞİ'!C12)","v":" "},{"$f":"'PERSONEL BİLGİ GİRİŞİ'!H12","v":0},null,null,null,null,null,null,null,null,null,null,null,null,null,null,null,null,null,null,null,null,null,null,null,null,null,null,null,null,null,null,null,{"$f":"IF(A21=\"\",0,COUNTIF(D21:AH22,\"1\")*1+COUNTIF(D21:AH22,\"2\")*2+COUNTIF(D21:AH22,\"3\")*3+COUNTIF(D21:AH22,\"4\")*4+COUNTIF(D21:AH22,\"5\")*5+COUNTIF(D21:AH22,\"6\")*6+COUNTIF(D21:AH22,\"7\")*7+COUNTIF(D21:AH22,\"8\")*8+COUNTIF(D21:AH22,\"9\")*9+COUNTIF(D21:AH22,\"10\")*10+COUNTIF(D21:AH22,\"Mİ\")*8)","v":0},{"$f":"IF(A21=\"\",0,COUNTIF(D21:AH22,\"GC1\")*1+COUNTIF(D21:AH22,\"GC2\")*2+COUNTIF(D21:AH22,\"GC3\")*3+COUNTIF(D21:AH22,\"GC4\")*4+COUNTIF(D21:AH22,\"GC5\")*5+COUNTIF(D21:AH22,\"GC6\")*6+COUNTIF(D21:AH22,\"GC7\")*7+COUNTIF(D21:AH22,\"GC8\")*8)","v":0},{"$f":"IF(A21=\"\",0,COUNTIF(D21:AH22,\"HS4\")*4+COUNTIF(D21:AH22,\"HS8\")*8)","v":0},{"$f":"(AI21+AJ21+AK21)/4","v":0},{"$f":"IF(A21=\"\",0,(AI21+AJ21+AK21)+AL21)","v":0},{"$f":"(AI21+AJ21+AK21)/4","v":0},{"$f":"IF(A21=\"\",0,COUNTIF(D21:AH22,\"FÇ\"))","v":0},{"$f":"IF(A21=\"\",0,COUNTIF(D21:AH22,\"T\"))","v":0},{"$f":"IF(A21=\"\",0,COUNTIF(D21:AH22,\"Mİ\"))","v":0},{"$f":"IF(A21=\"\",0,COUNTIF(D21:AH22,\"Üİ\"))","v":0},{"$f":"IF(A21=\"\",0,COUNTIF(D21:AH22,\"RT\"))","v":0},{"$f":"IF(A21=\"\",0,COUNTIF(D21:AH21,\"1\")+COUNTIF(D21:AH21,\"2\")+COUNTIF(D21:AH21,\"3\")+COUNTIF(D21:AH21,\"4\")+COUNTIF(D21:AH21,\"5\")+COUNTIF(D21:AH21,\"6\")+COUNTIF(D21:AH21,\"7\")+COUNTIF(D21:AH21,\"8\")+COUNTIF(D21:AH21,\"9\")+COUNTIF(D21:AH21,\"HS4\")+COUNTIF(D21:AH21,\"HS8\")+COUNTIF(D21:AH21,\"GC1\")+COUNTIF(D21:AH21,\"GC2\")+COUNTIF(D21:AH21,\"GC3\")+COUNTIF(D21:AH21,\"GC4\")+COUNTIF(D21:AH21,\"GC5\")+COUNTIF(D21:AH21,\"GC6\")+COUNTIF(D21:AH21,\"GC7\")+COUNTIF(D21:AH21,\"GC8\")+AO21+AQ21+AS21+AP21)","v":0},{"$f":"IF(AN21<30,ROUNDUP(((AM21-AL21)/7.5),0),IF(AV21+AR21=0,30,AT21))","v":0},{"$f":"IF(A21=\"\",0,IF(AN21<30,(COUNTA(D21:AH21)-AU21),COUNTIF(D21:AH21,\"R\")))","v":0},{"$f":"IF(((COUNTIF(D21:AH21,\"R\")))>=1,\"E\",\"\")","v":""},null,null,null,null,null,null,null,8,{"$f":"COUNTIF(D21:AH21,\"Üİ\")","v":0}]
[]
[{"$f":"'PERSONEL BİLGİ GİRİŞİ'!A13","v":""},{"$f":"CONCATENATE('PERSONEL BİLGİ GİRİŞİ'!B13,\" \",'PERSONEL BİLGİ GİRİŞİ'!C13)","v":" "},{"$f":"'PERSONEL BİLGİ GİRİŞİ'!H13","v":0},null,null,null,null,null,null,null,null,null,null,null,null,null,null,null,null,null,null,null,null,null,null,null,null,null,null,null,null,null,null,null,{"$f":"IF(A23=\"\",0,COUNTIF(D23:AH24,\"1\")*1+COUNTIF(D23:AH24,\"2\")*2+COUNTIF(D23:AH24,\"3\")*3+COUNTIF(D23:AH24,\"4\")*4+COUNTIF(D23:AH24,\"5\")*5+COUNTIF(D23:AH24,\"6\")*6+COUNTIF(D23:AH24,\"7\")*7+COUNTIF(D23:AH24,\"8\")*8+COUNTIF(D23:AH24,\"9\")*9+COUNTIF(D23:AH24,\"10\")*10+COUNTIF(D23:AH24,\"Mİ\")*8)","v":0},{"$f":"IF(A23=\"\",0,COUNTIF(D23:AH24,\"GC1\")*1+COUNTIF(D23:AH24,\"GC2\")*2+COUNTIF(D23:AH24,\"GC3\")*3+COUNTIF(D23:AH24,\"GC4\")*4+COUNTIF(D23:AH24,\"GC5\")*5+COUNTIF(D23:AH24,\"GC6\")*6+COUNTIF(D23:AH24,\"GC7\")*7+COUNTIF(D23:AH24,\"GC8\")*8)","v":0},{"$f":"IF(A23=\"\",0,COUNTIF(D23:AH24,\"HS4\")*4+COUNTIF(D23:AH24,\"HS8\")*8)","v":0},{"$f":"(AI23+AJ23+AK23)/4","v":0},{"$f":"IF(A23=\"\",0,(AI23+AJ23+AK23)+AL23)","v":0},{"$f":"(AI23+AJ23+AK23)/4","v":0},{"$f":"IF(A23=\"\",0,COUNTIF(D23:AH24,\"FÇ\"))","v":0},{"$f":"IF(A23=\"\",0,COUNTIF(D23:AH24,\"T\"))","v":0},{"$f":"IF(A23=\"\",0,COUNTIF(D23:AH24,\"Mİ\"))","v":0},{"$f":"IF(A23=\"\",0,COUNTIF(D23:AH24,\"Üİ\"))","v":0},{"$f":"IF(A23=\"\",0,COUNTIF(D23:AH24,\"RT\"))","v":0},{"$f":"IF(A23=\"\",0,COUNTIF(D23:AH23,\"1\")+COUNTIF(D23:AH23,\"2\")+COUNTIF(D23:AH23,\"3\")+COUNTIF(D23:AH23,\"4\")+COUNTIF(D23:AH23,\"5\")+COUNTIF(D23:AH23,\"6\")+COUNTIF(D23:AH23,\"7\")+COUNTIF(D23:AH23,\"8\")+COUNTIF(D23:AH23,\"9\")+COUNTIF(D23:AH23,\"HS4\")+COUNTIF(D23:AH23,\"HS8\")+COUNTIF(D23:AH23,\"GC1\")+COUNTIF(D23:AH23,\"GC2\")+COUNTIF(D23:AH23,\"GC3\")+COUNTIF(D23:AH23,\"GC4\")+COUNTIF(D23:AH23,\"GC5\")+COUNTIF(D23:AH23,\"GC6\")+COUNTIF(D23:AH23,\"GC7\")+COUNTIF(D23:AH23,\"GC8\")+AO23+AQ23+AS23+AP23)","v":0},{"$f":"IF(AN23<30,ROUNDUP(((AM23-AL23)/7.5),0),IF(AV23+AR23=0,30,AT23))","v":0},{"$f":"IF(A23=\"\",0,IF(AN23<30,(COUNTA(D23:AH23)-AU23),COUNTIF(D23:AH23,\"R\")))","v":0},{"$f":"IF(((COUNTIF(D23:AH23,\"R\")))>=1,\"E\",\"\")","v":""},null,null,null,null,null,null,null,9,{"$f":"COUNTIF(D23:AH23,\"Üİ\")","v":0}]
[]
[{"$f":"'PERSONEL BİLGİ GİRİŞİ'!A14","v":""},{"$f":"CONCATENATE('PERSONEL BİLGİ GİRİŞİ'!B14,\" \",'PERSONEL BİLGİ GİRİŞİ'!C14)","v":" "},{"$f":"'PERSONEL BİLGİ GİRİŞİ'!H14","v":0},null,null,null,null,null,null,null,null,null,null,null,null,null,null,null,null,null,null,null,null,null,null,null,null,null,null,null,null,null,null,null,{"$f":"IF(A25=\"\",0,COUNTIF(D25:AH26,\"1\")*1+COUNTIF(D25:AH26,\"2\")*2+COUNTIF(D25:AH26,\"3\")*3+COUNTIF(D25:AH26,\"4\")*4+COUNTIF(D25:AH26,\"5\")*5+COUNTIF(D25:AH26,\"6\")*6+COUNTIF(D25:AH26,\"7\")*7+COUNTIF(D25:AH26,\"8\")*8+COUNTIF(D25:AH26,\"9\")*9+COUNTIF(D25:AH26,\"10\")*10+COUNTIF(D25:AH26,\"Mİ\")*8)","v":0},{"$f":"IF(A25=\"\",0,COUNTIF(D25:AH26,\"GC1\")*1+COUNTIF(D25:AH26,\"GC2\")*2+COUNTIF(D25:AH26,\"GC3\")*3+COUNTIF(D25:AH26,\"GC4\")*4+COUNTIF(D25:AH26,\"GC5\")*5+COUNTIF(D25:AH26,\"GC6\")*6+COUNTIF(D25:AH26,\"GC7\")*7+COUNTIF(D25:AH26,\"GC8\")*8)","v":0},{"$f":"IF(A25=\"\",0,COUNTIF(D25:AH26,\"HS4\")*4+COUNTIF(D25:AH26,\"HS8\")*8)","v":0},{"$f":"(AI25+AJ25+AK25)/4","v":0},{"$f":"IF(A25=\"\",0,(AI25+AJ25+AK25)+AL25)","v":0},{"$f":"(AI25+AJ25+AK25)/4","v":0},{"$f":"IF(A25=\"\",0,COUNTIF(D25:AH26,\"FÇ\"))","v":0},{"$f":"IF(A25=\"\",0,COUNTIF(D25:AH26,\"T\"))","v":0},{"$f":"IF(A25=\"\",0,COUNTIF(D25:AH26,\"Mİ\"))","v":0},{"$f":"IF(A25=\"\",0,COUNTIF(D25:AH26,\"Üİ\"))","v":0},{"$f":"IF(A25=\"\",0,COUNTIF(D25:AH26,\"RT\"))","v":0},{"$f":"IF(A25=\"\",0,COUNTIF(D25:AH25,\"1\")+COUNTIF(D25:AH25,\"2\")+COUNTIF(D25:AH25,\"3\")+COUNTIF(D25:AH25,\"4\")+COUNTIF(D25:AH25,\"5\")+COUNTIF(D25:AH25,\"6\")+COUNTIF(D25:AH25,\"7\")+COUNTIF(D25:AH25,\"8\")+COUNTIF(D25:AH25,\"9\")+COUNTIF(D25:AH25,\"HS4\")+COUNTIF(D25:AH25,\"HS8\")+COUNTIF(D25:AH25,\"GC1\")+COUNTIF(D25:AH25,\"GC2\")+COUNTIF(D25:AH25,\"GC3\")+COUNTIF(D25:AH25,\"GC4\")+COUNTIF(D25:AH25,\"GC5\")+COUNTIF(D25:AH25,\"GC6\")+COUNTIF(D25:AH25,\"GC7\")+COUNTIF(D25:AH25,\"GC8\")+AO25+AQ25+AS25+AP25)","v":0},{"$f":"IF(AN25<30,ROUNDUP(((AM25-AL25)/7.5),0),IF(AV25+AR25=0,30,AT25))","v":0},{"$f":"IF(A25=\"\",0,IF(AN25<30,(COUNTA(D25:AH25)-AU25),COUNTIF(D25:AH25,\"R\")))","v":0},{"$f":"IF(((COUNTIF(D25:AH25,\"R\")))>=1,\"E\",\"\")","v":""},null,null,null,null,null,null,null,10,{"$f":"COUNTIF(D25:AH25,\"Üİ\")","v":0}]
[]
[{"$f":"'PERSONEL BİLGİ GİRİŞİ'!A15","v":""},{"$f":"CONCATENATE('PERSONEL BİLGİ GİRİŞİ'!B15,\" \",'PERSONEL BİLGİ GİRİŞİ'!C15)","v":" "},{"$f":"'PERSONEL BİLGİ GİRİŞİ'!H15","v":0},null,null,null,null,null,null,null,null,null,null,null,null,null,null,null,null,null,null,null,null,null,null,null,null,null,null,null,null,null,null,null,{"$f":"IF(A27=\"\",0,COUNTIF(D27:AH28,\"1\")*1+COUNTIF(D27:AH28,\"2\")*2+COUNTIF(D27:AH28,\"3\")*3+COUNTIF(D27:AH28,\"4\")*4+COUNTIF(D27:AH28,\"5\")*5+COUNTIF(D27:AH28,\"6\")*6+COUNTIF(D27:AH28,\"7\")*7+COUNTIF(D27:AH28,\"8\")*8+COUNTIF(D27:AH28,\"9\")*9+COUNTIF(D27:AH28,\"10\")*10+COUNTIF(D27:AH28,\"Mİ\")*8)","v":0},{"$f":"IF(A27=\"\",0,COUNTIF(D27:AH28,\"GC1\")*1+COUNTIF(D27:AH28,\"GC2\")*2+COUNTIF(D27:AH28,\"GC3\")*3+COUNTIF(D27:AH28,\"GC4\")*4+COUNTIF(D27:AH28,\"GC5\")*5+COUNTIF(D27:AH28,\"GC6\")*6+COUNTIF(D27:AH28,\"GC7\")*7+COUNTIF(D27:AH28,\"GC8\")*8)","v":0},{"$f":"IF(A27=\"\",0,COUNTIF(D27:AH28,\"HS4\")*4+COUNTIF(D27:AH28,\"HS8\")*8)","v":0},{"$f":"(AI27+AJ27+AK27)/4","v":0},{"$f":"IF(A27=\"\",0,(AI27+AJ27+AK27)+AL27)","v":0},{"$f":"(AI27+AJ27+AK27)/4","v":0},{"$f":"IF(A27=\"\",0,COUNTIF(D27:AH28,\"FÇ\"))","v":0},{"$f":"IF(A27=\"\",0,COUNTIF(D27:AH28,\"T\"))","v":0},{"$f":"IF(A27=\"\",0,COUNTIF(D27:AH28,\"Mİ\"))","v":0},{"$f":"IF(A27=\"\",0,COUNTIF(D27:AH28,\"Üİ\"))","v":0},{"$f":"IF(A27=\"\",0,COUNTIF(D27:AH28,\"RT\"))","v":0},{"$f":"IF(A27=\"\",0,COUNTIF(D27:AH27,\"1\")+COUNTIF(D27:AH27,\"2\")+COUNTIF(D27:AH27,\"3\")+COUNTIF(D27:AH27,\"4\")+COUNTIF(D27:AH27,\"5\")+COUNTIF(D27:AH27,\"6\")+COUNTIF(D27:AH27,\"7\")+COUNTIF(D27:AH27,\"8\")+COUNTIF(D27:AH27,\"9\")+COUNTIF(D27:AH27,\"HS4\")+COUNTIF(D27:AH27,\"HS8\")+COUNTIF(D27:AH27,\"GC1\")+COUNTIF(D27:AH27,\"GC2\")+COUNTIF(D27:AH27,\"GC3\")+COUNTIF(D27:AH27,\"GC4\")+COUNTIF(D27:AH27,\"GC5\")+COUNTIF(D27:AH27,\"GC6\")+COUNTIF(D27:AH27,\"GC7\")+COUNTIF(D27:AH27,\"GC8\")+AO27+AQ27+AS27+AP27)","v":0},{"$f":"IF(AN27<30,ROUNDUP(((AM27-AL27)/7.5),0),IF(AV27+AR27=0,30,AT27))","v":0},{"$f":"IF(A27=\"\",0,IF(AN27<30,(COUNTA(D27:AH27)-AU27),COUNTIF(D27:AH27,\"R\")))","v":0},{"$f":"IF(((COUNTIF(D27:AH27,\"R\")))>=1,\"E\",\"\")","v":""},null,null,null,null,null,null,null,11,{"$f":"COUNTIF(D27:AH27,\"Üİ\")","v":0}]
[]
[{"$f":"'PERSONEL BİLGİ GİRİŞİ'!A16","v":""},{"$f":"CONCATENATE('PERSONEL BİLGİ GİRİŞİ'!B16,\" \",'PERSONEL BİLGİ GİRİŞİ'!C16)","v":" "},{"$f":"'PERSONEL BİLGİ GİRİŞİ'!H16","v":0},null,null,null,null,null,null,null,null,null,null,null,null,null,null,null,null,null,null,null,null,null,null,null,null,null,null,null,null,null,null,null,{"$f":"IF(A29=\"\",0,COUNTIF(D29:AH30,\"1\")*1+COUNTIF(D29:AH30,\"2\")*2+COUNTIF(D29:AH30,\"3\")*3+COUNTIF(D29:AH30,\"4\")*4+COUNTIF(D29:AH30,\"5\")*5+COUNTIF(D29:AH30,\"6\")*6+COUNTIF(D29:AH30,\"7\")*7+COUNTIF(D29:AH30,\"8\")*8+COUNTIF(D29:AH30,\"9\")*9+COUNTIF(D29:AH30,\"10\")*10+COUNTIF(D29:AH30,\"Mİ\")*8)","v":0},{"$f":"IF(A29=\"\",0,COUNTIF(D29:AH30,\"GC1\")*1+COUNTIF(D29:AH30,\"GC2\")*2+COUNTIF(D29:AH30,\"GC3\")*3+COUNTIF(D29:AH30,\"GC4\")*4+COUNTIF(D29:AH30,\"GC5\")*5+COUNTIF(D29:AH30,\"GC6\")*6+COUNTIF(D29:AH30,\"GC7\")*7+COUNTIF(D29:AH30,\"GC8\")*8)","v":0},{"$f":"IF(A29=\"\",0,COUNTIF(D29:AH30,\"HS4\")*4+COUNTIF(D29:AH30,\"HS8\")*8)","v":0},{"$f":"(AI29+AJ29+AK29)/4","v":0},{"$f":"IF(A29=\"\",0,(AI29+AJ29+AK29)+AL29)","v":0},{"$f":"(AI29+AJ29+AK29)/4","v":0},{"$f":"IF(A29=\"\",0,COUNTIF(D29:AH30,\"FÇ\"))","v":0},{"$f":"IF(A29=\"\",0,COUNTIF(D29:AH30,\"T\"))","v":0},{"$f":"IF(A29=\"\",0,COUNTIF(D29:AH30,\"Mİ\"))","v":0},{"$f":"IF(A29=\"\",0,COUNTIF(D29:AH30,\"Üİ\"))","v":0},{"$f":"IF(A29=\"\",0,COUNTIF(D29:AH30,\"RT\"))","v":0},{"$f":"IF(A29=\"\",0,COUNTIF(D29:AH29,\"1\")+COUNTIF(D29:AH29,\"2\")+COUNTIF(D29:AH29,\"3\")+COUNTIF(D29:AH29,\"4\")+COUNTIF(D29:AH29,\"5\")+COUNTIF(D29:AH29,\"6\")+COUNTIF(D29:AH29,\"7\")+COUNTIF(D29:AH29,\"8\")+COUNTIF(D29:AH29,\"9\")+COUNTIF(D29:AH29,\"HS4\")+COUNTIF(D29:AH29,\"HS8\")+COUNTIF(D29:AH29,\"GC1\")+COUNTIF(D29:AH29,\"GC2\")+COUNTIF(D29:AH29,\"GC3\")+COUNTIF(D29:AH29,\"GC4\")+COUNTIF(D29:AH29,\"GC5\")+COUNTIF(D29:AH29,\"GC6\")+COUNTIF(D29:AH29,\"GC7\")+COUNTIF(D29:AH29,\"GC8\")+AO29+AQ29+AS29+AP29)","v":0},{"$f":"IF(AN29<30,ROUNDUP(((AM29-AL29)/7.5),0),IF(AV29+AR29=0,30,AT29))","v":0},{"$f":"IF(A29=\"\",0,IF(AN29<30,(COUNTA(D29:AH29)-AU29),COUNTIF(D29:AH29,\"R\")))","v":0},{"$f":"IF(((COUNTIF(D29:AH29,\"R\")))>=1,\"E\",\"\")","v":""},null,null,null,null,null,null,null,12,{"$f":"COUNTIF(D29:AH29,\"Üİ\")","v":0}]
[]
[{"$f":"'PERSONEL BİLGİ GİRİŞİ'!A17","v":""},{"$f":"CONCATENATE('PERSONEL BİLGİ GİRİŞİ'!B17,\" \",'PERSONEL BİLGİ GİRİŞİ'!C17)","v":" "},{"$f":"'PERSONEL BİLGİ GİRİŞİ'!H17","v":0},null,null,null,null,null,null,null,null,null,null,null,null,null,null,null,null,null,null,null,null,null,null,null,null,null,null,null,null,null,null,null,{"$f":"IF(A31=\"\",0,COUNTIF(D31:AH32,\"1\")*1+COUNTIF(D31:AH32,\"2\")*2+COUNTIF(D31:AH32,\"3\")*3+COUNTIF(D31:AH32,\"4\")*4+COUNTIF(D31:AH32,\"5\")*5+COUNTIF(D31:AH32,\"6\")*6+COUNTIF(D31:AH32,\"7\")*7+COUNTIF(D31:AH32,\"8\")*8+COUNTIF(D31:AH32,\"9\")*9+COUNTIF(D31:AH32,\"10\")*10+COUNTIF(D31:AH32,\"Mİ\")*8)","v":0},{"$f":"IF(A31=\"\",0,COUNTIF(D31:AH32,\"GC1\")*1+COUNTIF(D31:AH32,\"GC2\")*2+COUNTIF(D31:AH32,\"GC3\")*3+COUNTIF(D31:AH32,\"GC4\")*4+COUNTIF(D31:AH32,\"GC5\")*5+COUNTIF(D31:AH32,\"GC6\")*6+COUNTIF(D31:AH32,\"GC7\")*7+COUNTIF(D31:AH32,\"GC8\")*8)","v":0},{"$f":"IF(A31=\"\",0,COUNTIF(D31:AH32,\"HS4\")*4+COUNTIF(D31:AH32,\"HS8\")*8)","v":0},{"$f":"(AI31+AJ31+AK31)/4","v":0},{"$f":"IF(A31=\"\",0,(AI31+AJ31+AK31)+AL31)","v":0},{"$f":"(AI31+AJ31+AK31)/4","v":0},{"$f":"IF(A31=\"\",0,COUNTIF(D31:AH32,\"FÇ\"))","v":0},{"$f":"IF(A31=\"\",0,COUNTIF(D31:AH32,\"T\"))","v":0},{"$f":"IF(A31=\"\",0,COUNTIF(D31:AH32,\"Mİ\"))","v":0},{"$f":"IF(A31=\"\",0,COUNTIF(D31:AH32,\"Üİ\"))","v":0},{"$f":"IF(A31=\"\",0,COUNTIF(D31:AH32,\"RT\"))","v":0},{"$f":"IF(A31=\"\",0,COUNTIF(D31:AH31,\"1\")+COUNTIF(D31:AH31,\"2\")+COUNTIF(D31:AH31,\"3\")+COUNTIF(D31:AH31,\"4\")+COUNTIF(D31:AH31,\"5\")+COUNTIF(D31:AH31,\"6\")+COUNTIF(D31:AH31,\"7\")+COUNTIF(D31:AH31,\"8\")+COUNTIF(D31:AH31,\"9\")+COUNTIF(D31:AH31,\"HS4\")+COUNTIF(D31:AH31,\"HS8\")+COUNTIF(D31:AH31,\"GC1\")+COUNTIF(D31:AH31,\"GC2\")+COUNTIF(D31:AH31,\"GC3\")+COUNTIF(D31:AH31,\"GC4\")+COUNTIF(D31:AH31,\"GC5\")+COUNTIF(D31:AH31,\"GC6\")+COUNTIF(D31:AH31,\"GC7\")+COUNTIF(D31:AH31,\"GC8\")+AO31+AQ31+AS31+AP31)","v":0},{"$f":"IF(AN31<30,ROUNDUP(((AM31-AL31)/7.5),0),IF(AV31+AR31=0,30,AT31))","v":0},{"$f":"IF(A31=\"\",0,IF(AN31<30,(COUNTA(D31:AH31)-AU31),COUNTIF(D31:AH31,\"R\")))","v":0},{"$f":"IF(((COUNTIF(D31:AH31,\"R\")))>=1,\"E\",\"\")","v":""},null,null,null,null,null,null,null,13,{"$f":"COUNTIF(D31:AH31,\"Üİ\")","v":0}]
[]
[{"$f":"'PERSONEL BİLGİ GİRİŞİ'!A18","v":""},{"$f":"CONCATENATE('PERSONEL BİLGİ GİRİŞİ'!B18,\" \",'PERSONEL BİLGİ GİRİŞİ'!C18)","v":" "},{"$f":"'PERSONEL BİLGİ GİRİŞİ'!H18","v":0},null,null,null,null,null,null,null,null,null,null,null,null,null,null,null,null,null,null,null,null,null,null,null,null,null,null,null,null,null,null,null,{"$f":"IF(A33=\"\",0,COUNTIF(D33:AH34,\"1\")*1+COUNTIF(D33:AH34,\"2\")*2+COUNTIF(D33:AH34,\"3\")*3+COUNTIF(D33:AH34,\"4\")*4+COUNTIF(D33:AH34,\"5\")*5+COUNTIF(D33:AH34,\"6\")*6+COUNTIF(D33:AH34,\"7\")*7+COUNTIF(D33:AH34,\"8\")*8+COUNTIF(D33:AH34,\"9\")*9+COUNTIF(D33:AH34,\"10\")*10+COUNTIF(D33:AH34,\"Mİ\")*8)","v":0},{"$f":"IF(A33=\"\",0,COUNTIF(D33:AH34,\"GC1\")*1+COUNTIF(D33:AH34,\"GC2\")*2+COUNTIF(D33:AH34,\"GC3\")*3+COUNTIF(D33:AH34,\"GC4\")*4+COUNTIF(D33:AH34,\"GC5\")*5+COUNTIF(D33:AH34,\"GC6\")*6+COUNTIF(D33:AH34,\"GC7\")*7+COUNTIF(D33:AH34,\"GC8\")*8)","v":0},{"$f":"IF(A33=\"\",0,COUNTIF(D33:AH34,\"HS4\")*4+COUNTIF(D33:AH34,\"HS8\")*8)","v":0},{"$f":"(AI33+AJ33+AK33)/4","v":0},{"$f":"IF(A33=\"\",0,(AI33+AJ33+AK33)+AL33)","v":0},{"$f":"(AI33+AJ33+AK33)/4","v":0},{"$f":"IF(A33=\"\",0,COUNTIF(D33:AH34,\"FÇ\"))","v":0},{"$f":"IF(A33=\"\",0,COUNTIF(D33:AH34,\"T\"))","v":0},{"$f":"IF(A33=\"\",0,COUNTIF(D33:AH34,\"Mİ\"))","v":0},{"$f":"IF(A33=\"\",0,COUNTIF(D33:AH34,\"Üİ\"))","v":0},{"$f":"IF(A33=\"\",0,COUNTIF(D33:AH34,\"RT\"))","v":0},{"$f":"IF(A33=\"\",0,COUNTIF(D33:AH33,\"1\")+COUNTIF(D33:AH33,\"2\")+COUNTIF(D33:AH33,\"3\")+COUNTIF(D33:AH33,\"4\")+COUNTIF(D33:AH33,\"5\")+COUNTIF(D33:AH33,\"6\")+COUNTIF(D33:AH33,\"7\")+COUNTIF(D33:AH33,\"8\")+COUNTIF(D33:AH33,\"9\")+COUNTIF(D33:AH33,\"HS4\")+COUNTIF(D33:AH33,\"HS8\")+COUNTIF(D33:AH33,\"GC1\")+COUNTIF(D33:AH33,\"GC2\")+COUNTIF(D33:AH33,\"GC3\")+COUNTIF(D33:AH33,\"GC4\")+COUNTIF(D33:AH33,\"GC5\")+COUNTIF(D33:AH33,\"GC6\")+COUNTIF(D33:AH33,\"GC7\")+COUNTIF(D33:AH33,\"GC8\")+AO33+AQ33+AS33+AP33)","v":0},{"$f":"IF(AN33<30,ROUNDUP(((AM33-AL33)/7.5),0),IF(AV33+AR33=0,30,AT33))","v":0},{"$f":"IF(A33=\"\",0,IF(AN33<30,(COUNTA(D33:AH33)-AU33),COUNTIF(D33:AH33,\"R\")))","v":0},{"$f":"IF(((COUNTIF(D33:AH33,\"R\")))>=1,\"E\",\"\")","v":""},null,null,null,null,null,null,null,14,{"$f":"COUNTIF(D33:AH33,\"Üİ\")","v":0}]
[]
[{"$f":"'PERSONEL BİLGİ GİRİŞİ'!A19","v":""},{"$f":"CONCATENATE('PERSONEL BİLGİ GİRİŞİ'!B19,\" \",'PERSONEL BİLGİ GİRİŞİ'!C19)","v":" "},{"$f":"'PERSONEL BİLGİ GİRİŞİ'!H19","v":0},null,null,null,null,null,null,null,null,null,null,null,null,null,null,null,null,null,null,null,null,null,null,null,null,null,null,null,null,null,null,null,{"$f":"IF(A35=\"\",0,COUNTIF(D35:AH36,\"1\")*1+COUNTIF(D35:AH36,\"2\")*2+COUNTIF(D35:AH36,\"3\")*3+COUNTIF(D35:AH36,\"4\")*4+COUNTIF(D35:AH36,\"5\")*5+COUNTIF(D35:AH36,\"6\")*6+COUNTIF(D35:AH36,\"7\")*7+COUNTIF(D35:AH36,\"8\")*8+COUNTIF(D35:AH36,\"9\")*9+COUNTIF(D35:AH36,\"10\")*10+COUNTIF(D35:AH36,\"Mİ\")*8)","v":0},{"$f":"IF(A35=\"\",0,COUNTIF(D35:AH36,\"GC1\")*1+COUNTIF(D35:AH36,\"GC2\")*2+COUNTIF(D35:AH36,\"GC3\")*3+COUNTIF(D35:AH36,\"GC4\")*4+COUNTIF(D35:AH36,\"GC5\")*5+COUNTIF(D35:AH36,\"GC6\")*6+COUNTIF(D35:AH36,\"GC7\")*7+COUNTIF(D35:AH36,\"GC8\")*8)","v":0},{"$f":"IF(A35=\"\",0,COUNTIF(D35:AH36,\"HS4\")*4+COUNTIF(D35:AH36,\"HS8\")*8)","v":0},{"$f":"(AI35+AJ35+AK35)/4","v":0},{"$f":"IF(A35=\"\",0,(AI35+AJ35+AK35)+AL35)","v":0},{"$f":"(AI35+AJ35+AK35)/4","v":0},{"$f":"IF(A35=\"\",0,COUNTIF(D35:AH36,\"FÇ\"))","v":0},{"$f":"IF(A35=\"\",0,COUNTIF(D35:AH36,\"T\"))","v":0},{"$f":"IF(A35=\"\",0,COUNTIF(D35:AH36,\"Mİ\"))","v":0},{"$f":"IF(A35=\"\",0,COUNTIF(D35:AH36,\"Üİ\"))","v":0},{"$f":"IF(A35=\"\",0,COUNTIF(D35:AH36,\"RT\"))","v":0},{"$f":"IF(A35=\"\",0,COUNTIF(D35:AH35,\"1\")+COUNTIF(D35:AH35,\"2\")+COUNTIF(D35:AH35,\"3\")+COUNTIF(D35:AH35,\"4\")+COUNTIF(D35:AH35,\"5\")+COUNTIF(D35:AH35,\"6\")+COUNTIF(D35:AH35,\"7\")+COUNTIF(D35:AH35,\"8\")+COUNTIF(D35:AH35,\"9\")+COUNTIF(D35:AH35,\"HS4\")+COUNTIF(D35:AH35,\"HS8\")+COUNTIF(D35:AH35,\"GC1\")+COUNTIF(D35:AH35,\"GC2\")+COUNTIF(D35:AH35,\"GC3\")+COUNTIF(D35:AH35,\"GC4\")+COUNTIF(D35:AH35,\"GC5\")+COUNTIF(D35:AH35,\"GC6\")+COUNTIF(D35:AH35,\"GC7\")+COUNTIF(D35:AH35,\"GC8\")+AO35+AQ35+AS35+AP35)","v":0},{"$f":"IF(AN35<30,ROUNDUP(((AM35-AL35)/7.5),0),IF(AV35+AR35=0,30,AT35))","v":0},{"$f":"IF(A35=\"\",0,IF(AN35<30,(COUNTA(D35:AH35)-AU35),COUNTIF(D35:AH35,\"R\")))","v":0},{"$f":"IF(((COUNTIF(D35:AH35,\"R\")))>=1,\"E\",\"\")","v":""},null,null,null,null,null,null,null,15,{"$f":"COUNTIF(D35:AH35,\"Üİ\")","v":0}]
[]
[{"$f":"'PERSONEL BİLGİ GİRİŞİ'!A20","v":""},{"$f":"CONCATENATE('PERSONEL BİLGİ GİRİŞİ'!B20,\" \",'PERSONEL BİLGİ GİRİŞİ'!C20)","v":" "},{"$f":"'PERSONEL BİLGİ GİRİŞİ'!H20","v":0},null,null,null,null,null,null,null,null,null,null,null,null,null,null,null,null,null,null,null,null,null,null,null,null,null,null,null,null,null,null,null,{"$f":"IF(A37=\"\",0,COUNTIF(D37:AH38,\"1\")*1+COUNTIF(D37:AH38,\"2\")*2+COUNTIF(D37:AH38,\"3\")*3+COUNTIF(D37:AH38,\"4\")*4+COUNTIF(D37:AH38,\"5\")*5+COUNTIF(D37:AH38,\"6\")*6+COUNTIF(D37:AH38,\"7\")*7+COUNTIF(D37:AH38,\"8\")*8+COUNTIF(D37:AH38,\"9\")*9+COUNTIF(D37:AH38,\"10\")*10+COUNTIF(D37:AH38,\"Mİ\")*8)","v":0},{"$f":"IF(A37=\"\",0,COUNTIF(D37:AH38,\"GC1\")*1+COUNTIF(D37:AH38,\"GC2\")*2+COUNTIF(D37:AH38,\"GC3\")*3+COUNTIF(D37:AH38,\"GC4\")*4+COUNTIF(D37:AH38,\"GC5\")*5+COUNTIF(D37:AH38,\"GC6\")*6+COUNTIF(D37:AH38,\"GC7\")*7+COUNTIF(D37:AH38,\"GC8\")*8)","v":0},{"$f":"IF(A37=\"\",0,COUNTIF(D37:AH38,\"HS4\")*4+COUNTIF(D37:AH38,\"HS8\")*8)","v":0},{"$f":"(AI37+AJ37+AK37)/4","v":0},{"$f":"IF(A37=\"\",0,(AI37+AJ37+AK37)+AL37)","v":0},{"$f":"(AI37+AJ37+AK37)/4","v":0},{"$f":"IF(A37=\"\",0,COUNTIF(D37:AH38,\"FÇ\"))","v":0},{"$f":"IF(A37=\"\",0,COUNTIF(D37:AH38,\"T\"))","v":0},{"$f":"IF(A37=\"\",0,COUNTIF(D37:AH38,\"Mİ\"))","v":0},{"$f":"IF(A37=\"\",0,COUNTIF(D37:AH38,\"Üİ\"))","v":0},{"$f":"IF(A37=\"\",0,COUNTIF(D37:AH38,\"RT\"))","v":0},{"$f":"IF(A37=\"\",0,COUNTIF(D37:AH37,\"1\")+COUNTIF(D37:AH37,\"2\")+COUNTIF(D37:AH37,\"3\")+COUNTIF(D37:AH37,\"4\")+COUNTIF(D37:AH37,\"5\")+COUNTIF(D37:AH37,\"6\")+COUNTIF(D37:AH37,\"7\")+COUNTIF(D37:AH37,\"8\")+COUNTIF(D37:AH37,\"9\")+COUNTIF(D37:AH37,\"HS4\")+COUNTIF(D37:AH37,\"HS8\")+COUNTIF(D37:AH37,\"GC1\")+COUNTIF(D37:AH37,\"GC2\")+COUNTIF(D37:AH37,\"GC3\")+COUNTIF(D37:AH37,\"GC4\")+COUNTIF(D37:AH37,\"GC5\")+COUNTIF(D37:AH37,\"GC6\")+COUNTIF(D37:AH37,\"GC7\")+COUNTIF(D37:AH37,\"GC8\")+AO37+AQ37+AS37+AP37)","v":0},{"$f":"IF(AN37<30,ROUNDUP(((AM37-AL37)/7.5),0),IF(AV37+AR37=0,30,AT37))","v":0},{"$f":"IF(A37=\"\",0,IF(AN37<30,(COUNTA(D37:AH37)-AU37),COUNTIF(D37:AH37,\"R\")))","v":0},{"$f":"IF(((COUNTIF(D37:AH37,\"R\")))>=1,\"E\",\"\")","v":""},null,null,null,null,null,null,null,16,{"$f":"COUNTIF(D37:AH37,\"Üİ\")","v":0}]
[]
[{"$f":"'PERSONEL BİLGİ GİRİŞİ'!A21","v":""},{"$f":"CONCATENATE('PERSONEL BİLGİ GİRİŞİ'!B21,\" \",'PERSONEL BİLGİ GİRİŞİ'!C21)","v":" "},{"$f":"'PERSONEL BİLGİ GİRİŞİ'!H21","v":0},null,null,null,null,null,null,null,null,null,null,null,null,null,null,null,null,null,null,null,null,null,null,null,null,null,null,null,null,null,null,null,{"$f":"IF(A39=\"\",0,COUNTIF(D39:AH40,\"1\")*1+COUNTIF(D39:AH40,\"2\")*2+COUNTIF(D39:AH40,\"3\")*3+COUNTIF(D39:AH40,\"4\")*4+COUNTIF(D39:AH40,\"5\")*5+COUNTIF(D39:AH40,\"6\")*6+COUNTIF(D39:AH40,\"7\")*7+COUNTIF(D39:AH40,\"8\")*8+COUNTIF(D39:AH40,\"9\")*9+COUNTIF(D39:AH40,\"10\")*10+COUNTIF(D39:AH40,\"Mİ\")*8)","v":0},{"$f":"IF(A39=\"\",0,COUNTIF(D39:AH40,\"GC1\")*1+COUNTIF(D39:AH40,\"GC2\")*2+COUNTIF(D39:AH40,\"GC3\")*3+COUNTIF(D39:AH40,\"GC4\")*4+COUNTIF(D39:AH40,\"GC5\")*5+COUNTIF(D39:AH40,\"GC6\")*6+COUNTIF(D39:AH40,\"GC7\")*7+COUNTIF(D39:AH40,\"GC8\")*8)","v":0},{"$f":"IF(A39=\"\",0,COUNTIF(D39:AH40,\"HS4\")*4+COUNTIF(D39:AH40,\"HS8\")*8)","v":0},{"$f":"(AI39+AJ39+AK39)/4","v":0},{"$f":"IF(A39=\"\",0,(AI39+AJ39+AK39)+AL39)","v":0},{"$f":"(AI39+AJ39+AK39)/4","v":0},{"$f":"IF(A39=\"\",0,COUNTIF(D39:AH40,\"FÇ\"))","v":0},{"$f":"IF(A39=\"\",0,COUNTIF(D39:AH40,\"T\"))","v":0},{"$f":"IF(A39=\"\",0,COUNTIF(D39:AH40,\"Mİ\"))","v":0},{"$f":"IF(A39=\"\",0,COUNTIF(D39:AH40,\"Üİ\"))","v":0},{"$f":"IF(A39=\"\",0,COUNTIF(D39:AH40,\"RT\"))","v":0},{"$f":"IF(A39=\"\",0,COUNTIF(D39:AH39,\"1\")+COUNTIF(D39:AH39,\"2\")+COUNTIF(D39:AH39,\"3\")+COUNTIF(D39:AH39,\"4\")+COUNTIF(D39:AH39,\"5\")+COUNTIF(D39:AH39,\"6\")+COUNTIF(D39:AH39,\"7\")+COUNTIF(D39:AH39,\"8\")+COUNTIF(D39:AH39,\"9\")+COUNTIF(D39:AH39,\"HS4\")+COUNTIF(D39:AH39,\"HS8\")+COUNTIF(D39:AH39,\"GC1\")+COUNTIF(D39:AH39,\"GC2\")+COUNTIF(D39:AH39,\"GC3\")+COUNTIF(D39:AH39,\"GC4\")+COUNTIF(D39:AH39,\"GC5\")+COUNTIF(D39:AH39,\"GC6\")+COUNTIF(D39:AH39,\"GC7\")+COUNTIF(D39:AH39,\"GC8\")+AO39+AQ39+AS39+AP39)","v":0},{"$f":"IF(AN39<30,ROUNDUP(((AM39-AL39)/7.5),0),IF(AV39+AR39=0,30,AT39))","v":0},{"$f":"IF(A39=\"\",0,IF(AN39<30,(COUNTA(D39:AH39)-AU39),COUNTIF(D39:AH39,\"R\")))","v":0},{"$f":"IF(((COUNTIF(D39:AH39,\"R\")))>=1,\"E\",\"\")","v":""},null,null,null,null,null,null,null,17,{"$f":"COUNTIF(D39:AH39,\"Üİ\")","v":0}]
[]
[{"$f":"'PERSONEL BİLGİ GİRİŞİ'!A22","v":""},{"$f":"CONCATENATE('PERSONEL BİLGİ GİRİŞİ'!B22,\" \",'PERSONEL BİLGİ GİRİŞİ'!C22)","v":" "},{"$f":"'PERSONEL BİLGİ GİRİŞİ'!H22","v":0},null,null,null,null,null,null,null,null,null,null,null,null,null,null,null,null,null,null,null,null,null,null,null,null,null,null,null,null,null,null,null,{"$f":"IF(A41=\"\",0,COUNTIF(D41:AH42,\"1\")*1+COUNTIF(D41:AH42,\"2\")*2+COUNTIF(D41:AH42,\"3\")*3+COUNTIF(D41:AH42,\"4\")*4+COUNTIF(D41:AH42,\"5\")*5+COUNTIF(D41:AH42,\"6\")*6+COUNTIF(D41:AH42,\"7\")*7+COUNTIF(D41:AH42,\"8\")*8+COUNTIF(D41:AH42,\"9\")*9+COUNTIF(D41:AH42,\"10\")*10+COUNTIF(D41:AH42,\"Mİ\")*8)","v":0},{"$f":"IF(A41=\"\",0,COUNTIF(D41:AH42,\"GC1\")*1+COUNTIF(D41:AH42,\"GC2\")*2+COUNTIF(D41:AH42,\"GC3\")*3+COUNTIF(D41:AH42,\"GC4\")*4+COUNTIF(D41:AH42,\"GC5\")*5+COUNTIF(D41:AH42,\"GC6\")*6+COUNTIF(D41:AH42,\"GC7\")*7+COUNTIF(D41:AH42,\"GC8\")*8)","v":0},{"$f":"IF(A41=\"\",0,COUNTIF(D41:AH42,\"HS4\")*4+COUNTIF(D41:AH42,\"HS8\")*8)","v":0},{"$f":"(AI41+AJ41+AK41)/4","v":0},{"$f":"IF(A41=\"\",0,(AI41+AJ41+AK41)+AL41)","v":0},{"$f":"(AI41+AJ41+AK41)/4","v":0},{"$f":"IF(A41=\"\",0,COUNTIF(D41:AH42,\"FÇ\"))","v":0},{"$f":"IF(A41=\"\",0,COUNTIF(D41:AH42,\"T\"))","v":0},{"$f":"IF(A41=\"\",0,COUNTIF(D41:AH42,\"Mİ\"))","v":0},{"$f":"IF(A41=\"\",0,COUNTIF(D41:AH42,\"Üİ\"))","v":0},{"$f":"IF(A41=\"\",0,COUNTIF(D41:AH42,\"RT\"))","v":0},{"$f":"IF(A41=\"\",0,COUNTIF(D41:AH41,\"1\")+COUNTIF(D41:AH41,\"2\")+COUNTIF(D41:AH41,\"3\")+COUNTIF(D41:AH41,\"4\")+COUNTIF(D41:AH41,\"5\")+COUNTIF(D41:AH41,\"6\")+COUNTIF(D41:AH41,\"7\")+COUNTIF(D41:AH41,\"8\")+COUNTIF(D41:AH41,\"9\")+COUNTIF(D41:AH41,\"HS4\")+COUNTIF(D41:AH41,\"HS8\")+COUNTIF(D41:AH41,\"GC1\")+COUNTIF(D41:AH41,\"GC2\")+COUNTIF(D41:AH41,\"GC3\")+COUNTIF(D41:AH41,\"GC4\")+COUNTIF(D41:AH41,\"GC5\")+COUNTIF(D41:AH41,\"GC6\")+COUNTIF(D41:AH41,\"GC7\")+COUNTIF(D41:AH41,\"GC8\")+AO41+AQ41+AS41+AP41)","v":0},{"$f":"IF(AN41<30,ROUNDUP(((AM41-AL41)/7.5),0),IF(AV41+AR41=0,30,AT41))","v":0},{"$f":"IF(A41=\"\",0,IF(AN41<30,(COUNTA(D41:AH41)-AU41),COUNTIF(D41:AH41,\"R\")))","v":0},{"$f":"IF(((COUNTIF(D41:AH41,\"R\")))>=1,\"E\",\"\")","v":""},null,null,null,null,null,null,null,18,{"$f":"COUNTIF(D41:AH41,\"Üİ\")","v":0}]
[]
[{"$f":"'PERSONEL BİLGİ GİRİŞİ'!A23","v":""},{"$f":"CONCATENATE('PERSONEL BİLGİ GİRİŞİ'!B23,\" \",'PERSONEL BİLGİ GİRİŞİ'!C23)","v":" "},{"$f":"'PERSONEL BİLGİ GİRİŞİ'!H23","v":0},null,null,null,null,null,null,null,null,null,null,null,null,null,null,null,null,null,null,null,null,null,null,null,null,null,null,null,null,null,null,null,{"$f":"IF(A43=\"\",0,COUNTIF(D43:AH44,\"1\")*1+COUNTIF(D43:AH44,\"2\")*2+COUNTIF(D43:AH44,\"3\")*3+COUNTIF(D43:AH44,\"4\")*4+COUNTIF(D43:AH44,\"5\")*5+COUNTIF(D43:AH44,\"6\")*6+COUNTIF(D43:AH44,\"7\")*7+COUNTIF(D43:AH44,\"8\")*8+COUNTIF(D43:AH44,\"9\")*9+COUNTIF(D43:AH44,\"10\")*10+COUNTIF(D43:AH44,\"Mİ\")*8)","v":0},{"$f":"IF(A43=\"\",0,COUNTIF(D43:AH44,\"GC1\")*1+COUNTIF(D43:AH44,\"GC2\")*2+COUNTIF(D43:AH44,\"GC3\")*3+COUNTIF(D43:AH44,\"GC4\")*4+COUNTIF(D43:AH44,\"GC5\")*5+COUNTIF(D43:AH44,\"GC6\")*6+COUNTIF(D43:AH44,\"GC7\")*7+COUNTIF(D43:AH44,\"GC8\")*8)","v":0},{"$f":"IF(A43=\"\",0,COUNTIF(D43:AH44,\"HS4\")*4+COUNTIF(D43:AH44,\"HS8\")*8)","v":0},{"$f":"(AI43+AJ43+AK43)/4","v":0},{"$f":"IF(A43=\"\",0,(AI43+AJ43+AK43)+AL43)","v":0},{"$f":"(AI43+AJ43+AK43)/4","v":0},{"$f":"IF(A43=\"\",0,COUNTIF(D43:AH44,\"FÇ\"))","v":0},{"$f":"IF(A43=\"\",0,COUNTIF(D43:AH44,\"T\"))","v":0},{"$f":"IF(A43=\"\",0,COUNTIF(D43:AH44,\"Mİ\"))","v":0},{"$f":"IF(A43=\"\",0,COUNTIF(D43:AH44,\"Üİ\"))","v":0},{"$f":"IF(A43=\"\",0,COUNTIF(D43:AH44,\"RT\"))","v":0},{"$f":"IF(A43=\"\",0,COUNTIF(D43:AH43,\"1\")+COUNTIF(D43:AH43,\"2\")+COUNTIF(D43:AH43,\"3\")+COUNTIF(D43:AH43,\"4\")+COUNTIF(D43:AH43,\"5\")+COUNTIF(D43:AH43,\"6\")+COUNTIF(D43:AH43,\"7\")+COUNTIF(D43:AH43,\"8\")+COUNTIF(D43:AH43,\"9\")+COUNTIF(D43:AH43,\"HS4\")+COUNTIF(D43:AH43,\"HS8\")+COUNTIF(D43:AH43,\"GC1\")+COUNTIF(D43:AH43,\"GC2\")+COUNTIF(D43:AH43,\"GC3\")+COUNTIF(D43:AH43,\"GC4\")+COUNTIF(D43:AH43,\"GC5\")+COUNTIF(D43:AH43,\"GC6\")+COUNTIF(D43:AH43,\"GC7\")+COUNTIF(D43:AH43,\"GC8\")+AO43+AQ43+AS43+AP43)","v":0},{"$f":"IF(AN43<30,ROUNDUP(((AM43-AL43)/7.5),0),IF(AV43+AR43=0,30,AT43))","v":0},{"$f":"IF(A43=\"\",0,IF(AN43<30,(COUNTA(D43:AH43)-AU43),COUNTIF(D43:AH43,\"R\")))","v":0},{"$f":"IF(((COUNTIF(D43:AH43,\"R\")))>=1,\"E\",\"\")","v":""},null,null,null,null,null,null,null,19,{"$f":"COUNTIF(D43:AH43,\"Üİ\")","v":0}]
[]
[{"$f":"'PERSONEL BİLGİ GİRİŞİ'!A24","v":""},{"$f":"CONCATENATE('PERSONEL BİLGİ GİRİŞİ'!B24,\" \",'PERSONEL BİLGİ GİRİŞİ'!C24)","v":" "},{"$f":"'PERSONEL BİLGİ GİRİŞİ'!H24","v":0},null,null,null,null,null,null,null,null,null,null,null,null,null,null,null,null,null,null,null,null,null,null,null,null,null,null,null,null,null,null,null,{"$f":"IF(A45=\"\",0,COUNTIF(D45:AH46,\"1\")*1+COUNTIF(D45:AH46,\"2\")*2+COUNTIF(D45:AH46,\"3\")*3+COUNTIF(D45:AH46,\"4\")*4+COUNTIF(D45:AH46,\"5\")*5+COUNTIF(D45:AH46,\"6\")*6+COUNTIF(D45:AH46,\"7\")*7+COUNTIF(D45:AH46,\"8\")*8+COUNTIF(D45:AH46,\"9\")*9+COUNTIF(D45:AH46,\"10\")*10+COUNTIF(D45:AH46,\"Mİ\")*8)","v":0},{"$f":"IF(A45=\"\",0,COUNTIF(D45:AH46,\"GC1\")*1+COUNTIF(D45:AH46,\"GC2\")*2+COUNTIF(D45:AH46,\"GC3\")*3+COUNTIF(D45:AH46,\"GC4\")*4+COUNTIF(D45:AH46,\"GC5\")*5+COUNTIF(D45:AH46,\"GC6\")*6+COUNTIF(D45:AH46,\"GC7\")*7+COUNTIF(D45:AH46,\"GC8\")*8)","v":0},{"$f":"IF(A45=\"\",0,COUNTIF(D45:AH46,\"HS4\")*4+COUNTIF(D45:AH46,\"HS8\")*8)","v":0},{"$f":"(AI45+AJ45+AK45)/4","v":0},{"$f":"IF(A45=\"\",0,(AI45+AJ45+AK45)+AL45)","v":0},{"$f":"(AI45+AJ45+AK45)/4","v":0},{"$f":"IF(A45=\"\",0,COUNTIF(D45:AH46,\"FÇ\"))","v":0},{"$f":"IF(A45=\"\",0,COUNTIF(D45:AH46,\"T\"))","v":0},{"$f":"IF(A45=\"\",0,COUNTIF(D45:AH46,\"Mİ\"))","v":0},{"$f":"IF(A45=\"\",0,COUNTIF(D45:AH46,\"Üİ\"))","v":0},{"$f":"IF(A45=\"\",0,COUNTIF(D45:AH46,\"RT\"))","v":0},{"$f":"IF(A45=\"\",0,COUNTIF(D45:AH45,\"1\")+COUNTIF(D45:AH45,\"2\")+COUNTIF(D45:AH45,\"3\")+COUNTIF(D45:AH45,\"4\")+COUNTIF(D45:AH45,\"5\")+COUNTIF(D45:AH45,\"6\")+COUNTIF(D45:AH45,\"7\")+COUNTIF(D45:AH45,\"8\")+COUNTIF(D45:AH45,\"9\")+COUNTIF(D45:AH45,\"HS4\")+COUNTIF(D45:AH45,\"HS8\")+COUNTIF(D45:AH45,\"GC1\")+COUNTIF(D45:AH45,\"GC2\")+COUNTIF(D45:AH45,\"GC3\")+COUNTIF(D45:AH45,\"GC4\")+COUNTIF(D45:AH45,\"GC5\")+COUNTIF(D45:AH45,\"GC6\")+COUNTIF(D45:AH45,\"GC7\")+COUNTIF(D45:AH45,\"GC8\")+AO45+AQ45+AS45+AP45)","v":0},{"$f":"IF(AN45<30,ROUNDUP(((AM45-AL45)/7.5),0),IF(AV45+AR45=0,30,AT45))","v":0},{"$f":"IF(A45=\"\",0,IF(AN45<30,(COUNTA(D45:AH45)-AU45),COUNTIF(D45:AH45,\"R\")))","v":0},{"$f":"IF(((COUNTIF(D45:AH45,\"R\")))>=1,\"E\",\"\")","v":""},null,null,null,null,null,null,null,20,{"$f":"COUNTIF(D45:AH45,\"Üİ\")","v":0}]
[]
[{"$f":"'PERSONEL BİLGİ GİRİŞİ'!A25","v":""},{"$f":"CONCATENATE('PERSONEL BİLGİ GİRİŞİ'!B25,\" \",'PERSONEL BİLGİ GİRİŞİ'!C25)","v":" "},{"$f":"'PERSONEL BİLGİ GİRİŞİ'!H25","v":0},null,null,null,null,null,null,null,null,null,null,null,null,null,null,null,null,null,null,null,null,null,null,null,null,null,null,null,null,null,null,null,{"$f":"IF(A47=\"\",0,COUNTIF(D47:AH48,\"1\")*1+COUNTIF(D47:AH48,\"2\")*2+COUNTIF(D47:AH48,\"3\")*3+COUNTIF(D47:AH48,\"4\")*4+COUNTIF(D47:AH48,\"5\")*5+COUNTIF(D47:AH48,\"6\")*6+COUNTIF(D47:AH48,\"7\")*7+COUNTIF(D47:AH48,\"8\")*8+COUNTIF(D47:AH48,\"9\")*9+COUNTIF(D47:AH48,\"10\")*10+COUNTIF(D47:AH48,\"Mİ\")*8)","v":0},{"$f":"IF(A47=\"\",0,COUNTIF(D47:AH48,\"GC1\")*1+COUNTIF(D47:AH48,\"GC2\")*2+COUNTIF(D47:AH48,\"GC3\")*3+COUNTIF(D47:AH48,\"GC4\")*4+COUNTIF(D47:AH48,\"GC5\")*5+COUNTIF(D47:AH48,\"GC6\")*6+COUNTIF(D47:AH48,\"GC7\")*7+COUNTIF(D47:AH48,\"GC8\")*8)","v":0},{"$f":"IF(A47=\"\",0,COUNTIF(D47:AH48,\"HS4\")*4+COUNTIF(D47:AH48,\"HS8\")*8)","v":0},{"$f":"(AI47+AJ47+AK47)/4","v":0},{"$f":"IF(A47=\"\",0,(AI47+AJ47+AK47)+AL47)","v":0},{"$f":"(AI47+AJ47+AK47)/4","v":0},{"$f":"IF(A47=\"\",0,COUNTIF(D47:AH48,\"FÇ\"))","v":0},{"$f":"IF(A47=\"\",0,COUNTIF(D47:AH48,\"T\"))","v":0},{"$f":"IF(A47=\"\",0,COUNTIF(D47:AH48,\"Mİ\"))","v":0},{"$f":"IF(A47=\"\",0,COUNTIF(D47:AH48,\"Üİ\"))","v":0},{"$f":"IF(A47=\"\",0,COUNTIF(D47:AH48,\"RT\"))","v":0},{"$f":"IF(A47=\"\",0,COUNTIF(D47:AH47,\"1\")+COUNTIF(D47:AH47,\"2\")+COUNTIF(D47:AH47,\"3\")+COUNTIF(D47:AH47,\"4\")+COUNTIF(D47:AH47,\"5\")+COUNTIF(D47:AH47,\"6\")+COUNTIF(D47:AH47,\"7\")+COUNTIF(D47:AH47,\"8\")+COUNTIF(D47:AH47,\"9\")+COUNTIF(D47:AH47,\"HS4\")+COUNTIF(D47:AH47,\"HS8\")+COUNTIF(D47:AH47,\"GC1\")+COUNTIF(D47:AH47,\"GC2\")+COUNTIF(D47:AH47,\"GC3\")+COUNTIF(D47:AH47,\"GC4\")+COUNTIF(D47:AH47,\"GC5\")+COUNTIF(D47:AH47,\"GC6\")+COUNTIF(D47:AH47,\"GC7\")+COUNTIF(D47:AH47,\"GC8\")+AO47+AQ47+AS47+AP47)","v":0},{"$f":"IF(AN47<30,ROUNDUP(((AM47-AL47)/7.5),0),IF(AV47+AR47=0,30,AT47))","v":0},{"$f":"IF(A47=\"\",0,IF(AN47<30,(COUNTA(D47:AH47)-AU47),COUNTIF(D47:AH47,\"R\")))","v":0},{"$f":"IF(((COUNTIF(D47:AH47,\"R\")))>=1,\"E\",\"\")","v":""},null,null,null,null,null,null,null,21,{"$f":"COUNTIF(D47:AH47,\"Üİ\")","v":0}]
[]
[{"$f":"'PERSONEL BİLGİ GİRİŞİ'!A26","v":""},{"$f":"CONCATENATE('PERSONEL BİLGİ GİRİŞİ'!B26,\" \",'PERSONEL BİLGİ GİRİŞİ'!C26)","v":" "},{"$f":"'PERSONEL BİLGİ GİRİŞİ'!H26","v":0},null,null,null,null,null,null,null,null,null,null,null,null,null,null,null,null,null,null,null,null,null,null,null,null,null,null,null,null,null,null,null,{"$f":"IF(A49=\"\",0,COUNTIF(D49:AH50,\"1\")*1+COUNTIF(D49:AH50,\"2\")*2+COUNTIF(D49:AH50,\"3\")*3+COUNTIF(D49:AH50,\"4\")*4+COUNTIF(D49:AH50,\"5\")*5+COUNTIF(D49:AH50,\"6\")*6+COUNTIF(D49:AH50,\"7\")*7+COUNTIF(D49:AH50,\"8\")*8+COUNTIF(D49:AH50,\"9\")*9+COUNTIF(D49:AH50,\"10\")*10+COUNTIF(D49:AH50,\"Mİ\")*8)","v":0},{"$f":"IF(A49=\"\",0,COUNTIF(D49:AH50,\"GC1\")*1+COUNTIF(D49:AH50,\"GC2\")*2+COUNTIF(D49:AH50,\"GC3\")*3+COUNTIF(D49:AH50,\"GC4\")*4+COUNTIF(D49:AH50,\"GC5\")*5+COUNTIF(D49:AH50,\"GC6\")*6+COUNTIF(D49:AH50,\"GC7\")*7+COUNTIF(D49:AH50,\"GC8\")*8)","v":0},{"$f":"IF(A49=\"\",0,COUNTIF(D49:AH50,\"HS4\")*4+COUNTIF(D49:AH50,\"HS8\")*8)","v":0},{"$f":"(AI49+AJ49+AK49)/4","v":0},{"$f":"IF(A49=\"\",0,(AI49+AJ49+AK49)+AL49)","v":0},{"$f":"(AI49+AJ49+AK49)/4","v":0},{"$f":"IF(A49=\"\",0,COUNTIF(D49:AH50,\"FÇ\"))","v":0},{"$f":"IF(A49=\"\",0,COUNTIF(D49:AH50,\"T\"))","v":0},{"$f":"IF(A49=\"\",0,COUNTIF(D49:AH50,\"Mİ\"))","v":0},{"$f":"IF(A49=\"\",0,COUNTIF(D49:AH50,\"Üİ\"))","v":0},{"$f":"IF(A49=\"\",0,COUNTIF(D49:AH50,\"RT\"))","v":0},{"$f":"IF(A49=\"\",0,COUNTIF(D49:AH49,\"1\")+COUNTIF(D49:AH49,\"2\")+COUNTIF(D49:AH49,\"3\")+COUNTIF(D49:AH49,\"4\")+COUNTIF(D49:AH49,\"5\")+COUNTIF(D49:AH49,\"6\")+COUNTIF(D49:AH49,\"7\")+COUNTIF(D49:AH49,\"8\")+COUNTIF(D49:AH49,\"9\")+COUNTIF(D49:AH49,\"HS4\")+COUNTIF(D49:AH49,\"HS8\")+COUNTIF(D49:AH49,\"GC1\")+COUNTIF(D49:AH49,\"GC2\")+COUNTIF(D49:AH49,\"GC3\")+COUNTIF(D49:AH49,\"GC4\")+COUNTIF(D49:AH49,\"GC5\")+COUNTIF(D49:AH49,\"GC6\")+COUNTIF(D49:AH49,\"GC7\")+COUNTIF(D49:AH49,\"GC8\")+AO49+AQ49+AS49+AP49)","v":0},{"$f":"IF(AN49<30,ROUNDUP(((AM49-AL49)/7.5),0),IF(AV49+AR49=0,30,AT49))","v":0},{"$f":"IF(A49=\"\",0,IF(AN49<30,(COUNTA(D49:AH49)-AU49),COUNTIF(D49:AH49,\"R\")))","v":0},{"$f":"IF(((COUNTIF(D49:AH49,\"R\")))>=1,\"E\",\"\")","v":""},null,null,null,null,null,null,null,22,{"$f":"COUNTIF(D49:AH49,\"Üİ\")","v":0}]
[]
[{"$f":"'PERSONEL BİLGİ GİRİŞİ'!A27","v":""},{"$f":"CONCATENATE('PERSONEL BİLGİ GİRİŞİ'!B27,\" \",'PERSONEL BİLGİ GİRİŞİ'!C27)","v":" "},{"$f":"'PERSONEL BİLGİ GİRİŞİ'!H27","v":0},null,null,null,null,null,null,null,null,null,null,null,null,null,null,null,null,null,null,null,null,null,null,null,null,null,null,null,null,null,null,null,{"$f":"IF(A51=\"\",0,COUNTIF(D51:AH52,\"1\")*1+COUNTIF(D51:AH52,\"2\")*2+COUNTIF(D51:AH52,\"3\")*3+COUNTIF(D51:AH52,\"4\")*4+COUNTIF(D51:AH52,\"5\")*5+COUNTIF(D51:AH52,\"6\")*6+COUNTIF(D51:AH52,\"7\")*7+COUNTIF(D51:AH52,\"8\")*8+COUNTIF(D51:AH52,\"9\")*9+COUNTIF(D51:AH52,\"10\")*10+COUNTIF(D51:AH52,\"Mİ\")*8)","v":0},{"$f":"IF(A51=\"\",0,COUNTIF(D51:AH52,\"GC1\")*1+COUNTIF(D51:AH52,\"GC2\")*2+COUNTIF(D51:AH52,\"GC3\")*3+COUNTIF(D51:AH52,\"GC4\")*4+COUNTIF(D51:AH52,\"GC5\")*5+COUNTIF(D51:AH52,\"GC6\")*6+COUNTIF(D51:AH52,\"GC7\")*7+COUNTIF(D51:AH52,\"GC8\")*8)","v":0},{"$f":"IF(A51=\"\",0,COUNTIF(D51:AH52,\"HS4\")*4+COUNTIF(D51:AH52,\"HS8\")*8)","v":0},{"$f":"(AI51+AJ51+AK51)/4","v":0},{"$f":"IF(A51=\"\",0,(AI51+AJ51+AK51)+AL51)","v":0},{"$f":"(AI51+AJ51+AK51)/4","v":0},{"$f":"IF(A51=\"\",0,COUNTIF(D51:AH52,\"FÇ\"))","v":0},{"$f":"IF(A51=\"\",0,COUNTIF(D51:AH52,\"T\"))","v":0},{"$f":"IF(A51=\"\",0,COUNTIF(D51:AH52,\"Mİ\"))","v":0},{"$f":"IF(A51=\"\",0,COUNTIF(D51:AH52,\"Üİ\"))","v":0},{"$f":"IF(A51=\"\",0,COUNTIF(D51:AH52,\"RT\"))","v":0},{"$f":"IF(A51=\"\",0,COUNTIF(D51:AH51,\"1\")+COUNTIF(D51:AH51,\"2\")+COUNTIF(D51:AH51,\"3\")+COUNTIF(D51:AH51,\"4\")+COUNTIF(D51:AH51,\"5\")+COUNTIF(D51:AH51,\"6\")+COUNTIF(D51:AH51,\"7\")+COUNTIF(D51:AH51,\"8\")+COUNTIF(D51:AH51,\"9\")+COUNTIF(D51:AH51,\"HS4\")+COUNTIF(D51:AH51,\"HS8\")+COUNTIF(D51:AH51,\"GC1\")+COUNTIF(D51:AH51,\"GC2\")+COUNTIF(D51:AH51,\"GC3\")+COUNTIF(D51:AH51,\"GC4\")+COUNTIF(D51:AH51,\"GC5\")+COUNTIF(D51:AH51,\"GC6\")+COUNTIF(D51:AH51,\"GC7\")+COUNTIF(D51:AH51,\"GC8\")+AO51+AQ51+AS51+AP51)","v":0},{"$f":"IF(AN51<30,ROUNDUP(((AM51-AL51)/7.5),0),IF(AV51+AR51=0,30,AT51))","v":0},{"$f":"IF(A51=\"\",0,IF(AN51<30,(COUNTA(D51:AH51)-AU51),COUNTIF(D51:AH51,\"R\")))","v":0},{"$f":"IF(((COUNTIF(D51:AH51,\"R\")))>=1,\"E\",\"\")","v":""},null,null,null,null,null,null,null,23,{"$f":"COUNTIF(D51:AH51,\"Üİ\")","v":0}]
[]
[{"$f":"'PERSONEL BİLGİ GİRİŞİ'!A28","v":""},{"$f":"CONCATENATE('PERSONEL BİLGİ GİRİŞİ'!B28,\" \",'PERSONEL BİLGİ GİRİŞİ'!C28)","v":" "},{"$f":"'PERSONEL BİLGİ GİRİŞİ'!H28","v":0},null,null,null,null,null,null,null,null,null,null,null,null,null,null,null,null,null,null,null,null,null,null,null,null,null,null,null,null,null,null,null,{"$f":"IF(A53=\"\",0,COUNTIF(D53:AH54,\"1\")*1+COUNTIF(D53:AH54,\"2\")*2+COUNTIF(D53:AH54,\"3\")*3+COUNTIF(D53:AH54,\"4\")*4+COUNTIF(D53:AH54,\"5\")*5+COUNTIF(D53:AH54,\"6\")*6+COUNTIF(D53:AH54,\"7\")*7+COUNTIF(D53:AH54,\"8\")*8+COUNTIF(D53:AH54,\"9\")*9+COUNTIF(D53:AH54,\"10\")*10+COUNTIF(D53:AH54,\"Mİ\")*8)","v":0},{"$f":"IF(A53=\"\",0,COUNTIF(D53:AH54,\"GC1\")*1+COUNTIF(D53:AH54,\"GC2\")*2+COUNTIF(D53:AH54,\"GC3\")*3+COUNTIF(D53:AH54,\"GC4\")*4+COUNTIF(D53:AH54,\"GC5\")*5+COUNTIF(D53:AH54,\"GC6\")*6+COUNTIF(D53:AH54,\"GC7\")*7+COUNTIF(D53:AH54,\"GC8\")*8)","v":0},{"$f":"IF(A53=\"\",0,COUNTIF(D53:AH54,\"HS4\")*4+COUNTIF(D53:AH54,\"HS8\")*8)","v":0},{"$f":"(AI53+AJ53+AK53)/4","v":0},{"$f":"IF(A53=\"\",0,(AI53+AJ53+AK53)+AL53)","v":0},{"$f":"(AI53+AJ53+AK53)/4","v":0},{"$f":"IF(A53=\"\",0,COUNTIF(D53:AH54,\"FÇ\"))","v":0},{"$f":"IF(A53=\"\",0,COUNTIF(D53:AH54,\"T\"))","v":0},{"$f":"IF(A53=\"\",0,COUNTIF(D53:AH54,\"Mİ\"))","v":0},{"$f":"IF(A53=\"\",0,COUNTIF(D53:AH54,\"Üİ\"))","v":0},{"$f":"IF(A53=\"\",0,COUNTIF(D53:AH54,\"RT\"))","v":0},{"$f":"IF(A53=\"\",0,COUNTIF(D53:AH53,\"1\")+COUNTIF(D53:AH53,\"2\")+COUNTIF(D53:AH53,\"3\")+COUNTIF(D53:AH53,\"4\")+COUNTIF(D53:AH53,\"5\")+COUNTIF(D53:AH53,\"6\")+COUNTIF(D53:AH53,\"7\")+COUNTIF(D53:AH53,\"8\")+COUNTIF(D53:AH53,\"9\")+COUNTIF(D53:AH53,\"HS4\")+COUNTIF(D53:AH53,\"HS8\")+COUNTIF(D53:AH53,\"GC1\")+COUNTIF(D53:AH53,\"GC2\")+COUNTIF(D53:AH53,\"GC3\")+COUNTIF(D53:AH53,\"GC4\")+COUNTIF(D53:AH53,\"GC5\")+COUNTIF(D53:AH53,\"GC6\")+COUNTIF(D53:AH53,\"GC7\")+COUNTIF(D53:AH53,\"GC8\")+AO53+AQ53+AS53+AP53)","v":0},{"$f":"IF(AN53<30,ROUNDUP(((AM53-AL53)/7.5),0),IF(AV53+AR53=0,30,AT53))","v":0},{"$f":"IF(A53=\"\",0,IF(AN53<30,(COUNTA(D53:AH53)-AU53),COUNTIF(D53:AH53,\"R\")))","v":0},{"$f":"IF(((COUNTIF(D53:AH53,\"R\")))>=1,\"E\",\"\")","v":""},null,null,null,null,null,null,null,24,{"$f":"COUNTIF(D53:AH53,\"Üİ\")","v":0}]
[]
[{"$f":"'PERSONEL BİLGİ GİRİŞİ'!A29","v":""},{"$f":"CONCATENATE('PERSONEL BİLGİ GİRİŞİ'!B29,\" \",'PERSONEL BİLGİ GİRİŞİ'!C29)","v":" "},{"$f":"'PERSONEL BİLGİ GİRİŞİ'!H29","v":0},null,null,null,null,null,null,null,null,null,null,null,null,null,null,null,null,null,null,null,null,null,null,null,null,null,null,null,null,null,null,null,{"$f":"IF(A55=\"\",0,COUNTIF(D55:AH56,\"1\")*1+COUNTIF(D55:AH56,\"2\")*2+COUNTIF(D55:AH56,\"3\")*3+COUNTIF(D55:AH56,\"4\")*4+COUNTIF(D55:AH56,\"5\")*5+COUNTIF(D55:AH56,\"6\")*6+COUNTIF(D55:AH56,\"7\")*7+COUNTIF(D55:AH56,\"8\")*8+COUNTIF(D55:AH56,\"9\")*9+COUNTIF(D55:AH56,\"10\")*10+COUNTIF(D55:AH56,\"Mİ\")*8)","v":0},{"$f":"IF(A55=\"\",0,COUNTIF(D55:AH56,\"GC1\")*1+COUNTIF(D55:AH56,\"GC2\")*2+COUNTIF(D55:AH56,\"GC3\")*3+COUNTIF(D55:AH56,\"GC4\")*4+COUNTIF(D55:AH56,\"GC5\")*5+COUNTIF(D55:AH56,\"GC6\")*6+COUNTIF(D55:AH56,\"GC7\")*7+COUNTIF(D55:AH56,\"GC8\")*8)","v":0},{"$f":"IF(A55=\"\",0,COUNTIF(D55:AH56,\"HS4\")*4+COUNTIF(D55:AH56,\"HS8\")*8)","v":0},{"$f":"(AI55+AJ55+AK55)/4","v":0},{"$f":"IF(A55=\"\",0,(AI55+AJ55+AK55)+AL55)","v":0},{"$f":"(AI55+AJ55+AK55)/4","v":0},{"$f":"IF(A55=\"\",0,COUNTIF(D55:AH56,\"FÇ\"))","v":0},{"$f":"IF(A55=\"\",0,COUNTIF(D55:AH56,\"T\"))","v":0},{"$f":"IF(A55=\"\",0,COUNTIF(D55:AH56,\"Mİ\"))","v":0},{"$f":"IF(A55=\"\",0,COUNTIF(D55:AH56,\"Üİ\"))","v":0},{"$f":"IF(A55=\"\",0,COUNTIF(D55:AH56,\"RT\"))","v":0},{"$f":"IF(A55=\"\",0,COUNTIF(D55:AH55,\"1\")+COUNTIF(D55:AH55,\"2\")+COUNTIF(D55:AH55,\"3\")+COUNTIF(D55:AH55,\"4\")+COUNTIF(D55:AH55,\"5\")+COUNTIF(D55:AH55,\"6\")+COUNTIF(D55:AH55,\"7\")+COUNTIF(D55:AH55,\"8\")+COUNTIF(D55:AH55,\"9\")+COUNTIF(D55:AH55,\"HS4\")+COUNTIF(D55:AH55,\"HS8\")+COUNTIF(D55:AH55,\"GC1\")+COUNTIF(D55:AH55,\"GC2\")+COUNTIF(D55:AH55,\"GC3\")+COUNTIF(D55:AH55,\"GC4\")+COUNTIF(D55:AH55,\"GC5\")+COUNTIF(D55:AH55,\"GC6\")+COUNTIF(D55:AH55,\"GC7\")+COUNTIF(D55:AH55,\"GC8\")+AO55+AQ55+AS55+AP55)","v":0},{"$f":"IF(AN55<30,ROUNDUP(((AM55-AL55)/7.5),0),IF(AV55+AR55=0,30,AT55))","v":0},{"$f":"IF(A55=\"\",0,IF(AN55<30,(COUNTA(D55:AH55)-AU55),COUNTIF(D55:AH55,\"R\")))","v":0},{"$f":"IF(((COUNTIF(D55:AH55,\"R\")))>=1,\"E\",\"\")","v":""},null,null,null,null,null,null,null,25,{"$f":"COUNTIF(D55:AH55,\"Üİ\")","v":0}]
[]
[{"$f":"'PERSONEL BİLGİ GİRİŞİ'!A30","v":""},{"$f":"CONCATENATE('PERSONEL BİLGİ GİRİŞİ'!B30,\" \",'PERSONEL BİLGİ GİRİŞİ'!C30)","v":" "},{"$f":"'PERSONEL BİLGİ GİRİŞİ'!H30","v":0},null,null,null,null,null,null,null,null,null,null,null,null,null,null,null,null,null,null,null,null,null,null,null,null,null,null,null,null,null,null,null,{"$f":"IF(A57=\"\",0,COUNTIF(D57:AH58,\"1\")*1+COUNTIF(D57:AH58,\"2\")*2+COUNTIF(D57:AH58,\"3\")*3+COUNTIF(D57:AH58,\"4\")*4+COUNTIF(D57:AH58,\"5\")*5+COUNTIF(D57:AH58,\"6\")*6+COUNTIF(D57:AH58,\"7\")*7+COUNTIF(D57:AH58,\"8\")*8+COUNTIF(D57:AH58,\"9\")*9+COUNTIF(D57:AH58,\"10\")*10+COUNTIF(D57:AH58,\"Mİ\")*8)","v":0},{"$f":"IF(A57=\"\",0,COUNTIF(D57:AH58,\"GC1\")*1+COUNTIF(D57:AH58,\"GC2\")*2+COUNTIF(D57:AH58,\"GC3\")*3+COUNTIF(D57:AH58,\"GC4\")*4+COUNTIF(D57:AH58,\"GC5\")*5+COUNTIF(D57:AH58,\"GC6\")*6+COUNTIF(D57:AH58,\"GC7\")*7+COUNTIF(D57:AH58,\"GC8\")*8)","v":0},{"$f":"IF(A57=\"\",0,COUNTIF(D57:AH58,\"HS4\")*4+COUNTIF(D57:AH58,\"HS8\")*8)","v":0},{"$f":"(AI57+AJ57+AK57)/4","v":0},{"$f":"IF(A57=\"\",0,(AI57+AJ57+AK57)+AL57)","v":0},{"$f":"(AI57+AJ57+AK57)/4","v":0},{"$f":"IF(A57=\"\",0,COUNTIF(D57:AH58,\"FÇ\"))","v":0},{"$f":"IF(A57=\"\",0,COUNTIF(D57:AH58,\"T\"))","v":0},{"$f":"IF(A57=\"\",0,COUNTIF(D57:AH58,\"Mİ\"))","v":0},{"$f":"IF(A57=\"\",0,COUNTIF(D57:AH58,\"Üİ\"))","v":0},{"$f":"IF(A57=\"\",0,COUNTIF(D57:AH58,\"RT\"))","v":0},{"$f":"IF(A57=\"\",0,COUNTIF(D57:AH57,\"1\")+COUNTIF(D57:AH57,\"2\")+COUNTIF(D57:AH57,\"3\")+COUNTIF(D57:AH57,\"4\")+COUNTIF(D57:AH57,\"5\")+COUNTIF(D57:AH57,\"6\")+COUNTIF(D57:AH57,\"7\")+COUNTIF(D57:AH57,\"8\")+COUNTIF(D57:AH57,\"9\")+COUNTIF(D57:AH57,\"HS4\")+COUNTIF(D57:AH57,\"HS8\")+COUNTIF(D57:AH57,\"GC1\")+COUNTIF(D57:AH57,\"GC2\")+COUNTIF(D57:AH57,\"GC3\")+COUNTIF(D57:AH57,\"GC4\")+COUNTIF(D57:AH57,\"GC5\")+COUNTIF(D57:AH57,\"GC6\")+COUNTIF(D57:AH57,\"GC7\")+COUNTIF(D57:AH57,\"GC8\")+AO57+AQ57+AS57+AP57)","v":0},{"$f":"IF(AN57<30,ROUNDUP(((AM57-AL57)/7.5),0),IF(AV57+AR57=0,30,AT57))","v":0},{"$f":"IF(A57=\"\",0,IF(AN57<30,(COUNTA(D57:AH57)-AU57),COUNTIF(D57:AH57,\"R\")))","v":0},{"$f":"IF(((COUNTIF(D57:AH57,\"R\")))>=1,\"E\",\"\")","v":""},null,null,null,null,null,null,null,26,{"$f":"COUNTIF(D57:AH57,\"Üİ\")","v":0}]
[]
[{"$f":"'PERSONEL BİLGİ GİRİŞİ'!A31","v":""},{"$f":"CONCATENATE('PERSONEL BİLGİ GİRİŞİ'!B31,\" \",'PERSONEL BİLGİ GİRİŞİ'!C31)","v":" "},{"$f":"'PERSONEL BİLGİ GİRİŞİ'!H31","v":0},null,null,null,null,null,null,null,null,null,null,null,null,null,null,null,null,null,null,null,null,null,null,null,null,null,null,null,null,null,null,null,{"$f":"IF(A59=\"\",0,COUNTIF(D59:AH60,\"1\")*1+COUNTIF(D59:AH60,\"2\")*2+COUNTIF(D59:AH60,\"3\")*3+COUNTIF(D59:AH60,\"4\")*4+COUNTIF(D59:AH60,\"5\")*5+COUNTIF(D59:AH60,\"6\")*6+COUNTIF(D59:AH60,\"7\")*7+COUNTIF(D59:AH60,\"8\")*8+COUNTIF(D59:AH60,\"9\")*9+COUNTIF(D59:AH60,\"10\")*10+COUNTIF(D59:AH60,\"Mİ\")*8)","v":0},{"$f":"IF(A59=\"\",0,COUNTIF(D59:AH60,\"GC1\")*1+COUNTIF(D59:AH60,\"GC2\")*2+COUNTIF(D59:AH60,\"GC3\")*3+COUNTIF(D59:AH60,\"GC4\")*4+COUNTIF(D59:AH60,\"GC5\")*5+COUNTIF(D59:AH60,\"GC6\")*6+COUNTIF(D59:AH60,\"GC7\")*7+COUNTIF(D59:AH60,\"GC8\")*8)","v":0},{"$f":"IF(A59=\"\",0,COUNTIF(D59:AH60,\"HS4\")*4+COUNTIF(D59:AH60,\"HS8\")*8)","v":0},{"$f":"(AI59+AJ59+AK59)/4","v":0},{"$f":"IF(A59=\"\",0,(AI59+AJ59+AK59)+AL59)","v":0},{"$f":"(AI59+AJ59+AK59)/4","v":0},{"$f":"IF(A59=\"\",0,COUNTIF(D59:AH60,\"FÇ\"))","v":0},{"$f":"IF(A59=\"\",0,COUNTIF(D59:AH60,\"T\"))","v":0},{"$f":"IF(A59=\"\",0,COUNTIF(D59:AH60,\"Mİ\"))","v":0},{"$f":"IF(A59=\"\",0,COUNTIF(D59:AH60,\"Üİ\"))","v":0},{"$f":"IF(A59=\"\",0,COUNTIF(D59:AH60,\"RT\"))","v":0},{"$f":"IF(A59=\"\",0,COUNTIF(D59:AH59,\"1\")+COUNTIF(D59:AH59,\"2\")+COUNTIF(D59:AH59,\"3\")+COUNTIF(D59:AH59,\"4\")+COUNTIF(D59:AH59,\"5\")+COUNTIF(D59:AH59,\"6\")+COUNTIF(D59:AH59,\"7\")+COUNTIF(D59:AH59,\"8\")+COUNTIF(D59:AH59,\"9\")+COUNTIF(D59:AH59,\"HS4\")+COUNTIF(D59:AH59,\"HS8\")+COUNTIF(D59:AH59,\"GC1\")+COUNTIF(D59:AH59,\"GC2\")+COUNTIF(D59:AH59,\"GC3\")+COUNTIF(D59:AH59,\"GC4\")+COUNTIF(D59:AH59,\"GC5\")+COUNTIF(D59:AH59,\"GC6\")+COUNTIF(D59:AH59,\"GC7\")+COUNTIF(D59:AH59,\"GC8\")+AO59+AQ59+AS59+AP59)","v":0},{"$f":"IF(AN59<30,ROUNDUP(((AM59-AL59)/7.5),0),IF(AV59+AR59=0,30,AT59))","v":0},{"$f":"IF(A59=\"\",0,IF(AN59<30,(COUNTA(D59:AH59)-AU59),COUNTIF(D59:AH59,\"R\")))","v":0},{"$f":"IF(((COUNTIF(D59:AH59,\"R\")))>=1,\"E\",\"\")","v":""},null,null,null,null,null,null,null,27,{"$f":"COUNTIF(D59:AH59,\"Üİ\")","v":0}]
[]
[{"$f":"'PERSONEL BİLGİ GİRİŞİ'!A32","v":""},{"$f":"CONCATENATE('PERSONEL BİLGİ GİRİŞİ'!B32,\" \",'PERSONEL BİLGİ GİRİŞİ'!C32)","v":" "},{"$f":"'PERSONEL BİLGİ GİRİŞİ'!H32","v":0},null,null,null,null,null,null,null,null,null,null,null,null,null,null,null,null,null,null,null,null,null,null,null,null,null,null,null,null,null,null,null,{"$f":"IF(A61=\"\",0,COUNTIF(D61:AH62,\"1\")*1+COUNTIF(D61:AH62,\"2\")*2+COUNTIF(D61:AH62,\"3\")*3+COUNTIF(D61:AH62,\"4\")*4+COUNTIF(D61:AH62,\"5\")*5+COUNTIF(D61:AH62,\"6\")*6+COUNTIF(D61:AH62,\"7\")*7+COUNTIF(D61:AH62,\"8\")*8+COUNTIF(D61:AH62,\"9\")*9+COUNTIF(D61:AH62,\"10\")*10+COUNTIF(D61:AH62,\"Mİ\")*8)","v":0},{"$f":"IF(A61=\"\",0,COUNTIF(D61:AH62,\"GC1\")*1+COUNTIF(D61:AH62,\"GC2\")*2+COUNTIF(D61:AH62,\"GC3\")*3+COUNTIF(D61:AH62,\"GC4\")*4+COUNTIF(D61:AH62,\"GC5\")*5+COUNTIF(D61:AH62,\"GC6\")*6+COUNTIF(D61:AH62,\"GC7\")*7+COUNTIF(D61:AH62,\"GC8\")*8)","v":0},{"$f":"IF(A61=\"\",0,COUNTIF(D61:AH62,\"HS4\")*4+COUNTIF(D61:AH62,\"HS8\")*8)","v":0},{"$f":"(AI61+AJ61+AK61)/4","v":0},{"$f":"IF(A61=\"\",0,(AI61+AJ61+AK61)+AL61)","v":0},{"$f":"(AI61+AJ61+AK61)/4","v":0},{"$f":"IF(A61=\"\",0,COUNTIF(D61:AH62,\"FÇ\"))","v":0},{"$f":"IF(A61=\"\",0,COUNTIF(D61:AH62,\"T\"))","v":0},{"$f":"IF(A61=\"\",0,COUNTIF(D61:AH62,\"Mİ\"))","v":0},{"$f":"IF(A61=\"\",0,COUNTIF(D61:AH62,\"Üİ\"))","v":0},{"$f":"IF(A61=\"\",0,COUNTIF(D61:AH62,\"RT\"))","v":0},{"$f":"IF(A61=\"\",0,COUNTIF(D61:AH61,\"1\")+COUNTIF(D61:AH61,\"2\")+COUNTIF(D61:AH61,\"3\")+COUNTIF(D61:AH61,\"4\")+COUNTIF(D61:AH61,\"5\")+COUNTIF(D61:AH61,\"6\")+COUNTIF(D61:AH61,\"7\")+COUNTIF(D61:AH61,\"8\")+COUNTIF(D61:AH61,\"9\")+COUNTIF(D61:AH61,\"HS4\")+COUNTIF(D61:AH61,\"HS8\")+COUNTIF(D61:AH61,\"GC1\")+COUNTIF(D61:AH61,\"GC2\")+COUNTIF(D61:AH61,\"GC3\")+COUNTIF(D61:AH61,\"GC4\")+COUNTIF(D61:AH61,\"GC5\")+COUNTIF(D61:AH61,\"GC6\")+COUNTIF(D61:AH61,\"GC7\")+COUNTIF(D61:AH61,\"GC8\")+AO61+AQ61+AS61+AP61)","v":0},{"$f":"IF(AN61<30,ROUNDUP(((AM61-AL61)/7.5),0),IF(AV61+AR61=0,30,AT61))","v":0},{"$f":"IF(A61=\"\",0,IF(AN61<30,(COUNTA(D61:AH61)-AU61),COUNTIF(D61:AH61,\"R\")))","v":0},{"$f":"IF(((COUNTIF(D61:AH61,\"R\")))>=1,\"E\",\"\")","v":""},null,null,null,null,null,null,null,28,{"$f":"COUNTIF(D61:AH61,\"Üİ\")","v":0}]
[]
[{"$f":"'PERSONEL BİLGİ GİRİŞİ'!A33","v":""},{"$f":"CONCATENATE('PERSONEL BİLGİ GİRİŞİ'!B33,\" \",'PERSONEL BİLGİ GİRİŞİ'!C33)","v":" "},{"$f":"'PERSONEL BİLGİ GİRİŞİ'!H33","v":0},null,null,null,null,null,null,null,null,null,null,null,null,null,null,null,null,null,null,null,null,null,null,null,null,null,null,null,null,null,null,null,{"$f":"IF(A63=\"\",0,COUNTIF(D63:AH64,\"1\")*1+COUNTIF(D63:AH64,\"2\")*2+COUNTIF(D63:AH64,\"3\")*3+COUNTIF(D63:AH64,\"4\")*4+COUNTIF(D63:AH64,\"5\")*5+COUNTIF(D63:AH64,\"6\")*6+COUNTIF(D63:AH64,\"7\")*7+COUNTIF(D63:AH64,\"8\")*8+COUNTIF(D63:AH64,\"9\")*9+COUNTIF(D63:AH64,\"10\")*10+COUNTIF(D63:AH64,\"Mİ\")*8)","v":0},{"$f":"IF(A63=\"\",0,COUNTIF(D63:AH64,\"GC1\")*1+COUNTIF(D63:AH64,\"GC2\")*2+COUNTIF(D63:AH64,\"GC3\")*3+COUNTIF(D63:AH64,\"GC4\")*4+COUNTIF(D63:AH64,\"GC5\")*5+COUNTIF(D63:AH64,\"GC6\")*6+COUNTIF(D63:AH64,\"GC7\")*7+COUNTIF(D63:AH64,\"GC8\")*8)","v":0},{"$f":"IF(A63=\"\",0,COUNTIF(D63:AH64,\"HS4\")*4+COUNTIF(D63:AH64,\"HS8\")*8)","v":0},{"$f":"(AI63+AJ63+AK63)/4","v":0},{"$f":"IF(A63=\"\",0,(AI63+AJ63+AK63)+AL63)","v":0},{"$f":"(AI63+AJ63+AK63)/4","v":0},{"$f":"IF(A63=\"\",0,COUNTIF(D63:AH64,\"FÇ\"))","v":0},{"$f":"IF(A63=\"\",0,COUNTIF(D63:AH64,\"T\"))","v":0},{"$f":"IF(A63=\"\",0,COUNTIF(D63:AH64,\"Mİ\"))","v":0},{"$f":"IF(A63=\"\",0,COUNTIF(D63:AH64,\"Üİ\"))","v":0},{"$f":"IF(A63=\"\",0,COUNTIF(D63:AH64,\"RT\"))","v":0},{"$f":"IF(A63=\"\",0,COUNTIF(D63:AH63,\"1\")+COUNTIF(D63:AH63,\"2\")+COUNTIF(D63:AH63,\"3\")+COUNTIF(D63:AH63,\"4\")+COUNTIF(D63:AH63,\"5\")+COUNTIF(D63:AH63,\"6\")+COUNTIF(D63:AH63,\"7\")+COUNTIF(D63:AH63,\"8\")+COUNTIF(D63:AH63,\"9\")+COUNTIF(D63:AH63,\"HS4\")+COUNTIF(D63:AH63,\"HS8\")+COUNTIF(D63:AH63,\"GC1\")+COUNTIF(D63:AH63,\"GC2\")+COUNTIF(D63:AH63,\"GC3\")+COUNTIF(D63:AH63,\"GC4\")+COUNTIF(D63:AH63,\"GC5\")+COUNTIF(D63:AH63,\"GC6\")+COUNTIF(D63:AH63,\"GC7\")+COUNTIF(D63:AH63,\"GC8\")+AO63+AQ63+AS63+AP63)","v":0},{"$f":"IF(AN63<30,ROUNDUP((AM63/7.5),0),IF(AV63+AR63=0,30,AT63))","v":0},{"$f":"IF(A63=\"\",0,IF(AN63<30,(COUNTA(D63:AH63)-AU63),COUNTIF(D63:AH63,\"R\")))","v":0},{"$f":"IF(((COUNTIF(D63:AH63,\"R\")))>=1,\"E\",\"\")","v":""},null,null,null,null,null,null,null,29,{"$f":"COUNTIF(D63:AH63,\"Üİ\")","v":0}]
[]
[{"$f":"'PERSONEL BİLGİ GİRİŞİ'!A34","v":""},{"$f":"CONCATENATE('PERSONEL BİLGİ GİRİŞİ'!B34,\" \",'PERSONEL BİLGİ GİRİŞİ'!C34)","v":" "},{"$f":"'PERSONEL BİLGİ GİRİŞİ'!H34","v":0},null,null,null,null,null,null,null,null,null,null,null,null,null,null,null,null,null,null,null,null,null,null,null,null,null,null,null,null,null,null,null,{"$f":"IF(A65=\"\",0,COUNTIF(D65:AH66,\"1\")*1+COUNTIF(D65:AH66,\"2\")*2+COUNTIF(D65:AH66,\"3\")*3+COUNTIF(D65:AH66,\"4\")*4+COUNTIF(D65:AH66,\"5\")*5+COUNTIF(D65:AH66,\"6\")*6+COUNTIF(D65:AH66,\"7\")*7+COUNTIF(D65:AH66,\"8\")*8+COUNTIF(D65:AH66,\"9\")*9+COUNTIF(D65:AH66,\"10\")*10+COUNTIF(D65:AH66,\"Mİ\")*8)","v":0},{"$f":"IF(A65=\"\",0,COUNTIF(D65:AH66,\"GC1\")*1+COUNTIF(D65:AH66,\"GC2\")*2+COUNTIF(D65:AH66,\"GC3\")*3+COUNTIF(D65:AH66,\"GC4\")*4+COUNTIF(D65:AH66,\"GC5\")*5+COUNTIF(D65:AH66,\"GC6\")*6+COUNTIF(D65:AH66,\"GC7\")*7+COUNTIF(D65:AH66,\"GC8\")*8)","v":0},{"$f":"IF(A65=\"\",0,COUNTIF(D65:AH66,\"HS4\")*4+COUNTIF(D65:AH66,\"HS8\")*8)","v":0},{"$f":"(AI65+AJ65+AK65)/4","v":0},{"$f":"IF(A65=\"\",0,(AI65+AJ65+AK65)+AL65)","v":0},{"$f":"(AI65+AJ65+AK65)/4","v":0},{"$f":"IF(A65=\"\",0,COUNTIF(D65:AH66,\"FÇ\"))","v":0},{"$f":"IF(A65=\"\",0,COUNTIF(D65:AH66,\"T\"))","v":0},{"$f":"IF(A65=\"\",0,COUNTIF(D65:AH66,\"Mİ\"))","v":0},{"$f":"IF(A65=\"\",0,COUNTIF(D65:AH66,\"Üİ\"))","v":0},{"$f":"IF(A65=\"\",0,COUNTIF(D65:AH66,\"RT\"))","v":0},{"$f":"IF(A65=\"\",0,COUNTIF(D65:AH65,\"1\")+COUNTIF(D65:AH65,\"2\")+COUNTIF(D65:AH65,\"3\")+COUNTIF(D65:AH65,\"4\")+COUNTIF(D65:AH65,\"5\")+COUNTIF(D65:AH65,\"6\")+COUNTIF(D65:AH65,\"7\")+COUNTIF(D65:AH65,\"8\")+COUNTIF(D65:AH65,\"9\")+COUNTIF(D65:AH65,\"HS4\")+COUNTIF(D65:AH65,\"HS8\")+COUNTIF(D65:AH65,\"GC1\")+COUNTIF(D65:AH65,\"GC2\")+COUNTIF(D65:AH65,\"GC3\")+COUNTIF(D65:AH65,\"GC4\")+COUNTIF(D65:AH65,\"GC5\")+COUNTIF(D65:AH65,\"GC6\")+COUNTIF(D65:AH65,\"GC7\")+COUNTIF(D65:AH65,\"GC8\")+AO65+AQ65+AS65+AP65)","v":0},{"$f":"IF(AN65<30,ROUNDUP((AM65/7.5),0),IF(AV65+AR65=0,30,AT65))","v":0},{"$f":"IF(A65=\"\",0,IF(AN65<30,(COUNTA(D65:AH65)-AU65),COUNTIF(D65:AH65,\"R\")))","v":0},{"$f":"IF(((COUNTIF(D65:AH65,\"R\")))>=1,\"E\",\"\")","v":""},null,null,null,null,null,null,null,30,{"$f":"COUNTIF(D65:AH65,\"Üİ\")","v":0}]
[]
[{"$f":"'PERSONEL BİLGİ GİRİŞİ'!A35","v":""},{"$f":"CONCATENATE('PERSONEL BİLGİ GİRİŞİ'!B35,\" \",'PERSONEL BİLGİ GİRİŞİ'!C35)","v":" "},{"$f":"'PERSONEL BİLGİ GİRİŞİ'!H35","v":0},null,null,null,null,null,null,null,null,null,null,null,null,null,null,null,null,null,null,null,null,null,null,null,null,null,null,null,null,null,null,null,{"$f":"IF(A67=\"\",0,COUNTIF(D67:AH68,\"1\")*1+COUNTIF(D67:AH68,\"2\")*2+COUNTIF(D67:AH68,\"3\")*3+COUNTIF(D67:AH68,\"4\")*4+COUNTIF(D67:AH68,\"5\")*5+COUNTIF(D67:AH68,\"6\")*6+COUNTIF(D67:AH68,\"7\")*7+COUNTIF(D67:AH68,\"8\")*8+COUNTIF(D67:AH68,\"9\")*9+COUNTIF(D67:AH68,\"10\")*10+COUNTIF(D67:AH68,\"Mİ\")*8)","v":0},{"$f":"IF(A67=\"\",0,COUNTIF(D67:AH68,\"GC1\")*1+COUNTIF(D67:AH68,\"GC2\")*2+COUNTIF(D67:AH68,\"GC3\")*3+COUNTIF(D67:AH68,\"GC4\")*4+COUNTIF(D67:AH68,\"GC5\")*5+COUNTIF(D67:AH68,\"GC6\")*6+COUNTIF(D67:AH68,\"GC7\")*7+COUNTIF(D67:AH68,\"GC8\")*8)","v":0},{"$f":"IF(A67=\"\",0,COUNTIF(D67:AH68,\"HS4\")*4+COUNTIF(D67:AH68,\"HS8\")*8)","v":0},{"$f":"(AI67+AJ67+AK67)/4","v":0},{"$f":"IF(A67=\"\",0,(AI67+AJ67+AK67)+AL67)","v":0},{"$f":"(AI67+AJ67+AK67)/4","v":0},{"$f":"IF(A67=\"\",0,COUNTIF(D67:AH68,\"FÇ\"))","v":0},{"$f":"IF(A67=\"\",0,COUNTIF(D67:AH68,\"T\"))","v":0},{"$f":"IF(A67=\"\",0,COUNTIF(D67:AH68,\"Mİ\"))","v":0},{"$f":"IF(A67=\"\",0,COUNTIF(D67:AH68,\"Üİ\"))","v":0},{"$f":"IF(A67=\"\",0,COUNTIF(D67:AH68,\"RT\"))","v":0},{"$f":"IF(A67=\"\",0,COUNTIF(D67:AH67,\"1\")+COUNTIF(D67:AH67,\"2\")+COUNTIF(D67:AH67,\"3\")+COUNTIF(D67:AH67,\"4\")+COUNTIF(D67:AH67,\"5\")+COUNTIF(D67:AH67,\"6\")+COUNTIF(D67:AH67,\"7\")+COUNTIF(D67:AH67,\"8\")+COUNTIF(D67:AH67,\"9\")+COUNTIF(D67:AH67,\"HS4\")+COUNTIF(D67:AH67,\"HS8\")+COUNTIF(D67:AH67,\"GC1\")+COUNTIF(D67:AH67,\"GC2\")+COUNTIF(D67:AH67,\"GC3\")+COUNTIF(D67:AH67,\"GC4\")+COUNTIF(D67:AH67,\"GC5\")+COUNTIF(D67:AH67,\"GC6\")+COUNTIF(D67:AH67,\"GC7\")+COUNTIF(D67:AH67,\"GC8\")+AO67+AQ67+AS67+AP67)","v":0},{"$f":"IF(AN67<30,ROUNDUP((AM67/7.5),0),IF(AV67+AR67=0,30,AT67))","v":0},{"$f":"IF(A67=\"\",0,IF(AN67<30,(COUNTA(D67:AH67)-AU67),COUNTIF(D67:AH67,\"R\")))","v":0},{"$f":"IF(((COUNTIF(D67:AH67,\"R\")))>=1,\"E\",\"\")","v":""},null,null,null,null,null,null,null,31,{"$f":"COUNTIF(D67:AH67,\"Üİ\")","v":0}]
[]
[{"$f":"'PERSONEL BİLGİ GİRİŞİ'!A36","v":""},{"$f":"CONCATENATE('PERSONEL BİLGİ GİRİŞİ'!B36,\" \",'PERSONEL BİLGİ GİRİŞİ'!C36)","v":" "},{"$f":"'PERSONEL BİLGİ GİRİŞİ'!H36","v":0},null,null,null,null,null,null,null,null,null,null,null,null,null,null,null,null,null,null,null,null,null,null,null,null,null,null,null,null,null,null,null,{"$f":"IF(A69=\"\",0,COUNTIF(D69:AH70,\"1\")*1+COUNTIF(D69:AH70,\"2\")*2+COUNTIF(D69:AH70,\"3\")*3+COUNTIF(D69:AH70,\"4\")*4+COUNTIF(D69:AH70,\"5\")*5+COUNTIF(D69:AH70,\"6\")*6+COUNTIF(D69:AH70,\"7\")*7+COUNTIF(D69:AH70,\"8\")*8+COUNTIF(D69:AH70,\"9\")*9+COUNTIF(D69:AH70,\"10\")*10+COUNTIF(D69:AH70,\"Mİ\")*8)","v":0},{"$f":"IF(A69=\"\",0,COUNTIF(D69:AH70,\"GC1\")*1+COUNTIF(D69:AH70,\"GC2\")*2+COUNTIF(D69:AH70,\"GC3\")*3+COUNTIF(D69:AH70,\"GC4\")*4+COUNTIF(D69:AH70,\"GC5\")*5+COUNTIF(D69:AH70,\"GC6\")*6+COUNTIF(D69:AH70,\"GC7\")*7+COUNTIF(D69:AH70,\"GC8\")*8)","v":0},{"$f":"IF(A69=\"\",0,COUNTIF(D69:AH70,\"HS4\")*4+COUNTIF(D69:AH70,\"HS8\")*8)","v":0},{"$f":"(AI69+AJ69+AK69)/4","v":0},{"$f":"IF(A69=\"\",0,(AI69+AJ69+AK69)+AL69)","v":0},{"$f":"(AI69+AJ69+AK69)/4","v":0},{"$f":"IF(A69=\"\",0,COUNTIF(D69:AH70,\"FÇ\"))","v":0},{"$f":"IF(A69=\"\",0,COUNTIF(D69:AH70,\"T\"))","v":0},{"$f":"IF(A69=\"\",0,COUNTIF(D69:AH70,\"Mİ\"))","v":0},{"$f":"IF(A69=\"\",0,COUNTIF(D69:AH70,\"Üİ\"))","v":0},{"$f":"IF(A69=\"\",0,COUNTIF(D69:AH70,\"RT\"))","v":0},{"$f":"IF(A69=\"\",0,COUNTIF(D69:AH69,\"1\")+COUNTIF(D69:AH69,\"2\")+COUNTIF(D69:AH69,\"3\")+COUNTIF(D69:AH69,\"4\")+COUNTIF(D69:AH69,\"5\")+COUNTIF(D69:AH69,\"6\")+COUNTIF(D69:AH69,\"7\")+COUNTIF(D69:AH69,\"8\")+COUNTIF(D69:AH69,\"9\")+COUNTIF(D69:AH69,\"HS4\")+COUNTIF(D69:AH69,\"HS8\")+COUNTIF(D69:AH69,\"GC1\")+COUNTIF(D69:AH69,\"GC2\")+COUNTIF(D69:AH69,\"GC3\")+COUNTIF(D69:AH69,\"GC4\")+COUNTIF(D69:AH69,\"GC5\")+COUNTIF(D69:AH69,\"GC6\")+COUNTIF(D69:AH69,\"GC7\")+COUNTIF(D69:AH69,\"GC8\")+AO69+AQ69+AS69+AP69)","v":0},{"$f":"IF(AN69<30,ROUNDUP((AM69/7.5),0),IF(AV69+AR69=0,30,AT69))","v":0},{"$f":"IF(A69=\"\",0,IF(AN69<30,(COUNTA(D69:AH69)-AU69),COUNTIF(D69:AH69,\"R\")))","v":0},{"$f":"IF(((COUNTIF(D69:AH69,\"R\")))>=1,\"E\",\"\")","v":""},null,null,null,null,null,null,null,32,{"$f":"COUNTIF(D69:AH69,\"Üİ\")","v":0}]
[]
[{"$f":"'PERSONEL BİLGİ GİRİŞİ'!A37","v":""},{"$f":"CONCATENATE('PERSONEL BİLGİ GİRİŞİ'!B37,\" \",'PERSONEL BİLGİ GİRİŞİ'!C37)","v":" "},{"$f":"'PERSONEL BİLGİ GİRİŞİ'!H37","v":0},null,null,null,null,null,null,null,null,null,null,null,null,null,null,null,null,null,null,null,null,null,null,null,null,null,null,null,null,null,null,null,{"$f":"IF(A71=\"\",0,COUNTIF(D71:AH72,\"1\")*1+COUNTIF(D71:AH72,\"2\")*2+COUNTIF(D71:AH72,\"3\")*3+COUNTIF(D71:AH72,\"4\")*4+COUNTIF(D71:AH72,\"5\")*5+COUNTIF(D71:AH72,\"6\")*6+COUNTIF(D71:AH72,\"7\")*7+COUNTIF(D71:AH72,\"8\")*8+COUNTIF(D71:AH72,\"9\")*9+COUNTIF(D71:AH72,\"10\")*10+COUNTIF(D71:AH72,\"Mİ\")*8)","v":0},{"$f":"IF(A71=\"\",0,COUNTIF(D71:AH72,\"GC1\")*1+COUNTIF(D71:AH72,\"GC2\")*2+COUNTIF(D71:AH72,\"GC3\")*3+COUNTIF(D71:AH72,\"GC4\")*4+COUNTIF(D71:AH72,\"GC5\")*5+COUNTIF(D71:AH72,\"GC6\")*6+COUNTIF(D71:AH72,\"GC7\")*7+COUNTIF(D71:AH72,\"GC8\")*8)","v":0},{"$f":"IF(A71=\"\",0,COUNTIF(D71:AH72,\"HS4\")*4+COUNTIF(D71:AH72,\"HS8\")*8)","v":0},{"$f":"(AI71+AJ71+AK71)/4","v":0},{"$f":"IF(A71=\"\",0,(AI71+AJ71+AK71)+AL71)","v":0},{"$f":"(AI71+AJ71+AK71)/4","v":0},{"$f":"IF(A71=\"\",0,COUNTIF(D71:AH72,\"FÇ\"))","v":0},{"$f":"IF(A71=\"\",0,COUNTIF(D71:AH72,\"T\"))","v":0},{"$f":"IF(A71=\"\",0,COUNTIF(D71:AH72,\"Mİ\"))","v":0},{"$f":"IF(A71=\"\",0,COUNTIF(D71:AH72,\"Üİ\"))","v":0},{"$f":"IF(A71=\"\",0,COUNTIF(D71:AH72,\"RT\"))","v":0},{"$f":"IF(A71=\"\",0,COUNTIF(D71:AH71,\"1\")+COUNTIF(D71:AH71,\"2\")+COUNTIF(D71:AH71,\"3\")+COUNTIF(D71:AH71,\"4\")+COUNTIF(D71:AH71,\"5\")+COUNTIF(D71:AH71,\"6\")+COUNTIF(D71:AH71,\"7\")+COUNTIF(D71:AH71,\"8\")+COUNTIF(D71:AH71,\"9\")+COUNTIF(D71:AH71,\"HS4\")+COUNTIF(D71:AH71,\"HS8\")+COUNTIF(D71:AH71,\"GC1\")+COUNTIF(D71:AH71,\"GC2\")+COUNTIF(D71:AH71,\"GC3\")+COUNTIF(D71:AH71,\"GC4\")+COUNTIF(D71:AH71,\"GC5\")+COUNTIF(D71:AH71,\"GC6\")+COUNTIF(D71:AH71,\"GC7\")+COUNTIF(D71:AH71,\"GC8\")+AO71+AQ71+AS71+AP71)","v":0},{"$f":"IF(AN71<30,ROUNDUP((AM71/7.5),0),IF(AV71+AR71=0,30,AT71))","v":0},{"$f":"IF(A71=\"\",0,IF(AN71<30,(COUNTA(D71:AH71)-AU71),COUNTIF(D71:AH71,\"R\")))","v":0},{"$f":"IF(((COUNTIF(D71:AH71,\"R\")))>=1,\"E\",\"\")","v":""},null,null,null,null,null,null,null,33,{"$f":"COUNTIF(D71:AH71,\"Üİ\")","v":0}]
[]
[{"$f":"'PERSONEL BİLGİ GİRİŞİ'!A38","v":""},{"$f":"CONCATENATE('PERSONEL BİLGİ GİRİŞİ'!B38,\" \",'PERSONEL BİLGİ GİRİŞİ'!C38)","v":" "},{"$f":"'PERSONEL BİLGİ GİRİŞİ'!H38","v":0},null,null,null,null,null,null,null,null,null,null,null,null,null,null,null,null,null,null,null,null,null,null,null,null,null,null,null,null,null,null,null,{"$f":"IF(A73=\"\",0,COUNTIF(D73:AH74,\"1\")*1+COUNTIF(D73:AH74,\"2\")*2+COUNTIF(D73:AH74,\"3\")*3+COUNTIF(D73:AH74,\"4\")*4+COUNTIF(D73:AH74,\"5\")*5+COUNTIF(D73:AH74,\"6\")*6+COUNTIF(D73:AH74,\"7\")*7+COUNTIF(D73:AH74,\"8\")*8+COUNTIF(D73:AH74,\"9\")*9+COUNTIF(D73:AH74,\"10\")*10+COUNTIF(D73:AH74,\"Mİ\")*8)","v":0},{"$f":"IF(A73=\"\",0,COUNTIF(D73:AH74,\"GC1\")*1+COUNTIF(D73:AH74,\"GC2\")*2+COUNTIF(D73:AH74,\"GC3\")*3+COUNTIF(D73:AH74,\"GC4\")*4+COUNTIF(D73:AH74,\"GC5\")*5+COUNTIF(D73:AH74,\"GC6\")*6+COUNTIF(D73:AH74,\"GC7\")*7+COUNTIF(D73:AH74,\"GC8\")*8)","v":0},{"$f":"IF(A73=\"\",0,COUNTIF(D73:AH74,\"HS4\")*4+COUNTIF(D73:AH74,\"HS8\")*8)","v":0},{"$f":"(AI73+AJ73+AK73)/4","v":0},{"$f":"IF(A73=\"\",0,(AI73+AJ73+AK73)+AL73)","v":0},{"$f":"(AI73+AJ73+AK73)/4","v":0},{"$f":"IF(A73=\"\",0,COUNTIF(D73:AH74,\"FÇ\"))","v":0},{"$f":"IF(A73=\"\",0,COUNTIF(D73:AH74,\"T\"))","v":0},{"$f":"IF(A73=\"\",0,COUNTIF(D73:AH74,\"Mİ\"))","v":0},{"$f":"IF(A73=\"\",0,COUNTIF(D73:AH74,\"Üİ\"))","v":0},{"$f":"IF(A73=\"\",0,COUNTIF(D73:AH74,\"RT\"))","v":0},{"$f":"IF(A73=\"\",0,COUNTIF(D73:AH73,\"1\")+COUNTIF(D73:AH73,\"2\")+COUNTIF(D73:AH73,\"3\")+COUNTIF(D73:AH73,\"4\")+COUNTIF(D73:AH73,\"5\")+COUNTIF(D73:AH73,\"6\")+COUNTIF(D73:AH73,\"7\")+COUNTIF(D73:AH73,\"8\")+COUNTIF(D73:AH73,\"9\")+COUNTIF(D73:AH73,\"HS4\")+COUNTIF(D73:AH73,\"HS8\")+COUNTIF(D73:AH73,\"GC1\")+COUNTIF(D73:AH73,\"GC2\")+COUNTIF(D73:AH73,\"GC3\")+COUNTIF(D73:AH73,\"GC4\")+COUNTIF(D73:AH73,\"GC5\")+COUNTIF(D73:AH73,\"GC6\")+COUNTIF(D73:AH73,\"GC7\")+COUNTIF(D73:AH73,\"GC8\")+AO73+AQ73+AS73+AP73)","v":0},{"$f":"IF(AN73<30,ROUNDUP((AM73/7.5),0),IF(AV73+AR73=0,30,AT73))","v":0},{"$f":"IF(A73=\"\",0,IF(AN73<30,(COUNTA(D73:AH73)-AU73),COUNTIF(D73:AH73,\"R\")))","v":0},{"$f":"IF(((COUNTIF(D73:AH73,\"R\")))>=1,\"E\",\"\")","v":""},null,null,null,null,null,null,null,34,{"$f":"COUNTIF(D73:AH73,\"Üİ\")","v":0}]
[]
[{"$f":"'PERSONEL BİLGİ GİRİŞİ'!A39","v":""},{"$f":"CONCATENATE('PERSONEL BİLGİ GİRİŞİ'!B39,\" \",'PERSONEL BİLGİ GİRİŞİ'!C39)","v":" "},{"$f":"'PERSONEL BİLGİ GİRİŞİ'!H39","v":0},null,null,null,null,null,null,null,null,null,null,null,null,null,null,null,null,null,null,null,null,null,null,null,null,null,null,null,null,null,null,null,{"$f":"IF(A75=\"\",0,COUNTIF(D75:AH76,\"1\")*1+COUNTIF(D75:AH76,\"2\")*2+COUNTIF(D75:AH76,\"3\")*3+COUNTIF(D75:AH76,\"4\")*4+COUNTIF(D75:AH76,\"5\")*5+COUNTIF(D75:AH76,\"6\")*6+COUNTIF(D75:AH76,\"7\")*7+COUNTIF(D75:AH76,\"8\")*8+COUNTIF(D75:AH76,\"9\")*9+COUNTIF(D75:AH76,\"10\")*10+COUNTIF(D75:AH76,\"Mİ\")*8)","v":0},{"$f":"IF(A75=\"\",0,COUNTIF(D75:AH76,\"GC1\")*1+COUNTIF(D75:AH76,\"GC2\")*2+COUNTIF(D75:AH76,\"GC3\")*3+COUNTIF(D75:AH76,\"GC4\")*4+COUNTIF(D75:AH76,\"GC5\")*5+COUNTIF(D75:AH76,\"GC6\")*6+COUNTIF(D75:AH76,\"GC7\")*7+COUNTIF(D75:AH76,\"GC8\")*8)","v":0},{"$f":"IF(A75=\"\",0,COUNTIF(D75:AH76,\"HS4\")*4+COUNTIF(D75:AH76,\"HS8\")*8)","v":0},{"$f":"(AI75+AJ75+AK75)/4","v":0},{"$f":"IF(A75=\"\",0,(AI75+AJ75+AK75)+AL75)","v":0},{"$f":"(AI75+AJ75+AK75)/4","v":0},{"$f":"IF(A75=\"\",0,COUNTIF(D75:AH76,\"FÇ\"))","v":0},{"$f":"IF(A75=\"\",0,COUNTIF(D75:AH76,\"T\"))","v":0},{"$f":"IF(A75=\"\",0,COUNTIF(D75:AH76,\"Mİ\"))","v":0},{"$f":"IF(A75=\"\",0,COUNTIF(D75:AH76,\"Üİ\"))","v":0},{"$f":"IF(A75=\"\",0,COUNTIF(D75:AH76,\"RT\"))","v":0},{"$f":"IF(A75=\"\",0,COUNTIF(D75:AH75,\"1\")+COUNTIF(D75:AH75,\"2\")+COUNTIF(D75:AH75,\"3\")+COUNTIF(D75:AH75,\"4\")+COUNTIF(D75:AH75,\"5\")+COUNTIF(D75:AH75,\"6\")+COUNTIF(D75:AH75,\"7\")+COUNTIF(D75:AH75,\"8\")+COUNTIF(D75:AH75,\"9\")+COUNTIF(D75:AH75,\"HS4\")+COUNTIF(D75:AH75,\"HS8\")+COUNTIF(D75:AH75,\"GC1\")+COUNTIF(D75:AH75,\"GC2\")+COUNTIF(D75:AH75,\"GC3\")+COUNTIF(D75:AH75,\"GC4\")+COUNTIF(D75:AH75,\"GC5\")+COUNTIF(D75:AH75,\"GC6\")+COUNTIF(D75:AH75,\"GC7\")+COUNTIF(D75:AH75,\"GC8\")+AO75+AQ75+AS75+AP75)","v":0},{"$f":"IF(AN75<30,ROUNDUP((AM75/7.5),0),IF(AV75+AR75=0,30,AT75))","v":0},{"$f":"IF(A75=\"\",0,IF(AN75<30,(COUNTA(D75:AH75)-AU75),COUNTIF(D75:AH75,\"R\")))","v":0},{"$f":"IF(((COUNTIF(D75:AH75,\"R\")))>=1,\"E\",\"\")","v":""},null,null,null,null,null,null,null,35,{"$f":"COUNTIF(D75:AH75,\"Üİ\")","v":0}]
[]
["AÇIKLAMA"]
[]
[{"$f":"'PERSONEL BİLGİ GİRİŞİ'!A81:B81","v":"MAAŞ MUTEMEDİ"},null,null,null,null,null,null,null,null,null,null,null,null,null,{"$f":"'PERSONEL BİLGİ GİRİŞİ'!J81","v":"GERÇEKLEŞTİRME GÖREVLİSİ"},null,null,null,null,null,null,null,null,null,null,null,null,null,null,null,null,null,null,null,null,null,null,null,null,null,null,null,null,null,null,null,{"$f":"'PERSONEL BİLGİ GİRİŞİ'!K81","v":"HARCAMA YETKİLİSİ"}]
[{"$f":"'PERSONEL BİLGİ GİRİŞİ'!A82:B82","v":0},null,null,null,null,null,null,null,null,null,null,null,null,null,{"$f":"'PERSONEL BİLGİ GİRİŞİ'!J82","v":0},null,null,null,null,null,null,null,null,null,null,null,null,null,null,null,null,null,null,null,null,null,null,null,null,null,null,null,null,null,null,null,{"$f":"'PERSONEL BİLGİ GİRİŞİ'!K82","v":0}]
[{"$f":"'PERSONEL BİLGİ GİRİŞİ'!A83:B83","v":{"$error":"#N/A"}},null,null,null,null,null,null,null,null,null,null,null,null,null,{"$f":"'PERSONEL BİLGİ GİRİŞİ'!J83","v":{"$error":"#N/A"}},null,null,null,null,null,null,null,null,null,null,null,null,null,null,null,null,null,null,null,null,null,null,null,null,null,null,null,null,null,null,null,{"$f":"'PERSONEL BİLGİ GİRİŞİ'!K83","v":{"$error":"#N/A"}}]
[{"$f":"TODAY()","v":"2024-02-05"},null,null,null,null,null,null,null,null,null,null,null,null,null,{"$f":"'PERSONEL BİLGİ GİRİŞİ'!J84","v":"2024-02-05"},null,null,null,null,null,null,null,null,null,null,null,null,null,null,null,null,null,null,null,null,null,null,null,null,null,null,null,null,null,null,null,{"$f":"'PERSONEL BİLGİ GİRİŞİ'!K84","v":"2024-02-05"}]
[]
[]
[]
[]
[]
[]
[]
[null,"HAFTA TATİLİ",null,"T"]
[null,"ÇALIŞAN",null,2]
[null,"ÇALIŞAN",null,3]
[null,"ÇALIŞAN",null,4]
[null,"ÇALIŞAN",null,5]
[null,"ÇALIŞAN",null,6]
[null,"ÇALIŞAN",null,7]
[null,"ÇALIŞAN",null,8]
[null,"ÇALIŞAN",null,9]
[null,"ÇALIŞAN",null,10]
[null,"HAFTA SONU ÇALIŞAN",null,"HS4"]
[null,"HAFTA SONU ÇALIŞAN",null,"HS8"]
[null,null,"FAZLA ÇALIŞMA","FÇ"]
[null,null,"MAZERET İZNİ","Mİ"]
[null,null,"DOĞUM İZNİ","Dİ"]
[null,null,"RAPOR","R"]
[null,null,"ÜCRETSİZ İZİN","Üİ"]
[null,null,"RESMİ TATİL","RT"]
[null,null,"GELMEDİ","G"]
[null,null,"GECE ÇALIŞAN","GC1"]
[null,null,"GECE ÇALIŞAN","GC2"]
[null,null,"GECE ÇALIŞAN","GC3"]
[null,null,"GECE ÇALIŞAN","GC4"]
[null,null,"GECE ÇALIŞAN","GC5"]
[null,null,"GECE ÇALIŞAN","GC6"]
[null,null,"GECE ÇALIŞAN","GC7"]
[null,null,"GECE ÇALIŞAN","GC8"]

{"sheet":"ek bordro","index":6,"n_rows":78,"n_cols":12,"rows_kept":78,"cut":false,"hidden":false,"merged":[[0,1,0,8],[1,0,1,9],[0,9,0,11]]}
["ANASAYFA","AİLE VE SOSYAL HİZMETLER İL MÜDÜRLÜĞÜ",null,null,null,null,null,null,null,"ANASAYFA"]
["E K   B O R D R O"]
["SIRA NO","AD-SOYAD","TC. KİMLİK NO","BRÜT     TOPLAM ÜCRET","VERGİ\n MATRAHI\n(KÜMÜLATİF)","VERGİ DİLİMİ","GELİR\n VERGİSİ","DAMGA\n VERGİSİ","SGK\n MATRAHI","NET                         ÖDECEK                  (ELE GEÇEN) ÜCRET","İSTİSNA \nGELİR","İSTİSNA \nDAMGA"]
[{"$f":"PUANTAJ!A7","v":1},{"$f":"PUANTAJ!B7","v":"ALİ BZC "},{"$f":"PUANTAJ!C7","v":0}]
[{"$f":"PUANTAJ!A8","v":0},{"$f":"PUANTAJ!B8","v":0},{"$f":"PUANTAJ!C8","v":0}]
[{"$f":"PUANTAJ!A9","v":""},{"$f":"PUANTAJ!B9","v":" "},{"$f":"PUANTAJ!C9","v":0}]
[{"$f":"PUANTAJ!A10","v":0},{"$f":"PUANTAJ!B10","v":0},{"$f":"PUANTAJ!C10","v":0}]
[{"$f":"PUANTAJ!A11","v":""},{"$f":"PUANTAJ!B11","v":" "},{"$f":"PUANTAJ!C11","v":0}]
[{"$f":"PUANTAJ!A12","v":0},{"$f":"PUANTAJ!B12","v":0},{"$f":"PUANTAJ!C12","v":0}]
[{"$f":"PUANTAJ!A13","v":""},{"$f":"PUANTAJ!B13","v":" "},{"$f":"PUANTAJ!C13","v":0}]
[{"$f":"PUANTAJ!A14","v":0},{"$f":"PUANTAJ!B14","v":0},{"$f":"PUANTAJ!C14","v":0}]
[{"$f":"PUANTAJ!A15","v":""},{"$f":"PUANTAJ!B15","v":" "},{"$f":"PUANTAJ!C15","v":0}]
[{"$f":"PUANTAJ!A16","v":0},{"$f":"PUANTAJ!B16","v":0},{"$f":"PUANTAJ!C16","v":0}]
[{"$f":"PUANTAJ!A17","v":""},{"$f":"PUANTAJ!B17","v":" "},{"$f":"PUANTAJ!C17","v":0}]
[{"$f":"PUANTAJ!A18","v":0},{"$f":"PUANTAJ!B18","v":0},{"$f":"PUANTAJ!C18","v":0}]
[{"$f":"PUANTAJ!A19","v":""},{"$f":"PUANTAJ!B19","v":" "},{"$f":"PUANTAJ!C19","v":0}]
[{"$f":"PUANTAJ!A20","v":0},{"$f":"PUANTAJ!B20","v":0},{"$f":"PUANTAJ!C20","v":0}]
[{"$f":"PUANTAJ!A21","v":""},{"$f":"PUANTAJ!B21","v":" "},{"$f":"PUANTAJ!C21","v":0}]
[{"$f":"PUANTAJ!A22","v":0},{"$f":"PUANTAJ!B22","v":0},{"$f":"PUANTAJ!C22","v":0}]
[{"$f":"PUANTAJ!A23","v":""},{"$f":"PUANTAJ!B23","v":" "},{"$f":"PUANTAJ!C23","v":0}]
[{"$f":"PUANTAJ!A24","v":0},{"$f":"PUANTAJ!B24","v":0},{"$f":"PUANTAJ!C24","v":0}]
[{"$f":"PUANTAJ!A25","v":""},{"$f":"PUANTAJ!B25","v":" "},{"$f":"PUANTAJ!C25","v":0}]
[{"$f":"PUANTAJ!A26","v":0},{"$f":"PUANTAJ!B26","v":0},{"$f":"PUANTAJ!C26","v":0}]
[{"$f":"PUANTAJ!A27","v":""},{"$f":"PUANTAJ!B27","v":" "},{"$f":"PUANTAJ!C27","v":0}]
[{"$f":"PUANTAJ!A28","v":0},{"$f":"PUANTAJ!B28","v":0},{"$f":"PUANTAJ!C28","v":0}]
[{"$f":"PUANTAJ!A29","v":""},{"$f":"PUANTAJ!B29","v":" "},{"$f":"PUANTAJ!C29","v":0}]
[{"$f":"PUANTAJ!A30","v":0},{"$f":"PUANTAJ!B30","v":0},{"$f":"PUANTAJ!C30","v":0}]
[{"$f":"PUANTAJ!A31","v":""},{"$f":"PUANTAJ!B31","v":" "},{"$f":"PUANTAJ!C31","v":0}]
[{"$f":"PUANTAJ!A32","v":0},{"$f":"PUANTAJ!B32","v":0},{"$f":"PUANTAJ!C32","v":0}]
[{"$f":"PUANTAJ!A33","v":""},{"$f":"PUANTAJ!B33","v":" "},{"$f":"PUANTAJ!C33","v":0}]
[{"$f":"PUANTAJ!A34","v":0},{"$f":"PUANTAJ!B34","v":0},{"$f":"PUANTAJ!C34","v":0}]
[{"$f":"PUANTAJ!A35","v":""},{"$f":"PUANTAJ!B35","v":" "},{"$f":"PUANTAJ!C35","v":0}]
[{"$f":"PUANTAJ!A36","v":0},{"$f":"PUANTAJ!B36","v":0},{"$f":"PUANTAJ!C36","v":0}]
[{"$f":"PUANTAJ!A37","v":""},{"$f":"PUANTAJ!B37","v":" "},{"$f":"PUANTAJ!C37","v":0}]
[{"$f":"PUANTAJ!A38","v":0},{"$f":"PUANTAJ!B38","v":0},{"$f":"PUANTAJ!C38","v":0}]
[{"$f":"PUANTAJ!A39","v":""},{"$f":"PUANTAJ!B39","v":" "},{"$f":"PUANTAJ!C39","v":0}]
[{"$f":"PUANTAJ!A40","v":0},{"$f":"PUANTAJ!B40","v":0},{"$f":"PUANTAJ!C40","v":0}]
[{"$f":"PUANTAJ!A41","v":""},{"$f":"PUANTAJ!B41","v":" "},{"$f":"PUANTAJ!C41","v":0}]
[{"$f":"PUANTAJ!A42","v":0},{"$f":"PUANTAJ!B42","v":0},{"$f":"PUANTAJ!C42","v":0}]
[{"$f":"PUANTAJ!A43","v":""},{"$f":"PUANTAJ!B43","v":" "},{"$f":"PUANTAJ!C43","v":0}]
[{"$f":"PUANTAJ!A44","v":0},{"$f":"PUANTAJ!B44","v":0},{"$f":"PUANTAJ!C44","v":0}]
[{"$f":"PUANTAJ!A45","v":""},{"$f":"PUANTAJ!B45","v":" "},{"$f":"PUANTAJ!C45","v":0}]
[{"$f":"PUANTAJ!A46","v":0},{"$f":"PUANTAJ!B46","v":0},{"$f":"PUANTAJ!C46","v":0}]
[{"$f":"PUANTAJ!A47","v":""},{"$f":"PUANTAJ!B47","v":" "},{"$f":"PUANTAJ!C47","v":0}]
[{"$f":"PUANTAJ!A48","v":0},{"$f":"PUANTAJ!B48","v":0},{"$f":"PUANTAJ!C48","v":0}]
[{"$f":"PUANTAJ!A49","v":""},{"$f":"PUANTAJ!B49","v":" "},{"$f":"PUANTAJ!C49","v":0}]
[{"$f":"PUANTAJ!A50","v":0},{"$f":"PUANTAJ!B50","v":0},{"$f":"PUANTAJ!C50","v":0}]
[{"$f":"PUANTAJ!A51","v":""},{"$f":"PUANTAJ!B51","v":" "},{"$f":"PUANTAJ!C51","v":0}]
[{"$f":"PUANTAJ!A52","v":0},{"$f":"PUANTAJ!B52","v":0},{"$f":"PUANTAJ!C52","v":0}]
[{"$f":"PUANTAJ!A53","v":""},{"$f":"PUANTAJ!B53","v":" "},{"$f":"PUANTAJ!C53","v":0}]
[{"$f":"PUANTAJ!A54","v":0},{"$f":"PUANTAJ!B54","v":0},{"$f":"PUANTAJ!C54","v":0}]
[{"$f":"PUANTAJ!A55","v":""},{"$f":"PUANTAJ!B55","v":" "},{"$f":"PUANTAJ!C55","v":0}]
[{"$f":"PUANTAJ!A56","v":0},{"$f":"PUANTAJ!B56","v":0},{"$f":"PUANTAJ!C56","v":0}]
[{"$f":"PUANTAJ!A57","v":""},{"$f":"PUANTAJ!B57","v":" "},{"$f":"PUANTAJ!C57","v":0}]
[{"$f":"PUANTAJ!A58","v":0},{"$f":"PUANTAJ!B58","v":0},{"$f":"PUANTAJ!C58","v":0}]
[{"$f":"PUANTAJ!A59","v":""},{"$f":"PUANTAJ!B59","v":" "},{"$f":"PUANTAJ!C59","v":0}]
[{"$f":"PUANTAJ!A60","v":0},{"$f":"PUANTAJ!B60","v":0},{"$f":"PUANTAJ!C60","v":0}]
[{"$f":"PUANTAJ!A61","v":""},{"$f":"PUANTAJ!B61","v":" "},{"$f":"PUANTAJ!C61","v":0}]
[{"$f":"PUANTAJ!A62","v":0},{"$f":"PUANTAJ!B62","v":0},{"$f":"PUANTAJ!C62","v":0}]
[{"$f":"PUANTAJ!A63","v":""},{"$f":"PUANTAJ!B63","v":" "},{"$f":"PUANTAJ!C63","v":0}]
[{"$f":"PUANTAJ!A64","v":0},{"$f":"PUANTAJ!B64","v":0},{"$f":"PUANTAJ!C64","v":0}]
[{"$f":"PUANTAJ!A65","v":""},{"$f":"PUANTAJ!B65","v":" "},{"$f":"PUANTAJ!C65","v":0}]
[{"$f":"PUANTAJ!A66","v":0},{"$f":"PUANTAJ!B66","v":0},{"$f":"PUANTAJ!C66","v":0}]
[{"$f":"PUANTAJ!A67","v":""},{"$f":"PUANTAJ!B67","v":" "},{"$f":"PUANTAJ!C67","v":0}]
[{"$f":"PUANTAJ!A68","v":0},{"$f":"PUANTAJ!B68","v":0},{"$f":"PUANTAJ!C68","v":0}]
[{"$f":"PUANTAJ!A69","v":""},{"$f":"PUANTAJ!B69","v":" "},{"$f":"PUANTAJ!C69","v":0}]
[{"$f":"PUANTAJ!A70","v":0},{"$f":"PUANTAJ!B70","v":0},{"$f":"PUANTAJ!C70","v":0}]
[{"$f":"PUANTAJ!A71","v":""},{"$f":"PUANTAJ!B71","v":" "},{"$f":"PUANTAJ!C71","v":0}]
[{"$f":"PUANTAJ!A72","v":0},{"$f":"PUANTAJ!B72","v":0},{"$f":"PUANTAJ!C72","v":0}]
[{"$f":"PUANTAJ!A73","v":""},{"$f":"PUANTAJ!B73","v":" "},{"$f":"PUANTAJ!C73","v":0}]
[{"$f":"PUANTAJ!A74","v":0},{"$f":"PUANTAJ!B74","v":0},{"$f":"PUANTAJ!C74","v":0}]
[{"$f":"PUANTAJ!A75","v":""},{"$f":"PUANTAJ!B75","v":" "},{"$f":"PUANTAJ!C75","v":0}]
[{"$f":"PUANTAJ!A76","v":0},{"$f":"PUANTAJ!B76","v":0},{"$f":"PUANTAJ!C76","v":0}]
[{"$f":"PUANTAJ!#REF!","v":{"$error":"#REF!"}},{"$f":"PUANTAJ!#REF!","v":{"$error":"#REF!"}},{"$f":"PUANTAJ!#REF!","v":{"$error":"#REF!"}}]
[{"$f":"PUANTAJ!#REF!","v":{"$error":"#REF!"}},{"$f":"PUANTAJ!#REF!","v":{"$error":"#REF!"}},{"$f":"PUANTAJ!#REF!","v":{"$error":"#REF!"}}]
[{"$f":"PUANTAJ!#REF!","v":{"$error":"#REF!"}},{"$f":"PUANTAJ!#REF!","v":{"$error":"#REF!"}},{"$f":"PUANTAJ!#REF!","v":{"$error":"#REF!"}}]
[{"$f":"PUANTAJ!#REF!","v":{"$error":"#REF!"}},{"$f":"PUANTAJ!#REF!","v":{"$error":"#REF!"}},{"$f":"PUANTAJ!#REF!","v":{"$error":"#REF!"}}]
[{"$f":"PUANTAJ!A77","v":"AÇIKLAMA"},{"$f":"PUANTAJ!B77","v":0},{"$f":"PUANTAJ!C77","v":0}]

{"sheet":"TAKVİM","index":7,"n_rows":101,"n_cols":3,"rows_kept":101,"cut":false,"hidden":false,"merged":[]}
[]
[]
[]
[]
[{"$f":"B5","v":"2022-01-01"},"2022-01-01",{"$f":"EOMONTH(B5,0)","v":"2022-01-31"}]
[{"$f":"B6","v":"2022-02-01"},{"$f":"EDATE(B5,1)","v":"2022-02-01"},{"$f":"EOMONTH(B6,0)","v":"2022-02-28"}]
["2022-03-01",{"$f":"EDATE(B6,1)","v":"2022-03-01"},"2022-03-31"]
["2022-04-01","2022-04-01","2022-04-30"]
["2022-05-01","2022-05-01","2022-05-31"]
["2022-06-01","2022-06-01","2022-06-30"]
["2022-07-01","2022-07-01","2022-07-31"]
["2022-08-01","2022-08-01","2022-08-31"]
["2022-09-01","2022-09-01","2022-09-30"]
["2022-10-01","2022-10-01","2022-10-31"]
["2022-11-01","2022-11-01","2022-11-30"]
["2022-12-01","2022-12-01","2022-12-31"]
["2023-01-01","2023-01-01","2023-01-31"]
["2023-02-01","2023-02-01","2023-02-28"]
["2023-03-01","2023-03-01","2023-03-31"]
["2023-04-01","2023-04-01","2023-04-30"]
["2023-05-01","2023-05-01","2023-05-31"]
["2023-06-01","2023-06-01","2023-06-30"]
["2023-07-01","2023-07-01","2023-07-31"]
["2023-08-01","2023-08-01","2023-08-31"]
["2023-09-01","2023-09-01","2023-09-30"]
["2023-10-01","2023-10-01","2023-10-31"]
["2023-11-01","2023-11-01","2023-11-30"]
["2023-12-01","2023-12-01","2023-12-31"]
["2024-01-01","2024-01-01","2024-01-31"]
["2024-02-01","2024-02-01","2024-02-29"]
["2024-03-01","2024-03-01","2024-03-31"]
["2024-04-01","2024-04-01","2024-04-30"]
["2024-05-01","2024-05-01","2024-05-31"]
["2024-06-01","2024-06-01","2024-06-30"]
["2024-07-01","2024-07-01","2024-07-31"]
["2024-08-01","2024-08-01","2024-08-31"]
["2024-09-01","2024-09-01","2024-09-30"]
["2024-10-01","2024-10-01","2024-10-31"]
["2024-11-01","2024-11-01","2024-11-30"]
["2024-12-01","2024-12-01","2024-12-31"]
["2025-01-01",{"$f":"EDATE(B40,1)","v":"2025-01-01"},"2025-01-31"]
["2025-02-01","2025-02-01","2025-02-28"]
["2025-03-01","2025-03-01","2025-03-31"]
["2025-04-01","2025-04-01","2025-04-30"]
["2025-05-01","2025-05-01","2025-05-31"]
["2025-06-01","2025-06-01","2025-06-30"]
["2025-07-01","2025-07-01","2025-07-31"]
["2025-08-01","2025-08-01","2025-08-31"]
["2025-09-01","2025-09-01","2025-09-30"]
["2025-10-01","2025-10-01","2025-10-31"]
["2025-11-01","2025-11-01","2025-11-30"]
["2025-12-01","2025-12-01","2025-12-31"]
[{"$f":"B53","v":"2021-12-15"},"2021-12-15","2022-01-14"]
[{"$f":"B54","v":"2022-01-15"},"2022-01-15","2022-02-14"]
["2022-02-15","2022-02-15","2022-03-14"]
["2022-03-15","2022-03-15","2022-04-14"]
["2022-04-15","2022-04-15","2022-05-14"]
["2022-05-15","2022-05-15","2022-06-14"]
["2022-06-15","2022-06-15","2022-07-14"]
["2022-07-15","2022-07-15","2022-08-14"]
["2022-08-15","2022-08-15","2022-09-14"]
["2022-09-15","2022-09-15","2022-10-14"]
["2022-10-15","2022-10-15","2022-11-14"]
["2022-11-15","2022-11-15","2022-12-14"]
["2022-12-15","2022-12-15","2023-01-14"]
["2023-01-15","2023-01-15","2023-02-14"]
["2023-02-15","2023-02-15","2023-03-14"]
["2023-03-15","2023-03-15","2023-04-14"]
["2023-04-15","2023-04-15","2023-05-14"]
["2023-05-15","2023-05-15","2023-06-14"]
["2023-06-15","2023-06-15","2023-07-14"]
["2023-07-15","2023-07-15","2023-08-14"]
["2023-08-15","2023-08-15","2023-09-14"]
["2023-09-15","2023-09-15","2023-10-14"]
["2023-10-15","2023-10-15","2023-11-14"]
["2023-11-15","2023-11-15","2023-12-14"]
["2023-12-15","2023-12-15","2024-01-14"]
["2024-01-15","2024-01-15","2024-02-14"]
["2024-02-15","2024-02-15","2024-03-14"]
["2024-03-15","2024-03-15","2024-04-14"]
["2024-04-15","2024-04-15","2024-05-14"]
["2024-05-15","2024-05-15","2024-06-14"]
["2024-06-15","2024-06-15","2024-07-14"]
["2024-07-15","2024-07-15","2024-08-14"]
["2024-08-15","2024-08-15","2024-09-14"]
["2024-09-15","2024-09-15","2024-10-14"]
["2024-10-15","2024-10-15","2024-11-14"]
["2024-11-15","2024-11-15","2024-12-14"]
["2024-12-15","2024-12-15","2025-01-14"]
["2025-01-15","2025-01-15","2025-02-14"]
["2025-02-15","2025-02-15","2025-03-14"]
["2025-03-15","2025-03-15","2025-04-14"]
["2025-04-15","2025-04-15","2025-05-14"]
["2025-05-15","2025-05-15","2025-06-14"]
["2025-06-15","2025-06-15","2025-07-14"]
["2025-07-15","2025-07-15","2025-08-14"]
["2025-08-15","2025-08-15","2025-09-14"]
["2025-09-15","2025-09-15","2025-10-14"]
["2025-10-15","2025-10-15","2025-11-14"]
["2025-11-15","2025-11-15","2025-12-14"]
["2025-12-15","2025-12-15","2026-01-14"]

{"sheet":" BORDRO HAZIRLIK","index":8,"n_rows":47,"n_cols":60,"rows_kept":47,"cut":false,"hidden":false,"merged":[[1,43,1,51],[1,3,1,6],[2,39,3,39],[2,37,3,37],[2,9,3,10],[2,11,3,12],[2,13,3,14],[2,34,3,34],[2,15,3,16],[2,40,2,56],[2,36,3,36],[2,5,3,5],[2,6,3,6],[2,7,3,7],[2,8,3,8],[2,20,3,20],[2,17,3,17],[2,30,3,30],[2,28,3,28],[2,33,3,33],[2,38,3,38],[46,0,46,2],[43,0,43,2],[44,0,44,2],[45,0,45,2],[2,4,3,4],[39,0,39,4],[2,0,2,1],[2,3,3,3],[43,60,43,62],[46,35,46,37],[40,50,40,56],[44,35,44,37],[45,35,45,37],[41,50,41,51],[41,52,41,53],[41,55,41,56],[43,54,43,59],[44,54,44,59],[45,54,45,59],[46,54,46,59],[0,0,0,59],[1,7,1,41],[1,56,1,59],[2,57,3,57],[2,59,3,59],[2,32,3,32],[2,21,3,21],[2,26,3,26],[2,19,3,19],[2,18,3,18],[2,27,3,27],[2,29,3,29],[2,31,3,31],[1,0,1,2],[2,35,3,35],[2,58,3,58]]}
[{"$f":"'PERSONEL BİLGİ GİRİŞİ'!A1","v":"AİLE VE SOSYAL HİZMETLER İL MÜDÜRLÜĞÜ"}]
[{"$f":"PUANTAJ!AI2","v":"2024-01-01"},null,null,"ANA SAYFA",null,null,null,"B O R D R O   H A Z I R L I K",null,null,null,null,null,null,null,null,null,null,null,null,null,null,null,null,null,null,null,null,null,null,null,null,null,null,null,null,null,null,null,null,null,null,"EK BORDRO","ANA SAYFA",null,null,null,null,null,null,null,null,null,null,null,"ANA SAYFA",{"$f":"PUANTAJ!AI2","v":"2024-01-01"}]
[null,null,null,"GÜNLÜK              BRÜT\n ÜCRET","GÜNLÜK              NET\n ÜCRET","HAM         ÜCRET","ÇALIŞMA SAATİ GÜNDÜZ","SİGORTA GÜN SAYISI","ÇALIŞMA GÜNÜ","\n\nGÜNDÜZ \nÇALIŞMASI  \n\n\n  SAAT  /  BRÜT ÜCRET",null,"\n\nGECE \nÇALIŞMASI\n\n  \n SAAT   /  BRÜT ÜCRET",null,"\n\nHAFTA SONU\n ÇALIŞMASI\n\n     \n  SAAT  /  BRÜT ÜCRET",null,"\nHİZMET DESTEK GÖREVİ\nEKDERS ÖDEMESİ\n    \n \n SAAT  /  BRÜT ÜCRET",null,"DOĞUM\nYARDIMI","ÇOCUK","YOL      ÜCRETİ (GÜNLÜK)","YEMEK ÜCRETİ (GÜNLÜK)",null,null,null,null,null,"FAZLA        MESAİ","ASKERLİK","BAYRAM","EVLENME","İSTİSNA\nASGARİ ÜCRET \nKÜMÜLATİF\nVERGİ MATRAHI","SÜREGELEN\nASGARİ ÜCRET \nKÜMÜLATİF\nVERGİ MATRAHI","İSTİSNA\nASGARİ ÜCRET \nGELİR VERGİSİ","İSTİSNA\nASGARİ ÜCRET \nDAMGA VERGİSİ","TOPLAM SAAT","BRÜT     TOPLAM ÜCRET","VERGİ MATRAHI","ÖDEMEYE \nESAS \nGELİR\n VERGİSİ","ÖDEMEYE \nESAS \nDAMGA\n VERGİSİ","SÜREGELEN VERGİ MATRAHI","K   E   S   İ   N   T   İ   L   E   R",null,null,null,null,null,null,null,null,null,null,null,null,null,null,null,null,"AGİ","ÖDENECEK ÜCRET","NET                         ÖDECEK                  (ELE GEÇEN) ÜCRET"]
["SIRA NO","AD-SOYAD","TC. \nKİMLİK NO",null,null,null,null,null,null,null,null,null,null,null,null,null,null,null,null,null,null,null,null,null,null,null,null,null,null,null,null,null,null,null,null,null,null,null,null,null,"GELİR                   VERGİSİ","DAMGA                 VERGİSİ","SGK               MATRAHI","SGK          ASGARİ ÜCRET  İŞVEREN FARKI\nMALÜULUK","SGK          ASGARİ ÜCRET  İŞVEREN FARKI","SGK          ASGARİ ÜCRET  İŞVEREN FARKI","SGK          ASGARİ ÜCRET  İŞVEREN FARKI","SGK          ASGARİ ÜCRET  İŞVEREN FARKI","SGK          ASGARİ ÜCRET  İŞVEREN FARKI","SGK          ASGARİ ÜCRET  İŞVEREN FARKI\nGSS","MALULUK YAŞLILIK (İŞVEREN-İŞÇİ)\n%11","MALULUK YAŞLILIK (İŞTİRAKÇİ-İŞÇİ)                 %9","G.S.S.  (İŞTİRAKÇİ İŞÇİ)\n%5","G.S.S.  (İŞVEREN İŞÇİ)\n%7.5","KISA VAADELİ SİGORTA KOLLARI PİRİMİ\n%2","İŞSİZLİK SİGORTASI PİRİMİ- İŞVEREN            %2","İŞSİZLİK SİGORTASI PİRİMİ- İŞÇİ             %1  "]
[{"$f":"PUANTAJ!A7","v":1},{"$f":"PUANTAJ!B7","v":"ALİ BZC "},{"$f":"'PERSONEL BİLGİ GİRİŞİ'!H5","v":0},{"$f":"'PERSONEL BİLGİ GİRİŞİ'!P5","v":582.32000000000005},{"$f":"((D5-(D5*15/100))-((D5-(D5*15/100))*15/100))-(D5*0.00759)","v":416.31},{"$f":"'PERSONEL BİLGİ GİRİŞİ'!Q5","v":17469.599999999999},{"$f":"PUANTAJ!AI7","v":164},{"$f":"PUANTAJ!AU7","v":30},{"$f":"PUANTAJ!AT7-PUANTAJ!AP7","v":23},{"$f":"PUANTAJ!AI7","v":164},{"$f":"('PERSONEL BİLGİ GİRİŞİ'!R5*(PUANTAJ!AI7))","v":17469.28},{"$f":"PUANTAJ!AJ7","v":0},{"$f":"('PERSONEL BİLGİ GİRİŞİ'!U5*PUANTAJ!AJ7)","v":0},{"$f":"PUANTAJ!AK7","v":0},{"$f":"('PERSONEL BİLGİ GİRİŞİ'!U5*(PUANTAJ!AK7))","v":0},{"$f":"PUANTAJ!AL7","v":41},{"$f":"('PERSONEL BİLGİ GİRİŞİ'!R5*(P5))","v":4367.32},{"$f":"IF('PERSONEL BİLGİ GİRİŞİ'!AV5=\"YOK\",0,IF('PERSONEL BİLGİ GİRİŞİ'!AS5=\"VAR\",('ANA SAYFA'!$T$11),(0)))","v":0},{"$f":"('PERSONEL BİLGİ GİRİŞİ'!U5+'PERSONEL BİLGİ GİRİŞİ'!V5)*'ANA SAYFA'!$Q$9","v":0},{"$f":"IF('PERSONEL BİLGİ GİRİŞİ'!AV5=\"YOK\",0,'PERSONEL BİLGİ GİRİŞİ'!AE5*G5)","v":13859355},{"$f":"IF('PERSONEL BİLGİ GİRİŞİ'!AV5=\"YOK\",0,'PERSONEL BİLGİ GİRİŞİ'!AF5*G5)","v":13980632.640000001},null,null,null,null,null,{"$f":"IF(PUANTAJ!AX7>0,D5*1.6/7.5*PUANTAJ!AX7,0)","v":0},{"$f":"IF('PERSONEL BİLGİ GİRİŞİ'!AU5=\"YOK\",0,IF('PERSONEL BİLGİ GİRİŞİ'!AK5=\"VAR\",('ANA SAYFA'!$Q$17),(0)))","v":0},{"$f":"IF('PERSONEL BİLGİ GİRİŞİ'!AV5=\"YOK\",0,IF('PERSONEL BİLGİ GİRİŞİ'!AN5=\"VAR\",('ANA SAYFA'!$T$10),(0)))","v":0},{"$f":"IF('PERSONEL BİLGİ GİRİŞİ'!AV5=\"YOK\",0,IF('PERSONEL BİLGİ GİRİŞİ'!AR5=\"VAR\",('ANA SAYFA'!$T$13),(0)))","v":0},{"$f":"IF(I5=0,0,'ANA SAYFA'!$J$16)","v":17002.12},{"$f":"'Vergi Matrahları'!E4","v":17002.12},{"$f":"IF(AF5<='ANA SAYFA'!$P$19,AE5*15%,IF(AF5<='ANA SAYFA'!$Q$19,((AE5-(AF5-'ANA SAYFA'!$P$19))*15%)+(AF5-'ANA SAYFA'!$P$19)*20%,IF(AF5<='ANA SAYFA'!$P$20,AE5*20%,IF(AF5<=('ANA SAYFA'!$R$20),((AE5-(AF5-'ANA SAYFA'!$P$20))*20%)+(AF5-'ANA SAYFA'!$P$20)*27%,IF(AF5<='ANA SAYFA'!$P$21,AE5*27%)))))-'ek bordro'!K4","v":2550.3200000000002},{"$f":"IF(I5=0,0,('ANA SAYFA'!$J$15)*0.00759)-'ek bordro'!L4","v":151.82},{"$f":"PUANTAJ!AM7","v":205},{"$f":"K5+M5+O5+Q5+'PERSONEL BİLGİ GİRİŞİ'!V5-'PERSONEL BİLGİ GİRİŞİ'!X5+'ek bordro'!D4","v":21836.6},{"$f":"AJ5-AZ5-BA5+'ek bordro'!E4-'PERSONEL BİLGİ GİRİŞİ'!AY5","v":18779.48},{"$f":"IF(AN5<='ANA SAYFA'!$P$19,AK5*15%,IF(AN5<='ANA SAYFA'!$Q$19,((AK5-(AN5-'ANA SAYFA'!$P$19))*15%)+(AN5-'ANA SAYFA'!$P$19)*20%,IF(AN5<='ANA SAYFA'!$P$20,AK5*20%,IF(AN5<=('ANA SAYFA'!$Q$20),((AK5-(AN5-'ANA SAYFA'!$P$20))*20%)+(AN5-'ANA SAYFA'!$P$20)*27%,IF(AN5<='ANA SAYFA'!$P$21,AK5*27%)))))","v":2816.92},{"$f":"AJ5*0.00759","v":165.74},{"$f":"'Vergi Matrahları'!D4","v":18779.48},{"$f":"IF((AL5-AG5)<=0,0,AL5-AG5+'ek bordro'!G4)","v":266.60000000000002},{"$f":"IF(AJ5<='ANA SAYFA'!$J$15,0,AM5-AH5+'ek bordro'!H4)","v":13.92},{"$f":"IF(A5=\"\",0,IF((PUANTAJ!AV7+PUANTAJ!AR7)>1,' BORDRO HAZIRLIK'!AJ5,IF(AND(PUANTAJ!AV7=0,PUANTAJ!AM7<=140),'ANA SAYFA'!$J$15,IF(AND(COUNTA(PUANTAJ!D7:AH7)>=28,(AJ5<'ANA SAYFA'!$J$15)),'ANA SAYFA'!$J$15,AJ5))))+'ek bordro'!I4","v":21836.6},{"$f":"IF(AQ5='ANA SAYFA'!$J$15,('ANA SAYFA'!$J$15*9/100)-(AJ5*9/100),(0))","v":0},{"$f":"ROUND(IF('PERSONEL BİLGİ GİRİŞİ'!AM5=\"VAR\",(AJ5*3/100),(0)),0)","v":0},{"$f":"ROUND(IF('PERSONEL BİLGİ GİRİŞİ'!AO5=\"VAR\",(BG5/4),(0)),2)","v":0},{"$f":"IF(NAFAKA!F5>1,NAFAKA!F5,IF('PERSONEL BİLGİ GİRİŞİ'!AT5=\"VAR\",(BG5/4),(0)))","v":0},{"$f":"ROUND(IF('PERSONEL BİLGİ GİRİŞİ'!BE5=\"VAR\",(((100*'ANA SAYFA'!$H$15))),(0)),2)","v":0},{"$f":"ROUND(IF('PERSONEL BİLGİ GİRİŞİ'!BD5=\"VAR\",((1500*'ANA SAYFA'!$H$15/4)),(0)),2)","v":0},{"$f":"IF(AQ5='ANA SAYFA'!$J$15,('ANA SAYFA'!$J$15*5/100)-(AJ5*5/100),(0))","v":0},{"$f":"IF(AQ5='ANA SAYFA'!$J$15,'ANA SAYFA'!$J$15*11/100+(AR5),(AQ5*11/100)+IF(AJ5>1,'Ödeme Emri'!$E$34,(0)))+'Ödeme Emri'!$L$37","v":2402.0360000000001},{"$f":"AJ5*9/100","v":1965.29},{"$f":"AJ5*5/100","v":1091.83},{"$f":"IF(AQ5='ANA SAYFA'!$J$15,AQ5*7.5/100+(AX5),AJ5*7.5/100)","v":1637.75},{"$f":"AQ5*2/100","v":436.73},null,null,{"$f":"IF(AO5>='PERSONEL BİLGİ GİRİŞİ'!AA5,'PERSONEL BİLGİ GİRİŞİ'!AA5,IF('PERSONEL BİLGİ GİRİŞİ'!AA5,AO5))","v":0},{"$f":"AJ5-AO5-AP5-AV5-AW5-AZ5-BA5-BE5","v":18498.96},{"$f":"ROUND(BG5-AS5-AT5-AU5+BF5,2)","v":18498.96}]
[{"$f":"PUANTAJ!A9","v":""},{"$f":"PUANTAJ!B9","v":" "},{"$f":"'PERSONEL BİLGİ GİRİŞİ'!H6","v":0},{"$f":"'PERSONEL BİLGİ GİRİŞİ'!P7","v":0},{"$f":"((D6-(D6*15/100))-((D6-(D6*15/100))*15/100))-(D6*0.00759)","v":0},{"$f":"'PERSONEL BİLGİ GİRİŞİ'!Q6","v":0},{"$f":"PUANTAJ!AI9","v":0},{"$f":"PUANTAJ!AU9","v":0},{"$f":"PUANTAJ!AT9-PUANTAJ!AP9","v":0},{"$f":"PUANTAJ!AI9","v":0},{"$f":"('PERSONEL BİLGİ GİRİŞİ'!R6*(PUANTAJ!AI9))","v":0},{"$f":"PUANTAJ!AJ9","v":0},{"$f":"('PERSONEL BİLGİ GİRİŞİ'!U6*PUANTAJ!AJ9)","v":0},{"$f":"PUANTAJ!AK9","v":0},{"$f":"('PERSONEL BİLGİ GİRİŞİ'!U6*(PUANTAJ!AK9))","v":0},{"$f":"PUANTAJ!AL9","v":0},{"$f":"('PERSONEL BİLGİ GİRİŞİ'!R6*(P6))","v":0},{"$f":"IF('PERSONEL BİLGİ GİRİŞİ'!AV7=\"YOK\",0,IF('PERSONEL BİLGİ GİRİŞİ'!AS7=\"VAR\",('ANA SAYFA'!$T$11),(0)))","v":0},{"$f":"('PERSONEL BİLGİ GİRİŞİ'!U7+'PERSONEL BİLGİ GİRİŞİ'!V7)*'ANA SAYFA'!$Q$9","v":0},{"$f":"IF('PERSONEL BİLGİ GİRİŞİ'!AV7=\"YOK\",0,'PERSONEL BİLGİ GİRİŞİ'!AE7*G6)","v":0},{"$f":"IF('PERSONEL BİLGİ GİRİŞİ'!AV7=\"YOK\",0,'PERSONEL BİLGİ GİRİŞİ'!AF7*G6)","v":0},null,null,null,null,null,{"$f":"IF(PUANTAJ!AX9>0,D6*1.6/7.5*PUANTAJ!AX9,0)","v":0},{"$f":"IF('PERSONEL BİLGİ GİRİŞİ'!AU7=\"YOK\",0,IF('PERSONEL BİLGİ GİRİŞİ'!AK7=\"VAR\",('ANA SAYFA'!$Q$17),(0)))","v":0},{"$f":"IF('PERSONEL BİLGİ GİRİŞİ'!AV7=\"YOK\",0,IF('PERSONEL BİLGİ GİRİŞİ'!AN7=\"VAR\",('ANA SAYFA'!$T$10),(0)))","v":0},{"$f":"IF('PERSONEL BİLGİ GİRİŞİ'!AV7=\"YOK\",0,IF('PERSONEL BİLGİ GİRİŞİ'!AR7=\"VAR\",('ANA SAYFA'!$T$13),(0)))","v":0},{"$f":"IF(I6=0,0,'ANA SAYFA'!$J$16)","v":0},{"$f":"'Vergi Matrahları'!E5","v":0},{"$f":"IF(AF6<='ANA SAYFA'!$P$19,AE6*15%,IF(AF6<='ANA SAYFA'!$Q$19,((AE6-(AF6-'ANA SAYFA'!$P$19))*15%)+(AF6-'ANA SAYFA'!$P$19)*20%,IF(AF6<='ANA SAYFA'!$P$20,AE6*20%,IF(AF6<=('ANA SAYFA'!$R$20),((AE6-(AF6-'ANA SAYFA'!$P$20))*20%)+(AF6-'ANA SAYFA'!$P$20)*27%,IF(AF6<='ANA SAYFA'!$P$21,AE6*27%)))))-'ek bordro'!K5","v":0},{"$f":"IF(I6=0,0,('ANA SAYFA'!$J$15)*0.00759)-'ek bordro'!L5","v":0},{"$f":"PUANTAJ!AM9","v":0},{"$f":"K6+M6+O6+Q6+'PERSONEL BİLGİ GİRİŞİ'!V6-'PERSONEL BİLGİ GİRİŞİ'!X6+'ek bordro'!D5","v":0},{"$f":"AJ6-AZ6-BA6+'ek bordro'!E5-'PERSONEL BİLGİ GİRİŞİ'!AY6","v":0},{"$f":"IF(AN6<='ANA SAYFA'!$P$19,AK6*15%,IF(AN6<='ANA SAYFA'!$Q$19,((AK6-(AN6-'ANA SAYFA'!$P$19))*15%)+(AN6-'ANA SAYFA'!$P$19)*20%,IF(AN6<='ANA SAYFA'!$P$20,AK6*20%,IF(AN6<=('ANA SAYFA'!$Q$20),((AK6-(AN6-'ANA SAYFA'!$P$20))*20%)+(AN6-'ANA SAYFA'!$P$20)*27%,IF(AN6<='ANA SAYFA'!$P$21,AK6*27%)))))","v":0},{"$f":"AJ6*0.00759","v":0},{"$f":"'Vergi Matrahları'!D5","v":0},{"$f":"IF((AL6-AG6)<=0,0,AL6-AG6+'ek bordro'!G5)","v":0},{"$f":"IF(AJ6<='ANA SAYFA'!$J$15,0,AM6-AH6+'ek bordro'!H5)","v":0},{"$f":"IF(A6=\"\",0,IF((PUANTAJ!AV9+PUANTAJ!AR9)>1,' BORDRO HAZIRLIK'!AJ6,IF(AND(PUANTAJ!AV9=0,PUANTAJ!AM9<=140),'ANA SAYFA'!$J$15,IF(AND(COUNTA(PUANTAJ!D9:AH9)>=28,(AJ6<'ANA SAYFA'!$J$15)),'ANA SAYFA'!$J$15,AJ6))))+'ek bordro'!I6","v":0},{"$f":"IF(AQ6='ANA SAYFA'!$J$15,('ANA SAYFA'!$J$15*9/100)-(AJ6*9/100),(0))","v":0},{"$f":"ROUND(IF('PERSONEL BİLGİ GİRİŞİ'!AM6=\"VAR\",(AJ6*3/100),(0)),0)","v":0},{"$f":"ROUND(IF('PERSONEL BİLGİ GİRİŞİ'!AO6=\"VAR\",(BG6/4),(0)),2)","v":0},{"$f":"IF(NAFAKA!F6>1,NAFAKA!F6,IF('PERSONEL BİLGİ GİRİŞİ'!AT6=\"VAR\",(BG6/4),(0)))","v":0},{"$f":"ROUND(IF('PERSONEL BİLGİ GİRİŞİ'!BE6=\"VAR\",(((100*'ANA SAYFA'!$H$15))),(0)),2)","v":0},{"$f":"ROUND(IF('PERSONEL BİLGİ GİRİŞİ'!BD6=\"VAR\",((1500*'ANA SAYFA'!$H$15/4)),(0)),2)","v":0},{"$f":"IF(AQ6='ANA SAYFA'!$J$15,('ANA SAYFA'!$J$15*5/100)-(AJ6*5/100),(0))","v":0},{"$f":"IF(AQ6='ANA SAYFA'!$J$15,'ANA SAYFA'!$J$15*11/100+(AR6),(AQ6*11/100)+IF(AJ6>1,'Ödeme Emri'!$E$34,(0)))+'Ödeme Emri'!$L$37","v":0},{"$f":"AJ6*9/100","v":0},{"$f":"AJ6*5/100","v":0},{"$f":"IF(AQ6='ANA SAYFA'!$J$15,AQ6*7.5/100+(AX6),AJ6*7.5/100)","v":0},{"$f":"AQ6*2/100","v":0},null,null,{"$f":"IF(AO6>='PERSONEL BİLGİ GİRİŞİ'!AA7,'PERSONEL BİLGİ GİRİŞİ'!AA7,IF('PERSONEL BİLGİ GİRİŞİ'!AA7,AO6))","v":0},{"$f":"AJ6-AO6-AP6-AV6-AW6-AZ6-BA6-BE6","v":0},{"$f":"ROUND(BG6-AS6-AT6-AU6+BF6,2)","v":0}]
[{"$f":"PUANTAJ!A11","v":""},{"$f":"PUANTAJ!B11","v":" "},{"$f":"'PERSONEL BİLGİ GİRİŞİ'!H7","v":0},{"$f":"'PERSONEL BİLGİ GİRİŞİ'!P9","v":0},0,{"$f":"'PERSONEL BİLGİ GİRİŞİ'!Q7","v":0},{"$f":"PUANTAJ!AI11","v":0},{"$f":"PUANTAJ!AU11","v":0},{"$f":"PUANTAJ!AT11-PUANTAJ!AP11","v":0},{"$f":"PUANTAJ!AI11","v":0},{"$f":"('PERSONEL BİLGİ GİRİŞİ'!R7*(PUANTAJ!AI11))","v":0},{"$f":"PUANTAJ!AJ11","v":0},{"$f":"('PERSONEL BİLGİ GİRİŞİ'!U7*PUANTAJ!AJ11)","v":0},{"$f":"PUANTAJ!AK11","v":0},{"$f":"('PERSONEL BİLGİ GİRİŞİ'!U7*(PUANTAJ!AK11))","v":0},{"$f":"PUANTAJ!AL11","v":0},{"$f":"('PERSONEL BİLGİ GİRİŞİ'!R7*(P7))","v":0},{"$f":"IF('PERSONEL BİLGİ GİRİŞİ'!AV9=\"YOK\",0,IF('PERSONEL BİLGİ GİRİŞİ'!AS9=\"VAR\",('ANA SAYFA'!$T$11),(0)))","v":0},{"$f":"('PERSONEL BİLGİ GİRİŞİ'!U9+'PERSONEL BİLGİ GİRİŞİ'!V9)*'ANA SAYFA'!$Q$9","v":0},{"$f":"IF('PERSONEL BİLGİ GİRİŞİ'!AV9=\"YOK\",0,'PERSONEL BİLGİ GİRİŞİ'!AE9*G7)","v":0},{"$f":"IF('PERSONEL BİLGİ GİRİŞİ'!AV9=\"YOK\",0,'PERSONEL BİLGİ GİRİŞİ'!AF9*G7)","v":0},null,null,null,null,null,{"$f":"IF(PUANTAJ!AX11>0,D7*1.6/7.5*PUANTAJ!AX11,0)","v":0},{"$f":"IF('PERSONEL BİLGİ GİRİŞİ'!AU9=\"YOK\",0,IF('PERSONEL BİLGİ GİRİŞİ'!AK9=\"VAR\",('ANA SAYFA'!$Q$17),(0)))","v":0},{"$f":"IF('PERSONEL BİLGİ GİRİŞİ'!AV9=\"YOK\",0,IF('PERSONEL BİLGİ GİRİŞİ'!AN9=\"VAR\",('ANA SAYFA'!$T$10),(0)))","v":0},{"$f":"IF('PERSONEL BİLGİ GİRİŞİ'!AV9=\"YOK\",0,IF('PERSONEL BİLGİ GİRİŞİ'!AR9=\"VAR\",('ANA SAYFA'!$T$13),(0)))","v":0},{"$f":"IF(I7=0,0,'ANA SAYFA'!$J$16)","v":0},{"$f":"'Vergi Matrahları'!E6","v":0},{"$f":"IF(AF7<='ANA SAYFA'!$P$19,AE7*15%,IF(AF7<='ANA SAYFA'!$Q$19,((AE7-(AF7-'ANA SAYFA'!$P$19))*15%)+(AF7-'ANA SAYFA'!$P$19)*20%,IF(AF7<='ANA SAYFA'!$P$20,AE7*20%,IF(AF7<=('ANA SAYFA'!$R$20),((AE7-(AF7-'ANA SAYFA'!$P$20))*20%)+(AF7-'ANA SAYFA'!$P$20)*27%,IF(AF7<='ANA SAYFA'!$P$21,AE7*27%)))))-'ek bordro'!K6","v":0},{"$f":"IF(I7=0,0,('ANA SAYFA'!$J$15)*0.00759)-'ek bordro'!L6","v":0},{"$f":"PUANTAJ!AM11","v":0},{"$f":"K7+M7+O7+Q7+'PERSONEL BİLGİ GİRİŞİ'!V7-'PERSONEL BİLGİ GİRİŞİ'!X7+'ek bordro'!D6","v":0},{"$f":"AJ7-AZ7-BA7+'ek bordro'!E6-'PERSONEL BİLGİ GİRİŞİ'!AY7","v":0},{"$f":"IF(AN7<='ANA SAYFA'!$P$19,AK7*15%,IF(AN7<='ANA SAYFA'!$Q$19,((AK7-(AN7-'ANA SAYFA'!$P$19))*15%)+(AN7-'ANA SAYFA'!$P$19)*20%,IF(AN7<='ANA SAYFA'!$P$20,AK7*20%,IF(AN7<=('ANA SAYFA'!$Q$20),((AK7-(AN7-'ANA SAYFA'!$P$20))*20%)+(AN7-'ANA SAYFA'!$P$20)*27%,IF(AN7<='ANA SAYFA'!$P$21,AK7*27%)))))","v":0},0,{"$f":"'Vergi Matrahları'!D6","v":0},{"$f":"IF((AL7-AG7)<=0,0,AL7-AG7+'ek bordro'!G6)","v":0},{"$f":"IF(AJ7<='ANA SAYFA'!$J$15,0,AM7-AH7+'ek bordro'!H6)","v":0},{"$f":"IF(A7=\"\",0,IF((PUANTAJ!AV11+PUANTAJ!AR11)>1,' BORDRO HAZIRLIK'!AJ7,IF(AND(PUANTAJ!AV11=0,PUANTAJ!AM11<=140),'ANA SAYFA'!$J$15,IF(AND(COUNTA(PUANTAJ!D11:AH11)>=28,(AJ7<'ANA SAYFA'!$J$15)),'ANA SAYFA'!$J$15,AJ7))))+'ek bordro'!I8","v":0},{"$f":"IF(AQ7='ANA SAYFA'!$J$15,('ANA SAYFA'!$J$15*9/100)-(AJ7*9/100),(0))","v":0},{"$f":"ROUND(IF('PERSONEL BİLGİ GİRİŞİ'!AM7=\"VAR\",(AJ7*3/100),(0)),0)","v":0},{"$f":"ROUND(IF('PERSONEL BİLGİ GİRİŞİ'!AO7=\"VAR\",(BG7/4),(0)),2)","v":0},{"$f":"IF(NAFAKA!F7>1,NAFAKA!F7,IF('PERSONEL BİLGİ GİRİŞİ'!AT7=\"VAR\",(BG7/4),(0)))","v":0},{"$f":"ROUND(IF('PERSONEL BİLGİ GİRİŞİ'!BE7=\"VAR\",(((100*'ANA SAYFA'!$H$15))),(0)),2)","v":0},{"$f":"ROUND(IF('PERSONEL BİLGİ GİRİŞİ'!BD7=\"VAR\",((1500*'ANA SAYFA'!$H$15/4)),(0)),2)","v":0},{"$f":"IF(AQ7='ANA SAYFA'!$J$15,('ANA SAYFA'!$J$15*5/100)-(AJ7*5/100),(0))","v":0},{"$f":"IF(AQ7='ANA SAYFA'!$J$15,'ANA SAYFA'!$J$15*11/100+(AR7),(AQ7*11/100)+IF(AJ7>1,'Ödeme Emri'!$E$34,(0)))+'Ödeme Emri'!$L$37","v":0},0,0,{"$f":"IF(AQ7='ANA SAYFA'!$J$15,AQ7*7.5/100+(AX7),AJ7*7.5/100)","v":0},0,null,null,{"$f":"IF(AO7>='PERSONEL BİLGİ GİRİŞİ'!AA9,'PERSONEL BİLGİ GİRİŞİ'!AA9,IF('PERSONEL BİLGİ GİRİŞİ'!AA9,AO7))","v":0},0,0]
[{"$f":"PUANTAJ!A13","v":""},{"$f":"PUANTAJ!B13","v":" "},{"$f":"'PERSONEL BİLGİ GİRİŞİ'!H8","v":0},{"$f":"'PERSONEL BİLGİ GİRİŞİ'!P11","v":0},0,{"$f":"'PERSONEL BİLGİ GİRİŞİ'!Q8","v":0},{"$f":"PUANTAJ!AI13","v":0},{"$f":"PUANTAJ!AU13","v":0},{"$f":"PUANTAJ!AT13-PUANTAJ!AP13","v":0},{"$f":"PUANTAJ!AI13","v":0},{"$f":"('PERSONEL BİLGİ GİRİŞİ'!R8*(PUANTAJ!AI13))","v":0},{"$f":"PUANTAJ!AJ13","v":0},{"$f":"('PERSONEL BİLGİ GİRİŞİ'!U8*PUANTAJ!AJ13)","v":0},{"$f":"PUANTAJ!AK13","v":0},{"$f":"('PERSONEL BİLGİ GİRİŞİ'!U8*(PUANTAJ!AK13))","v":0},{"$f":"PUANTAJ!AL13","v":0},{"$f":"('PERSONEL BİLGİ GİRİŞİ'!R8*(P8))","v":0},{"$f":"IF('PERSONEL BİLGİ GİRİŞİ'!AV11=\"YOK\",0,IF('PERSONEL BİLGİ GİRİŞİ'!AS11=\"VAR\",('ANA SAYFA'!$T$11),(0)))","v":0},{"$f":"('PERSONEL BİLGİ GİRİŞİ'!U11+'PERSONEL BİLGİ GİRİŞİ'!V11)*'ANA SAYFA'!$Q$9","v":0},{"$f":"IF('PERSONEL BİLGİ GİRİŞİ'!AV11=\"YOK\",0,'PERSONEL BİLGİ GİRİŞİ'!AE11*G8)","v":0},{"$f":"IF('PERSONEL BİLGİ GİRİŞİ'!AV11=\"YOK\",0,'PERSONEL BİLGİ GİRİŞİ'!AF11*G8)","v":0},null,null,null,null,null,{"$f":"IF(PUANTAJ!AX13>0,D8*1.6/7.5*PUANTAJ!AX13,0)","v":0},{"$f":"IF('PERSONEL BİLGİ GİRİŞİ'!AU11=\"YOK\",0,IF('PERSONEL BİLGİ GİRİŞİ'!AK11=\"VAR\",('ANA SAYFA'!$Q$17),(0)))","v":0},{"$f":"IF('PERSONEL BİLGİ GİRİŞİ'!AV11=\"YOK\",0,IF('PERSONEL BİLGİ GİRİŞİ'!AN11=\"VAR\",('ANA SAYFA'!$T$10),(0)))","v":0},{"$f":"IF('PERSONEL BİLGİ GİRİŞİ'!AV11=\"YOK\",0,IF('PERSONEL BİLGİ GİRİŞİ'!AR11=\"VAR\",('ANA SAYFA'!$T$13),(0)))","v":0},{"$f":"IF(I8=0,0,'ANA SAYFA'!$J$16)","v":0},{"$f":"'Vergi Matrahları'!E7","v":0},{"$f":"IF(AF8<='ANA SAYFA'!$P$19,AE8*15%,IF(AF8<='ANA SAYFA'!$Q$19,((AE8-(AF8-'ANA SAYFA'!$P$19))*15%)+(AF8-'ANA SAYFA'!$P$19)*20%,IF(AF8<='ANA SAYFA'!$P$20,AE8*20%,IF(AF8<=('ANA SAYFA'!$R$20),((AE8-(AF8-'ANA SAYFA'!$P$20))*20%)+(AF8-'ANA SAYFA'!$P$20)*27%,IF(AF8<='ANA SAYFA'!$P$21,AE8*27%)))))-'ek bordro'!K7","v":0},{"$f":"IF(I8=0,0,('ANA SAYFA'!$J$15)*0.00759)-'ek bordro'!L7","v":0},{"$f":"PUANTAJ!AM13","v":0},{"$f":"K8+M8+O8+Q8+'PERSONEL BİLGİ GİRİŞİ'!V8-'PERSONEL BİLGİ GİRİŞİ'!X8+'ek bordro'!D7","v":0},{"$f":"AJ8-AZ8-BA8+'ek bordro'!E7-'PERSONEL BİLGİ GİRİŞİ'!AY8","v":0},{"$f":"IF(AN8<='ANA SAYFA'!$P$19,AK8*15%,IF(AN8<='ANA SAYFA'!$Q$19,((AK8-(AN8-'ANA SAYFA'!$P$19))*15%)+(AN8-'ANA SAYFA'!$P$19)*20%,IF(AN8<='ANA SAYFA'!$P$20,AK8*20%,IF(AN8<=('ANA SAYFA'!$Q$20),((AK8-(AN8-'ANA SAYFA'!$P$20))*20%)+(AN8-'ANA SAYFA'!$P$20)*27%,IF(AN8<='ANA SAYFA'!$P$21,AK8*27%)))))","v":0},0,{"$f":"'Vergi Matrahları'!D7","v":0},{"$f":"IF((AL8-AG8)<=0,0,AL8-AG8+'ek bordro'!G7)","v":0},{"$f":"IF(AJ8<='ANA SAYFA'!$J$15,0,AM8-AH8+'ek bordro'!H7)","v":0},{"$f":"IF(A8=\"\",0,IF((PUANTAJ!AV13+PUANTAJ!AR13)>1,' BORDRO HAZIRLIK'!AJ8,IF(AND(PUANTAJ!AV13=0,PUANTAJ!AM13<=140),'ANA SAYFA'!$J$15,IF(AND(COUNTA(PUANTAJ!D13:AH13)>=28,(AJ8<'ANA SAYFA'!$J$15)),'ANA SAYFA'!$J$15,AJ8))))+'ek bordro'!I10","v":0},{"$f":"IF(AQ8='ANA SAYFA'!$J$15,('ANA SAYFA'!$J$15*9/100)-(AJ8*9/100),(0))","v":0},{"$f":"ROUND(IF('PERSONEL BİLGİ GİRİŞİ'!AM8=\"VAR\",(AJ8*3/100),(0)),0)","v":0},{"$f":"ROUND(IF('PERSONEL BİLGİ GİRİŞİ'!AO8=\"VAR\",(BG8/4),(0)),2)","v":0},{"$f":"IF(NAFAKA!F8>1,NAFAKA!F8,IF('PERSONEL BİLGİ GİRİŞİ'!AT8=\"VAR\",(BG8/4),(0)))","v":0},{"$f":"ROUND(IF('PERSONEL BİLGİ GİRİŞİ'!BE8=\"VAR\",(((100*'ANA SAYFA'!$H$15))),(0)),2)","v":0},{"$f":"ROUND(IF('PERSONEL BİLGİ GİRİŞİ'!BD8=\"VAR\",((1500*'ANA SAYFA'!$H$15/4)),(0)),2)","v":0},{"$f":"IF(AQ8='ANA SAYFA'!$J$15,('ANA SAYFA'!$J$15*5/100)-(AJ8*5/100),(0))","v":0},{"$f":"IF(AQ8='ANA SAYFA'!$J$15,'ANA SAYFA'!$J$15*11/100+(AR8),(AQ8*11/100)+IF(AJ8>1,'Ödeme Emri'!$E$34,(0)))+'Ödeme Emri'!$L$37","v":0},0,0,{"$f":"IF(AQ8='ANA SAYFA'!$J$15,AQ8*7.5/100+(AX8),AJ8*7.5/100)","v":0},0,null,null,{"$f":"IF(AO8>='PERSONEL BİLGİ GİRİŞİ'!AA11,'PERSONEL BİLGİ GİRİŞİ'!AA11,IF('PERSONEL BİLGİ GİRİŞİ'!AA11,AO8))","v":0},0,0]
[{"$f":"PUANTAJ!A15","v":""},{"$f":"PUANTAJ!B15","v":" "},{"$f":"'PERSONEL BİLGİ GİRİŞİ'!H9","v":0},{"$f":"'PERSONEL BİLGİ GİRİŞİ'!P13","v":0},0,{"$f":"'PERSONEL BİLGİ GİRİŞİ'!Q9","v":0},{"$f":"PUANTAJ!AI15","v":0},{"$f":"PUANTAJ!AU15","v":0},{"$f":"PUANTAJ!AT15-PUANTAJ!AP15","v":0},{"$f":"PUANTAJ!AI15","v":0},{"$f":"('PERSONEL BİLGİ GİRİŞİ'!R9*(PUANTAJ!AI15))","v":0},{"$f":"PUANTAJ!AJ15","v":0},{"$f":"('PERSONEL BİLGİ GİRİŞİ'!U9*PUANTAJ!AJ15)","v":0},{"$f":"PUANTAJ!AK15","v":0},{"$f":"('PERSONEL BİLGİ GİRİŞİ'!U9*(PUANTAJ!AK15))","v":0},{"$f":"PUANTAJ!AL15","v":0},{"$f":"('PERSONEL BİLGİ GİRİŞİ'!R9*(P9))","v":0},{"$f":"IF('PERSONEL BİLGİ GİRİŞİ'!AV13=\"YOK\",0,IF('PERSONEL BİLGİ GİRİŞİ'!AS13=\"VAR\",('ANA SAYFA'!$T$11),(0)))","v":0},{"$f":"('PERSONEL BİLGİ GİRİŞİ'!U13+'PERSONEL BİLGİ GİRİŞİ'!V13)*'ANA SAYFA'!$Q$9","v":0},{"$f":"IF('PERSONEL BİLGİ GİRİŞİ'!AV13=\"YOK\",0,'PERSONEL BİLGİ GİRİŞİ'!AE13*G9)","v":0},{"$f":"IF('PERSONEL BİLGİ GİRİŞİ'!AV13=\"YOK\",0,'PERSONEL BİLGİ GİRİŞİ'!AF13*G9)","v":0},null,null,null,null,null,{"$f":"IF(PUANTAJ!AX15>0,D9*1.6/7.5*PUANTAJ!AX15,0)","v":0},{"$f":"IF('PERSONEL BİLGİ GİRİŞİ'!AU13=\"YOK\",0,IF('PERSONEL BİLGİ GİRİŞİ'!AK13=\"VAR\",('ANA SAYFA'!$Q$17),(0)))","v":0},{"$f":"IF('PERSONEL BİLGİ GİRİŞİ'!AV13=\"YOK\",0,IF('PERSONEL BİLGİ GİRİŞİ'!AN13=\"VAR\",('ANA SAYFA'!$T$10),(0)))","v":0},{"$f":"IF('PERSONEL BİLGİ GİRİŞİ'!AV13=\"YOK\",0,IF('PERSONEL BİLGİ GİRİŞİ'!AR13=\"VAR\",('ANA SAYFA'!$T$13),(0)))","v":0},{"$f":"IF(I9=0,0,'ANA SAYFA'!$J$16)","v":0},{"$f":"'Vergi Matrahları'!E8","v":0},{"$f":"IF(AF9<='ANA SAYFA'!$P$19,AE9*15%,IF(AF9<='ANA SAYFA'!$Q$19,((AE9-(AF9-'ANA SAYFA'!$P$19))*15%)+(AF9-'ANA SAYFA'!$P$19)*20%,IF(AF9<='ANA SAYFA'!$P$20,AE9*20%,IF(AF9<=('ANA SAYFA'!$R$20),((AE9-(AF9-'ANA SAYFA'!$P$20))*20%)+(AF9-'ANA SAYFA'!$P$20)*27%,IF(AF9<='ANA SAYFA'!$P$21,AE9*27%)))))-'ek bordro'!K8","v":0},{"$f":"IF(I9=0,0,('ANA SAYFA'!$J$15)*0.00759)-'ek bordro'!L8","v":0},{"$f":"PUANTAJ!AM15","v":0},{"$f":"K9+M9+O9+Q9+'PERSONEL BİLGİ GİRİŞİ'!V9-'PERSONEL BİLGİ GİRİŞİ'!X9+'ek bordro'!D8","v":0},{"$f":"AJ9-AZ9-BA9+'ek bordro'!E8-'PERSONEL BİLGİ GİRİŞİ'!AY9","v":0},{"$f":"IF(AN9<='ANA SAYFA'!$P$19,AK9*15%,IF(AN9<='ANA SAYFA'!$Q$19,((AK9-(AN9-'ANA SAYFA'!$P$19))*15%)+(AN9-'ANA SAYFA'!$P$19)*20%,IF(AN9<='ANA SAYFA'!$P$20,AK9*20%,IF(AN9<=('ANA SAYFA'!$Q$20),((AK9-(AN9-'ANA SAYFA'!$P$20))*20%)+(AN9-'ANA SAYFA'!$P$20)*27%,IF(AN9<='ANA SAYFA'!$P$21,AK9*27%)))))","v":0},0,{"$f":"'Vergi Matrahları'!D8","v":0},{"$f":"IF((AL9-AG9)<=0,0,AL9-AG9+'ek bordro'!G8)","v":0},{"$f":"IF(AJ9<='ANA SAYFA'!$J$15,0,AM9-AH9+'ek bordro'!H8)","v":0},{"$f":"IF(A9=\"\",0,IF((PUANTAJ!AV15+PUANTAJ!AR15)>1,' BORDRO HAZIRLIK'!AJ9,IF(AND(PUANTAJ!AV15=0,PUANTAJ!AM15<=140),'ANA SAYFA'!$J$15,IF(AND(COUNTA(PUANTAJ!D15:AH15)>=28,(AJ9<'ANA SAYFA'!$J$15)),'ANA SAYFA'!$J$15,AJ9))))+'ek bordro'!I12","v":0},{"$f":"IF(AQ9='ANA SAYFA'!$J$15,('ANA SAYFA'!$J$15*9/100)-(AJ9*9/100),(0))","v":0},{"$f":"ROUND(IF('PERSONEL BİLGİ GİRİŞİ'!AM9=\"VAR\",(AJ9*3/100),(0)),0)","v":0},{"$f":"ROUND(IF('PERSONEL BİLGİ GİRİŞİ'!AO9=\"VAR\",(BG9/4),(0)),2)","v":0},{"$f":"IF(NAFAKA!F9>1,NAFAKA!F9,IF('PERSONEL BİLGİ GİRİŞİ'!AT9=\"VAR\",(BG9/4),(0)))","v":0},{"$f":"ROUND(IF('PERSONEL BİLGİ GİRİŞİ'!BE9=\"VAR\",(((100*'ANA SAYFA'!$H$15))),(0)),2)","v":0},{"$f":"ROUND(IF('PERSONEL BİLGİ GİRİŞİ'!BD9=\"VAR\",((1500*'ANA SAYFA'!$H$15/4)),(0)),2)","v":0},{"$f":"IF(AQ9='ANA SAYFA'!$J$15,('ANA SAYFA'!$J$15*5/100)-(AJ9*5/100),(0))","v":0},{"$f":"IF(AQ9='ANA SAYFA'!$J$15,'ANA SAYFA'!$J$15*11/100+(AR9),(AQ9*11/100)+IF(AJ9>1,'Ödeme Emri'!$E$34,(0)))+'Ödeme Emri'!$L$37","v":0},0,0,{"$f":"IF(AQ9='ANA SAYFA'!$J$15,AQ9*7.5/100+(AX9),AJ9*7.5/100)","v":0},0,null,null,{"$f":"IF(AO9>='PERSONEL BİLGİ GİRİŞİ'!AA13,'PERSONEL BİLGİ GİRİŞİ'!AA13,IF('PERSONEL BİLGİ GİRİŞİ'!AA13,AO9))","v":0},0,0]
[{"$f":"PUANTAJ!A17","v":""},{"$f":"PUANTAJ!B17","v":" "},{"$f":"'PERSONEL BİLGİ GİRİŞİ'!H10","v":0},{"$f":"'PERSONEL BİLGİ GİRİŞİ'!P15","v":0},0,{"$f":"'PERSONEL BİLGİ GİRİŞİ'!Q10","v":0},{"$f":"PUANTAJ!AI17","v":0},{"$f":"PUANTAJ!AU17","v":0},{"$f":"PUANTAJ!AT17-PUANTAJ!AP17","v":0},{"$f":"PUANTAJ!AI17","v":0},{"$f":"('PERSONEL BİLGİ GİRİŞİ'!R10*(PUANTAJ!AI17))","v":0},{"$f":"PUANTAJ!AJ17","v":0},{"$f":"('PERSONEL BİLGİ GİRİŞİ'!U10*PUANTAJ!AJ17)","v":0},{"$f":"PUANTAJ!AK17","v":0},{"$f":"('PERSONEL BİLGİ GİRİŞİ'!U10*(PUANTAJ!AK17))","v":0},{"$f":"PUANTAJ!AL17","v":0},{"$f":"('PERSONEL BİLGİ GİRİŞİ'!R10*(P10))","v":0},{"$f":"IF('PERSONEL BİLGİ GİRİŞİ'!AV15=\"YOK\",0,IF('PERSONEL BİLGİ GİRİŞİ'!AS15=\"VAR\",('ANA SAYFA'!$T$11),(0)))","v":0},{"$f":"('PERSONEL BİLGİ GİRİŞİ'!U15+'PERSONEL BİLGİ GİRİŞİ'!V15)*'ANA SAYFA'!$Q$9","v":0},{"$f":"IF('PERSONEL BİLGİ GİRİŞİ'!AV15=\"YOK\",0,'PERSONEL BİLGİ GİRİŞİ'!AE15*G10)","v":0},{"$f":"IF('PERSONEL BİLGİ GİRİŞİ'!AV15=\"YOK\",0,'PERSONEL BİLGİ GİRİŞİ'!AF15*G10)","v":0},null,null,null,null,null,{"$f":"IF(PUANTAJ!AX17>0,D10*1.6/7.5*PUANTAJ!AX17,0)","v":0},{"$f":"IF('PERSONEL BİLGİ GİRİŞİ'!AU15=\"YOK\",0,IF('PERSONEL BİLGİ GİRİŞİ'!AK15=\"VAR\",('ANA SAYFA'!$Q$17),(0)))","v":0},{"$f":"IF('PERSONEL BİLGİ GİRİŞİ'!AV15=\"YOK\",0,IF('PERSONEL BİLGİ GİRİŞİ'!AN15=\"VAR\",('ANA SAYFA'!$T$10),(0)))","v":0},{"$f":"IF('PERSONEL BİLGİ GİRİŞİ'!AV15=\"YOK\",0,IF('PERSONEL BİLGİ GİRİŞİ'!AR15=\"VAR\",('ANA SAYFA'!$T$13),(0)))","v":0},{"$f":"IF(I10=0,0,'ANA SAYFA'!$J$16)","v":0},{"$f":"'Vergi Matrahları'!E9","v":0},{"$f":"IF(AF10<='ANA SAYFA'!$P$19,AE10*15%,IF(AF10<='ANA SAYFA'!$Q$19,((AE10-(AF10-'ANA SAYFA'!$P$19))*15%)+(AF10-'ANA SAYFA'!$P$19)*20%,IF(AF10<='ANA SAYFA'!$P$20,AE10*20%,IF(AF10<=('ANA SAYFA'!$R$20),((AE10-(AF10-'ANA SAYFA'!$P$20))*20%)+(AF10-'ANA SAYFA'!$P$20)*27%,IF(AF10<='ANA SAYFA'!$P$21,AE10*27%)))))-'ek bordro'!K9","v":0},{"$f":"IF(I10=0,0,('ANA SAYFA'!$J$15)*0.00759)-'ek bordro'!L9","v":0},{"$f":"PUANTAJ!AM17","v":0},{"$f":"K10+M10+O10+Q10+'PERSONEL BİLGİ GİRİŞİ'!V10-'PERSONEL BİLGİ GİRİŞİ'!X10+'ek bordro'!D9","v":0},{"$f":"AJ10-AZ10-BA10+'ek bordro'!E9-'PERSONEL BİLGİ GİRİŞİ'!AY10","v":0},{"$f":"IF(AN10<='ANA SAYFA'!$P$19,AK10*15%,IF(AN10<='ANA SAYFA'!$Q$19,((AK10-(AN10-'ANA SAYFA'!$P$19))*15%)+(AN10-'ANA SAYFA'!$P$19)*20%,IF(AN10<='ANA SAYFA'!$P$20,AK10*20%,IF(AN10<=('ANA SAYFA'!$Q$20),((AK10-(AN10-'ANA SAYFA'!$P$20))*20%)+(AN10-'ANA SAYFA'!$P$20)*27%,IF(AN10<='ANA SAYFA'!$P$21,AK10*27%)))))","v":0},0,{"$f":"'Vergi Matrahları'!D9","v":0},{"$f":"IF((AL10-AG10)<=0,0,AL10-AG10+'ek bordro'!G9)","v":0},{"$f":"IF(AJ10<='ANA SAYFA'!$J$15,0,AM10-AH10+'ek bordro'!H9)","v":0},{"$f":"IF(A10=\"\",0,IF((PUANTAJ!AV17+PUANTAJ!AR17)>1,' BORDRO HAZIRLIK'!AJ10,IF(AND(PUANTAJ!AV17=0,PUANTAJ!AM17<=140),'ANA SAYFA'!$J$15,IF(AND(COUNTA(PUANTAJ!D17:AH17)>=28,(AJ10<'ANA SAYFA'!$J$15)),'ANA SAYFA'!$J$15,AJ10))))+'ek bordro'!I14","v":0},{"$f":"IF(AQ10='ANA SAYFA'!$J$15,('ANA SAYFA'!$J$15*9/100)-(AJ10*9/100),(0))","v":0},{"$f":"ROUND(IF('PERSONEL BİLGİ GİRİŞİ'!AM10=\"VAR\",(AJ10*3/100),(0)),0)","v":0},{"$f":"ROUND(IF('PERSONEL BİLGİ GİRİŞİ'!AO10=\"VAR\",(BG10/4),(0)),2)","v":0},{"$f":"IF(NAFAKA!F10>1,NAFAKA!F10,IF('PERSONEL BİLGİ GİRİŞİ'!AT10=\"VAR\",(BG10/4),(0)))","v":0},{"$f":"ROUND(IF('PERSONEL BİLGİ GİRİŞİ'!BE10=\"VAR\",(((100*'ANA SAYFA'!$H$15))),(0)),2)","v":0},{"$f":"ROUND(IF('PERSONEL BİLGİ GİRİŞİ'!BD10=\"VAR\",((1500*'ANA SAYFA'!$H$15/4)),(0)),2)","v":0},{"$f":"IF(AQ10='ANA SAYFA'!$J$15,('ANA SAYFA'!$J$15*5/100)-(AJ10*5/100),(0))","v":0},{"$f":"IF(AQ10='ANA SAYFA'!$J$15,'ANA SAYFA'!$J$15*11/100+(AR10),(AQ10*11/100)+IF(AJ10>1,'Ödeme Emri'!$E$34,(0)))+'Ödeme Emri'!$L$37","v":0},0,0,{"$f":"IF(AQ10='ANA SAYFA'!$J$15,AQ10*7.5/100+(AX10),AJ10*7.5/100)","v":0},0,null,null,{"$f":"IF(AO10>='PERSONEL BİLGİ GİRİŞİ'!AA15,'PERSONEL BİLGİ GİRİŞİ'!AA15,IF('PERSONEL BİLGİ GİRİŞİ'!AA15,AO10))","v":0},0,0]
[{"$f":"PUANTAJ!A19","v":""},{"$f":"PUANTAJ!B19","v":" "},{"$f":"'PERSONEL BİLGİ GİRİŞİ'!H11","v":0},{"$f":"'PERSONEL BİLGİ GİRİŞİ'!P17","v":0},0,{"$f":"'PERSONEL BİLGİ GİRİŞİ'!Q11","v":0},{"$f":"PUANTAJ!AI19","v":0},{"$f":"PUANTAJ!AU19","v":0},{"$f":"PUANTAJ!AT19-PUANTAJ!AP19","v":0},{"$f":"PUANTAJ!AI19","v":0},{"$f":"('PERSONEL BİLGİ GİRİŞİ'!R11*(PUANTAJ!AI19))","v":0},{"$f":"PUANTAJ!AJ19","v":0},{"$f":"('PERSONEL BİLGİ GİRİŞİ'!U11*PUANTAJ!AJ19)","v":0},{"$f":"PUANTAJ!AK19","v":0},{"$f":"('PERSONEL BİLGİ GİRİŞİ'!U11*(PUANTAJ!AK19))","v":0},{"$f":"PUANTAJ!AL19","v":0},{"$f":"('PERSONEL BİLGİ GİRİŞİ'!R11*(P11))","v":0},{"$f":"IF('PERSONEL BİLGİ GİRİŞİ'!AV17=\"YOK\",0,IF('PERSONEL BİLGİ GİRİŞİ'!AS17=\"VAR\",('ANA SAYFA'!$T$11),(0)))","v":0},{"$f":"('PERSONEL BİLGİ GİRİŞİ'!U17+'PERSONEL BİLGİ GİRİŞİ'!V17)*'ANA SAYFA'!$Q$9","v":0},{"$f":"IF('PERSONEL BİLGİ GİRİŞİ'!AV17=\"YOK\",0,'PERSONEL BİLGİ GİRİŞİ'!AE17*G11)","v":0},{"$f":"IF('PERSONEL BİLGİ GİRİŞİ'!AV17=\"YOK\",0,'PERSONEL BİLGİ GİRİŞİ'!AF17*G11)","v":0},null,null,null,null,null,{"$f":"IF(PUANTAJ!AX19>0,D11*1.6/7.5*PUANTAJ!AX19,0)","v":0},{"$f":"IF('PERSONEL BİLGİ GİRİŞİ'!AU17=\"YOK\",0,IF('PERSONEL BİLGİ GİRİŞİ'!AK17=\"VAR\",('ANA SAYFA'!$Q$17),(0)))","v":0},{"$f":"IF('PERSONEL BİLGİ GİRİŞİ'!AV17=\"YOK\",0,IF('PERSONEL BİLGİ GİRİŞİ'!AN17=\"VAR\",('ANA SAYFA'!$T$10),(0)))","v":0},{"$f":"IF('PERSONEL BİLGİ GİRİŞİ'!AV17=\"YOK\",0,IF('PERSONEL BİLGİ GİRİŞİ'!AR17=\"VAR\",('ANA SAYFA'!$T$13),(0)))","v":0},{"$f":"IF(I11=0,0,'ANA SAYFA'!$J$16)","v":0},{"$f":"'Vergi Matrahları'!E10","v":0},{"$f":"IF(AF11<='ANA SAYFA'!$P$19,AE11*15%,IF(AF11<='ANA SAYFA'!$Q$19,((AE11-(AF11-'ANA SAYFA'!$P$19))*15%)+(AF11-'ANA SAYFA'!$P$19)*20%,IF(AF11<='ANA SAYFA'!$P$20,AE11*20%,IF(AF11<=('ANA SAYFA'!$R$20),((AE11-(AF11-'ANA SAYFA'!$P$20))*20%)+(AF11-'ANA SAYFA'!$P$20)*27%,IF(AF11<='ANA SAYFA'!$P$21,AE11*27%)))))-'ek bordro'!K10","v":0},{"$f":"IF(I11=0,0,('ANA SAYFA'!$J$15)*0.00759)-'ek bordro'!L10","v":0},{"$f":"PUANTAJ!AM19","v":0},{"$f":"K11+M11+O11+Q11+'PERSONEL BİLGİ GİRİŞİ'!V11-'PERSONEL BİLGİ GİRİŞİ'!X11+'ek bordro'!D10","v":0},{"$f":"AJ11-AZ11-BA11+'ek bordro'!E10-'PERSONEL BİLGİ GİRİŞİ'!AY11","v":0},{"$f":"IF(AN11<='ANA SAYFA'!$P$19,AK11*15%,IF(AN11<='ANA SAYFA'!$Q$19,((AK11-(AN11-'ANA SAYFA'!$P$19))*15%)+(AN11-'ANA SAYFA'!$P$19)*20%,IF(AN11<='ANA SAYFA'!$P$20,AK11*20%,IF(AN11<=('ANA SAYFA'!$Q$20),((AK11-(AN11-'ANA SAYFA'!$P$20))*20%)+(AN11-'ANA SAYFA'!$P$20)*27%,IF(AN11<='ANA SAYFA'!$P$21,AK11*27%)))))","v":0},0,{"$f":"'Vergi Matrahları'!D10","v":0},{"$f":"IF((AL11-AG11)<=0,0,AL11-AG11+'ek bordro'!G10)","v":0},{"$f":"IF(AJ11<='ANA SAYFA'!$J$15,0,AM11-AH11+'ek bordro'!H10)","v":0},{"$f":"IF(A11=\"\",0,IF((PUANTAJ!AV19+PUANTAJ!AR19)>1,' BORDRO HAZIRLIK'!AJ11,IF(AND(PUANTAJ!AV19=0,PUANTAJ!AM19<=140),'ANA SAYFA'!$J$15,IF(AND(COUNTA(PUANTAJ!D19:AH19)>=28,(AJ11<'ANA SAYFA'!$J$15)),'ANA SAYFA'!$J$15,AJ11))))+'ek bordro'!I16","v":0},{"$f":"IF(AQ11='ANA SAYFA'!$J$15,('ANA SAYFA'!$J$15*9/100)-(AJ11*9/100),(0))","v":0},{"$f":"ROUND(IF('PERSONEL BİLGİ GİRİŞİ'!AM11=\"VAR\",(AJ11*3/100),(0)),0)","v":0},{"$f":"ROUND(IF('PERSONEL BİLGİ GİRİŞİ'!AO11=\"VAR\",(BG11/4),(0)),2)","v":0},{"$f":"IF(NAFAKA!F11>1,NAFAKA!F11,IF('PERSONEL BİLGİ GİRİŞİ'!AT11=\"VAR\",(BG11/4),(0)))","v":0},{"$f":"ROUND(IF('PERSONEL BİLGİ GİRİŞİ'!BE11=\"VAR\",(((100*'ANA SAYFA'!$H$15))),(0)),2)","v":0},{"$f":"ROUND(IF('PERSONEL BİLGİ GİRİŞİ'!BD11=\"VAR\",((1500*'ANA SAYFA'!$H$15/4)),(0)),2)","v":0},{"$f":"IF(AQ11='ANA SAYFA'!$J$15,('ANA SAYFA'!$J$15*5/100)-(AJ11*5/100),(0))","v":0},{"$f":"IF(AQ11='ANA SAYFA'!$J$15,'ANA SAYFA'!$J$15*11/100+(AR11),(AQ11*11/100)+IF(AJ11>1,'Ödeme Emri'!$E$34,(0)))+'Ödeme Emri'!$L$37","v":0},0,0,{"$f":"IF(AQ11='ANA SAYFA'!$J$15,AQ11*7.5/100+(AX11),AJ11*7.5/100)","v":0},0,null,null,{"$f":"IF(AO11>='PERSONEL BİLGİ GİRİŞİ'!AA17,'PERSONEL BİLGİ GİRİŞİ'!AA17,IF('PERSONEL BİLGİ GİRİŞİ'!AA17,AO11))","v":0},0,0]
[{"$f":"PUANTAJ!A21","v":""},{"$f":"PUANTAJ!B21","v":" "},{"$f":"'PERSONEL BİLGİ GİRİŞİ'!H12","v":0},{"$f":"'PERSONEL BİLGİ GİRİŞİ'!P19","v":0},0,{"$f":"'PERSONEL BİLGİ GİRİŞİ'!Q12","v":0},{"$f":"PUANTAJ!AI21","v":0},{"$f":"PUANTAJ!AU21","v":0},{"$f":"PUANTAJ!AT21-PUANTAJ!AP21","v":0},{"$f":"PUANTAJ!AI21","v":0},{"$f":"('PERSONEL BİLGİ GİRİŞİ'!R12*(PUANTAJ!AI21))","v":0},{"$f":"PUANTAJ!AJ21","v":0},{"$f":"('PERSONEL BİLGİ GİRİŞİ'!U12*PUANTAJ!AJ21)","v":0},{"$f":"PUANTAJ!AK21","v":0},{"$f":"('PERSONEL BİLGİ GİRİŞİ'!U12*(PUANTAJ!AK21))","v":0},{"$f":"PUANTAJ!AL21","v":0},{"$f":"('PERSONEL BİLGİ GİRİŞİ'!R12*(P12))","v":0},{"$f":"IF('PERSONEL BİLGİ GİRİŞİ'!AV19=\"YOK\",0,IF('PERSONEL BİLGİ GİRİŞİ'!AS19=\"VAR\",('ANA SAYFA'!$T$11),(0)))","v":0},{"$f":"('PERSONEL BİLGİ GİRİŞİ'!U19+'PERSONEL BİLGİ GİRİŞİ'!V19)*'ANA SAYFA'!$Q$9","v":0},{"$f":"IF('PERSONEL BİLGİ GİRİŞİ'!AV19=\"YOK\",0,'PERSONEL BİLGİ GİRİŞİ'!AE19*G12)","v":0},{"$f":"IF('PERSONEL BİLGİ GİRİŞİ'!AV19=\"YOK\",0,'PERSONEL BİLGİ GİRİŞİ'!AF19*G12)","v":0},null,null,null,null,null,{"$f":"IF(PUANTAJ!AX21>0,D12*1.6/7.5*PUANTAJ!AX21,0)","v":0},{"$f":"IF('PERSONEL BİLGİ GİRİŞİ'!AU19=\"YOK\",0,IF('PERSONEL BİLGİ GİRİŞİ'!AK19=\"VAR\",('ANA SAYFA'!$Q$17),(0)))","v":0},{"$f":"IF('PERSONEL BİLGİ GİRİŞİ'!AV19=\"YOK\",0,IF('PERSONEL BİLGİ GİRİŞİ'!AN19=\"VAR\",('ANA SAYFA'!$T$10),(0)))","v":0},{"$f":"IF('PERSONEL BİLGİ GİRİŞİ'!AV19=\"YOK\",0,IF('PERSONEL BİLGİ GİRİŞİ'!AR19=\"VAR\",('ANA SAYFA'!$T$13),(0)))","v":0},{"$f":"IF(I12=0,0,'ANA SAYFA'!$J$16)","v":0},{"$f":"'Vergi Matrahları'!E11","v":0},{"$f":"IF(AF12<='ANA SAYFA'!$P$19,AE12*15%,IF(AF12<='ANA SAYFA'!$Q$19,((AE12-(AF12-'ANA SAYFA'!$P$19))*15%)+(AF12-'ANA SAYFA'!$P$19)*20%,IF(AF12<='ANA SAYFA'!$P$20,AE12*20%,IF(AF12<=('ANA SAYFA'!$R$20),((AE12-(AF12-'ANA SAYFA'!$P$20))*20%)+(AF12-'ANA SAYFA'!$P$20)*27%,IF(AF12<='ANA SAYFA'!$P$21,AE12*27%)))))-'ek bordro'!K11","v":0},{"$f":"IF(I12=0,0,('ANA SAYFA'!$J$15)*0.00759)-'ek bordro'!L11","v":0},{"$f":"PUANTAJ!AM21","v":0},{"$f":"K12+M12+O12+Q12+'PERSONEL BİLGİ GİRİŞİ'!V12-'PERSONEL BİLGİ GİRİŞİ'!X12+'ek bordro'!D11","v":0},{"$f":"AJ12-AZ12-BA12+'ek bordro'!E11-'PERSONEL BİLGİ GİRİŞİ'!AY12","v":0},{"$f":"IF(AN12<='ANA SAYFA'!$P$19,AK12*15%,IF(AN12<='ANA SAYFA'!$Q$19,((AK12-(AN12-'ANA SAYFA'!$P$19))*15%)+(AN12-'ANA SAYFA'!$P$19)*20%,IF(AN12<='ANA SAYFA'!$P$20,AK12*20%,IF(AN12<=('ANA SAYFA'!$Q$20),((AK12-(AN12-'ANA SAYFA'!$P$20))*20%)+(AN12-'ANA SAYFA'!$P$20)*27%,IF(AN12<='ANA SAYFA'!$P$21,AK12*27%)))))","v":0},0,{"$f":"'Vergi Matrahları'!D11","v":0},{"$f":"IF((AL12-AG12)<=0,0,AL12-AG12+'ek bordro'!G11)","v":0},{"$f":"IF(AJ12<='ANA SAYFA'!$J$15,0,AM12-AH12+'ek bordro'!H11)","v":0},{"$f":"IF(A12=\"\",0,IF((PUANTAJ!AV21+PUANTAJ!AR21)>1,' BORDRO HAZIRLIK'!AJ12,IF(AND(PUANTAJ!AV21=0,PUANTAJ!AM21<=140),'ANA SAYFA'!$J$15,IF(AND(COUNTA(PUANTAJ!D21:AH21)>=28,(AJ12<'ANA SAYFA'!$J$15)),'ANA SAYFA'!$J$15,AJ12))))+'ek bordro'!I18","v":0},{"$f":"IF(AQ12='ANA SAYFA'!$J$15,('ANA SAYFA'!$J$15*9/100)-(AJ12*9/100),(0))","v":0},{"$f":"ROUND(IF('PERSONEL BİLGİ GİRİŞİ'!AM12=\"VAR\",(AJ12*3/100),(0)),0)","v":0},{"$f":"ROUND(IF('PERSONEL BİLGİ GİRİŞİ'!AO12=\"VAR\",(BG12/4),(0)),2)","v":0},{"$f":"IF(NAFAKA!F12>1,NAFAKA!F12,IF('PERSONEL BİLGİ GİRİŞİ'!AT12=\"VAR\",(BG12/4),(0)))","v":0},{"$f":"ROUND(IF('PERSONEL BİLGİ GİRİŞİ'!BE12=\"VAR\",(((100*'ANA SAYFA'!$H$15))),(0)),2)","v":0},{"$f":"ROUND(IF('PERSONEL BİLGİ GİRİŞİ'!BD12=\"VAR\",((1500*'ANA SAYFA'!$H$15/4)),(0)),2)","v":0},{"$f":"IF(AQ12='ANA SAYFA'!$J$15,('ANA SAYFA'!$J$15*5/100)-(AJ12*5/100),(0))","v":0},{"$f":"IF(AQ12='ANA SAYFA'!$J$15,'ANA SAYFA'!$J$15*11/100+(AR12),(AQ12*11/100)+IF(AJ12>1,'Ödeme Emri'!$E$34,(0)))+'Ödeme Emri'!$L$37","v":0},0,0,{"$f":"IF(AQ12='ANA SAYFA'!$J$15,AQ12*7.5/100+(AX12),AJ12*7.5/100)","v":0},0,null,null,{"$f":"IF(AO12>='PERSONEL BİLGİ GİRİŞİ'!AA19,'PERSONEL BİLGİ GİRİŞİ'!AA19,IF('PERSONEL BİLGİ GİRİŞİ'!AA19,AO12))","v":0},0,0]
[{"$f":"PUANTAJ!A23","v":""},{"$f":"PUANTAJ!B23","v":" "},{"$f":"'PERSONEL BİLGİ GİRİŞİ'!H13","v":0},{"$f":"'PERSONEL BİLGİ GİRİŞİ'!P21","v":0},0,{"$f":"'PERSONEL BİLGİ GİRİŞİ'!Q13","v":0},{"$f":"PUANTAJ!AI23","v":0},{"$f":"PUANTAJ!AU23","v":0},{"$f":"PUANTAJ!AT23-PUANTAJ!AP23","v":0},{"$f":"PUANTAJ!AI23","v":0},{"$f":"('PERSONEL BİLGİ GİRİŞİ'!R13*(PUANTAJ!AI23))","v":0},{"$f":"PUANTAJ!AJ23","v":0},{"$f":"('PERSONEL BİLGİ GİRİŞİ'!U13*PUANTAJ!AJ23)","v":0},{"$f":"PUANTAJ!AK23","v":0},{"$f":"('PERSONEL BİLGİ GİRİŞİ'!U13*(PUANTAJ!AK23))","v":0},{"$f":"PUANTAJ!AL23","v":0},{"$f":"('PERSONEL BİLGİ GİRİŞİ'!R13*(P13))","v":0},{"$f":"IF('PERSONEL BİLGİ GİRİŞİ'!AV21=\"YOK\",0,IF('PERSONEL BİLGİ GİRİŞİ'!AS21=\"VAR\",('ANA SAYFA'!$T$11),(0)))","v":0},{"$f":"('PERSONEL BİLGİ GİRİŞİ'!U21+'PERSONEL BİLGİ GİRİŞİ'!V21)*'ANA SAYFA'!$Q$9","v":0},{"$f":"IF('PERSONEL BİLGİ GİRİŞİ'!AV21=\"YOK\",0,'PERSONEL BİLGİ GİRİŞİ'!AE21*G13)","v":0},{"$f":"IF('PERSONEL BİLGİ GİRİŞİ'!AV21=\"YOK\",0,'PERSONEL BİLGİ GİRİŞİ'!AF21*G13)","v":0},null,null,null,null,null,{"$f":"IF(PUANTAJ!AX23>0,D13*1.6/7.5*PUANTAJ!AX23,0)","v":0},{"$f":"IF('PERSONEL BİLGİ GİRİŞİ'!AU21=\"YOK\",0,IF('PERSONEL BİLGİ GİRİŞİ'!AK21=\"VAR\",('ANA SAYFA'!$Q$17),(0)))","v":0},{"$f":"IF('PERSONEL BİLGİ GİRİŞİ'!AV21=\"YOK\",0,IF('PERSONEL BİLGİ GİRİŞİ'!AN21=\"VAR\",('ANA SAYFA'!$T$10),(0)))","v":0},{"$f":"IF('PERSONEL BİLGİ GİRİŞİ'!AV21=\"YOK\",0,IF('PERSONEL BİLGİ GİRİŞİ'!AR21=\"VAR\",('ANA SAYFA'!$T$13),(0)))","v":0},{"$f":"IF(I13=0,0,'ANA SAYFA'!$J$16)","v":0},{"$f":"'Vergi Matrahları'!E12","v":0},{"$f":"IF(AF13<='ANA SAYFA'!$P$19,AE13*15%,IF(AF13<='ANA SAYFA'!$Q$19,((AE13-(AF13-'ANA SAYFA'!$P$19))*15%)+(AF13-'ANA SAYFA'!$P$19)*20%,IF(AF13<='ANA SAYFA'!$P$20,AE13*20%,IF(AF13<=('ANA SAYFA'!$R$20),((AE13-(AF13-'ANA SAYFA'!$P$20))*20%)+(AF13-'ANA SAYFA'!$P$20)*27%,IF(AF13<='ANA SAYFA'!$P$21,AE13*27%)))))-'ek bordro'!K12","v":0},{"$f":"IF(I13=0,0,('ANA SAYFA'!$J$15)*0.00759)-'ek bordro'!L12","v":0},{"$f":"PUANTAJ!AM23","v":0},{"$f":"K13+M13+O13+Q13+'PERSONEL BİLGİ GİRİŞİ'!V13-'PERSONEL BİLGİ GİRİŞİ'!X13+'ek bordro'!D12","v":0},{"$f":"AJ13-AZ13-BA13+'ek bordro'!E12-'PERSONEL BİLGİ GİRİŞİ'!AY13","v":0},{"$f":"IF(AN13<='ANA SAYFA'!$P$19,AK13*15%,IF(AN13<='ANA SAYFA'!$Q$19,((AK13-(AN13-'ANA SAYFA'!$P$19))*15%)+(AN13-'ANA SAYFA'!$P$19)*20%,IF(AN13<='ANA SAYFA'!$P$20,AK13*20%,IF(AN13<=('ANA SAYFA'!$Q$20),((AK13-(AN13-'ANA SAYFA'!$P$20))*20%)+(AN13-'ANA SAYFA'!$P$20)*27%,IF(AN13<='ANA SAYFA'!$P$21,AK13*27%)))))","v":0},0,{"$f":"'Vergi Matrahları'!D12","v":0},{"$f":"IF((AL13-AG13)<=0,0,AL13-AG13+'ek bordro'!G12)","v":0},{"$f":"IF(AJ13<='ANA SAYFA'!$J$15,0,AM13-AH13+'ek bordro'!H12)","v":0},{"$f":"IF(A13=\"\",0,IF((PUANTAJ!AV23+PUANTAJ!AR23)>1,' BORDRO HAZIRLIK'!AJ13,IF(AND(PUANTAJ!AV23=0,PUANTAJ!AM23<=140),'ANA SAYFA'!$J$15,IF(AND(COUNTA(PUANTAJ!D23:AH23)>=28,(AJ13<'ANA SAYFA'!$J$15)),'ANA SAYFA'!$J$15,AJ13))))+'ek bordro'!I20","v":0},{"$f":"IF(AQ13='ANA SAYFA'!$J$15,('ANA SAYFA'!$J$15*9/100)-(AJ13*9/100),(0))","v":0},{"$f":"ROUND(IF('PERSONEL BİLGİ GİRİŞİ'!AM13=\"VAR\",(AJ13*3/100),(0)),0)","v":0},{"$f":"ROUND(IF('PERSONEL BİLGİ GİRİŞİ'!AO13=\"VAR\",(BG13/4),(0)),2)","v":0},{"$f":"IF(NAFAKA!F13>1,NAFAKA!F13,IF('PERSONEL BİLGİ GİRİŞİ'!AT13=\"VAR\",(BG13/4),(0)))","v":0},{"$f":"ROUND(IF('PERSONEL BİLGİ GİRİŞİ'!BE13=\"VAR\",(((100*'ANA SAYFA'!$H$15))),(0)),2)","v":0},{"$f":"ROUND(IF('PERSONEL BİLGİ GİRİŞİ'!BD13=\"VAR\",((1500*'ANA SAYFA'!$H$15/4)),(0)),2)","v":0},{"$f":"IF(AQ13='ANA SAYFA'!$J$15,('ANA SAYFA'!$J$15*5/100)-(AJ13*5/100),(0))","v":0},{"$f":"IF(AQ13='ANA SAYFA'!$J$15,'ANA SAYFA'!$J$15*11/100+(AR13),(AQ13*11/100)+IF(AJ13>1,'Ödeme Emri'!$E$34,(0)))+'Ödeme Emri'!$L$37","v":0},0,0,{"$f":"IF(AQ13='ANA SAYFA'!$J$15,AQ13*7.5/100+(AX13),AJ13*7.5/100)","v":0},0,null,null,{"$f":"IF(AO13>='PERSONEL BİLGİ GİRİŞİ'!AA21,'PERSONEL BİLGİ GİRİŞİ'!AA21,IF('PERSONEL BİLGİ GİRİŞİ'!AA21,AO13))","v":0},0,0]
[{"$f":"PUANTAJ!A25","v":""},{"$f":"PUANTAJ!B25","v":" "},{"$f":"'PERSONEL BİLGİ GİRİŞİ'!H14","v":0},{"$f":"'PERSONEL BİLGİ GİRİŞİ'!P23","v":0},0,{"$f":"'PERSONEL BİLGİ GİRİŞİ'!Q14","v":0},{"$f":"PUANTAJ!AI25","v":0},{"$f":"PUANTAJ!AU25","v":0},{"$f":"PUANTAJ!AT25-PUANTAJ!AP25","v":0},{"$f":"PUANTAJ!AI25","v":0},{"$f":"('PERSONEL BİLGİ GİRİŞİ'!R14*(PUANTAJ!AI25))","v":0},{"$f":"PUANTAJ!AJ25","v":0},{"$f":"('PERSONEL BİLGİ GİRİŞİ'!U14*PUANTAJ!AJ25)","v":0},{"$f":"PUANTAJ!AK25","v":0},{"$f":"('PERSONEL BİLGİ GİRİŞİ'!U14*(PUANTAJ!AK25))","v":0},{"$f":"PUANTAJ!AL25","v":0},{"$f":"('PERSONEL BİLGİ GİRİŞİ'!R14*(P14))","v":0},{"$f":"IF('PERSONEL BİLGİ GİRİŞİ'!AV23=\"YOK\",0,IF('PERSONEL BİLGİ GİRİŞİ'!AS23=\"VAR\",('ANA SAYFA'!$T$11),(0)))","v":0},{"$f":"('PERSONEL BİLGİ GİRİŞİ'!U23+'PERSONEL BİLGİ GİRİŞİ'!V23)*'ANA SAYFA'!$Q$9","v":0},{"$f":"IF('PERSONEL BİLGİ GİRİŞİ'!AV23=\"YOK\",0,'PERSONEL BİLGİ GİRİŞİ'!AE23*G14)","v":0},{"$f":"IF('PERSONEL BİLGİ GİRİŞİ'!AV23=\"YOK\",0,'PERSONEL BİLGİ GİRİŞİ'!AF23*G14)","v":0},null,null,null,null,null,{"$f":"IF(PUANTAJ!AX25>0,D14*1.6/7.5*PUANTAJ!AX25,0)","v":0},{"$f":"IF('PERSONEL BİLGİ GİRİŞİ'!AU23=\"YOK\",0,IF('PERSONEL BİLGİ GİRİŞİ'!AK23=\"VAR\",('ANA SAYFA'!$Q$17),(0)))","v":0},{"$f":"IF('PERSONEL BİLGİ GİRİŞİ'!AV23=\"YOK\",0,IF('PERSONEL BİLGİ GİRİŞİ'!AN23=\"VAR\",('ANA SAYFA'!$T$10),(0)))","v":0},{"$f":"IF('PERSONEL BİLGİ GİRİŞİ'!AV23=\"YOK\",0,IF('PERSONEL BİLGİ GİRİŞİ'!AR23=\"VAR\",('ANA SAYFA'!$T$13),(0)))","v":0},{"$f":"IF(I14=0,0,'ANA SAYFA'!$J$16)","v":0},{"$f":"'Vergi Matrahları'!E13","v":0},{"$f":"IF(AF14<='ANA SAYFA'!$P$19,AE14*15%,IF(AF14<='ANA SAYFA'!$Q$19,((AE14-(AF14-'ANA SAYFA'!$P$19))*15%)+(AF14-'ANA SAYFA'!$P$19)*20%,IF(AF14<='ANA SAYFA'!$P$20,AE14*20%,IF(AF14<=('ANA SAYFA'!$R$20),((AE14-(AF14-'ANA SAYFA'!$P$20))*20%)+(AF14-'ANA SAYFA'!$P$20)*27%,IF(AF14<='ANA SAYFA'!$P$21,AE14*27%)))))-'ek bordro'!K13","v":0},{"$f":"IF(I14=0,0,('ANA SAYFA'!$J$15)*0.00759)-'ek bordro'!L13","v":0},{"$f":"PUANTAJ!AM25","v":0},{"$f":"K14+M14+O14+Q14+'PERSONEL BİLGİ GİRİŞİ'!V14-'PERSONEL BİLGİ GİRİŞİ'!X14+'ek bordro'!D13","v":0},{"$f":"AJ14-AZ14-BA14+'ek bordro'!E13-'PERSONEL BİLGİ GİRİŞİ'!AY14","v":0},{"$f":"IF(AN14<='ANA SAYFA'!$P$19,AK14*15%,IF(AN14<='ANA SAYFA'!$Q$19,((AK14-(AN14-'ANA SAYFA'!$P$19))*15%)+(AN14-'ANA SAYFA'!$P$19)*20%,IF(AN14<='ANA SAYFA'!$P$20,AK14*20%,IF(AN14<=('ANA SAYFA'!$Q$20),((AK14-(AN14-'ANA SAYFA'!$P$20))*20%)+(AN14-'ANA SAYFA'!$P$20)*27%,IF(AN14<='ANA SAYFA'!$P$21,AK14*27%)))))","v":0},0,{"$f":"'Vergi Matrahları'!D13","v":0},{"$f":"IF((AL14-AG14)<=0,0,AL14-AG14+'ek bordro'!G13)","v":0},{"$f":"IF(AJ14<='ANA SAYFA'!$J$15,0,AM14-AH14+'ek bordro'!H13)","v":0},{"$f":"IF(A14=\"\",0,IF((PUANTAJ!AV25+PUANTAJ!AR25)>1,' BORDRO HAZIRLIK'!AJ14,IF(AND(PUANTAJ!AV25=0,PUANTAJ!AM25<=140),'ANA SAYFA'!$J$15,IF(AND(COUNTA(PUANTAJ!D25:AH25)>=28,(AJ14<'ANA SAYFA'!$J$15)),'ANA SAYFA'!$J$15,AJ14))))+'ek bordro'!I22","v":0},{"$f":"IF(AQ14='ANA SAYFA'!$J$15,('ANA SAYFA'!$J$15*9/100)-(AJ14*9/100),(0))","v":0},{"$f":"ROUND(IF('PERSONEL BİLGİ GİRİŞİ'!AM14=\"VAR\",(AJ14*3/100),(0)),0)","v":0},{"$f":"ROUND(IF('PERSONEL BİLGİ GİRİŞİ'!AO14=\"VAR\",(BG14/4),(0)),2)","v":0},{"$f":"IF(NAFAKA!F14>1,NAFAKA!F14,IF('PERSONEL BİLGİ GİRİŞİ'!AT14=\"VAR\",(BG14/4),(0)))","v":0},{"$f":"ROUND(IF('PERSONEL BİLGİ GİRİŞİ'!BE14=\"VAR\",(((100*'ANA SAYFA'!$H$15))),(0)),2)","v":0},{"$f":"ROUND(IF('PERSONEL BİLGİ GİRİŞİ'!BD14=\"VAR\",((1500*'ANA SAYFA'!$H$15/4)),(0)),2)","v":0},{"$f":"IF(AQ14='ANA SAYFA'!$J$15,('ANA SAYFA'!$J$15*5/100)-(AJ14*5/100),(0))","v":0},{"$f":"IF(AQ14='ANA SAYFA'!$J$15,'ANA SAYFA'!$J$15*11/100+(AR14),(AQ14*11/100)+IF(AJ14>1,'Ödeme Emri'!$E$34,(0)))+'Ödeme Emri'!$L$37","v":0},0,0,{"$f":"IF(AQ14='ANA SAYFA'!$J$15,AQ14*7.5/100+(AX14),AJ14*7.5/100)","v":0},0,null,null,{"$f":"IF(AO14>='PERSONEL BİLGİ GİRİŞİ'!AA23,'PERSONEL BİLGİ GİRİŞİ'!AA23,IF('PERSONEL BİLGİ GİRİŞİ'!AA23,AO14))","v":0},0,0]
[{"$f":"PUANTAJ!A27","v":""},{"$f":"PUANTAJ!B27","v":" "},{"$f":"'PERSONEL BİLGİ GİRİŞİ'!H15","v":0},{"$f":"'PERSONEL BİLGİ GİRİŞİ'!P25","v":0},0,{"$f":"'PERSONEL BİLGİ GİRİŞİ'!Q15","v":0},{"$f":"PUANTAJ!AI27","v":0},{"$f":"PUANTAJ!AU27","v":0},{"$f":"PUANTAJ!AT27-PUANTAJ!AP27","v":0},{"$f":"PUANTAJ!AI27","v":0},{"$f":"('PERSONEL BİLGİ GİRİŞİ'!R15*(PUANTAJ!AI27))","v":0},{"$f":"PUANTAJ!AJ27","v":0},{"$f":"('PERSONEL BİLGİ GİRİŞİ'!U15*PUANTAJ!AJ27)","v":0},{"$f":"PUANTAJ!AK27","v":0},{"$f":"('PERSONEL BİLGİ GİRİŞİ'!U15*(PUANTAJ!AK27))","v":0},{"$f":"PUANTAJ!AL27","v":0},{"$f":"('PERSONEL BİLGİ GİRİŞİ'!R15*(P15))","v":0},{"$f":"IF('PERSONEL BİLGİ GİRİŞİ'!AV25=\"YOK\",0,IF('PERSONEL BİLGİ GİRİŞİ'!AS25=\"VAR\",('ANA SAYFA'!$T$11),(0)))","v":0},{"$f":"('PERSONEL BİLGİ GİRİŞİ'!U25+'PERSONEL BİLGİ GİRİŞİ'!V25)*'ANA SAYFA'!$Q$9","v":0},{"$f":"IF('PERSONEL BİLGİ GİRİŞİ'!AV25=\"YOK\",0,'PERSONEL BİLGİ GİRİŞİ'!AE25*G15)","v":0},{"$f":"IF('PERSONEL BİLGİ GİRİŞİ'!AV25=\"YOK\",0,'PERSONEL BİLGİ GİRİŞİ'!AF25*G15)","v":0},null,null,null,null,null,{"$f":"IF(PUANTAJ!AX27>0,D15*1.6/7.5*PUANTAJ!AX27,0)","v":0},{"$f":"IF('PERSONEL BİLGİ GİRİŞİ'!AU25=\"YOK\",0,IF('PERSONEL BİLGİ GİRİŞİ'!AK25=\"VAR\",('ANA SAYFA'!$Q$17),(0)))","v":0},{"$f":"IF('PERSONEL BİLGİ GİRİŞİ'!AV25=\"YOK\",0,IF('PERSONEL BİLGİ GİRİŞİ'!AN25=\"VAR\",('ANA SAYFA'!$T$10),(0)))","v":0},{"$f":"IF('PERSONEL BİLGİ GİRİŞİ'!AV25=\"YOK\",0,IF('PERSONEL BİLGİ GİRİŞİ'!AR25=\"VAR\",('ANA SAYFA'!$T$13),(0)))","v":0},{"$f":"IF(I15=0,0,'ANA SAYFA'!$J$16)","v":0},{"$f":"'Vergi Matrahları'!E14","v":0},{"$f":"IF(AF15<='ANA SAYFA'!$P$19,AE15*15%,IF(AF15<='ANA SAYFA'!$Q$19,((AE15-(AF15-'ANA SAYFA'!$P$19))*15%)+(AF15-'ANA SAYFA'!$P$19)*20%,IF(AF15<='ANA SAYFA'!$P$20,AE15*20%,IF(AF15<=('ANA SAYFA'!$R$20),((AE15-(AF15-'ANA SAYFA'!$P$20))*20%)+(AF15-'ANA SAYFA'!$P$20)*27%,IF(AF15<='ANA SAYFA'!$P$21,AE15*27%)))))-'ek bordro'!K14","v":0},{"$f":"IF(I15=0,0,('ANA SAYFA'!$J$15)*0.00759)-'ek bordro'!L14","v":0},{"$f":"PUANTAJ!AM27","v":0},{"$f":"K15+M15+O15+Q15+'PERSONEL BİLGİ GİRİŞİ'!V15-'PERSONEL BİLGİ GİRİŞİ'!X15+'ek bordro'!D14","v":0},{"$f":"AJ15-AZ15-BA15+'ek bordro'!E14-'PERSONEL BİLGİ GİRİŞİ'!AY15","v":0},{"$f":"IF(AN15<='ANA SAYFA'!$P$19,AK15*15%,IF(AN15<='ANA SAYFA'!$Q$19,((AK15-(AN15-'ANA SAYFA'!$P$19))*15%)+(AN15-'ANA SAYFA'!$P$19)*20%,IF(AN15<='ANA SAYFA'!$P$20,AK15*20%,IF(AN15<=('ANA SAYFA'!$Q$20),((AK15-(AN15-'ANA SAYFA'!$P$20))*20%)+(AN15-'ANA SAYFA'!$P$20)*27%,IF(AN15<='ANA SAYFA'!$P$21,AK15*27%)))))","v":0},0,{"$f":"'Vergi Matrahları'!D14","v":0},{"$f":"IF((AL15-AG15)<=0,0,AL15-AG15+'ek bordro'!G14)","v":0},{"$f":"IF(AJ15<='ANA SAYFA'!$J$15,0,AM15-AH15+'ek bordro'!H14)","v":0},{"$f":"IF(A15=\"\",0,IF((PUANTAJ!AV27+PUANTAJ!AR27)>1,' BORDRO HAZIRLIK'!AJ15,IF(AND(PUANTAJ!AV27=0,PUANTAJ!AM27<=140),'ANA SAYFA'!$J$15,IF(AND(COUNTA(PUANTAJ!D27:AH27)>=28,(AJ15<'ANA SAYFA'!$J$15)),'ANA SAYFA'!$J$15,AJ15))))+'ek bordro'!I24","v":0},{"$f":"IF(AQ15='ANA SAYFA'!$J$15,('ANA SAYFA'!$J$15*9/100)-(AJ15*9/100),(0))","v":0},{"$f":"ROUND(IF('PERSONEL BİLGİ GİRİŞİ'!AM15=\"VAR\",(AJ15*3/100),(0)),0)","v":0},{"$f":"ROUND(IF('PERSONEL BİLGİ GİRİŞİ'!AO15=\"VAR\",(BG15/4),(0)),2)","v":0},{"$f":"IF(NAFAKA!F15>1,NAFAKA!F15,IF('PERSONEL BİLGİ GİRİŞİ'!AT15=\"VAR\",(BG15/4),(0)))","v":0},{"$f":"ROUND(IF('PERSONEL BİLGİ GİRİŞİ'!BE15=\"VAR\",(((100*'ANA SAYFA'!$H$15))),(0)),2)","v":0},{"$f":"ROUND(IF('PERSONEL BİLGİ GİRİŞİ'!BD15=\"VAR\",((1500*'ANA SAYFA'!$H$15/4)),(0)),2)","v":0},{"$f":"IF(AQ15='ANA SAYFA'!$J$15,('ANA SAYFA'!$J$15*5/100)-(AJ15*5/100),(0))","v":0},{"$f":"IF(AQ15='ANA SAYFA'!$J$15,'ANA SAYFA'!$J$15*11/100+(AR15),(AQ15*11/100)+IF(AJ15>1,'Ödeme Emri'!$E$34,(0)))+'Ödeme Emri'!$L$37","v":0},0,0,{"$f":"IF(AQ15='ANA SAYFA'!$J$15,AQ15*7.5/100+(AX15),AJ15*7.5/100)","v":0},0,null,null,{"$f":"IF(AO15>='PERSONEL BİLGİ GİRİŞİ'!AA25,'PERSONEL BİLGİ GİRİŞİ'!AA25,IF('PERSONEL BİLGİ GİRİŞİ'!AA25,AO15))","v":0},0,0]
[{"$f":"PUANTAJ!A29","v":""},{"$f":"PUANTAJ!B29","v":" "},{"$f":"'PERSONEL BİLGİ GİRİŞİ'!H16","v":0},{"$f":"'PERSONEL BİLGİ GİRİŞİ'!P27","v":0},0,{"$f":"'PERSONEL BİLGİ GİRİŞİ'!Q16","v":0},{"$f":"PUANTAJ!AI29","v":0},{"$f":"PUANTAJ!AU29","v":0},{"$f":"PUANTAJ!AT29-PUANTAJ!AP29","v":0},{"$f":"PUANTAJ!AI29","v":0},{"$f":"('PERSONEL BİLGİ GİRİŞİ'!R16*(PUANTAJ!AI29))","v":0},{"$f":"PUANTAJ!AJ29","v":0},{"$f":"('PERSONEL BİLGİ GİRİŞİ'!U16*PUANTAJ!AJ29)","v":0},{"$f":"PUANTAJ!AK29","v":0},{"$f":"('PERSONEL BİLGİ GİRİŞİ'!U16*(PUANTAJ!AK29))","v":0},{"$f":"PUANTAJ!AL29","v":0},{"$f":"('PERSONEL BİLGİ GİRİŞİ'!R16*(P16))","v":0},{"$f":"IF('PERSONEL BİLGİ GİRİŞİ'!AV27=\"YOK\",0,IF('PERSONEL BİLGİ GİRİŞİ'!AS27=\"VAR\",('ANA SAYFA'!$T$11),(0)))","v":0},{"$f":"('PERSONEL BİLGİ GİRİŞİ'!U27+'PERSONEL BİLGİ GİRİŞİ'!V27)*'ANA SAYFA'!$Q$9","v":0},{"$f":"IF('PERSONEL BİLGİ GİRİŞİ'!AV27=\"YOK\",0,'PERSONEL BİLGİ GİRİŞİ'!AE27*G16)","v":0},{"$f":"IF('PERSONEL BİLGİ GİRİŞİ'!AV27=\"YOK\",0,'PERSONEL BİLGİ GİRİŞİ'!AF27*G16)","v":0},null,null,null,null,null,{"$f":"IF(PUANTAJ!AX29>0,D16*1.6/7.5*PUANTAJ!AX29,0)","v":0},{"$f":"IF('PERSONEL BİLGİ GİRİŞİ'!AU27=\"YOK\",0,IF('PERSONEL BİLGİ GİRİŞİ'!AK27=\"VAR\",('ANA SAYFA'!$Q$17),(0)))","v":0},{"$f":"IF('PERSONEL BİLGİ GİRİŞİ'!AV27=\"YOK\",0,IF('PERSONEL BİLGİ GİRİŞİ'!AN27=\"VAR\",('ANA SAYFA'!$T$10),(0)))","v":0},{"$f":"IF('PERSONEL BİLGİ GİRİŞİ'!AV27=\"YOK\",0,IF('PERSONEL BİLGİ GİRİŞİ'!AR27=\"VAR\",('ANA SAYFA'!$T$13),(0)))","v":0},{"$f":"IF(I16=0,0,'ANA SAYFA'!$J$16)","v":0},{"$f":"'Vergi Matrahları'!E15","v":0},{"$f":"IF(AF16<='ANA SAYFA'!$P$19,AE16*15%,IF(AF16<='ANA SAYFA'!$Q$19,((AE16-(AF16-'ANA SAYFA'!$P$19))*15%)+(AF16-'ANA SAYFA'!$P$19)*20%,IF(AF16<='ANA SAYFA'!$P$20,AE16*20%,IF(AF16<=('ANA SAYFA'!$R$20),((AE16-(AF16-'ANA SAYFA'!$P$20))*20%)+(AF16-'ANA SAYFA'!$P$20)*27%,IF(AF16<='ANA SAYFA'!$P$21,AE16*27%)))))-'ek bordro'!K15","v":0},{"$f":"IF(I16=0,0,('ANA SAYFA'!$J$15)*0.00759)-'ek bordro'!L15","v":0},{"$f":"PUANTAJ!AM29","v":0},{"$f":"K16+M16+O16+Q16+'PERSONEL BİLGİ GİRİŞİ'!V16-'PERSONEL BİLGİ GİRİŞİ'!X16+'ek bordro'!D15","v":0},{"$f":"AJ16-AZ16-BA16+'ek bordro'!E15-'PERSONEL BİLGİ GİRİŞİ'!AY16","v":0},{"$f":"IF(AN16<='ANA SAYFA'!$P$19,AK16*15%,IF(AN16<='ANA SAYFA'!$Q$19,((AK16-(AN16-'ANA SAYFA'!$P$19))*15%)+(AN16-'ANA SAYFA'!$P$19)*20%,IF(AN16<='ANA SAYFA'!$P$20,AK16*20%,IF(AN16<=('ANA SAYFA'!$Q$20),((AK16-(AN16-'ANA SAYFA'!$P$20))*20%)+(AN16-'ANA SAYFA'!$P$20)*27%,IF(AN16<='ANA SAYFA'!$P$21,AK16*27%)))))","v":0},0,{"$f":"'Vergi Matrahları'!D15","v":0},{"$f":"IF((AL16-AG16)<=0,0,AL16-AG16+'ek bordro'!G15)","v":0},{"$f":"IF(AJ16<='ANA SAYFA'!$J$15,0,AM16-AH16+'ek bordro'!H15)","v":0},{"$f":"IF(A16=\"\",0,IF((PUANTAJ!AV29+PUANTAJ!AR29)>1,' BORDRO HAZIRLIK'!AJ16,IF(AND(PUANTAJ!AV29=0,PUANTAJ!AM29<=140),'ANA SAYFA'!$J$15,IF(AND(COUNTA(PUANTAJ!D29:AH29)>=28,(AJ16<'ANA SAYFA'!$J$15)),'ANA SAYFA'!$J$15,AJ16))))+'ek bordro'!I26","v":0},{"$f":"IF(AQ16='ANA SAYFA'!$J$15,('ANA SAYFA'!$J$15*9/100)-(AJ16*9/100),(0))","v":0},{"$f":"ROUND(IF('PERSONEL BİLGİ GİRİŞİ'!AM16=\"VAR\",(AJ16*3/100),(0)),0)","v":0},{"$f":"ROUND(IF('PERSONEL BİLGİ GİRİŞİ'!AO16=\"VAR\",(BG16/4),(0)),2)","v":0},{"$f":"IF(NAFAKA!F16>1,NAFAKA!F16,IF('PERSONEL BİLGİ GİRİŞİ'!AT16=\"VAR\",(BG16/4),(0)))","v":0},{"$f":"ROUND(IF('PERSONEL BİLGİ GİRİŞİ'!BE16=\"VAR\",(((100*'ANA SAYFA'!$H$15))),(0)),2)","v":0},{"$f":"ROUND(IF('PERSONEL BİLGİ GİRİŞİ'!BD16=\"VAR\",((1500*'ANA SAYFA'!$H$15/4)),(0)),2)","v":0},{"$f":"IF(AQ16='ANA SAYFA'!$J$15,('ANA SAYFA'!$J$15*5/100)-(AJ16*5/100),(0))","v":0},{"$f":"IF(AQ16='ANA SAYFA'!$J$15,'ANA SAYFA'!$J$15*11/100+(AR16),(AQ16*11/100)+IF(AJ16>1,'Ödeme Emri'!$E$34,(0)))+'Ödeme Emri'!$L$37","v":0},0,0,{"$f":"IF(AQ16='ANA SAYFA'!$J$15,AQ16*7.5/100+(AX16),AJ16*7.5/100)","v":0},0,null,null,{"$f":"IF(AO16>='PERSONEL BİLGİ GİRİŞİ'!AA27,'PERSONEL BİLGİ GİRİŞİ'!AA27,IF('PERSONEL BİLGİ GİRİŞİ'!AA27,AO16))","v":0},0,0]
[{"$f":"PUANTAJ!A31","v":""},{"$f":"PUANTAJ!B31","v":" "},{"$f":"'PERSONEL BİLGİ GİRİŞİ'!H17","v":0},{"$f":"'PERSONEL BİLGİ GİRİŞİ'!P29","v":0},0,{"$f":"'PERSONEL BİLGİ GİRİŞİ'!Q17","v":0},{"$f":"PUANTAJ!AI31","v":0},{"$f":"PUANTAJ!AU31","v":0},{"$f":"PUANTAJ!AT31-PUANTAJ!AP31","v":0},{"$f":"PUANTAJ!AI31","v":0},{"$f":"('PERSONEL BİLGİ GİRİŞİ'!R17*(PUANTAJ!AI31))","v":0},{"$f":"PUANTAJ!AJ31","v":0},{"$f":"('PERSONEL BİLGİ GİRİŞİ'!U17*PUANTAJ!AJ31)","v":0},{"$f":"PUANTAJ!AK31","v":0},{"$f":"('PERSONEL BİLGİ GİRİŞİ'!U17*(PUANTAJ!AK31))","v":0},{"$f":"PUANTAJ!AL31","v":0},{"$f":"('PERSONEL BİLGİ GİRİŞİ'!R17*(P17))","v":0},{"$f":"IF('PERSONEL BİLGİ GİRİŞİ'!AV29=\"YOK\",0,IF('PERSONEL BİLGİ GİRİŞİ'!AS29=\"VAR\",('ANA SAYFA'!$T$11),(0)))","v":0},{"$f":"('PERSONEL BİLGİ GİRİŞİ'!U29+'PERSONEL BİLGİ GİRİŞİ'!V29)*'ANA SAYFA'!$Q$9","v":0},{"$f":"IF('PERSONEL BİLGİ GİRİŞİ'!AV29=\"YOK\",0,'PERSONEL BİLGİ GİRİŞİ'!AE29*G17)","v":0},{"$f":"IF('PERSONEL BİLGİ GİRİŞİ'!AV29=\"YOK\",0,'PERSONEL BİLGİ GİRİŞİ'!AF29*G17)","v":0},null,null,null,null,null,{"$f":"IF(PUANTAJ!AX31>0,D17*1.6/7.5*PUANTAJ!AX31,0)","v":0},{"$f":"IF('PERSONEL BİLGİ GİRİŞİ'!AU29=\"YOK\",0,IF('PERSONEL BİLGİ GİRİŞİ'!AK29=\"VAR\",('ANA SAYFA'!$Q$17),(0)))","v":0},{"$f":"IF('PERSONEL BİLGİ GİRİŞİ'!AV29=\"YOK\",0,IF('PERSONEL BİLGİ GİRİŞİ'!AN29=\"VAR\",('ANA SAYFA'!$T$10),(0)))","v":0},{"$f":"IF('PERSONEL BİLGİ GİRİŞİ'!AV29=\"YOK\",0,IF('PERSONEL BİLGİ GİRİŞİ'!AR29=\"VAR\",('ANA SAYFA'!$T$13),(0)))","v":0},{"$f":"IF(I17=0,0,'ANA SAYFA'!$J$16)","v":0},{"$f":"'Vergi Matrahları'!E16","v":0},{"$f":"IF(AF17<='ANA SAYFA'!$P$19,AE17*15%,IF(AF17<='ANA SAYFA'!$Q$19,((AE17-(AF17-'ANA SAYFA'!$P$19))*15%)+(AF17-'ANA SAYFA'!$P$19)*20%,IF(AF17<='ANA SAYFA'!$P$20,AE17*20%,IF(AF17<=('ANA SAYFA'!$R$20),((AE17-(AF17-'ANA SAYFA'!$P$20))*20%)+(AF17-'ANA SAYFA'!$P$20)*27%,IF(AF17<='ANA SAYFA'!$P$21,AE17*27%)))))-'ek bordro'!K16","v":0},{"$f":"IF(I17=0,0,('ANA SAYFA'!$J$15)*0.00759)-'ek bordro'!L16","v":0},{"$f":"PUANTAJ!AM31","v":0},{"$f":"K17+M17+O17+Q17+'PERSONEL BİLGİ GİRİŞİ'!V17-'PERSONEL BİLGİ GİRİŞİ'!X17+'ek bordro'!D16","v":0},{"$f":"AJ17-AZ17-BA17+'ek bordro'!E16-'PERSONEL BİLGİ GİRİŞİ'!AY17","v":0},{"$f":"IF(AN17<='ANA SAYFA'!$P$19,AK17*15%,IF(AN17<='ANA SAYFA'!$Q$19,((AK17-(AN17-'ANA SAYFA'!$P$19))*15%)+(AN17-'ANA SAYFA'!$P$19)*20%,IF(AN17<='ANA SAYFA'!$P$20,AK17*20%,IF(AN17<=('ANA SAYFA'!$Q$20),((AK17-(AN17-'ANA SAYFA'!$P$20))*20%)+(AN17-'ANA SAYFA'!$P$20)*27%,IF(AN17<='ANA SAYFA'!$P$21,AK17*27%)))))","v":0},0,{"$f":"'Vergi Matrahları'!D16","v":0},{"$f":"IF((AL17-AG17)<=0,0,AL17-AG17+'ek bordro'!G16)","v":0},{"$f":"IF(AJ17<='ANA SAYFA'!$J$15,0,AM17-AH17+'ek bordro'!H16)","v":0},{"$f":"IF(A17=\"\",0,IF((PUANTAJ!AV31+PUANTAJ!AR31)>1,' BORDRO HAZIRLIK'!AJ17,IF(AND(PUANTAJ!AV31=0,PUANTAJ!AM31<=140),'ANA SAYFA'!$J$15,IF(AND(COUNTA(PUANTAJ!D31:AH31)>=28,(AJ17<'ANA SAYFA'!$J$15)),'ANA SAYFA'!$J$15,AJ17))))+'ek bordro'!I28","v":0},{"$f":"IF(AQ17='ANA SAYFA'!$J$15,('ANA SAYFA'!$J$15*9/100)-(AJ17*9/100),(0))","v":0},{"$f":"ROUND(IF('PERSONEL BİLGİ GİRİŞİ'!AM17=\"VAR\",(AJ17*3/100),(0)),0)","v":0},{"$f":"ROUND(IF('PERSONEL BİLGİ GİRİŞİ'!AO17=\"VAR\",(BG17/4),(0)),2)","v":0},{"$f":"IF(NAFAKA!F17>1,NAFAKA!F17,IF('PERSONEL BİLGİ GİRİŞİ'!AT17=\"VAR\",(BG17/4),(0)))","v":0},{"$f":"ROUND(IF('PERSONEL BİLGİ GİRİŞİ'!BE17=\"VAR\",(((100*'ANA SAYFA'!$H$15))),(0)),2)","v":0},{"$f":"ROUND(IF('PERSONEL BİLGİ GİRİŞİ'!BD17=\"VAR\",((1500*'ANA SAYFA'!$H$15/4)),(0)),2)","v":0},{"$f":"IF(AQ17='ANA SAYFA'!$J$15,('ANA SAYFA'!$J$15*5/100)-(AJ17*5/100),(0))","v":0},{"$f":"IF(AQ17='ANA SAYFA'!$J$15,'ANA SAYFA'!$J$15*11/100+(AR17),(AQ17*11/100)+IF(AJ17>1,'Ödeme Emri'!$E$34,(0)))+'Ödeme Emri'!$L$37","v":0},0,0,{"$f":"IF(AQ17='ANA SAYFA'!$J$15,AQ17*7.5/100+(AX17),AJ17*7.5/100)","v":0},0,null,null,{"$f":"IF(AO17>='PERSONEL BİLGİ GİRİŞİ'!AA29,'PERSONEL BİLGİ GİRİŞİ'!AA29,IF('PERSONEL BİLGİ GİRİŞİ'!AA29,AO17))","v":0},0,0]
[{"$f":"PUANTAJ!A33","v":""},{"$f":"PUANTAJ!B33","v":" "},{"$f":"'PERSONEL BİLGİ GİRİŞİ'!H18","v":0},{"$f":"'PERSONEL BİLGİ GİRİŞİ'!P31","v":0},0,{"$f":"'PERSONEL BİLGİ GİRİŞİ'!Q18","v":0},{"$f":"PUANTAJ!AI33","v":0},{"$f":"PUANTAJ!AU33","v":0},{"$f":"PUANTAJ!AT33-PUANTAJ!AP33","v":0},{"$f":"PUANTAJ!AI33","v":0},{"$f":"('PERSONEL BİLGİ GİRİŞİ'!R18*(PUANTAJ!AI33))","v":0},{"$f":"PUANTAJ!AJ33","v":0},{"$f":"('PERSONEL BİLGİ GİRİŞİ'!U18*PUANTAJ!AJ33)","v":0},{"$f":"PUANTAJ!AK33","v":0},{"$f":"('PERSONEL BİLGİ GİRİŞİ'!U18*(PUANTAJ!AK33))","v":0},{"$f":"PUANTAJ!AL33","v":0},{"$f":"('PERSONEL BİLGİ GİRİŞİ'!R18*(P18))","v":0},{"$f":"IF('PERSONEL BİLGİ GİRİŞİ'!AV31=\"YOK\",0,IF('PERSONEL BİLGİ GİRİŞİ'!AS31=\"VAR\",('ANA SAYFA'!$T$11),(0)))","v":0},{"$f":"('PERSONEL BİLGİ GİRİŞİ'!U31+'PERSONEL BİLGİ GİRİŞİ'!V31)*'ANA SAYFA'!$Q$9","v":0},{"$f":"IF('PERSONEL BİLGİ GİRİŞİ'!AV31=\"YOK\",0,'PERSONEL BİLGİ GİRİŞİ'!AE31*G18)","v":0},{"$f":"IF('PERSONEL BİLGİ GİRİŞİ'!AV31=\"YOK\",0,'PERSONEL BİLGİ GİRİŞİ'!AF31*G18)","v":0},null,null,null,null,null,{"$f":"IF(PUANTAJ!AX33>0,D18*1.6/7.5*PUANTAJ!AX33,0)","v":0},{"$f":"IF('PERSONEL BİLGİ GİRİŞİ'!AU31=\"YOK\",0,IF('PERSONEL BİLGİ GİRİŞİ'!AK31=\"VAR\",('ANA SAYFA'!$Q$17),(0)))","v":0},{"$f":"IF('PERSONEL BİLGİ GİRİŞİ'!AV31=\"YOK\",0,IF('PERSONEL BİLGİ GİRİŞİ'!AN31=\"VAR\",('ANA SAYFA'!$T$10),(0)))","v":0},{"$f":"IF('PERSONEL BİLGİ GİRİŞİ'!AV31=\"YOK\",0,IF('PERSONEL BİLGİ GİRİŞİ'!AR31=\"VAR\",('ANA SAYFA'!$T$13),(0)))","v":0},{"$f":"IF(I18=0,0,'ANA SAYFA'!$J$16)","v":0},{"$f":"'Vergi Matrahları'!E17","v":0},{"$f":"IF(AF18<='ANA SAYFA'!$P$19,AE18*15%,IF(AF18<='ANA SAYFA'!$Q$19,((AE18-(AF18-'ANA SAYFA'!$P$19))*15%)+(AF18-'ANA SAYFA'!$P$19)*20%,IF(AF18<='ANA SAYFA'!$P$20,AE18*20%,IF(AF18<=('ANA SAYFA'!$R$20),((AE18-(AF18-'ANA SAYFA'!$P$20))*20%)+(AF18-'ANA SAYFA'!$P$20)*27%,IF(AF18<='ANA SAYFA'!$P$21,AE18*27%)))))-'ek bordro'!K17","v":0},{"$f":"IF(I18=0,0,('ANA SAYFA'!$J$15)*0.00759)-'ek bordro'!L17","v":0},{"$f":"PUANTAJ!AM33","v":0},{"$f":"K18+M18+O18+Q18+'PERSONEL BİLGİ GİRİŞİ'!V18-'PERSONEL BİLGİ GİRİŞİ'!X18+'ek bordro'!D17","v":0},{"$f":"AJ18-AZ18-BA18+'ek bordro'!E17-'PERSONEL BİLGİ GİRİŞİ'!AY18","v":0},{"$f":"IF(AN18<='ANA SAYFA'!$P$19,AK18*15%,IF(AN18<='ANA SAYFA'!$Q$19,((AK18-(AN18-'ANA SAYFA'!$P$19))*15%)+(AN18-'ANA SAYFA'!$P$19)*20%,IF(AN18<='ANA SAYFA'!$P$20,AK18*20%,IF(AN18<=('ANA SAYFA'!$Q$20),((AK18-(AN18-'ANA SAYFA'!$P$20))*20%)+(AN18-'ANA SAYFA'!$P$20)*27%,IF(AN18<='ANA SAYFA'!$P$21,AK18*27%)))))","v":0},0,{"$f":"'Vergi Matrahları'!D17","v":0},{"$f":"IF((AL18-AG18)<=0,0,AL18-AG18+'ek bordro'!G17)","v":0},{"$f":"IF(AJ18<='ANA SAYFA'!$J$15,0,AM18-AH18+'ek bordro'!H17)","v":0},{"$f":"IF(A18=\"\",0,IF((PUANTAJ!AV33+PUANTAJ!AR33)>1,' BORDRO HAZIRLIK'!AJ18,IF(AND(PUANTAJ!AV33=0,PUANTAJ!AM33<=140),'ANA SAYFA'!$J$15,IF(AND(COUNTA(PUANTAJ!D33:AH33)>=28,(AJ18<'ANA SAYFA'!$J$15)),'ANA SAYFA'!$J$15,AJ18))))+'ek bordro'!I30","v":0},{"$f":"IF(AQ18='ANA SAYFA'!$J$15,('ANA SAYFA'!$J$15*9/100)-(AJ18*9/100),(0))","v":0},{"$f":"ROUND(IF('PERSONEL BİLGİ GİRİŞİ'!AM18=\"VAR\",(AJ18*3/100),(0)),0)","v":0},{"$f":"ROUND(IF('PERSONEL BİLGİ GİRİŞİ'!AO18=\"VAR\",(BG18/4),(0)),2)","v":0},{"$f":"IF(NAFAKA!F18>1,NAFAKA!F18,IF('PERSONEL BİLGİ GİRİŞİ'!AT18=\"VAR\",(BG18/4),(0)))","v":0},{"$f":"ROUND(IF('PERSONEL BİLGİ GİRİŞİ'!BE18=\"VAR\",(((100*'ANA SAYFA'!$H$15))),(0)),2)","v":0},{"$f":"ROUND(IF('PERSONEL BİLGİ GİRİŞİ'!BD18=\"VAR\",((1500*'ANA SAYFA'!$H$15/4)),(0)),2)","v":0},{"$f":"IF(AQ18='ANA SAYFA'!$J$15,('ANA SAYFA'!$J$15*5/100)-(AJ18*5/100),(0))","v":0},{"$f":"IF(AQ18='ANA SAYFA'!$J$15,'ANA SAYFA'!$J$15*11/100+(AR18),(AQ18*11/100)+IF(AJ18>1,'Ödeme Emri'!$E$34,(0)))+'Ödeme Emri'!$L$37","v":0},0,0,{"$f":"IF(AQ18='ANA SAYFA'!$J$15,AQ18*7.5/100+(AX18),AJ18*7.5/100)","v":0},0,null,null,{"$f":"IF(AO18>='PERSONEL BİLGİ GİRİŞİ'!AA31,'PERSONEL BİLGİ GİRİŞİ'!AA31,IF('PERSONEL BİLGİ GİRİŞİ'!AA31,AO18))","v":0},0,0]
[{"$f":"PUANTAJ!A35","v":""},{"$f":"PUANTAJ!B35","v":" "},{"$f":"'PERSONEL BİLGİ GİRİŞİ'!H19","v":0},{"$f":"'PERSONEL BİLGİ GİRİŞİ'!P33","v":0},0,{"$f":"'PERSONEL BİLGİ GİRİŞİ'!Q19","v":0},{"$f":"PUANTAJ!AI35","v":0},{"$f":"PUANTAJ!AU35","v":0},{"$f":"PUANTAJ!AT35-PUANTAJ!AP35","v":0},{"$f":"PUANTAJ!AI35","v":0},{"$f":"('PERSONEL BİLGİ GİRİŞİ'!R19*(PUANTAJ!AI35))","v":0},{"$f":"PUANTAJ!AJ35","v":0},{"$f":"('PERSONEL BİLGİ GİRİŞİ'!U19*PUANTAJ!AJ35)","v":0},{"$f":"PUANTAJ!AK35","v":0},{"$f":"('PERSONEL BİLGİ GİRİŞİ'!U19*(PUANTAJ!AK35))","v":0},{"$f":"PUANTAJ!AL35","v":0},{"$f":"('PERSONEL BİLGİ GİRİŞİ'!R19*(P19))","v":0},{"$f":"IF('PERSONEL BİLGİ GİRİŞİ'!AV33=\"YOK\",0,IF('PERSONEL BİLGİ GİRİŞİ'!AS33=\"VAR\",('ANA SAYFA'!$T$11),(0)))","v":0},{"$f":"('PERSONEL BİLGİ GİRİŞİ'!U33+'PERSONEL BİLGİ GİRİŞİ'!V33)*'ANA SAYFA'!$Q$9","v":0},{"$f":"IF('PERSONEL BİLGİ GİRİŞİ'!AV33=\"YOK\",0,'PERSONEL BİLGİ GİRİŞİ'!AE33*G19)","v":0},{"$f":"IF('PERSONEL BİLGİ GİRİŞİ'!AV33=\"YOK\",0,'PERSONEL BİLGİ GİRİŞİ'!AF33*G19)","v":0},null,null,null,null,null,{"$f":"IF(PUANTAJ!AX35>0,D19*1.6/7.5*PUANTAJ!AX35,0)","v":0},{"$f":"IF('PERSONEL BİLGİ GİRİŞİ'!AU33=\"YOK\",0,IF('PERSONEL BİLGİ GİRİŞİ'!AK33=\"VAR\",('ANA SAYFA'!$Q$17),(0)))","v":0},{"$f":"IF('PERSONEL BİLGİ GİRİŞİ'!AV33=\"YOK\",0,IF('PERSONEL BİLGİ GİRİŞİ'!AN33=\"VAR\",('ANA SAYFA'!$T$10),(0)))","v":0},{"$f":"IF('PERSONEL BİLGİ GİRİŞİ'!AV33=\"YOK\",0,IF('PERSONEL BİLGİ GİRİŞİ'!AR33=\"VAR\",('ANA SAYFA'!$T$13),(0)))","v":0},{"$f":"IF(I19=0,0,'ANA SAYFA'!$J$16)","v":0},{"$f":"'Vergi Matrahları'!E18","v":0},{"$f":"IF(AF19<='ANA SAYFA'!$P$19,AE19*15%,IF(AF19<='ANA SAYFA'!$Q$19,((AE19-(AF19-'ANA SAYFA'!$P$19))*15%)+(AF19-'ANA SAYFA'!$P$19)*20%,IF(AF19<='ANA SAYFA'!$P$20,AE19*20%,IF(AF19<=('ANA SAYFA'!$R$20),((AE19-(AF19-'ANA SAYFA'!$P$20))*20%)+(AF19-'ANA SAYFA'!$P$20)*27%,IF(AF19<='ANA SAYFA'!$P$21,AE19*27%)))))-'ek bordro'!K18","v":0},{"$f":"IF(I19=0,0,('ANA SAYFA'!$J$15)*0.00759)-'ek bordro'!L18","v":0},{"$f":"PUANTAJ!AM35","v":0},{"$f":"K19+M19+O19+Q19+'PERSONEL BİLGİ GİRİŞİ'!V19-'PERSONEL BİLGİ GİRİŞİ'!X19+'ek bordro'!D18","v":0},{"$f":"AJ19-AZ19-BA19+'ek bordro'!E18-'PERSONEL BİLGİ GİRİŞİ'!AY19","v":0},{"$f":"IF(AN19<='ANA SAYFA'!$P$19,AK19*15%,IF(AN19<='ANA SAYFA'!$Q$19,((AK19-(AN19-'ANA SAYFA'!$P$19))*15%)+(AN19-'ANA SAYFA'!$P$19)*20%,IF(AN19<='ANA SAYFA'!$P$20,AK19*20%,IF(AN19<=('ANA SAYFA'!$Q$20),((AK19-(AN19-'ANA SAYFA'!$P$20))*20%)+(AN19-'ANA SAYFA'!$P$20)*27%,IF(AN19<='ANA SAYFA'!$P$21,AK19*27%)))))","v":0},0,{"$f":"'Vergi Matrahları'!D18","v":0},{"$f":"IF((AL19-AG19)<=0,0,AL19-AG19+'ek bordro'!G18)","v":0},{"$f":"IF(AJ19<='ANA SAYFA'!$J$15,0,AM19-AH19+'ek bordro'!H18)","v":0},{"$f":"IF(A19=\"\",0,IF((PUANTAJ!AV35+PUANTAJ!AR35)>1,' BORDRO HAZIRLIK'!AJ19,IF(AND(PUANTAJ!AV35=0,PUANTAJ!AM35<=140),'ANA SAYFA'!$J$15,IF(AND(COUNTA(PUANTAJ!D35:AH35)>=28,(AJ19<'ANA SAYFA'!$J$15)),'ANA SAYFA'!$J$15,AJ19))))+'ek bordro'!I32","v":0},{"$f":"IF(AQ19='ANA SAYFA'!$J$15,('ANA SAYFA'!$J$15*9/100)-(AJ19*9/100),(0))","v":0},{"$f":"ROUND(IF('PERSONEL BİLGİ GİRİŞİ'!AM19=\"VAR\",(AJ19*3/100),(0)),0)","v":0},{"$f":"ROUND(IF('PERSONEL BİLGİ GİRİŞİ'!AO19=\"VAR\",(BG19/4),(0)),2)","v":0},{"$f":"IF(NAFAKA!F19>1,NAFAKA!F19,IF('PERSONEL BİLGİ GİRİŞİ'!AT19=\"VAR\",(BG19/4),(0)))","v":0},{"$f":"ROUND(IF('PERSONEL BİLGİ GİRİŞİ'!BE19=\"VAR\",(((100*'ANA SAYFA'!$H$15))),(0)),2)","v":0},{"$f":"ROUND(IF('PERSONEL BİLGİ GİRİŞİ'!BD19=\"VAR\",((1500*'ANA SAYFA'!$H$15/4)),(0)),2)","v":0},{"$f":"IF(AQ19='ANA SAYFA'!$J$15,('ANA SAYFA'!$J$15*5/100)-(AJ19*5/100),(0))","v":0},{"$f":"IF(AQ19='ANA SAYFA'!$J$15,'ANA SAYFA'!$J$15*11/100+(AR19),(AQ19*11/100)+IF(AJ19>1,'Ödeme Emri'!$E$34,(0)))+'Ödeme Emri'!$L$37","v":0},0,0,{"$f":"IF(AQ19='ANA SAYFA'!$J$15,AQ19*7.5/100+(AX19),AJ19*7.5/100)","v":0},0,null,null,{"$f":"IF(AO19>='PERSONEL BİLGİ GİRİŞİ'!AA33,'PERSONEL BİLGİ GİRİŞİ'!AA33,IF('PERSONEL BİLGİ GİRİŞİ'!AA33,AO19))","v":0},0,0]
[{"$f":"PUANTAJ!A37","v":""},{"$f":"PUANTAJ!B37","v":" "},{"$f":"'PERSONEL BİLGİ GİRİŞİ'!H20","v":0},{"$f":"'PERSONEL BİLGİ GİRİŞİ'!P37","v":0},0,{"$f":"'PERSONEL BİLGİ GİRİŞİ'!Q20","v":0},{"$f":"PUANTAJ!AI37","v":0},{"$f":"PUANTAJ!AU37","v":0},{"$f":"PUANTAJ!AT37-PUANTAJ!AP37","v":0},{"$f":"PUANTAJ!AI37","v":0},{"$f":"('PERSONEL BİLGİ GİRİŞİ'!R20*(PUANTAJ!AI37))","v":0},{"$f":"PUANTAJ!AJ37","v":0},{"$f":"('PERSONEL BİLGİ GİRİŞİ'!U20*PUANTAJ!AJ37)","v":0},{"$f":"PUANTAJ!AK37","v":0},{"$f":"('PERSONEL BİLGİ GİRİŞİ'!U20*(PUANTAJ!AK37))","v":0},{"$f":"PUANTAJ!AL37","v":0},{"$f":"('PERSONEL BİLGİ GİRİŞİ'!R20*(P20))","v":0},{"$f":"IF('PERSONEL BİLGİ GİRİŞİ'!AV37=\"YOK\",0,IF('PERSONEL BİLGİ GİRİŞİ'!AS37=\"VAR\",('ANA SAYFA'!$T$11),(0)))","v":0},{"$f":"('PERSONEL BİLGİ GİRİŞİ'!U37+'PERSONEL BİLGİ GİRİŞİ'!V37)*'ANA SAYFA'!$Q$9","v":0},{"$f":"IF('PERSONEL BİLGİ GİRİŞİ'!AV37=\"YOK\",0,'PERSONEL BİLGİ GİRİŞİ'!AE37*G20)","v":0},{"$f":"IF('PERSONEL BİLGİ GİRİŞİ'!AV37=\"YOK\",0,'PERSONEL BİLGİ GİRİŞİ'!AF37*G20)","v":0},null,null,null,null,null,{"$f":"IF(PUANTAJ!AX39>0,D20*1.6/7.5*PUANTAJ!AX39,0)","v":0},{"$f":"IF('PERSONEL BİLGİ GİRİŞİ'!AU37=\"YOK\",0,IF('PERSONEL BİLGİ GİRİŞİ'!AK37=\"VAR\",('ANA SAYFA'!$Q$17),(0)))","v":0},{"$f":"IF('PERSONEL BİLGİ GİRİŞİ'!AV37=\"YOK\",0,IF('PERSONEL BİLGİ GİRİŞİ'!AN37=\"VAR\",('ANA SAYFA'!$T$10),(0)))","v":0},{"$f":"IF('PERSONEL BİLGİ GİRİŞİ'!AV37=\"YOK\",0,IF('PERSONEL BİLGİ GİRİŞİ'!AR37=\"VAR\",('ANA SAYFA'!$T$13),(0)))","v":0},{"$f":"IF(I20=0,0,'ANA SAYFA'!$J$16)","v":0},{"$f":"'Vergi Matrahları'!E19","v":0},{"$f":"IF(AF20<='ANA SAYFA'!$P$19,AE20*15%,IF(AF20<='ANA SAYFA'!$Q$19,((AE20-(AF20-'ANA SAYFA'!$P$19))*15%)+(AF20-'ANA SAYFA'!$P$19)*20%,IF(AF20<='ANA SAYFA'!$P$20,AE20*20%,IF(AF20<=('ANA SAYFA'!$R$20),((AE20-(AF20-'ANA SAYFA'!$P$20))*20%)+(AF20-'ANA SAYFA'!$P$20)*27%,IF(AF20<='ANA SAYFA'!$P$21,AE20*27%)))))-'ek bordro'!K19","v":0},{"$f":"IF(I20=0,0,('ANA SAYFA'!$J$15)*0.00759)-'ek bordro'!L19","v":0},{"$f":"PUANTAJ!AM37","v":0},{"$f":"K20+M20+O20+Q20+'PERSONEL BİLGİ GİRİŞİ'!V20-'PERSONEL BİLGİ GİRİŞİ'!X20+'ek bordro'!D19","v":0},{"$f":"AJ20-AZ20-BA20+'ek bordro'!E19-'PERSONEL BİLGİ GİRİŞİ'!AY20","v":0},{"$f":"IF(AN20<='ANA SAYFA'!$P$19,AK20*15%,IF(AN20<='ANA SAYFA'!$Q$19,((AK20-(AN20-'ANA SAYFA'!$P$19))*15%)+(AN20-'ANA SAYFA'!$P$19)*20%,IF(AN20<='ANA SAYFA'!$P$20,AK20*20%,IF(AN20<=('ANA SAYFA'!$Q$20),((AK20-(AN20-'ANA SAYFA'!$P$20))*20%)+(AN20-'ANA SAYFA'!$P$20)*27%,IF(AN20<='ANA SAYFA'!$P$21,AK20*27%)))))","v":0},0,{"$f":"'Vergi Matrahları'!D19","v":0},{"$f":"IF((AL20-AG20)<=0,0,AL20-AG20+'ek bordro'!G19)","v":0},{"$f":"IF(AJ20<='ANA SAYFA'!$J$15,0,AM20-AH20+'ek bordro'!H19)","v":0},{"$f":"IF(A20=\"\",0,IF((PUANTAJ!AV37+PUANTAJ!AR37)>1,' BORDRO HAZIRLIK'!AJ20,IF(AND(PUANTAJ!AV37=0,PUANTAJ!AM37<=140),'ANA SAYFA'!$J$15,IF(AND(COUNTA(PUANTAJ!D39:AH39)>=28,(AJ20<'ANA SAYFA'!$J$15)),'ANA SAYFA'!$J$15,AJ20))))+'ek bordro'!I36","v":0},{"$f":"IF(AQ20='ANA SAYFA'!$J$15,('ANA SAYFA'!$J$15*9/100)-(AJ20*9/100),(0))","v":0},{"$f":"ROUND(IF('PERSONEL BİLGİ GİRİŞİ'!AM20=\"VAR\",(AJ20*3/100),(0)),0)","v":0},{"$f":"ROUND(IF('PERSONEL BİLGİ GİRİŞİ'!AO20=\"VAR\",(BG20/4),(0)),2)","v":0},{"$f":"IF(NAFAKA!F20>1,NAFAKA!F20,IF('PERSONEL BİLGİ GİRİŞİ'!AT20=\"VAR\",(BG20/4),(0)))","v":0},{"$f":"ROUND(IF('PERSONEL BİLGİ GİRİŞİ'!BE20=\"VAR\",(((100*'ANA SAYFA'!$H$15))),(0)),2)","v":0},{"$f":"ROUND(IF('PERSONEL BİLGİ GİRİŞİ'!BD20=\"VAR\",((1500*'ANA SAYFA'!$H$15/4)),(0)),2)","v":0},{"$f":"IF(AQ20='ANA SAYFA'!$J$15,('ANA SAYFA'!$J$15*5/100)-(AJ20*5/100),(0))","v":0},{"$f":"IF(AQ20='ANA SAYFA'!$J$15,'ANA SAYFA'!$J$15*11/100+(AR20),(AQ20*11/100)+IF(AJ20>1,'Ödeme Emri'!$E$34,(0)))+'Ödeme Emri'!$L$37","v":0},0,0,{"$f":"IF(AQ20='ANA SAYFA'!$J$15,AQ20*7.5/100+(AX20),AJ20*7.5/100)","v":0},0,null,null,{"$f":"IF(AO20>='PERSONEL BİLGİ GİRİŞİ'!AA37,'PERSONEL BİLGİ GİRİŞİ'!AA37,IF('PERSONEL BİLGİ GİRİŞİ'!AA37,AO20))","v":0},0,0]
[{"$f":"PUANTAJ!A39","v":""},{"$f":"PUANTAJ!B39","v":" "},{"$f":"'PERSONEL BİLGİ GİRİŞİ'!H21","v":0},{"$f":"'PERSONEL BİLGİ GİRİŞİ'!P39","v":0},0,{"$f":"'PERSONEL BİLGİ GİRİŞİ'!Q21","v":0},{"$f":"PUANTAJ!AI39","v":0},{"$f":"PUANTAJ!AU39","v":0},{"$f":"PUANTAJ!AT39-PUANTAJ!AP39","v":0},{"$f":"PUANTAJ!AI39","v":0},{"$f":"('PERSONEL BİLGİ GİRİŞİ'!R21*(PUANTAJ!AI39))","v":0},{"$f":"PUANTAJ!AJ39","v":0},{"$f":"('PERSONEL BİLGİ GİRİŞİ'!U21*PUANTAJ!AJ39)","v":0},{"$f":"PUANTAJ!AK39","v":0},{"$f":"('PERSONEL BİLGİ GİRİŞİ'!U21*(PUANTAJ!AK39))","v":0},{"$f":"PUANTAJ!AL39","v":0},{"$f":"('PERSONEL BİLGİ GİRİŞİ'!R21*(P21))","v":0},{"$f":"IF('PERSONEL BİLGİ GİRİŞİ'!AV39=\"YOK\",0,IF('PERSONEL BİLGİ GİRİŞİ'!AS39=\"VAR\",('ANA SAYFA'!$T$11),(0)))","v":0},{"$f":"('PERSONEL BİLGİ GİRİŞİ'!U39+'PERSONEL BİLGİ GİRİŞİ'!V39)*'ANA SAYFA'!$Q$9","v":0},{"$f":"IF('PERSONEL BİLGİ GİRİŞİ'!AV39=\"YOK\",0,'PERSONEL BİLGİ GİRİŞİ'!AE39*G21)","v":0},{"$f":"IF('PERSONEL BİLGİ GİRİŞİ'!AV39=\"YOK\",0,'PERSONEL BİLGİ GİRİŞİ'!AF39*G21)","v":0},null,null,null,null,null,{"$f":"IF(PUANTAJ!AX41>0,D21*1.6/7.5*PUANTAJ!AX41,0)","v":0},{"$f":"IF('PERSONEL BİLGİ GİRİŞİ'!AU39=\"YOK\",0,IF('PERSONEL BİLGİ GİRİŞİ'!AK39=\"VAR\",('ANA SAYFA'!$Q$17),(0)))","v":0},{"$f":"IF('PERSONEL BİLGİ GİRİŞİ'!AV39=\"YOK\",0,IF('PERSONEL BİLGİ GİRİŞİ'!AN39=\"VAR\",('ANA SAYFA'!$T$10),(0)))","v":0},{"$f":"IF('PERSONEL BİLGİ GİRİŞİ'!AV39=\"YOK\",0,IF('PERSONEL BİLGİ GİRİŞİ'!AR39=\"VAR\",('ANA SAYFA'!$T$13),(0)))","v":0},{"$f":"IF(I21=0,0,'ANA SAYFA'!$J$16)","v":0},{"$f":"'Vergi Matrahları'!E20","v":0},{"$f":"IF(AF21<='ANA SAYFA'!$P$19,AE21*15%,IF(AF21<='ANA SAYFA'!$Q$19,((AE21-(AF21-'ANA SAYFA'!$P$19))*15%)+(AF21-'ANA SAYFA'!$P$19)*20%,IF(AF21<='ANA SAYFA'!$P$20,AE21*20%,IF(AF21<=('ANA SAYFA'!$R$20),((AE21-(AF21-'ANA SAYFA'!$P$20))*20%)+(AF21-'ANA SAYFA'!$P$20)*27%,IF(AF21<='ANA SAYFA'!$P$21,AE21*27%)))))-'ek bordro'!K20","v":0},{"$f":"IF(I21=0,0,('ANA SAYFA'!$J$15)*0.00759)-'ek bordro'!L20","v":0},{"$f":"PUANTAJ!AM39","v":0},{"$f":"K21+M21+O21+Q21+'PERSONEL BİLGİ GİRİŞİ'!V21-'PERSONEL BİLGİ GİRİŞİ'!X21+'ek bordro'!D20","v":0},{"$f":"AJ21-AZ21-BA21+'ek bordro'!E20-'PERSONEL BİLGİ GİRİŞİ'!AY21","v":0},{"$f":"IF(AN21<='ANA SAYFA'!$P$19,AK21*15%,IF(AN21<='ANA SAYFA'!$Q$19,((AK21-(AN21-'ANA SAYFA'!$P$19))*15%)+(AN21-'ANA SAYFA'!$P$19)*20%,IF(AN21<='ANA SAYFA'!$P$20,AK21*20%,IF(AN21<=('ANA SAYFA'!$Q$20),((AK21-(AN21-'ANA SAYFA'!$P$20))*20%)+(AN21-'ANA SAYFA'!$P$20)*27%,IF(AN21<='ANA SAYFA'!$P$21,AK21*27%)))))","v":0},0,{"$f":"'Vergi Matrahları'!D20","v":0},{"$f":"IF((AL21-AG21)<=0,0,AL21-AG21+'ek bordro'!G20)","v":0},{"$f":"IF(AJ21<='ANA SAYFA'!$J$15,0,AM21-AH21+'ek bordro'!H20)","v":0},{"$f":"IF(A21=\"\",0,IF((PUANTAJ!AV39+PUANTAJ!AR39)>1,' BORDRO HAZIRLIK'!AJ21,IF(AND(PUANTAJ!AV39=0,PUANTAJ!AM39<=140),'ANA SAYFA'!$J$15,IF(AND(COUNTA(PUANTAJ!D41:AH41)>=28,(AJ21<'ANA SAYFA'!$J$15)),'ANA SAYFA'!$J$15,AJ21))))+'ek bordro'!I38","v":0},{"$f":"IF(AQ21='ANA SAYFA'!$J$15,('ANA SAYFA'!$J$15*9/100)-(AJ21*9/100),(0))","v":0},{"$f":"ROUND(IF('PERSONEL BİLGİ GİRİŞİ'!AM21=\"VAR\",(AJ21*3/100),(0)),0)","v":0},{"$f":"ROUND(IF('PERSONEL BİLGİ GİRİŞİ'!AO21=\"VAR\",(BG21/4),(0)),2)","v":0},{"$f":"IF(NAFAKA!F21>1,NAFAKA!F21,IF('PERSONEL BİLGİ GİRİŞİ'!AT21=\"VAR\",(BG21/4),(0)))","v":0},{"$f":"ROUND(IF('PERSONEL BİLGİ GİRİŞİ'!BE21=\"VAR\",(((100*'ANA SAYFA'!$H$15))),(0)),2)","v":0},{"$f":"ROUND(IF('PERSONEL BİLGİ GİRİŞİ'!BD21=\"VAR\",((1500*'ANA SAYFA'!$H$15/4)),(0)),2)","v":0},{"$f":"IF(AQ21='ANA SAYFA'!$J$15,('ANA SAYFA'!$J$15*5/100)-(AJ21*5/100),(0))","v":0},{"$f":"IF(AQ21='ANA SAYFA'!$J$15,'ANA SAYFA'!$J$15*11/100+(AR21),(AQ21*11/100)+IF(AJ21>1,'Ödeme Emri'!$E$34,(0)))+'Ödeme Emri'!$L$37","v":0},0,0,{"$f":"IF(AQ21='ANA SAYFA'!$J$15,AQ21*7.5/100+(AX21),AJ21*7.5/100)","v":0},0,null,null,{"$f":"IF(AO21>='PERSONEL BİLGİ GİRİŞİ'!AA39,'PERSONEL BİLGİ GİRİŞİ'!AA39,IF('PERSONEL BİLGİ GİRİŞİ'!AA39,AO21))","v":0},0,0]
[{"$f":"PUANTAJ!A41","v":""},{"$f":"PUANTAJ!B41","v":" "},{"$f":"'PERSONEL BİLGİ GİRİŞİ'!H22","v":0},{"$f":"'PERSONEL BİLGİ GİRİŞİ'!P41","v":0},0,{"$f":"'PERSONEL BİLGİ GİRİŞİ'!Q22","v":0},{"$f":"PUANTAJ!AI41","v":0},{"$f":"PUANTAJ!AU41","v":0},{"$f":"PUANTAJ!AT41-PUANTAJ!AP41","v":0},{"$f":"PUANTAJ!AI41","v":0},{"$f":"('PERSONEL BİLGİ GİRİŞİ'!R22*(PUANTAJ!AI41))","v":0},{"$f":"PUANTAJ!AJ41","v":0},{"$f":"('PERSONEL BİLGİ GİRİŞİ'!U22*PUANTAJ!AJ41)","v":0},{"$f":"PUANTAJ!AK41","v":0},{"$f":"('PERSONEL BİLGİ GİRİŞİ'!U22*(PUANTAJ!AK41))","v":0},{"$f":"PUANTAJ!AL41","v":0},{"$f":"('PERSONEL BİLGİ GİRİŞİ'!R22*(P22))","v":0},{"$f":"IF('PERSONEL BİLGİ GİRİŞİ'!AV41=\"YOK\",0,IF('PERSONEL BİLGİ GİRİŞİ'!AS41=\"VAR\",('ANA SAYFA'!$T$11),(0)))","v":0},{"$f":"('PERSONEL BİLGİ GİRİŞİ'!U41+'PERSONEL BİLGİ GİRİŞİ'!V41)*'ANA SAYFA'!$Q$9","v":0},{"$f":"IF('PERSONEL BİLGİ GİRİŞİ'!AV41=\"YOK\",0,'PERSONEL BİLGİ GİRİŞİ'!AE41*G22)","v":0},{"$f":"IF('PERSONEL BİLGİ GİRİŞİ'!AV41=\"YOK\",0,'PERSONEL BİLGİ GİRİŞİ'!AF41*G22)","v":0},null,null,null,null,null,{"$f":"IF(PUANTAJ!AX43>0,D22*1.6/7.5*PUANTAJ!AX43,0)","v":0},{"$f":"IF('PERSONEL BİLGİ GİRİŞİ'!AU41=\"YOK\",0,IF('PERSONEL BİLGİ GİRİŞİ'!AK41=\"VAR\",('ANA SAYFA'!$Q$17),(0)))","v":0},{"$f":"IF('PERSONEL BİLGİ GİRİŞİ'!AV41=\"YOK\",0,IF('PERSONEL BİLGİ GİRİŞİ'!AN41=\"VAR\",('ANA SAYFA'!$T$10),(0)))","v":0},{"$f":"IF('PERSONEL BİLGİ GİRİŞİ'!AV41=\"YOK\",0,IF('PERSONEL BİLGİ GİRİŞİ'!AR41=\"VAR\",('ANA SAYFA'!$T$13),(0)))","v":0},{"$f":"IF(I22=0,0,'ANA SAYFA'!$J$16)","v":0},{"$f":"'Vergi Matrahları'!E21","v":0},{"$f":"IF(AF22<='ANA SAYFA'!$P$19,AE22*15%,IF(AF22<='ANA SAYFA'!$Q$19,((AE22-(AF22-'ANA SAYFA'!$P$19))*15%)+(AF22-'ANA SAYFA'!$P$19)*20%,IF(AF22<='ANA SAYFA'!$P$20,AE22*20%,IF(AF22<=('ANA SAYFA'!$R$20),((AE22-(AF22-'ANA SAYFA'!$P$20))*20%)+(AF22-'ANA SAYFA'!$P$20)*27%,IF(AF22<='ANA SAYFA'!$P$21,AE22*27%)))))-'ek bordro'!K21","v":0},{"$f":"IF(I22=0,0,('ANA SAYFA'!$J$15)*0.00759)-'ek bordro'!L21","v":0},{"$f":"PUANTAJ!AM41","v":0},{"$f":"K22+M22+O22+Q22+'PERSONEL BİLGİ GİRİŞİ'!V22-'PERSONEL BİLGİ GİRİŞİ'!X22+'ek bordro'!D21","v":0},{"$f":"AJ22-AZ22-BA22+'ek bordro'!E21-'PERSONEL BİLGİ GİRİŞİ'!AY22","v":0},{"$f":"IF(AN22<='ANA SAYFA'!$P$19,AK22*15%,IF(AN22<='ANA SAYFA'!$Q$19,((AK22-(AN22-'ANA SAYFA'!$P$19))*15%)+(AN22-'ANA SAYFA'!$P$19)*20%,IF(AN22<='ANA SAYFA'!$P$20,AK22*20%,IF(AN22<=('ANA SAYFA'!$Q$20),((AK22-(AN22-'ANA SAYFA'!$P$20))*20%)+(AN22-'ANA SAYFA'!$P$20)*27%,IF(AN22<='ANA SAYFA'!$P$21,AK22*27%)))))","v":0},0,{"$f":"'Vergi Matrahları'!D21","v":0},{"$f":"IF((AL22-AG22)<=0,0,AL22-AG22+'ek bordro'!G21)","v":0},{"$f":"IF(AJ22<='ANA SAYFA'!$J$15,0,AM22-AH22+'ek bordro'!H21)","v":0},{"$f":"IF(A22=\"\",0,IF((PUANTAJ!AV41+PUANTAJ!AR41)>1,' BORDRO HAZIRLIK'!AJ22,IF(AND(PUANTAJ!AV41=0,PUANTAJ!AM41<=140),'ANA SAYFA'!$J$15,IF(AND(COUNTA(PUANTAJ!D43:AH43)>=28,(AJ22<'ANA SAYFA'!$J$15)),'ANA SAYFA'!$J$15,AJ22))))+'ek bordro'!I40","v":0},{"$f":"IF(AQ22='ANA SAYFA'!$J$15,('ANA SAYFA'!$J$15*9/100)-(AJ22*9/100),(0))","v":0},{"$f":"ROUND(IF('PERSONEL BİLGİ GİRİŞİ'!AM22=\"VAR\",(AJ22*3/100),(0)),0)","v":0},{"$f":"ROUND(IF('PERSONEL BİLGİ GİRİŞİ'!AO22=\"VAR\",(BG22/4),(0)),2)","v":0},{"$f":"IF(NAFAKA!F22>1,NAFAKA!F22,IF('PERSONEL BİLGİ GİRİŞİ'!AT22=\"VAR\",(BG22/4),(0)))","v":0},{"$f":"ROUND(IF('PERSONEL BİLGİ GİRİŞİ'!BE22=\"VAR\",(((100*'ANA SAYFA'!$H$15))),(0)),2)","v":0},{"$f":"ROUND(IF('PERSONEL BİLGİ GİRİŞİ'!BD22=\"VAR\",((1500*'ANA SAYFA'!$H$15/4)),(0)),2)","v":0},{"$f":"IF(AQ22='ANA SAYFA'!$J$15,('ANA SAYFA'!$J$15*5/100)-(AJ22*5/100),(0))","v":0},{"$f":"IF(AQ22='ANA SAYFA'!$J$15,'ANA SAYFA'!$J$15*11/100+(AR22),(AQ22*11/100)+IF(AJ22>1,'Ödeme Emri'!$E$34,(0)))+'Ödeme Emri'!$L$37","v":0},0,0,{"$f":"IF(AQ22='ANA SAYFA'!$J$15,AQ22*7.5/100+(AX22),AJ22*7.5/100)","v":0},0,null,null,{"$f":"IF(AO22>='PERSONEL BİLGİ GİRİŞİ'!AA41,'PERSONEL BİLGİ GİRİŞİ'!AA41,IF('PERSONEL BİLGİ GİRİŞİ'!AA41,AO22))","v":0},0,0]
[{"$f":"PUANTAJ!A43","v":""},{"$f":"PUANTAJ!B43","v":" "},{"$f":"'PERSONEL BİLGİ GİRİŞİ'!H23","v":0},{"$f":"'PERSONEL BİLGİ GİRİŞİ'!P43","v":0},0,{"$f":"'PERSONEL BİLGİ GİRİŞİ'!Q23","v":0},{"$f":"PUANTAJ!AI43","v":0},{"$f":"PUANTAJ!AU43","v":0},{"$f":"PUANTAJ!AT43-PUANTAJ!AP43","v":0},{"$f":"PUANTAJ!AI43","v":0},{"$f":"('PERSONEL BİLGİ GİRİŞİ'!R23*(PUANTAJ!AI43))","v":0},{"$f":"PUANTAJ!AJ43","v":0},{"$f":"('PERSONEL BİLGİ GİRİŞİ'!U23*PUANTAJ!AJ43)","v":0},{"$f":"PUANTAJ!AK43","v":0},{"$f":"('PERSONEL BİLGİ GİRİŞİ'!U23*(PUANTAJ!AK43))","v":0},{"$f":"PUANTAJ!AL43","v":0},{"$f":"('PERSONEL BİLGİ GİRİŞİ'!R23*(P23))","v":0},{"$f":"IF('PERSONEL BİLGİ GİRİŞİ'!AV43=\"YOK\",0,IF('PERSONEL BİLGİ GİRİŞİ'!AS43=\"VAR\",('ANA SAYFA'!$T$11),(0)))","v":0},{"$f":"('PERSONEL BİLGİ GİRİŞİ'!U43+'PERSONEL BİLGİ GİRİŞİ'!V43)*'ANA SAYFA'!$Q$9","v":0},{"$f":"IF('PERSONEL BİLGİ GİRİŞİ'!AV43=\"YOK\",0,'PERSONEL BİLGİ GİRİŞİ'!AE43*G23)","v":0},{"$f":"IF('PERSONEL BİLGİ GİRİŞİ'!AV43=\"YOK\",0,'PERSONEL BİLGİ GİRİŞİ'!AF43*G23)","v":0},null,null,null,null,null,{"$f":"IF(PUANTAJ!AX45>0,D23*1.6/7.5*PUANTAJ!AX45,0)","v":0},{"$f":"IF('PERSONEL BİLGİ GİRİŞİ'!AU43=\"YOK\",0,IF('PERSONEL BİLGİ GİRİŞİ'!AK43=\"VAR\",('ANA SAYFA'!$Q$17),(0)))","v":0},{"$f":"IF('PERSONEL BİLGİ GİRİŞİ'!AV43=\"YOK\",0,IF('PERSONEL BİLGİ GİRİŞİ'!AN43=\"VAR\",('ANA SAYFA'!$T$10),(0)))","v":0},{"$f":"IF('PERSONEL BİLGİ GİRİŞİ'!AV43=\"YOK\",0,IF('PERSONEL BİLGİ GİRİŞİ'!AR43=\"VAR\",('ANA SAYFA'!$T$13),(0)))","v":0},{"$f":"IF(I23=0,0,'ANA SAYFA'!$J$16)","v":0},{"$f":"'Vergi Matrahları'!E22","v":0},{"$f":"IF(AF23<='ANA SAYFA'!$P$19,AE23*15%,IF(AF23<='ANA SAYFA'!$Q$19,((AE23-(AF23-'ANA SAYFA'!$P$19))*15%)+(AF23-'ANA SAYFA'!$P$19)*20%,IF(AF23<='ANA SAYFA'!$P$20,AE23*20%,IF(AF23<=('ANA SAYFA'!$R$20),((AE23-(AF23-'ANA SAYFA'!$P$20))*20%)+(AF23-'ANA SAYFA'!$P$20)*27%,IF(AF23<='ANA SAYFA'!$P$21,AE23*27%)))))-'ek bordro'!K22","v":0},{"$f":"IF(I23=0,0,('ANA SAYFA'!$J$15)*0.00759)-'ek bordro'!L22","v":0},{"$f":"PUANTAJ!AM43","v":0},{"$f":"K23+M23+O23+Q23+'PERSONEL BİLGİ GİRİŞİ'!V23-'PERSONEL BİLGİ GİRİŞİ'!X23+'ek bordro'!D22","v":0},{"$f":"AJ23-AZ23-BA23+'ek bordro'!E22-'PERSONEL BİLGİ GİRİŞİ'!AY23","v":0},{"$f":"IF(AN23<='ANA SAYFA'!$P$19,AK23*15%,IF(AN23<='ANA SAYFA'!$Q$19,((AK23-(AN23-'ANA SAYFA'!$P$19))*15%)+(AN23-'ANA SAYFA'!$P$19)*20%,IF(AN23<='ANA SAYFA'!$P$20,AK23*20%,IF(AN23<=('ANA SAYFA'!$Q$20),((AK23-(AN23-'ANA SAYFA'!$P$20))*20%)+(AN23-'ANA SAYFA'!$P$20)*27%,IF(AN23<='ANA SAYFA'!$P$21,AK23*27%)))))","v":0},0,{"$f":"'Vergi Matrahları'!D22","v":0},{"$f":"IF((AL23-AG23)<=0,0,AL23-AG23+'ek bordro'!G22)","v":0},{"$f":"IF(AJ23<='ANA SAYFA'!$J$15,0,AM23-AH23+'ek bordro'!H22)","v":0},{"$f":"IF(A23=\"\",0,IF((PUANTAJ!AV43+PUANTAJ!AR43)>1,' BORDRO HAZIRLIK'!AJ23,IF(AND(PUANTAJ!AV43=0,PUANTAJ!AM43<=140),'ANA SAYFA'!$J$15,IF(AND(COUNTA(PUANTAJ!D45:AH45)>=28,(AJ23<'ANA SAYFA'!$J$15)),'ANA SAYFA'!$J$15,AJ23))))+'ek bordro'!I42","v":0},{"$f":"IF(AQ23='ANA SAYFA'!$J$15,('ANA SAYFA'!$J$15*9/100)-(AJ23*9/100),(0))","v":0},{"$f":"ROUND(IF('PERSONEL BİLGİ GİRİŞİ'!AM23=\"VAR\",(AJ23*3/100),(0)),0)","v":0},{"$f":"ROUND(IF('PERSONEL BİLGİ GİRİŞİ'!AO23=\"VAR\",(BG23/4),(0)),2)","v":0},{"$f":"IF(NAFAKA!F23>1,NAFAKA!F23,IF('PERSONEL BİLGİ GİRİŞİ'!AT23=\"VAR\",(BG23/4),(0)))","v":0},{"$f":"ROUND(IF('PERSONEL BİLGİ GİRİŞİ'!BE23=\"VAR\",(((100*'ANA SAYFA'!$H$15))),(0)),2)","v":0},{"$f":"ROUND(IF('PERSONEL BİLGİ GİRİŞİ'!BD23=\"VAR\",((1500*'ANA SAYFA'!$H$15/4)),(0)),2)","v":0},{"$f":"IF(AQ23='ANA SAYFA'!$J$15,('ANA SAYFA'!$J$15*5/100)-(AJ23*5/100),(0))","v":0},{"$f":"IF(AQ23='ANA SAYFA'!$J$15,'ANA SAYFA'!$J$15*11/100+(AR23),(AQ23*11/100)+IF(AJ23>1,'Ödeme Emri'!$E$34,(0)))+'Ödeme Emri'!$L$37","v":0},0,0,{"$f":"IF(AQ23='ANA SAYFA'!$J$15,AQ23*7.5/100+(AX23),AJ23*7.5/100)","v":0},0,null,null,{"$f":"IF(AO23>='PERSONEL BİLGİ GİRİŞİ'!AA43,'PERSONEL BİLGİ GİRİŞİ'!AA43,IF('PERSONEL BİLGİ GİRİŞİ'!AA43,AO23))","v":0},0,0]
[{"$f":"PUANTAJ!A45","v":""},{"$f":"PUANTAJ!B45","v":" "},{"$f":"'PERSONEL BİLGİ GİRİŞİ'!H24","v":0},{"$f":"'PERSONEL BİLGİ GİRİŞİ'!P45","v":0},0,{"$f":"'PERSONEL BİLGİ GİRİŞİ'!Q24","v":0},{"$f":"PUANTAJ!AI45","v":0},{"$f":"PUANTAJ!AU45","v":0},{"$f":"PUANTAJ!AT45-PUANTAJ!AP45","v":0},{"$f":"PUANTAJ!AI45","v":0},{"$f":"('PERSONEL BİLGİ GİRİŞİ'!R24*(PUANTAJ!AI45))","v":0},{"$f":"PUANTAJ!AJ45","v":0},{"$f":"('PERSONEL BİLGİ GİRİŞİ'!U24*PUANTAJ!AJ45)","v":0},{"$f":"PUANTAJ!AK45","v":0},{"$f":"('PERSONEL BİLGİ GİRİŞİ'!U24*(PUANTAJ!AK45))","v":0},{"$f":"PUANTAJ!AL45","v":0},{"$f":"('PERSONEL BİLGİ GİRİŞİ'!R24*(P24))","v":0},{"$f":"IF('PERSONEL BİLGİ GİRİŞİ'!AV45=\"YOK\",0,IF('PERSONEL BİLGİ GİRİŞİ'!AS45=\"VAR\",('ANA SAYFA'!$T$11),(0)))","v":0},{"$f":"('PERSONEL BİLGİ GİRİŞİ'!U45+'PERSONEL BİLGİ GİRİŞİ'!V45)*'ANA SAYFA'!$Q$9","v":0},{"$f":"IF('PERSONEL BİLGİ GİRİŞİ'!AV45=\"YOK\",0,'PERSONEL BİLGİ GİRİŞİ'!AE45*G24)","v":0},{"$f":"IF('PERSONEL BİLGİ GİRİŞİ'!AV45=\"YOK\",0,'PERSONEL BİLGİ GİRİŞİ'!AF45*G24)","v":0},null,null,null,null,null,{"$f":"IF(PUANTAJ!AX47>0,D24*1.6/7.5*PUANTAJ!AX47,0)","v":0},{"$f":"IF('PERSONEL BİLGİ GİRİŞİ'!AU45=\"YOK\",0,IF('PERSONEL BİLGİ GİRİŞİ'!AK45=\"VAR\",('ANA SAYFA'!$Q$17),(0)))","v":0},{"$f":"IF('PERSONEL BİLGİ GİRİŞİ'!AV45=\"YOK\",0,IF('PERSONEL BİLGİ GİRİŞİ'!AN45=\"VAR\",('ANA SAYFA'!$T$10),(0)))","v":0},{"$f":"IF('PERSONEL BİLGİ GİRİŞİ'!AV45=\"YOK\",0,IF('PERSONEL BİLGİ GİRİŞİ'!AR45=\"VAR\",('ANA SAYFA'!$T$13),(0)))","v":0},{"$f":"IF(I24=0,0,'ANA SAYFA'!$J$16)","v":0},{"$f":"'Vergi Matrahları'!E23","v":0},{"$f":"IF(AF24<='ANA SAYFA'!$P$19,AE24*15%,IF(AF24<='ANA SAYFA'!$Q$19,((AE24-(AF24-'ANA SAYFA'!$P$19))*15%)+(AF24-'ANA SAYFA'!$P$19)*20%,IF(AF24<='ANA SAYFA'!$P$20,AE24*20%,IF(AF24<=('ANA SAYFA'!$R$20),((AE24-(AF24-'ANA SAYFA'!$P$20))*20%)+(AF24-'ANA SAYFA'!$P$20)*27%,IF(AF24<='ANA SAYFA'!$P$21,AE24*27%)))))-'ek bordro'!K23","v":0},{"$f":"IF(I24=0,0,('ANA SAYFA'!$J$15)*0.00759)-'ek bordro'!L23","v":0},{"$f":"PUANTAJ!AM45","v":0},{"$f":"K24+M24+O24+Q24+'PERSONEL BİLGİ GİRİŞİ'!V24-'PERSONEL BİLGİ GİRİŞİ'!X24+'ek bordro'!D23","v":0},{"$f":"AJ24-AZ24-BA24+'ek bordro'!E23-'PERSONEL BİLGİ GİRİŞİ'!AY24","v":0},{"$f":"IF(AN24<='ANA SAYFA'!$P$19,AK24*15%,IF(AN24<='ANA SAYFA'!$Q$19,((AK24-(AN24-'ANA SAYFA'!$P$19))*15%)+(AN24-'ANA SAYFA'!$P$19)*20%,IF(AN24<='ANA SAYFA'!$P$20,AK24*20%,IF(AN24<=('ANA SAYFA'!$Q$20),((AK24-(AN24-'ANA SAYFA'!$P$20))*20%)+(AN24-'ANA SAYFA'!$P$20)*27%,IF(AN24<='ANA SAYFA'!$P$21,AK24*27%)))))","v":0},0,{"$f":"'Vergi Matrahları'!D23","v":0},{"$f":"IF((AL24-AG24)<=0,0,AL24-AG24+'ek bordro'!G23)","v":0},{"$f":"IF(AJ24<='ANA SAYFA'!$J$15,0,AM24-AH24+'ek bordro'!H23)","v":0},{"$f":"IF(A24=\"\",0,IF((PUANTAJ!AV45+PUANTAJ!AR45)>1,' BORDRO HAZIRLIK'!AJ24,IF(AND(PUANTAJ!AV45=0,PUANTAJ!AM45<=140),'ANA SAYFA'!$J$15,IF(AND(COUNTA(PUANTAJ!D47:AH47)>=28,(AJ24<'ANA SAYFA'!$J$15)),'ANA SAYFA'!$J$15,AJ24))))+'ek bordro'!I44","v":0},{"$f":"IF(AQ24='ANA SAYFA'!$J$15,('ANA SAYFA'!$J$15*9/100)-(AJ24*9/100),(0))","v":0},{"$f":"ROUND(IF('PERSONEL BİLGİ GİRİŞİ'!AM24=\"VAR\",(AJ24*3/100),(0)),0)","v":0},{"$f":"ROUND(IF('PERSONEL BİLGİ GİRİŞİ'!AO24=\"VAR\",(BG24/4),(0)),2)","v":0},{"$f":"IF(NAFAKA!F24>1,NAFAKA!F24,IF('PERSONEL BİLGİ GİRİŞİ'!AT24=\"VAR\",(BG24/4),(0)))","v":0},{"$f":"ROUND(IF('PERSONEL BİLGİ GİRİŞİ'!BE24=\"VAR\",(((100*'ANA SAYFA'!$H$15))),(0)),2)","v":0},{"$f":"ROUND(IF('PERSONEL BİLGİ GİRİŞİ'!BD24=\"VAR\",((1500*'ANA SAYFA'!$H$15/4)),(0)),2)","v":0},{"$f":"IF(AQ24='ANA SAYFA'!$J$15,('ANA SAYFA'!$J$15*5/100)-(AJ24*5/100),(0))","v":0},{"$f":"IF(AQ24='ANA SAYFA'!$J$15,'ANA SAYFA'!$J$15*11/100+(AR24),(AQ24*11/100)+IF(AJ24>1,'Ödeme Emri'!$E$34,(0)))+'Ödeme Emri'!$L$37","v":0},0,0,{"$f":"IF(AQ24='ANA SAYFA'!$J$15,AQ24*7.5/100+(AX24),AJ24*7.5/100)","v":0},0,null,null,{"$f":"IF(AO24>='PERSONEL BİLGİ GİRİŞİ'!AA45,'PERSONEL BİLGİ GİRİŞİ'!AA45,IF('PERSONEL BİLGİ GİRİŞİ'!AA45,AO24))","v":0},0,0]
[{"$f":"PUANTAJ!A47","v":""},{"$f":"PUANTAJ!B47","v":" "},{"$f":"'PERSONEL BİLGİ GİRİŞİ'!H25","v":0},{"$f":"'PERSONEL BİLGİ GİRİŞİ'!P47","v":0},0,{"$f":"'PERSONEL BİLGİ GİRİŞİ'!Q25","v":0},{"$f":"PUANTAJ!AI47","v":0},{"$f":"PUANTAJ!AU47","v":0},{"$f":"PUANTAJ!AT47-PUANTAJ!AP47","v":0},{"$f":"PUANTAJ!AI47","v":0},{"$f":"('PERSONEL BİLGİ GİRİŞİ'!R25*(PUANTAJ!AI47))","v":0},{"$f":"PUANTAJ!AJ47","v":0},{"$f":"('PERSONEL BİLGİ GİRİŞİ'!U25*PUANTAJ!AJ47)","v":0},{"$f":"PUANTAJ!AK47","v":0},{"$f":"('PERSONEL BİLGİ GİRİŞİ'!U25*(PUANTAJ!AK47))","v":0},{"$f":"PUANTAJ!AL47","v":0},{"$f":"('PERSONEL BİLGİ GİRİŞİ'!R25*(P25))","v":0},{"$f":"IF('PERSONEL BİLGİ GİRİŞİ'!AV47=\"YOK\",0,IF('PERSONEL BİLGİ GİRİŞİ'!AS47=\"VAR\",('ANA SAYFA'!$T$11),(0)))","v":0},{"$f":"('PERSONEL BİLGİ GİRİŞİ'!U47+'PERSONEL BİLGİ GİRİŞİ'!V47)*'ANA SAYFA'!$Q$9","v":0},{"$f":"IF('PERSONEL BİLGİ GİRİŞİ'!AV47=\"YOK\",0,'PERSONEL BİLGİ GİRİŞİ'!AE47*G25)","v":0},{"$f":"IF('PERSONEL BİLGİ GİRİŞİ'!AV47=\"YOK\",0,'PERSONEL BİLGİ GİRİŞİ'!AF47*G25)","v":0},null,null,null,null,null,{"$f":"IF(PUANTAJ!AX49>0,D25*1.6/7.5*PUANTAJ!AX49,0)","v":0},{"$f":"IF('PERSONEL BİLGİ GİRİŞİ'!AU47=\"YOK\",0,IF('PERSONEL BİLGİ GİRİŞİ'!AK47=\"VAR\",('ANA SAYFA'!$Q$17),(0)))","v":0},{"$f":"IF('PERSONEL BİLGİ GİRİŞİ'!AV47=\"YOK\",0,IF('PERSONEL BİLGİ GİRİŞİ'!AN47=\"VAR\",('ANA SAYFA'!$T$10),(0)))","v":0},{"$f":"IF('PERSONEL BİLGİ GİRİŞİ'!AV47=\"YOK\",0,IF('PERSONEL BİLGİ GİRİŞİ'!AR47=\"VAR\",('ANA SAYFA'!$T$13),(0)))","v":0},{"$f":"IF(I25=0,0,'ANA SAYFA'!$J$16)","v":0},{"$f":"'Vergi Matrahları'!E24","v":0},{"$f":"IF(AF25<='ANA SAYFA'!$P$19,AE25*15%,IF(AF25<='ANA SAYFA'!$Q$19,((AE25-(AF25-'ANA SAYFA'!$P$19))*15%)+(AF25-'ANA SAYFA'!$P$19)*20%,IF(AF25<='ANA SAYFA'!$P$20,AE25*20%,IF(AF25<=('ANA SAYFA'!$R$20),((AE25-(AF25-'ANA SAYFA'!$P$20))*20%)+(AF25-'ANA SAYFA'!$P$20)*27%,IF(AF25<='ANA SAYFA'!$P$21,AE25*27%)))))-'ek bordro'!K24","v":0},{"$f":"IF(I25=0,0,('ANA SAYFA'!$J$15)*0.00759)-'ek bordro'!L24","v":0},{"$f":"PUANTAJ!AM47","v":0},{"$f":"K25+M25+O25+Q25+'PERSONEL BİLGİ GİRİŞİ'!V25-'PERSONEL BİLGİ GİRİŞİ'!X25+'ek bordro'!D24","v":0},{"$f":"AJ25-AZ25-BA25+'ek bordro'!E24-'PERSONEL BİLGİ GİRİŞİ'!AY25","v":0},{"$f":"IF(AN25<='ANA SAYFA'!$P$19,AK25*15%,IF(AN25<='ANA SAYFA'!$Q$19,((AK25-(AN25-'ANA SAYFA'!$P$19))*15%)+(AN25-'ANA SAYFA'!$P$19)*20%,IF(AN25<='ANA SAYFA'!$P$20,AK25*20%,IF(AN25<=('ANA SAYFA'!$Q$20),((AK25-(AN25-'ANA SAYFA'!$P$20))*20%)+(AN25-'ANA SAYFA'!$P$20)*27%,IF(AN25<='ANA SAYFA'!$P$21,AK25*27%)))))","v":0},0,{"$f":"'Vergi Matrahları'!D24","v":0},{"$f":"IF((AL25-AG25)<=0,0,AL25-AG25+'ek bordro'!G24)","v":0},{"$f":"IF(AJ25<='ANA SAYFA'!$J$15,0,AM25-AH25+'ek bordro'!H24)","v":0},{"$f":"IF(A25=\"\",0,IF((PUANTAJ!AV47+PUANTAJ!AR47)>1,' BORDRO HAZIRLIK'!AJ25,IF(AND(PUANTAJ!AV47=0,PUANTAJ!AM47<=140),'ANA SAYFA'!$J$15,IF(AND(COUNTA(PUANTAJ!D49:AH49)>=28,(AJ25<'ANA SAYFA'!$J$15)),'ANA SAYFA'!$J$15,AJ25))))+'ek bordro'!I46","v":0},{"$f":"IF(AQ25='ANA SAYFA'!$J$15,('ANA SAYFA'!$J$15*9/100)-(AJ25*9/100),(0))","v":0},{"$f":"ROUND(IF('PERSONEL BİLGİ GİRİŞİ'!AM25=\"VAR\",(AJ25*3/100),(0)),0)","v":0},{"$f":"ROUND(IF('PERSONEL BİLGİ GİRİŞİ'!AO25=\"VAR\",(BG25/4),(0)),2)","v":0},{"$f":"IF(NAFAKA!F25>1,NAFAKA!F25,IF('PERSONEL BİLGİ GİRİŞİ'!AT25=\"VAR\",(BG25/4),(0)))","v":0},{"$f":"ROUND(IF('PERSONEL BİLGİ GİRİŞİ'!BE25=\"VAR\",(((100*'ANA SAYFA'!$H$15))),(0)),2)","v":0},{"$f":"ROUND(IF('PERSONEL BİLGİ GİRİŞİ'!BD25=\"VAR\",((1500*'ANA SAYFA'!$H$15/4)),(0)),2)","v":0},{"$f":"IF(AQ25='ANA SAYFA'!$J$15,('ANA SAYFA'!$J$15*5/100)-(AJ25*5/100),(0))","v":0},{"$f":"IF(AQ25='ANA SAYFA'!$J$15,'ANA SAYFA'!$J$15*11/100+(AR25),(AQ25*11/100)+IF(AJ25>1,'Ödeme Emri'!$E$34,(0)))+'Ödeme Emri'!$L$37","v":0},0,0,{"$f":"IF(AQ25='ANA SAYFA'!$J$15,AQ25*7.5/100+(AX25),AJ25*7.5/100)","v":0},0,null,null,{"$f":"IF(AO25>='PERSONEL BİLGİ GİRİŞİ'!AA47,'PERSONEL BİLGİ GİRİŞİ'!AA47,IF('PERSONEL BİLGİ GİRİŞİ'!AA47,AO25))","v":0},0,0]
[{"$f":"PUANTAJ!A49","v":""},{"$f":"PUANTAJ!B49","v":" "},{"$f":"'PERSONEL BİLGİ GİRİŞİ'!H26","v":0},{"$f":"'PERSONEL BİLGİ GİRİŞİ'!P49","v":0},0,{"$f":"'PERSONEL BİLGİ GİRİŞİ'!Q26","v":0},{"$f":"PUANTAJ!AI49","v":0},{"$f":"PUANTAJ!AU49","v":0},{"$f":"PUANTAJ!AT49-PUANTAJ!AP49","v":0},{"$f":"PUANTAJ!AI49","v":0},{"$f":"('PERSONEL BİLGİ GİRİŞİ'!R26*(PUANTAJ!AI49))","v":0},{"$f":"PUANTAJ!AJ49","v":0},{"$f":"('PERSONEL BİLGİ GİRİŞİ'!U26*PUANTAJ!AJ49)","v":0},{"$f":"PUANTAJ!AK49","v":0},{"$f":"('PERSONEL BİLGİ GİRİŞİ'!U26*(PUANTAJ!AK49))","v":0},{"$f":"PUANTAJ!AL49","v":0},{"$f":"('PERSONEL BİLGİ GİRİŞİ'!R26*(P26))","v":0},{"$f":"IF('PERSONEL BİLGİ GİRİŞİ'!AV49=\"YOK\",0,IF('PERSONEL BİLGİ GİRİŞİ'!AS49=\"VAR\",('ANA SAYFA'!$T$11),(0)))","v":0},{"$f":"('PERSONEL BİLGİ GİRİŞİ'!U49+'PERSONEL BİLGİ GİRİŞİ'!V49)*'ANA SAYFA'!$Q$9","v":0},{"$f":"IF('PERSONEL BİLGİ GİRİŞİ'!AV49=\"YOK\",0,'PERSONEL BİLGİ GİRİŞİ'!AE49*G26)","v":0},{"$f":"IF('PERSONEL BİLGİ GİRİŞİ'!AV49=\"YOK\",0,'PERSONEL BİLGİ GİRİŞİ'!AF49*G26)","v":0},null,null,null,null,null,{"$f":"IF(PUANTAJ!AX51>0,D26*1.6/7.5*PUANTAJ!AX51,0)","v":0},{"$f":"IF('PERSONEL BİLGİ GİRİŞİ'!AU49=\"YOK\",0,IF('PERSONEL BİLGİ GİRİŞİ'!AK49=\"VAR\",('ANA SAYFA'!$Q$17),(0)))","v":0},{"$f":"IF('PERSONEL BİLGİ GİRİŞİ'!AV49=\"YOK\",0,IF('PERSONEL BİLGİ GİRİŞİ'!AN49=\"VAR\",('ANA SAYFA'!$T$10),(0)))","v":0},{"$f":"IF('PERSONEL BİLGİ GİRİŞİ'!AV49=\"YOK\",0,IF('PERSONEL BİLGİ GİRİŞİ'!AR49=\"VAR\",('ANA SAYFA'!$T$13),(0)))","v":0},{"$f":"IF(I26=0,0,'ANA SAYFA'!$J$16)","v":0},{"$f":"'Vergi Matrahları'!E25","v":0},{"$f":"IF(AF26<='ANA SAYFA'!$P$19,AE26*15%,IF(AF26<='ANA SAYFA'!$Q$19,((AE26-(AF26-'ANA SAYFA'!$P$19))*15%)+(AF26-'ANA SAYFA'!$P$19)*20%,IF(AF26<='ANA SAYFA'!$P$20,AE26*20%,IF(AF26<=('ANA SAYFA'!$R$20),((AE26-(AF26-'ANA SAYFA'!$P$20))*20%)+(AF26-'ANA SAYFA'!$P$20)*27%,IF(AF26<='ANA SAYFA'!$P$21,AE26*27%)))))-'ek bordro'!K25","v":0},{"$f":"IF(I26=0,0,('ANA SAYFA'!$J$15)*0.00759)-'ek bordro'!L25","v":0},{"$f":"PUANTAJ!AM49","v":0},{"$f":"K26+M26+O26+Q26+'PERSONEL BİLGİ GİRİŞİ'!V26-'PERSONEL BİLGİ GİRİŞİ'!X26+'ek bordro'!D25","v":0},{"$f":"AJ26-AZ26-BA26+'ek bordro'!E25-'PERSONEL BİLGİ GİRİŞİ'!AY26","v":0},{"$f":"IF(AN26<='ANA SAYFA'!$P$19,AK26*15%,IF(AN26<='ANA SAYFA'!$Q$19,((AK26-(AN26-'ANA SAYFA'!$P$19))*15%)+(AN26-'ANA SAYFA'!$P$19)*20%,IF(AN26<='ANA SAYFA'!$P$20,AK26*20%,IF(AN26<=('ANA SAYFA'!$Q$20),((AK26-(AN26-'ANA SAYFA'!$P$20))*20%)+(AN26-'ANA SAYFA'!$P$20)*27%,IF(AN26<='ANA SAYFA'!$P$21,AK26*27%)))))","v":0},0,{"$f":"'Vergi Matrahları'!D25","v":0},{"$f":"IF((AL26-AG26)<=0,0,AL26-AG26+'ek bordro'!G25)","v":0},{"$f":"IF(AJ26<='ANA SAYFA'!$J$15,0,AM26-AH26+'ek bordro'!H25)","v":0},{"$f":"IF(A26=\"\",0,IF((PUANTAJ!AV49+PUANTAJ!AR49)>1,' BORDRO HAZIRLIK'!AJ26,IF(AND(PUANTAJ!AV49=0,PUANTAJ!AM49<=140),'ANA SAYFA'!$J$15,IF(AND(COUNTA(PUANTAJ!D51:AH51)>=28,(AJ26<'ANA SAYFA'!$J$15)),'ANA SAYFA'!$J$15,AJ26))))+'ek bordro'!I48","v":0},{"$f":"IF(AQ26='ANA SAYFA'!$J$15,('ANA SAYFA'!$J$15*9/100)-(AJ26*9/100),(0))","v":0},{"$f":"ROUND(IF('PERSONEL BİLGİ GİRİŞİ'!AM26=\"VAR\",(AJ26*3/100),(0)),0)","v":0},{"$f":"ROUND(IF('PERSONEL BİLGİ GİRİŞİ'!AO26=\"VAR\",(BG26/4),(0)),2)","v":0},{"$f":"IF(NAFAKA!F26>1,NAFAKA!F26,IF('PERSONEL BİLGİ GİRİŞİ'!AT26=\"VAR\",(BG26/4),(0)))","v":0},{"$f":"ROUND(IF('PERSONEL BİLGİ GİRİŞİ'!BE26=\"VAR\",(((100*'ANA SAYFA'!$H$15))),(0)),2)","v":0},{"$f":"ROUND(IF('PERSONEL BİLGİ GİRİŞİ'!BD26=\"VAR\",((1500*'ANA SAYFA'!$H$15/4)),(0)),2)","v":0},{"$f":"IF(AQ26='ANA SAYFA'!$J$15,('ANA SAYFA'!$J$15*5/100)-(AJ26*5/100),(0))","v":0},{"$f":"IF(AQ26='ANA SAYFA'!$J$15,'ANA SAYFA'!$J$15*11/100+(AR26),(AQ26*11/100)+IF(AJ26>1,'Ödeme Emri'!$E$34,(0)))+'Ödeme Emri'!$L$37","v":0},0,0,{"$f":"IF(AQ26='ANA SAYFA'!$J$15,AQ26*7.5/100+(AX26),AJ26*7.5/100)","v":0},0,null,null,{"$f":"IF(AO26>='PERSONEL BİLGİ GİRİŞİ'!AA49,'PERSONEL BİLGİ GİRİŞİ'!AA49,IF('PERSONEL BİLGİ GİRİŞİ'!AA49,AO26))","v":0},0,0]
[{"$f":"PUANTAJ!A51","v":""},{"$f":"PUANTAJ!B51","v":" "},{"$f":"'PERSONEL BİLGİ GİRİŞİ'!H27","v":0},{"$f":"'PERSONEL BİLGİ GİRİŞİ'!P51","v":0},0,{"$f":"'PERSONEL BİLGİ GİRİŞİ'!Q27","v":0},{"$f":"PUANTAJ!AI51","v":0},{"$f":"PUANTAJ!AU51","v":0},{"$f":"PUANTAJ!AT51-PUANTAJ!AP51","v":0},{"$f":"PUANTAJ!AI51","v":0},{"$f":"('PERSONEL BİLGİ GİRİŞİ'!R27*(PUANTAJ!AI51))","v":0},{"$f":"PUANTAJ!AJ51","v":0},{"$f":"('PERSONEL BİLGİ GİRİŞİ'!U27*PUANTAJ!AJ51)","v":0},{"$f":"PUANTAJ!AK51","v":0},{"$f":"('PERSONEL BİLGİ GİRİŞİ'!U27*(PUANTAJ!AK51))","v":0},{"$f":"PUANTAJ!AL51","v":0},{"$f":"('PERSONEL BİLGİ GİRİŞİ'!R27*(P27))","v":0},{"$f":"IF('PERSONEL BİLGİ GİRİŞİ'!AV51=\"YOK\",0,IF('PERSONEL BİLGİ GİRİŞİ'!AS51=\"VAR\",('ANA SAYFA'!$T$11),(0)))","v":0},{"$f":"('PERSONEL BİLGİ GİRİŞİ'!U51+'PERSONEL BİLGİ GİRİŞİ'!V51)*'ANA SAYFA'!$Q$9","v":0},{"$f":"IF('PERSONEL BİLGİ GİRİŞİ'!AV51=\"YOK\",0,'PERSONEL BİLGİ GİRİŞİ'!AE51*G27)","v":0},{"$f":"IF('PERSONEL BİLGİ GİRİŞİ'!AV51=\"YOK\",0,'PERSONEL BİLGİ GİRİŞİ'!AF51*G27)","v":0},null,null,null,null,null,{"$f":"IF(PUANTAJ!AX53>0,D27*1.6/7.5*PUANTAJ!AX53,0)","v":0},{"$f":"IF('PERSONEL BİLGİ GİRİŞİ'!AU51=\"YOK\",0,IF('PERSONEL BİLGİ GİRİŞİ'!AK51=\"VAR\",('ANA SAYFA'!$Q$17),(0)))","v":0},{"$f":"IF('PERSONEL BİLGİ GİRİŞİ'!AV51=\"YOK\",0,IF('PERSONEL BİLGİ GİRİŞİ'!AN51=\"VAR\",('ANA SAYFA'!$T$10),(0)))","v":0},{"$f":"IF('PERSONEL BİLGİ GİRİŞİ'!AV51=\"YOK\",0,IF('PERSONEL BİLGİ GİRİŞİ'!AR51=\"VAR\",('ANA SAYFA'!$T$13),(0)))","v":0},{"$f":"IF(I27=0,0,'ANA SAYFA'!$J$16)","v":0},{"$f":"'Vergi Matrahları'!E26","v":0},{"$f":"IF(AF27<='ANA SAYFA'!$P$19,AE27*15%,IF(AF27<='ANA SAYFA'!$Q$19,((AE27-(AF27-'ANA SAYFA'!$P$19))*15%)+(AF27-'ANA SAYFA'!$P$19)*20%,IF(AF27<='ANA SAYFA'!$P$20,AE27*20%,IF(AF27<=('ANA SAYFA'!$R$20),((AE27-(AF27-'ANA SAYFA'!$P$20))*20%)+(AF27-'ANA SAYFA'!$P$20)*27%,IF(AF27<='ANA SAYFA'!$P$21,AE27*27%)))))-'ek bordro'!K26","v":0},{"$f":"IF(I27=0,0,('ANA SAYFA'!$J$15)*0.00759)-'ek bordro'!L26","v":0},{"$f":"PUANTAJ!AM51","v":0},{"$f":"K27+M27+O27+Q27+'PERSONEL BİLGİ GİRİŞİ'!V27-'PERSONEL BİLGİ GİRİŞİ'!X27+'ek bordro'!D26","v":0},{"$f":"AJ27-AZ27-BA27+'ek bordro'!E26-'PERSONEL BİLGİ GİRİŞİ'!AY27","v":0},{"$f":"IF(AN27<='ANA SAYFA'!$P$19,AK27*15%,IF(AN27<='ANA SAYFA'!$Q$19,((AK27-(AN27-'ANA SAYFA'!$P$19))*15%)+(AN27-'ANA SAYFA'!$P$19)*20%,IF(AN27<='ANA SAYFA'!$P$20,AK27*20%,IF(AN27<=('ANA SAYFA'!$Q$20),((AK27-(AN27-'ANA SAYFA'!$P$20))*20%)+(AN27-'ANA SAYFA'!$P$20)*27%,IF(AN27<='ANA SAYFA'!$P$21,AK27*27%)))))","v":0},0,{"$f":"'Vergi Matrahları'!D26","v":0},{"$f":"IF((AL27-AG27)<=0,0,AL27-AG27+'ek bordro'!G26)","v":0},{"$f":"IF(AJ27<='ANA SAYFA'!$J$15,0,AM27-AH27+'ek bordro'!H26)","v":0},{"$f":"IF(A27=\"\",0,IF((PUANTAJ!AV51+PUANTAJ!AR51)>1,' BORDRO HAZIRLIK'!AJ27,IF(AND(PUANTAJ!AV51=0,PUANTAJ!AM51<=140),'ANA SAYFA'!$J$15,IF(AND(COUNTA(PUANTAJ!D53:AH53)>=28,(AJ27<'ANA SAYFA'!$J$15)),'ANA SAYFA'!$J$15,AJ27))))+'ek bordro'!I50","v":0},{"$f":"IF(AQ27='ANA SAYFA'!$J$15,('ANA SAYFA'!$J$15*9/100)-(AJ27*9/100),(0))","v":0},{"$f":"ROUND(IF('PERSONEL BİLGİ GİRİŞİ'!AM27=\"VAR\",(AJ27*3/100),(0)),0)","v":0},{"$f":"ROUND(IF('PERSONEL BİLGİ GİRİŞİ'!AO27=\"VAR\",(BG27/4),(0)),2)","v":0},{"$f":"IF(NAFAKA!F27>1,NAFAKA!F27,IF('PERSONEL BİLGİ GİRİŞİ'!AT27=\"VAR\",(BG27/4),(0)))","v":0},{"$f":"ROUND(IF('PERSONEL BİLGİ GİRİŞİ'!BE27=\"VAR\",(((100*'ANA SAYFA'!$H$15))),(0)),2)","v":0},{"$f":"ROUND(IF('PERSONEL BİLGİ GİRİŞİ'!BD27=\"VAR\",((1500*'ANA SAYFA'!$H$15/4)),(0)),2)","v":0},{"$f":"IF(AQ27='ANA SAYFA'!$J$15,('ANA SAYFA'!$J$15*5/100)-(AJ27*5/100),(0))","v":0},{"$f":"IF(AQ27='ANA SAYFA'!$J$15,'ANA SAYFA'!$J$15*11/100+(AR27),(AQ27*11/100)+IF(AJ27>1,'Ödeme Emri'!$E$34,(0)))+'Ödeme Emri'!$L$37","v":0},0,0,{"$f":"IF(AQ27='ANA SAYFA'!$J$15,AQ27*7.5/100+(AX27),AJ27*7.5/100)","v":0},0,null,null,{"$f":"IF(AO27>='PERSONEL BİLGİ GİRİŞİ'!AA51,'PERSONEL BİLGİ GİRİŞİ'!AA51,IF('PERSONEL BİLGİ GİRİŞİ'!AA51,AO27))","v":0},0,0]
[{"$f":"PUANTAJ!A53","v":""},{"$f":"PUANTAJ!B53","v":" "},{"$f":"'PERSONEL BİLGİ GİRİŞİ'!H28","v":0},{"$f":"'PERSONEL BİLGİ GİRİŞİ'!P53","v":0},0,{"$f":"'PERSONEL BİLGİ GİRİŞİ'!Q28","v":0},{"$f":"PUANTAJ!AI53","v":0},{"$f":"PUANTAJ!AU53","v":0},{"$f":"PUANTAJ!AT53-PUANTAJ!AP53","v":0},{"$f":"PUANTAJ!AI53","v":0},{"$f":"('PERSONEL BİLGİ GİRİŞİ'!R28*(PUANTAJ!AI53))","v":0},{"$f":"PUANTAJ!AJ53","v":0},{"$f":"('PERSONEL BİLGİ GİRİŞİ'!U28*PUANTAJ!AJ53)","v":0},{"$f":"PUANTAJ!AK53","v":0},{"$f":"('PERSONEL BİLGİ GİRİŞİ'!U28*(PUANTAJ!AK53))","v":0},{"$f":"PUANTAJ!AL53","v":0},{"$f":"('PERSONEL BİLGİ GİRİŞİ'!R28*(P28))","v":0},{"$f":"IF('PERSONEL BİLGİ GİRİŞİ'!AV53=\"YOK\",0,IF('PERSONEL BİLGİ GİRİŞİ'!AS53=\"VAR\",('ANA SAYFA'!$T$11),(0)))","v":0},{"$f":"('PERSONEL BİLGİ GİRİŞİ'!U53+'PERSONEL BİLGİ GİRİŞİ'!V53)*'ANA SAYFA'!$Q$9","v":0},{"$f":"IF('PERSONEL BİLGİ GİRİŞİ'!AV53=\"YOK\",0,'PERSONEL BİLGİ GİRİŞİ'!AE53*G28)","v":0},{"$f":"IF('PERSONEL BİLGİ GİRİŞİ'!AV53=\"YOK\",0,'PERSONEL BİLGİ GİRİŞİ'!AF53*G28)","v":0},null,null,null,null,null,{"$f":"IF(PUANTAJ!AX55>0,D28*1.6/7.5*PUANTAJ!AX55,0)","v":0},{"$f":"IF('PERSONEL BİLGİ GİRİŞİ'!AU53=\"YOK\",0,IF('PERSONEL BİLGİ GİRİŞİ'!AK53=\"VAR\",('ANA SAYFA'!$Q$17),(0)))","v":0},{"$f":"IF('PERSONEL BİLGİ GİRİŞİ'!AV53=\"YOK\",0,IF('PERSONEL BİLGİ GİRİŞİ'!AN53=\"VAR\",('ANA SAYFA'!$T$10),(0)))","v":0},{"$f":"IF('PERSONEL BİLGİ GİRİŞİ'!AV53=\"YOK\",0,IF('PERSONEL BİLGİ GİRİŞİ'!AR53=\"VAR\",('ANA SAYFA'!$T$13),(0)))","v":0},{"$f":"IF(I28=0,0,'ANA SAYFA'!$J$16)","v":0},{"$f":"'Vergi Matrahları'!E27","v":0},{"$f":"IF(AF28<='ANA SAYFA'!$P$19,AE28*15%,IF(AF28<='ANA SAYFA'!$Q$19,((AE28-(AF28-'ANA SAYFA'!$P$19))*15%)+(AF28-'ANA SAYFA'!$P$19)*20%,IF(AF28<='ANA SAYFA'!$P$20,AE28*20%,IF(AF28<=('ANA SAYFA'!$R$20),((AE28-(AF28-'ANA SAYFA'!$P$20))*20%)+(AF28-'ANA SAYFA'!$P$20)*27%,IF(AF28<='ANA SAYFA'!$P$21,AE28*27%)))))-'ek bordro'!K27","v":0},{"$f":"IF(I28=0,0,('ANA SAYFA'!$J$15)*0.00759)-'ek bordro'!L27","v":0},{"$f":"PUANTAJ!AM53","v":0},{"$f":"K28+M28+O28+Q28+'PERSONEL BİLGİ GİRİŞİ'!V28-'PERSONEL BİLGİ GİRİŞİ'!X28+'ek bordro'!D27","v":0},{"$f":"AJ28-AZ28-BA28+'ek bordro'!E27-'PERSONEL BİLGİ GİRİŞİ'!AY28","v":0},{"$f":"IF(AN28<='ANA SAYFA'!$P$19,AK28*15%,IF(AN28<='ANA SAYFA'!$Q$19,((AK28-(AN28-'ANA SAYFA'!$P$19))*15%)+(AN28-'ANA SAYFA'!$P$19)*20%,IF(AN28<='ANA SAYFA'!$P$20,AK28*20%,IF(AN28<=('ANA SAYFA'!$Q$20),((AK28-(AN28-'ANA SAYFA'!$P$20))*20%)+(AN28-'ANA SAYFA'!$P$20)*27%,IF(AN28<='ANA SAYFA'!$P$21,AK28*27%)))))","v":0},0,{"$f":"'Vergi Matrahları'!D27","v":0},{"$f":"IF((AL28-AG28)<=0,0,AL28-AG28+'ek bordro'!G27)","v":0},{"$f":"IF(AJ28<='ANA SAYFA'!$J$15,0,AM28-AH28+'ek bordro'!H27)","v":0},{"$f":"IF(A28=\"\",0,IF((PUANTAJ!AV53+PUANTAJ!AR53)>1,' BORDRO HAZIRLIK'!AJ28,IF(AND(PUANTAJ!AV53=0,PUANTAJ!AM53<=140),'ANA SAYFA'!$J$15,IF(AND(COUNTA(PUANTAJ!D55:AH55)>=28,(AJ28<'ANA SAYFA'!$J$15)),'ANA SAYFA'!$J$15,AJ28))))+'ek bordro'!I52","v":0},{"$f":"IF(AQ28='ANA SAYFA'!$J$15,('ANA SAYFA'!$J$15*9/100)-(AJ28*9/100),(0))","v":0},{"$f":"ROUND(IF('PERSONEL BİLGİ GİRİŞİ'!AM28=\"VAR\",(AJ28*3/100),(0)),0)","v":0},{"$f":"ROUND(IF('PERSONEL BİLGİ GİRİŞİ'!AO28=\"VAR\",(BG28/4),(0)),2)","v":0},{"$f":"IF(NAFAKA!F28>1,NAFAKA!F28,IF('PERSONEL BİLGİ GİRİŞİ'!AT28=\"VAR\",(BG28/4),(0)))","v":0},{"$f":"ROUND(IF('PERSONEL BİLGİ GİRİŞİ'!BE28=\"VAR\",(((100*'ANA SAYFA'!$H$15))),(0)),2)","v":0},{"$f":"ROUND(IF('PERSONEL BİLGİ GİRİŞİ'!BD28=\"VAR\",((1500*'ANA SAYFA'!$H$15/4)),(0)),2)","v":0},{"$f":"IF(AQ28='ANA SAYFA'!$J$15,('ANA SAYFA'!$J$15*5/100)-(AJ28*5/100),(0))","v":0},{"$f":"IF(AQ28='ANA SAYFA'!$J$15,'ANA SAYFA'!$J$15*11/100+(AR28),(AQ28*11/100)+IF(AJ28>1,'Ödeme Emri'!$E$34,(0)))+'Ödeme Emri'!$L$37","v":0},0,0,{"$f":"IF(AQ28='ANA SAYFA'!$J$15,AQ28*7.5/100+(AX28),AJ28*7.5/100)","v":0},0,null,null,{"$f":"IF(AO28>='PERSONEL BİLGİ GİRİŞİ'!AA53,'PERSONEL BİLGİ GİRİŞİ'!AA53,IF('PERSONEL BİLGİ GİRİŞİ'!AA53,AO28))","v":0},0,0]
[{"$f":"PUANTAJ!A55","v":""},{"$f":"PUANTAJ!B55","v":" "},{"$f":"'PERSONEL BİLGİ GİRİŞİ'!H29","v":0},{"$f":"'PERSONEL BİLGİ GİRİŞİ'!P55","v":0},0,{"$f":"'PERSONEL BİLGİ GİRİŞİ'!Q29","v":0},{"$f":"PUANTAJ!AI55","v":0},{"$f":"PUANTAJ!AU55","v":0},{"$f":"PUANTAJ!AT55-PUANTAJ!AP55","v":0},{"$f":"PUANTAJ!AI55","v":0},{"$f":"('PERSONEL BİLGİ GİRİŞİ'!R29*(PUANTAJ!AI55))","v":0},{"$f":"PUANTAJ!AJ55","v":0},{"$f":"('PERSONEL BİLGİ GİRİŞİ'!U29*PUANTAJ!AJ55)","v":0},{"$f":"PUANTAJ!AK55","v":0},{"$f":"('PERSONEL BİLGİ GİRİŞİ'!U29*(PUANTAJ!AK55))","v":0},{"$f":"PUANTAJ!AL55","v":0},{"$f":"('PERSONEL BİLGİ GİRİŞİ'!R29*(P29))","v":0},{"$f":"IF('PERSONEL BİLGİ GİRİŞİ'!AV55=\"YOK\",0,IF('PERSONEL BİLGİ GİRİŞİ'!AS55=\"VAR\",('ANA SAYFA'!$T$11),(0)))","v":0},{"$f":"('PERSONEL BİLGİ GİRİŞİ'!U55+'PERSONEL BİLGİ GİRİŞİ'!V55)*'ANA SAYFA'!$Q$9","v":0},{"$f":"IF('PERSONEL BİLGİ GİRİŞİ'!AV55=\"YOK\",0,'PERSONEL BİLGİ GİRİŞİ'!AE55*G29)","v":0},{"$f":"IF('PERSONEL BİLGİ GİRİŞİ'!AV55=\"YOK\",0,'PERSONEL BİLGİ GİRİŞİ'!AF55*G29)","v":0},null,null,null,null,null,{"$f":"IF(PUANTAJ!AX57>0,D29*1.6/7.5*PUANTAJ!AX57,0)","v":0},{"$f":"IF('PERSONEL BİLGİ GİRİŞİ'!AU55=\"YOK\",0,IF('PERSONEL BİLGİ GİRİŞİ'!AK55=\"VAR\",('ANA SAYFA'!$Q$17),(0)))","v":0},{"$f":"IF('PERSONEL BİLGİ GİRİŞİ'!AV55=\"YOK\",0,IF('PERSONEL BİLGİ GİRİŞİ'!AN55=\"VAR\",('ANA SAYFA'!$T$10),(0)))","v":0},{"$f":"IF('PERSONEL BİLGİ GİRİŞİ'!AV55=\"YOK\",0,IF('PERSONEL BİLGİ GİRİŞİ'!AR55=\"VAR\",('ANA SAYFA'!$T$13),(0)))","v":0},{"$f":"IF(I29=0,0,'ANA SAYFA'!$J$16)","v":0},{"$f":"'Vergi Matrahları'!E28","v":0},{"$f":"IF(AF29<='ANA SAYFA'!$P$19,AE29*15%,IF(AF29<='ANA SAYFA'!$Q$19,((AE29-(AF29-'ANA SAYFA'!$P$19))*15%)+(AF29-'ANA SAYFA'!$P$19)*20%,IF(AF29<='ANA SAYFA'!$P$20,AE29*20%,IF(AF29<=('ANA SAYFA'!$R$20),((AE29-(AF29-'ANA SAYFA'!$P$20))*20%)+(AF29-'ANA SAYFA'!$P$20)*27%,IF(AF29<='ANA SAYFA'!$P$21,AE29*27%)))))-'ek bordro'!K28","v":0},{"$f":"IF(I29=0,0,('ANA SAYFA'!$J$15)*0.00759)-'ek bordro'!L28","v":0},{"$f":"PUANTAJ!AM55","v":0},{"$f":"K29+M29+O29+Q29+'PERSONEL BİLGİ GİRİŞİ'!V29-'PERSONEL BİLGİ GİRİŞİ'!X29+'ek bordro'!D28","v":0},{"$f":"AJ29-AZ29-BA29+'ek bordro'!E28-'PERSONEL BİLGİ GİRİŞİ'!AY29","v":0},{"$f":"IF(AN29<='ANA SAYFA'!$P$19,AK29*15%,IF(AN29<='ANA SAYFA'!$Q$19,((AK29-(AN29-'ANA SAYFA'!$P$19))*15%)+(AN29-'ANA SAYFA'!$P$19)*20%,IF(AN29<='ANA SAYFA'!$P$20,AK29*20%,IF(AN29<=('ANA SAYFA'!$Q$20),((AK29-(AN29-'ANA SAYFA'!$P$20))*20%)+(AN29-'ANA SAYFA'!$P$20)*27%,IF(AN29<='ANA SAYFA'!$P$21,AK29*27%)))))","v":0},0,{"$f":"'Vergi Matrahları'!D28","v":0},{"$f":"IF((AL29-AG29)<=0,0,AL29-AG29+'ek bordro'!G28)","v":0},{"$f":"IF(AJ29<='ANA SAYFA'!$J$15,0,AM29-AH29+'ek bordro'!H28)","v":0},{"$f":"IF(A29=\"\",0,IF((PUANTAJ!AV55+PUANTAJ!AR55)>1,' BORDRO HAZIRLIK'!AJ29,IF(AND(PUANTAJ!AV55=0,PUANTAJ!AM55<=140),'ANA SAYFA'!$J$15,IF(AND(COUNTA(PUANTAJ!D57:AH57)>=28,(AJ29<'ANA SAYFA'!$J$15)),'ANA SAYFA'!$J$15,AJ29))))+'ek bordro'!I54","v":0},{"$f":"IF(AQ29='ANA SAYFA'!$J$15,('ANA SAYFA'!$J$15*9/100)-(AJ29*9/100),(0))","v":0},{"$f":"ROUND(IF('PERSONEL BİLGİ GİRİŞİ'!AM29=\"VAR\",(AJ29*3/100),(0)),0)","v":0},{"$f":"ROUND(IF('PERSONEL BİLGİ GİRİŞİ'!AO29=\"VAR\",(BG29/4),(0)),2)","v":0},{"$f":"IF(NAFAKA!F29>1,NAFAKA!F29,IF('PERSONEL BİLGİ GİRİŞİ'!AT29=\"VAR\",(BG29/4),(0)))","v":0},{"$f":"ROUND(IF('PERSONEL BİLGİ GİRİŞİ'!BE29=\"VAR\",(((100*'ANA SAYFA'!$H$15))),(0)),2)","v":0},{"$f":"ROUND(IF('PERSONEL BİLGİ GİRİŞİ'!BD29=\"VAR\",((1500*'ANA SAYFA'!$H$15/4)),(0)),2)","v":0},{"$f":"IF(AQ29='ANA SAYFA'!$J$15,('ANA SAYFA'!$J$15*5/100)-(AJ29*5/100),(0))","v":0},{"$f":"IF(AQ29='ANA SAYFA'!$J$15,'ANA SAYFA'!$J$15*11/100+(AR29),(AQ29*11/100)+IF(AJ29>1,'Ödeme Emri'!$E$34,(0)))+'Ödeme Emri'!$L$37","v":0},0,0,{"$f":"IF(AQ29='ANA SAYFA'!$J$15,AQ29*7.5/100+(AX29),AJ29*7.5/100)","v":0},0,null,null,{"$f":"IF(AO29>='PERSONEL BİLGİ GİRİŞİ'!AA55,'PERSONEL BİLGİ GİRİŞİ'!AA55,IF('PERSONEL BİLGİ GİRİŞİ'!AA55,AO29))","v":0},0,0]
[{"$f":"PUANTAJ!A57","v":""},{"$f":"PUANTAJ!B57","v":" "},{"$f":"'PERSONEL BİLGİ GİRİŞİ'!H30","v":0},{"$f":"'PERSONEL BİLGİ GİRİŞİ'!P57","v":0},0,{"$f":"'PERSONEL BİLGİ GİRİŞİ'!Q30","v":0},{"$f":"PUANTAJ!AI57","v":0},{"$f":"PUANTAJ!AU57","v":0},{"$f":"PUANTAJ!AT57-PUANTAJ!AP57","v":0},{"$f":"PUANTAJ!AI57","v":0},{"$f":"('PERSONEL BİLGİ GİRİŞİ'!R30*(PUANTAJ!AI57))","v":0},{"$f":"PUANTAJ!AJ57","v":0},{"$f":"('PERSONEL BİLGİ GİRİŞİ'!U30*PUANTAJ!AJ57)","v":0},{"$f":"PUANTAJ!AK57","v":0},{"$f":"('PERSONEL BİLGİ GİRİŞİ'!U30*(PUANTAJ!AK57))","v":0},{"$f":"PUANTAJ!AL57","v":0},{"$f":"('PERSONEL BİLGİ GİRİŞİ'!R30*(P30))","v":0},{"$f":"IF('PERSONEL BİLGİ GİRİŞİ'!AV57=\"YOK\",0,IF('PERSONEL BİLGİ GİRİŞİ'!AS57=\"VAR\",('ANA SAYFA'!$T$11),(0)))","v":0},{"$f":"('PERSONEL BİLGİ GİRİŞİ'!U57+'PERSONEL BİLGİ GİRİŞİ'!V57)*'ANA SAYFA'!$Q$9","v":0},{"$f":"IF('PERSONEL BİLGİ GİRİŞİ'!AV57=\"YOK\",0,'PERSONEL BİLGİ GİRİŞİ'!AE57*G30)","v":0},{"$f":"IF('PERSONEL BİLGİ GİRİŞİ'!AV57=\"YOK\",0,'PERSONEL BİLGİ GİRİŞİ'!AF57*G30)","v":0},null,null,null,null,null,{"$f":"IF(PUANTAJ!AX59>0,D30*1.6/7.5*PUANTAJ!AX59,0)","v":0},{"$f":"IF('PERSONEL BİLGİ GİRİŞİ'!AU57=\"YOK\",0,IF('PERSONEL BİLGİ GİRİŞİ'!AK57=\"VAR\",('ANA SAYFA'!$Q$17),(0)))","v":0},{"$f":"IF('PERSONEL BİLGİ GİRİŞİ'!AV57=\"YOK\",0,IF('PERSONEL BİLGİ GİRİŞİ'!AN57=\"VAR\",('ANA SAYFA'!$T$10),(0)))","v":0},{"$f":"IF('PERSONEL BİLGİ GİRİŞİ'!AV57=\"YOK\",0,IF('PERSONEL BİLGİ GİRİŞİ'!AR57=\"VAR\",('ANA SAYFA'!$T$13),(0)))","v":0},{"$f":"IF(I30=0,0,'ANA SAYFA'!$J$16)","v":0},{"$f":"'Vergi Matrahları'!E29","v":0},{"$f":"IF(AF30<='ANA SAYFA'!$P$19,AE30*15%,IF(AF30<='ANA SAYFA'!$Q$19,((AE30-(AF30-'ANA SAYFA'!$P$19))*15%)+(AF30-'ANA SAYFA'!$P$19)*20%,IF(AF30<='ANA SAYFA'!$P$20,AE30*20%,IF(AF30<=('ANA SAYFA'!$R$20),((AE30-(AF30-'ANA SAYFA'!$P$20))*20%)+(AF30-'ANA SAYFA'!$P$20)*27%,IF(AF30<='ANA SAYFA'!$P$21,AE30*27%)))))-'ek bordro'!K29","v":0},{"$f":"IF(I30=0,0,('ANA SAYFA'!$J$15)*0.00759)-'ek bordro'!L29","v":0},{"$f":"PUANTAJ!AM57","v":0},{"$f":"K30+M30+O30+Q30+'PERSONEL BİLGİ GİRİŞİ'!V30-'PERSONEL BİLGİ GİRİŞİ'!X30+'ek bordro'!D29","v":0},{"$f":"AJ30-AZ30-BA30+'ek bordro'!E29-'PERSONEL BİLGİ GİRİŞİ'!AY30","v":0},{"$f":"IF(AN30<='ANA SAYFA'!$P$19,AK30*15%,IF(AN30<='ANA SAYFA'!$Q$19,((AK30-(AN30-'ANA SAYFA'!$P$19))*15%)+(AN30-'ANA SAYFA'!$P$19)*20%,IF(AN30<='ANA SAYFA'!$P$20,AK30*20%,IF(AN30<=('ANA SAYFA'!$Q$20),((AK30-(AN30-'ANA SAYFA'!$P$20))*20%)+(AN30-'ANA SAYFA'!$P$20)*27%,IF(AN30<='ANA SAYFA'!$P$21,AK30*27%)))))","v":0},0,{"$f":"'Vergi Matrahları'!D29","v":0},{"$f":"IF((AL30-AG30)<=0,0,AL30-AG30+'ek bordro'!G29)","v":0},{"$f":"IF(AJ30<='ANA SAYFA'!$J$15,0,AM30-AH30+'ek bordro'!H29)","v":0},{"$f":"IF(A30=\"\",0,IF((PUANTAJ!AV57+PUANTAJ!AR57)>1,' BORDRO HAZIRLIK'!AJ30,IF(AND(PUANTAJ!AV57=0,PUANTAJ!AM57<=140),'ANA SAYFA'!$J$15,IF(AND(COUNTA(PUANTAJ!D59:AH59)>=28,(AJ30<'ANA SAYFA'!$J$15)),'ANA SAYFA'!$J$15,AJ30))))+'ek bordro'!I56","v":0},{"$f":"IF(AQ30='ANA SAYFA'!$J$15,('ANA SAYFA'!$J$15*9/100)-(AJ30*9/100),(0))","v":0},{"$f":"ROUND(IF('PERSONEL BİLGİ GİRİŞİ'!AM30=\"VAR\",(AJ30*3/100),(0)),0)","v":0},{"$f":"ROUND(IF('PERSONEL BİLGİ GİRİŞİ'!AO30=\"VAR\",(BG30/4),(0)),2)","v":0},{"$f":"IF(NAFAKA!F30>1,NAFAKA!F30,IF('PERSONEL BİLGİ GİRİŞİ'!AT30=\"VAR\",(BG30/4),(0)))","v":0},{"$f":"ROUND(IF('PERSONEL BİLGİ GİRİŞİ'!BE30=\"VAR\",(((100*'ANA SAYFA'!$H$15))),(0)),2)","v":0},{"$f":"ROUND(IF('PERSONEL BİLGİ GİRİŞİ'!BD30=\"VAR\",((1500*'ANA SAYFA'!$H$15/4)),(0)),2)","v":0},{"$f":"IF(AQ30='ANA SAYFA'!$J$15,('ANA SAYFA'!$J$15*5/100)-(AJ30*5/100),(0))","v":0},{"$f":"IF(AQ30='ANA SAYFA'!$J$15,'ANA SAYFA'!$J$15*11/100+(AR30),(AQ30*11/100)+IF(AJ30>1,'Ödeme Emri'!$E$34,(0)))+'Ödeme Emri'!$L$37","v":0},0,0,{"$f":"IF(AQ30='ANA SAYFA'!$J$15,AQ30*7.5/100+(AX30),AJ30*7.5/100)","v":0},0,null,null,{"$f":"IF(AO30>='PERSONEL BİLGİ GİRİŞİ'!AA57,'PERSONEL BİLGİ GİRİŞİ'!AA57,IF('PERSONEL BİLGİ GİRİŞİ'!AA57,AO30))","v":0},0,0]
[{"$f":"PUANTAJ!A59","v":""},{"$f":"PUANTAJ!B59","v":" "},{"$f":"'PERSONEL BİLGİ GİRİŞİ'!H31","v":0},{"$f":"'PERSONEL BİLGİ GİRİŞİ'!P59","v":0},0,{"$f":"'PERSONEL BİLGİ GİRİŞİ'!Q31","v":0},{"$f":"PUANTAJ!AI59","v":0},{"$f":"PUANTAJ!AU59","v":0},{"$f":"PUANTAJ!AT59-PUANTAJ!AP59","v":0},{"$f":"PUANTAJ!AI59","v":0},{"$f":"('PERSONEL BİLGİ GİRİŞİ'!R31*(PUANTAJ!AI59))","v":0},{"$f":"PUANTAJ!AJ59","v":0},{"$f":"('PERSONEL BİLGİ GİRİŞİ'!U31*PUANTAJ!AJ59)","v":0},{"$f":"PUANTAJ!AK59","v":0},{"$f":"('PERSONEL BİLGİ GİRİŞİ'!U31*(PUANTAJ!AK59))","v":0},{"$f":"PUANTAJ!AL59","v":0},{"$f":"('PERSONEL BİLGİ GİRİŞİ'!R31*(P31))","v":0},{"$f":"IF('PERSONEL BİLGİ GİRİŞİ'!AV59=\"YOK\",0,IF('PERSONEL BİLGİ GİRİŞİ'!AS59=\"VAR\",('ANA SAYFA'!$T$11),(0)))","v":0},{"$f":"('PERSONEL BİLGİ GİRİŞİ'!U59+'PERSONEL BİLGİ GİRİŞİ'!V59)*'ANA SAYFA'!$Q$9","v":0},{"$f":"IF('PERSONEL BİLGİ GİRİŞİ'!AV59=\"YOK\",0,'PERSONEL BİLGİ GİRİŞİ'!AE59*G31)","v":0},{"$f":"IF('PERSONEL BİLGİ GİRİŞİ'!AV59=\"YOK\",0,'PERSONEL BİLGİ GİRİŞİ'!AF59*G31)","v":0},null,null,null,null,null,{"$f":"IF(PUANTAJ!AX61>0,D31*1.6/7.5*PUANTAJ!AX61,0)","v":0},{"$f":"IF('PERSONEL BİLGİ GİRİŞİ'!AU59=\"YOK\",0,IF('PERSONEL BİLGİ GİRİŞİ'!AK59=\"VAR\",('ANA SAYFA'!$Q$17),(0)))","v":0},{"$f":"IF('PERSONEL BİLGİ GİRİŞİ'!AV59=\"YOK\",0,IF('PERSONEL BİLGİ GİRİŞİ'!AN59=\"VAR\",('ANA SAYFA'!$T$10),(0)))","v":0},{"$f":"IF('PERSONEL BİLGİ GİRİŞİ'!AV59=\"YOK\",0,IF('PERSONEL BİLGİ GİRİŞİ'!AR59=\"VAR\",('ANA SAYFA'!$T$13),(0)))","v":0},{"$f":"IF(I31=0,0,'ANA SAYFA'!$J$16)","v":0},{"$f":"'Vergi Matrahları'!E30","v":0},{"$f":"IF(AF31<='ANA SAYFA'!$P$19,AE31*15%,IF(AF31<='ANA SAYFA'!$Q$19,((AE31-(AF31-'ANA SAYFA'!$P$19))*15%)+(AF31-'ANA SAYFA'!$P$19)*20%,IF(AF31<='ANA SAYFA'!$P$20,AE31*20%,IF(AF31<=('ANA SAYFA'!$R$20),((AE31-(AF31-'ANA SAYFA'!$P$20))*20%)+(AF31-'ANA SAYFA'!$P$20)*27%,IF(AF31<='ANA SAYFA'!$P$21,AE31*27%)))))-'ek bordro'!K30","v":0},{"$f":"IF(I31=0,0,('ANA SAYFA'!$J$15)*0.00759)-'ek bordro'!L30","v":0},{"$f":"PUANTAJ!AM59","v":0},{"$f":"K31+M31+O31+Q31+'PERSONEL BİLGİ GİRİŞİ'!V31-'PERSONEL BİLGİ GİRİŞİ'!X31+'ek bordro'!D30","v":0},{"$f":"AJ31-AZ31-BA31+'ek bordro'!E30-'PERSONEL BİLGİ GİRİŞİ'!AY31","v":0},{"$f":"IF(AN31<='ANA SAYFA'!$P$19,AK31*15%,IF(AN31<='ANA SAYFA'!$Q$19,((AK31-(AN31-'ANA SAYFA'!$P$19))*15%)+(AN31-'ANA SAYFA'!$P$19)*20%,IF(AN31<='ANA SAYFA'!$P$20,AK31*20%,IF(AN31<=('ANA SAYFA'!$Q$20),((AK31-(AN31-'ANA SAYFA'!$P$20))*20%)+(AN31-'ANA SAYFA'!$P$20)*27%,IF(AN31<='ANA SAYFA'!$P$21,AK31*27%)))))","v":0},0,{"$f":"'Vergi Matrahları'!D30","v":0},{"$f":"IF((AL31-AG31)<=0,0,AL31-AG31+'ek bordro'!G30)","v":0},{"$f":"IF(AJ31<='ANA SAYFA'!$J$15,0,AM31-AH31+'ek bordro'!H30)","v":0},{"$f":"IF(A31=\"\",0,IF((PUANTAJ!AV59+PUANTAJ!AR59)>1,' BORDRO HAZIRLIK'!AJ31,IF(AND(PUANTAJ!AV59=0,PUANTAJ!AM59<=140),'ANA SAYFA'!$J$15,IF(AND(COUNTA(PUANTAJ!D61:AH61)>=28,(AJ31<'ANA SAYFA'!$J$15)),'ANA SAYFA'!$J$15,AJ31))))+'ek bordro'!I58","v":0},{"$f":"IF(AQ31='ANA SAYFA'!$J$15,('ANA SAYFA'!$J$15*9/100)-(AJ31*9/100),(0))","v":0},{"$f":"ROUND(IF('PERSONEL BİLGİ GİRİŞİ'!AM31=\"VAR\",(AJ31*3/100),(0)),0)","v":0},{"$f":"ROUND(IF('PERSONEL BİLGİ GİRİŞİ'!AO31=\"VAR\",(BG31/4),(0)),2)","v":0},{"$f":"IF(NAFAKA!F31>1,NAFAKA!F31,IF('PERSONEL BİLGİ GİRİŞİ'!AT31=\"VAR\",(BG31/4),(0)))","v":0},{"$f":"ROUND(IF('PERSONEL BİLGİ GİRİŞİ'!BE31=\"VAR\",(((100*'ANA SAYFA'!$H$15))),(0)),2)","v":0},{"$f":"ROUND(IF('PERSONEL BİLGİ GİRİŞİ'!BD31=\"VAR\",((1500*'ANA SAYFA'!$H$15/4)),(0)),2)","v":0},{"$f":"IF(AQ31='ANA SAYFA'!$J$15,('ANA SAYFA'!$J$15*5/100)-(AJ31*5/100),(0))","v":0},{"$f":"IF(AQ31='ANA SAYFA'!$J$15,'ANA SAYFA'!$J$15*11/100+(AR31),(AQ31*11/100)+IF(AJ31>1,'Ödeme Emri'!$E$34,(0)))+'Ödeme Emri'!$L$37","v":0},0,0,{"$f":"IF(AQ31='ANA SAYFA'!$J$15,AQ31*7.5/100+(AX31),AJ31*7.5/100)","v":0},0,null,null,{"$f":"IF(AO31>='PERSONEL BİLGİ GİRİŞİ'!AA59,'PERSONEL BİLGİ GİRİŞİ'!AA59,IF('PERSONEL BİLGİ GİRİŞİ'!AA59,AO31))","v":0},0,0]
[{"$f":"PUANTAJ!A61","v":""},{"$f":"PUANTAJ!B61","v":" "},{"$f":"'PERSONEL BİLGİ GİRİŞİ'!H32","v":0},{"$f":"'PERSONEL BİLGİ GİRİŞİ'!P61","v":0},0,{"$f":"'PERSONEL BİLGİ GİRİŞİ'!Q32","v":0},{"$f":"PUANTAJ!AI61","v":0},{"$f":"PUANTAJ!AU61","v":0},{"$f":"PUANTAJ!AT61-PUANTAJ!AP61","v":0},{"$f":"PUANTAJ!AI61","v":0},{"$f":"('PERSONEL BİLGİ GİRİŞİ'!R32*(PUANTAJ!AI61))","v":0},{"$f":"PUANTAJ!AJ61","v":0},{"$f":"('PERSONEL BİLGİ GİRİŞİ'!U32*PUANTAJ!AJ61)","v":0},{"$f":"PUANTAJ!AK61","v":0},{"$f":"('PERSONEL BİLGİ GİRİŞİ'!U32*(PUANTAJ!AK61))","v":0},{"$f":"PUANTAJ!AL61","v":0},{"$f":"('PERSONEL BİLGİ GİRİŞİ'!R32*(P32))","v":0},{"$f":"IF('PERSONEL BİLGİ GİRİŞİ'!AV61=\"YOK\",0,IF('PERSONEL BİLGİ GİRİŞİ'!AS61=\"VAR\",('ANA SAYFA'!$T$11),(0)))","v":0},{"$f":"('PERSONEL BİLGİ GİRİŞİ'!U61+'PERSONEL BİLGİ GİRİŞİ'!V61)*'ANA SAYFA'!$Q$9","v":0},{"$f":"IF('PERSONEL BİLGİ GİRİŞİ'!AV61=\"YOK\",0,'PERSONEL BİLGİ GİRİŞİ'!AE61*G32)","v":0},{"$f":"IF('PERSONEL BİLGİ GİRİŞİ'!AV61=\"YOK\",0,'PERSONEL BİLGİ GİRİŞİ'!AF61*G32)","v":0},null,null,null,null,null,{"$f":"IF(PUANTAJ!AX63>0,D32*1.6/7.5*PUANTAJ!AX63,0)","v":0},{"$f":"IF('PERSONEL BİLGİ GİRİŞİ'!AU61=\"YOK\",0,IF('PERSONEL BİLGİ GİRİŞİ'!AK61=\"VAR\",('ANA SAYFA'!$Q$17),(0)))","v":0},{"$f":"IF('PERSONEL BİLGİ GİRİŞİ'!AV61=\"YOK\",0,IF('PERSONEL BİLGİ GİRİŞİ'!AN61=\"VAR\",('ANA SAYFA'!$T$10),(0)))","v":0},{"$f":"IF('PERSONEL BİLGİ GİRİŞİ'!AV61=\"YOK\",0,IF('PERSONEL BİLGİ GİRİŞİ'!AR61=\"VAR\",('ANA SAYFA'!$T$13),(0)))","v":0},{"$f":"IF(I32=0,0,'ANA SAYFA'!$J$16)","v":0},{"$f":"'Vergi Matrahları'!E31","v":0},{"$f":"IF(AF32<='ANA SAYFA'!$P$19,AE32*15%,IF(AF32<='ANA SAYFA'!$Q$19,((AE32-(AF32-'ANA SAYFA'!$P$19))*15%)+(AF32-'ANA SAYFA'!$P$19)*20%,IF(AF32<='ANA SAYFA'!$P$20,AE32*20%,IF(AF32<=('ANA SAYFA'!$R$20),((AE32-(AF32-'ANA SAYFA'!$P$20))*20%)+(AF32-'ANA SAYFA'!$P$20)*27%,IF(AF32<='ANA SAYFA'!$P$21,AE32*27%)))))-'ek bordro'!K31","v":0},{"$f":"IF(I32=0,0,('ANA SAYFA'!$J$15)*0.00759)-'ek bordro'!L31","v":0},{"$f":"PUANTAJ!AM61","v":0},{"$f":"K32+M32+O32+Q32+'PERSONEL BİLGİ GİRİŞİ'!V32-'PERSONEL BİLGİ GİRİŞİ'!X32+'ek bordro'!D31","v":0},{"$f":"AJ32-AZ32-BA32+'ek bordro'!E31-'PERSONEL BİLGİ GİRİŞİ'!AY32","v":0},{"$f":"IF(AN32<='ANA SAYFA'!$P$19,AK32*15%,IF(AN32<='ANA SAYFA'!$Q$19,((AK32-(AN32-'ANA SAYFA'!$P$19))*15%)+(AN32-'ANA SAYFA'!$P$19)*20%,IF(AN32<='ANA SAYFA'!$P$20,AK32*20%,IF(AN32<=('ANA SAYFA'!$Q$20),((AK32-(AN32-'ANA SAYFA'!$P$20))*20%)+(AN32-'ANA SAYFA'!$P$20)*27%,IF(AN32<='ANA SAYFA'!$P$21,AK32*27%)))))","v":0},0,{"$f":"'Vergi Matrahları'!D31","v":0},{"$f":"IF((AL32-AG32)<=0,0,AL32-AG32+'ek bordro'!G31)","v":0},{"$f":"IF(AJ32<='ANA SAYFA'!$J$15,0,AM32-AH32+'ek bordro'!H31)","v":0},{"$f":"IF(A32=\"\",0,IF((PUANTAJ!AV61+PUANTAJ!AR61)>1,' BORDRO HAZIRLIK'!AJ32,IF(AND(PUANTAJ!AV61=0,PUANTAJ!AM61<=140),'ANA SAYFA'!$J$15,IF(AND(COUNTA(PUANTAJ!D63:AH63)>=28,(AJ32<'ANA SAYFA'!$J$15)),'ANA SAYFA'!$J$15,AJ32))))+'ek bordro'!I60","v":0},{"$f":"IF(AQ32='ANA SAYFA'!$J$15,('ANA SAYFA'!$J$15*9/100)-(AJ32*9/100),(0))","v":0},{"$f":"ROUND(IF('PERSONEL BİLGİ GİRİŞİ'!AM32=\"VAR\",(AJ32*3/100),(0)),0)","v":0},{"$f":"ROUND(IF('PERSONEL BİLGİ GİRİŞİ'!AO32=\"VAR\",(BG32/4),(0)),2)","v":0},{"$f":"IF(NAFAKA!F32>1,NAFAKA!F32,IF('PERSONEL BİLGİ GİRİŞİ'!AT32=\"VAR\",(BG32/4),(0)))","v":0},{"$f":"ROUND(IF('PERSONEL BİLGİ GİRİŞİ'!BE32=\"VAR\",(((100*'ANA SAYFA'!$H$15))),(0)),2)","v":0},{"$f":"ROUND(IF('PERSONEL BİLGİ GİRİŞİ'!BD32=\"VAR\",((1500*'ANA SAYFA'!$H$15/4)),(0)),2)","v":0},{"$f":"IF(AQ32='ANA SAYFA'!$J$15,('ANA SAYFA'!$J$15*5/100)-(AJ32*5/100),(0))","v":0},{"$f":"IF(AQ32='ANA SAYFA'!$J$15,'ANA SAYFA'!$J$15*11/100+(AR32),(AQ32*11/100)+IF(AJ32>1,'Ödeme Emri'!$E$34,(0)))+'Ödeme Emri'!$L$37","v":0},0,0,{"$f":"IF(AQ32='ANA SAYFA'!$J$15,AQ32*7.5/100+(AX32),AJ32*7.5/100)","v":0},0,null,null,{"$f":"IF(AO32>='PERSONEL BİLGİ GİRİŞİ'!AA61,'PERSONEL BİLGİ GİRİŞİ'!AA61,IF('PERSONEL BİLGİ GİRİŞİ'!AA61,AO32))","v":0},0,0]
[{"$f":"PUANTAJ!A63","v":""},{"$f":"PUANTAJ!B63","v":" "},{"$f":"'PERSONEL BİLGİ GİRİŞİ'!H33","v":0},{"$f":"'PERSONEL BİLGİ GİRİŞİ'!P63","v":0},0,{"$f":"'PERSONEL BİLGİ GİRİŞİ'!Q33","v":0},{"$f":"PUANTAJ!AI63","v":0},{"$f":"PUANTAJ!AU63","v":0},{"$f":"PUANTAJ!AT63-PUANTAJ!AP63","v":0},{"$f":"PUANTAJ!AI63","v":0},{"$f":"('PERSONEL BİLGİ GİRİŞİ'!R33*(PUANTAJ!AI63))","v":0},{"$f":"PUANTAJ!AJ63","v":0},{"$f":"('PERSONEL BİLGİ GİRİŞİ'!U33*PUANTAJ!AJ63)","v":0},{"$f":"PUANTAJ!AK63","v":0},{"$f":"('PERSONEL BİLGİ GİRİŞİ'!U33*(PUANTAJ!AK63))","v":0},{"$f":"PUANTAJ!AL63","v":0},{"$f":"('PERSONEL BİLGİ GİRİŞİ'!R33*(P33))","v":0},{"$f":"IF('PERSONEL BİLGİ GİRİŞİ'!AV63=\"YOK\",0,IF('PERSONEL BİLGİ GİRİŞİ'!AS63=\"VAR\",('ANA SAYFA'!$T$11),(0)))","v":0},{"$f":"('PERSONEL BİLGİ GİRİŞİ'!U63+'PERSONEL BİLGİ GİRİŞİ'!V63)*'ANA SAYFA'!$Q$9","v":0},{"$f":"IF('PERSONEL BİLGİ GİRİŞİ'!AV63=\"YOK\",0,'PERSONEL BİLGİ GİRİŞİ'!AE63*G33)","v":0},{"$f":"IF('PERSONEL BİLGİ GİRİŞİ'!AV63=\"YOK\",0,'PERSONEL BİLGİ GİRİŞİ'!AF63*G33)","v":0},null,null,null,null,null,{"$f":"IF(PUANTAJ!AX65>0,D33*1.6/7.5*PUANTAJ!AX65,0)","v":0},{"$f":"IF('PERSONEL BİLGİ GİRİŞİ'!AU63=\"YOK\",0,IF('PERSONEL BİLGİ GİRİŞİ'!AK63=\"VAR\",('ANA SAYFA'!$Q$17),(0)))","v":0},{"$f":"IF('PERSONEL BİLGİ GİRİŞİ'!AV63=\"YOK\",0,IF('PERSONEL BİLGİ GİRİŞİ'!AN63=\"VAR\",('ANA SAYFA'!$T$10),(0)))","v":0},{"$f":"IF('PERSONEL BİLGİ GİRİŞİ'!AV63=\"YOK\",0,IF('PERSONEL BİLGİ GİRİŞİ'!AR63=\"VAR\",('ANA SAYFA'!$T$13),(0)))","v":0},{"$f":"IF(I33=0,0,'ANA SAYFA'!$J$16)","v":0},{"$f":"'Vergi Matrahları'!E32","v":0},{"$f":"IF(AF33<='ANA SAYFA'!$P$19,AE33*15%,IF(AF33<='ANA SAYFA'!$Q$19,((AE33-(AF33-'ANA SAYFA'!$P$19))*15%)+(AF33-'ANA SAYFA'!$P$19)*20%,IF(AF33<='ANA SAYFA'!$P$20,AE33*20%,IF(AF33<=('ANA SAYFA'!$R$20),((AE33-(AF33-'ANA SAYFA'!$P$20))*20%)+(AF33-'ANA SAYFA'!$P$20)*27%,IF(AF33<='ANA SAYFA'!$P$21,AE33*27%)))))-'ek bordro'!K32","v":0},{"$f":"IF(I33=0,0,('ANA SAYFA'!$J$15)*0.00759)-'ek bordro'!L32","v":0},{"$f":"PUANTAJ!AM63","v":0},{"$f":"K33+M33+O33+Q33+'PERSONEL BİLGİ GİRİŞİ'!V33-'PERSONEL BİLGİ GİRİŞİ'!X33+'ek bordro'!D32","v":0},{"$f":"AJ33-AZ33-BA33+'ek bordro'!E32-'PERSONEL BİLGİ GİRİŞİ'!AY33","v":0},{"$f":"IF(AN33<='ANA SAYFA'!$P$19,AK33*15%,IF(AN33<='ANA SAYFA'!$Q$19,((AK33-(AN33-'ANA SAYFA'!$P$19))*15%)+(AN33-'ANA SAYFA'!$P$19)*20%,IF(AN33<='ANA SAYFA'!$P$20,AK33*20%,IF(AN33<=('ANA SAYFA'!$Q$20),((AK33-(AN33-'ANA SAYFA'!$P$20))*20%)+(AN33-'ANA SAYFA'!$P$20)*27%,IF(AN33<='ANA SAYFA'!$P$21,AK33*27%)))))","v":0},0,{"$f":"'Vergi Matrahları'!D32","v":0},{"$f":"IF((AL33-AG33)<=0,0,AL33-AG33+'ek bordro'!G32)","v":0},{"$f":"IF(AJ33<='ANA SAYFA'!$J$15,0,AM33-AH33+'ek bordro'!H32)","v":0},{"$f":"IF(A33=\"\",0,IF((PUANTAJ!AV63+PUANTAJ!AR63)>1,' BORDRO HAZIRLIK'!AJ33,IF(AND(PUANTAJ!AV63=0,PUANTAJ!AM63<=140),'ANA SAYFA'!$J$15,IF(AND(COUNTA(PUANTAJ!D65:AH65)>=28,(AJ33<'ANA SAYFA'!$J$15)),'ANA SAYFA'!$J$15,AJ33))))+'ek bordro'!I62","v":0},{"$f":"IF(AQ33='ANA SAYFA'!$J$15,('ANA SAYFA'!$J$15*9/100)-(AJ33*9/100),(0))","v":0},{"$f":"ROUND(IF('PERSONEL BİLGİ GİRİŞİ'!AM33=\"VAR\",(AJ33*3/100),(0)),0)","v":0},{"$f":"ROUND(IF('PERSONEL BİLGİ GİRİŞİ'!AO33=\"VAR\",(BG33/4),(0)),2)","v":0},{"$f":"IF(NAFAKA!F33>1,NAFAKA!F33,IF('PERSONEL BİLGİ GİRİŞİ'!AT33=\"VAR\",(BG33/4),(0)))","v":0},{"$f":"ROUND(IF('PERSONEL BİLGİ GİRİŞİ'!BE33=\"VAR\",(((100*'ANA SAYFA'!$H$15))),(0)),2)","v":0},{"$f":"ROUND(IF('PERSONEL BİLGİ GİRİŞİ'!BD33=\"VAR\",((1500*'ANA SAYFA'!$H$15/4)),(0)),2)","v":0},{"$f":"IF(AQ33='ANA SAYFA'!$J$15,('ANA SAYFA'!$J$15*5/100)-(AJ33*5/100),(0))","v":0},{"$f":"IF(AQ33='ANA SAYFA'!$J$15,'ANA SAYFA'!$J$15*11/100+(AR33),(AQ33*11/100)+IF(AJ33>1,'Ödeme Emri'!$E$34,(0)))+'Ödeme Emri'!$L$37","v":0},0,0,{"$f":"IF(AQ33='ANA SAYFA'!$J$15,AQ33*7.5/100+(AX33),AJ33*7.5/100)","v":0},0,null,null,{"$f":"IF(AO33>='PERSONEL BİLGİ GİRİŞİ'!AA63,'PERSONEL BİLGİ GİRİŞİ'!AA63,IF('PERSONEL BİLGİ GİRİŞİ'!AA63,AO33))","v":0},0,0]
[{"$f":"PUANTAJ!A65","v":""},{"$f":"PUANTAJ!B65","v":" "},{"$f":"'PERSONEL BİLGİ GİRİŞİ'!H34","v":0},{"$f":"'PERSONEL BİLGİ GİRİŞİ'!P65","v":0},0,{"$f":"'PERSONEL BİLGİ GİRİŞİ'!Q34","v":0},{"$f":"PUANTAJ!AI65","v":0},{"$f":"PUANTAJ!AU65","v":0},{"$f":"PUANTAJ!AT65-PUANTAJ!AP65","v":0},{"$f":"PUANTAJ!AI65","v":0},{"$f":"('PERSONEL BİLGİ GİRİŞİ'!R34*(PUANTAJ!AI65))","v":0},{"$f":"PUANTAJ!AJ65","v":0},{"$f":"('PERSONEL BİLGİ GİRİŞİ'!U34*PUANTAJ!AJ65)","v":0},{"$f":"PUANTAJ!AK65","v":0},{"$f":"('PERSONEL BİLGİ GİRİŞİ'!U34*(PUANTAJ!AK65))","v":0},{"$f":"PUANTAJ!AL65","v":0},{"$f":"('PERSONEL BİLGİ GİRİŞİ'!R34*(P34))","v":0},{"$f":"IF('PERSONEL BİLGİ GİRİŞİ'!AV65=\"YOK\",0,IF('PERSONEL BİLGİ GİRİŞİ'!AS65=\"VAR\",('ANA SAYFA'!$T$11),(0)))","v":0},{"$f":"('PERSONEL BİLGİ GİRİŞİ'!U65+'PERSONEL BİLGİ GİRİŞİ'!V65)*'ANA SAYFA'!$Q$9","v":0},{"$f":"IF('PERSONEL BİLGİ GİRİŞİ'!AV65=\"YOK\",0,'PERSONEL BİLGİ GİRİŞİ'!AE65*G34)","v":0},{"$f":"IF('PERSONEL BİLGİ GİRİŞİ'!AV65=\"YOK\",0,'PERSONEL BİLGİ GİRİŞİ'!AF65*G34)","v":0},null,null,null,null,null,{"$f":"IF(PUANTAJ!AX67>0,D34*1.6/7.5*PUANTAJ!AX67,0)","v":0},{"$f":"IF('PERSONEL BİLGİ GİRİŞİ'!AU65=\"YOK\",0,IF('PERSONEL BİLGİ GİRİŞİ'!AK65=\"VAR\",('ANA SAYFA'!$Q$17),(0)))","v":0},{"$f":"IF('PERSONEL BİLGİ GİRİŞİ'!AV65=\"YOK\",0,IF('PERSONEL BİLGİ GİRİŞİ'!AN65=\"VAR\",('ANA SAYFA'!$T$10),(0)))","v":0},{"$f":"IF('PERSONEL BİLGİ GİRİŞİ'!AV65=\"YOK\",0,IF('PERSONEL BİLGİ GİRİŞİ'!AR65=\"VAR\",('ANA SAYFA'!$T$13),(0)))","v":0},{"$f":"IF(I34=0,0,'ANA SAYFA'!$J$16)","v":0},{"$f":"'Vergi Matrahları'!E33","v":0},{"$f":"IF(AF34<='ANA SAYFA'!$P$19,AE34*15%,IF(AF34<='ANA SAYFA'!$Q$19,((AE34-(AF34-'ANA SAYFA'!$P$19))*15%)+(AF34-'ANA SAYFA'!$P$19)*20%,IF(AF34<='ANA SAYFA'!$P$20,AE34*20%,IF(AF34<=('ANA SAYFA'!$R$20),((AE34-(AF34-'ANA SAYFA'!$P$20))*20%)+(AF34-'ANA SAYFA'!$P$20)*27%,IF(AF34<='ANA SAYFA'!$P$21,AE34*27%)))))-'ek bordro'!K33","v":0},{"$f":"IF(I34=0,0,('ANA SAYFA'!$J$15)*0.00759)-'ek bordro'!L33","v":0},{"$f":"PUANTAJ!AM65","v":0},{"$f":"K34+M34+O34+Q34+'PERSONEL BİLGİ GİRİŞİ'!V34-'PERSONEL BİLGİ GİRİŞİ'!X34+'ek bordro'!D33","v":0},{"$f":"AJ34-AZ34-BA34+'ek bordro'!E33-'PERSONEL BİLGİ GİRİŞİ'!AY34","v":0},{"$f":"IF(AN34<='ANA SAYFA'!$P$19,AK34*15%,IF(AN34<='ANA SAYFA'!$Q$19,((AK34-(AN34-'ANA SAYFA'!$P$19))*15%)+(AN34-'ANA SAYFA'!$P$19)*20%,IF(AN34<='ANA SAYFA'!$P$20,AK34*20%,IF(AN34<=('ANA SAYFA'!$Q$20),((AK34-(AN34-'ANA SAYFA'!$P$20))*20%)+(AN34-'ANA SAYFA'!$P$20)*27%,IF(AN34<='ANA SAYFA'!$P$21,AK34*27%)))))","v":0},0,{"$f":"'Vergi Matrahları'!D33","v":0},{"$f":"IF((AL34-AG34)<=0,0,AL34-AG34+'ek bordro'!G33)","v":0},{"$f":"IF(AJ34<='ANA SAYFA'!$J$15,0,AM34-AH34+'ek bordro'!H33)","v":0},{"$f":"IF(A34=\"\",0,IF((PUANTAJ!AV65+PUANTAJ!AR65)>1,' BORDRO HAZIRLIK'!AJ34,IF(AND(PUANTAJ!AV65=0,PUANTAJ!AM65<=140),'ANA SAYFA'!$J$15,IF(AND(COUNTA(PUANTAJ!D67:AH67)>=28,(AJ34<'ANA SAYFA'!$J$15)),'ANA SAYFA'!$J$15,AJ34))))+'ek bordro'!I64","v":0},{"$f":"IF(AQ34='ANA SAYFA'!$J$15,('ANA SAYFA'!$J$15*9/100)-(AJ34*9/100),(0))","v":0},{"$f":"ROUND(IF('PERSONEL BİLGİ GİRİŞİ'!AM34=\"VAR\",(AJ34*3/100),(0)),0)","v":0},{"$f":"ROUND(IF('PERSONEL BİLGİ GİRİŞİ'!AO34=\"VAR\",(BG34/4),(0)),2)","v":0},{"$f":"IF(NAFAKA!F34>1,NAFAKA!F34,IF('PERSONEL BİLGİ GİRİŞİ'!AT34=\"VAR\",(BG34/4),(0)))","v":0},{"$f":"ROUND(IF('PERSONEL BİLGİ GİRİŞİ'!BE34=\"VAR\",(((100*'ANA SAYFA'!$H$15))),(0)),2)","v":0},{"$f":"ROUND(IF('PERSONEL BİLGİ GİRİŞİ'!BD34=\"VAR\",((1500*'ANA SAYFA'!$H$15/4)),(0)),2)","v":0},{"$f":"IF(AQ34='ANA SAYFA'!$J$15,('ANA SAYFA'!$J$15*5/100)-(AJ34*5/100),(0))","v":0},{"$f":"IF(AQ34='ANA SAYFA'!$J$15,'ANA SAYFA'!$J$15*11/100+(AR34),(AQ34*11/100)+IF(AJ34>1,'Ödeme Emri'!$E$34,(0)))+'Ödeme Emri'!$L$37","v":0},0,0,{"$f":"IF(AQ34='ANA SAYFA'!$J$15,AQ34*7.5/100+(AX34),AJ34*7.5/100)","v":0},0,null,null,{"$f":"IF(AO34>='PERSONEL BİLGİ GİRİŞİ'!AA65,'PERSONEL BİLGİ GİRİŞİ'!AA65,IF('PERSONEL BİLGİ GİRİŞİ'!AA65,AO34))","v":0},0,0]
[{"$f":"PUANTAJ!A67","v":""},{"$f":"PUANTAJ!B67","v":" "},{"$f":"'PERSONEL BİLGİ GİRİŞİ'!H35","v":0},{"$f":"'PERSONEL BİLGİ GİRİŞİ'!P67","v":0},0,{"$f":"'PERSONEL BİLGİ GİRİŞİ'!Q35","v":0},{"$f":"PUANTAJ!AI67","v":0},{"$f":"PUANTAJ!AU67","v":0},{"$f":"PUANTAJ!AT67-PUANTAJ!AP67","v":0},{"$f":"PUANTAJ!AI67","v":0},{"$f":"('PERSONEL BİLGİ GİRİŞİ'!R35*(PUANTAJ!AI67))","v":0},{"$f":"PUANTAJ!AJ67","v":0},{"$f":"('PERSONEL BİLGİ GİRİŞİ'!U35*PUANTAJ!AJ67)","v":0},{"$f":"PUANTAJ!AK67","v":0},{"$f":"('PERSONEL BİLGİ GİRİŞİ'!U35*(PUANTAJ!AK67))","v":0},{"$f":"PUANTAJ!AL67","v":0},{"$f":"('PERSONEL BİLGİ GİRİŞİ'!R35*(P35))","v":0},{"$f":"IF('PERSONEL BİLGİ GİRİŞİ'!AV67=\"YOK\",0,IF('PERSONEL BİLGİ GİRİŞİ'!AS67=\"VAR\",('ANA SAYFA'!$T$11),(0)))","v":0},{"$f":"('PERSONEL BİLGİ GİRİŞİ'!U67+'PERSONEL BİLGİ GİRİŞİ'!V67)*'ANA SAYFA'!$Q$9","v":0},{"$f":"IF('PERSONEL BİLGİ GİRİŞİ'!AV67=\"YOK\",0,'PERSONEL BİLGİ GİRİŞİ'!AE67*G35)","v":0},{"$f":"IF('PERSONEL BİLGİ GİRİŞİ'!AV67=\"YOK\",0,'PERSONEL BİLGİ GİRİŞİ'!AF67*G35)","v":0},null,null,null,null,null,{"$f":"IF(PUANTAJ!AX69>0,D35*1.6/7.5*PUANTAJ!AX69,0)","v":0},{"$f":"IF('PERSONEL BİLGİ GİRİŞİ'!AU67=\"YOK\",0,IF('PERSONEL BİLGİ GİRİŞİ'!AK67=\"VAR\",('ANA SAYFA'!$Q$17),(0)))","v":0},{"$f":"IF('PERSONEL BİLGİ GİRİŞİ'!AV67=\"YOK\",0,IF('PERSONEL BİLGİ GİRİŞİ'!AN67=\"VAR\",('ANA SAYFA'!$T$10),(0)))","v":0},{"$f":"IF('PERSONEL BİLGİ GİRİŞİ'!AV67=\"YOK\",0,IF('PERSONEL BİLGİ GİRİŞİ'!AR67=\"VAR\",('ANA SAYFA'!$T$13),(0)))","v":0},{"$f":"IF(I35=0,0,'ANA SAYFA'!$J$16)","v":0},{"$f":"'Vergi Matrahları'!E34","v":0},{"$f":"IF(AF35<='ANA SAYFA'!$P$19,AE35*15%,IF(AF35<='ANA SAYFA'!$Q$19,((AE35-(AF35-'ANA SAYFA'!$P$19))*15%)+(AF35-'ANA SAYFA'!$P$19)*20%,IF(AF35<='ANA SAYFA'!$P$20,AE35*20%,IF(AF35<=('ANA SAYFA'!$R$20),((AE35-(AF35-'ANA SAYFA'!$P$20))*20%)+(AF35-'ANA SAYFA'!$P$20)*27%,IF(AF35<='ANA SAYFA'!$P$21,AE35*27%)))))-'ek bordro'!K34","v":0},{"$f":"IF(I35=0,0,('ANA SAYFA'!$J$15)*0.00759)-'ek bordro'!L34","v":0},{"$f":"PUANTAJ!AM67","v":0},{"$f":"K35+M35+O35+Q35+'PERSONEL BİLGİ GİRİŞİ'!V35-'PERSONEL BİLGİ GİRİŞİ'!X35+'ek bordro'!D34","v":0},{"$f":"AJ35-AZ35-BA35+'ek bordro'!E34-'PERSONEL BİLGİ GİRİŞİ'!AY35","v":0},{"$f":"IF(AN35<='ANA SAYFA'!$P$19,AK35*15%,IF(AN35<='ANA SAYFA'!$Q$19,((AK35-(AN35-'ANA SAYFA'!$P$19))*15%)+(AN35-'ANA SAYFA'!$P$19)*20%,IF(AN35<='ANA SAYFA'!$P$20,AK35*20%,IF(AN35<=('ANA SAYFA'!$Q$20),((AK35-(AN35-'ANA SAYFA'!$P$20))*20%)+(AN35-'ANA SAYFA'!$P$20)*27%,IF(AN35<='ANA SAYFA'!$P$21,AK35*27%)))))","v":0},0,{"$f":"'Vergi Matrahları'!D34","v":0},{"$f":"IF((AL35-AG35)<=0,0,AL35-AG35+'ek bordro'!G34)","v":0},{"$f":"IF(AJ35<='ANA SAYFA'!$J$15,0,AM35-AH35+'ek bordro'!H34)","v":0},{"$f":"IF(A35=\"\",0,IF((PUANTAJ!AV67+PUANTAJ!AR67)>1,' BORDRO HAZIRLIK'!AJ35,IF(AND(PUANTAJ!AV67=0,PUANTAJ!AM67<=140),'ANA SAYFA'!$J$15,IF(AND(COUNTA(PUANTAJ!D69:AH69)>=28,(AJ35<'ANA SAYFA'!$J$15)),'ANA SAYFA'!$J$15,AJ35))))+'ek bordro'!I66","v":0},{"$f":"IF(AQ35='ANA SAYFA'!$J$15,('ANA SAYFA'!$J$15*9/100)-(AJ35*9/100),(0))","v":0},{"$f":"ROUND(IF('PERSONEL BİLGİ GİRİŞİ'!AM35=\"VAR\",(AJ35*3/100),(0)),0)","v":0},{"$f":"ROUND(IF('PERSONEL BİLGİ GİRİŞİ'!AO35=\"VAR\",(BG35/4),(0)),2)","v":0},{"$f":"IF(NAFAKA!F35>1,NAFAKA!F35,IF('PERSONEL BİLGİ GİRİŞİ'!AT35=\"VAR\",(BG35/4),(0)))","v":0},{"$f":"ROUND(IF('PERSONEL BİLGİ GİRİŞİ'!BE35=\"VAR\",(((100*'ANA SAYFA'!$H$15))),(0)),2)","v":0},{"$f":"ROUND(IF('PERSONEL BİLGİ GİRİŞİ'!BD35=\"VAR\",((1500*'ANA SAYFA'!$H$15/4)),(0)),2)","v":0},{"$f":"IF(AQ35='ANA SAYFA'!$J$15,('ANA SAYFA'!$J$15*5/100)-(AJ35*5/100),(0))","v":0},{"$f":"IF(AQ35='ANA SAYFA'!$J$15,'ANA SAYFA'!$J$15*11/100+(AR35),(AQ35*11/100)+IF(AJ35>1,'Ödeme Emri'!$E$34,(0)))+'Ödeme Emri'!$L$37","v":0},0,0,{"$f":"IF(AQ35='ANA SAYFA'!$J$15,AQ35*7.5/100+(AX35),AJ35*7.5/100)","v":0},0,null,null,{"$f":"IF(AO35>='PERSONEL BİLGİ GİRİŞİ'!AA67,'PERSONEL BİLGİ GİRİŞİ'!AA67,IF('PERSONEL BİLGİ GİRİŞİ'!AA67,AO35))","v":0},0,0]
[{"$f":"PUANTAJ!A69","v":""},{"$f":"PUANTAJ!B69","v":" "},{"$f":"'PERSONEL BİLGİ GİRİŞİ'!H36","v":0},{"$f":"'PERSONEL BİLGİ GİRİŞİ'!P69","v":0},0,{"$f":"'PERSONEL BİLGİ GİRİŞİ'!Q36","v":0},{"$f":"PUANTAJ!AI69","v":0},{"$f":"PUANTAJ!AU69","v":0},{"$f":"PUANTAJ!AT69-PUANTAJ!AP69","v":0},{"$f":"PUANTAJ!AI69","v":0},{"$f":"('PERSONEL BİLGİ GİRİŞİ'!R36*(PUANTAJ!AI69))","v":0},{"$f":"PUANTAJ!AJ69","v":0},{"$f":"('PERSONEL BİLGİ GİRİŞİ'!U36*PUANTAJ!AJ69)","v":0},{"$f":"PUANTAJ!AK69","v":0},{"$f":"('PERSONEL BİLGİ GİRİŞİ'!U36*(PUANTAJ!AK69))","v":0},{"$f":"PUANTAJ!AL69","v":0},{"$f":"('PERSONEL BİLGİ GİRİŞİ'!R36*(P36))","v":0},{"$f":"IF('PERSONEL BİLGİ GİRİŞİ'!AV69=\"YOK\",0,IF('PERSONEL BİLGİ GİRİŞİ'!AS69=\"VAR\",('ANA SAYFA'!$T$11),(0)))","v":0},{"$f":"('PERSONEL BİLGİ GİRİŞİ'!U69+'PERSONEL BİLGİ GİRİŞİ'!V69)*'ANA SAYFA'!$Q$9","v":0},{"$f":"IF('PERSONEL BİLGİ GİRİŞİ'!AV69=\"YOK\",0,'PERSONEL BİLGİ GİRİŞİ'!AE69*G36)","v":0},{"$f":"IF('PERSONEL BİLGİ GİRİŞİ'!AV69=\"YOK\",0,'PERSONEL BİLGİ GİRİŞİ'!AF69*G36)","v":0},null,null,null,null,null,{"$f":"IF(PUANTAJ!AX71>0,D36*1.6/7.5*PUANTAJ!AX71,0)","v":0},{"$f":"IF('PERSONEL BİLGİ GİRİŞİ'!AU69=\"YOK\",0,IF('PERSONEL BİLGİ GİRİŞİ'!AK69=\"VAR\",('ANA SAYFA'!$Q$17),(0)))","v":0},{"$f":"IF('PERSONEL BİLGİ GİRİŞİ'!AV69=\"YOK\",0,IF('PERSONEL BİLGİ GİRİŞİ'!AN69=\"VAR\",('ANA SAYFA'!$T$10),(0)))","v":0},{"$f":"IF('PERSONEL BİLGİ GİRİŞİ'!AV69=\"YOK\",0,IF('PERSONEL BİLGİ GİRİŞİ'!AR69=\"VAR\",('ANA SAYFA'!$T$13),(0)))","v":0},{"$f":"IF(I36=0,0,'ANA SAYFA'!$J$16)","v":0},{"$f":"'Vergi Matrahları'!E35","v":0},{"$f":"IF(AF36<='ANA SAYFA'!$P$19,AE36*15%,IF(AF36<='ANA SAYFA'!$Q$19,((AE36-(AF36-'ANA SAYFA'!$P$19))*15%)+(AF36-'ANA SAYFA'!$P$19)*20%,IF(AF36<='ANA SAYFA'!$P$20,AE36*20%,IF(AF36<=('ANA SAYFA'!$R$20),((AE36-(AF36-'ANA SAYFA'!$P$20))*20%)+(AF36-'ANA SAYFA'!$P$20)*27%,IF(AF36<='ANA SAYFA'!$P$21,AE36*27%)))))-'ek bordro'!K35","v":0},{"$f":"IF(I36=0,0,('ANA SAYFA'!$J$15)*0.00759)-'ek bordro'!L35","v":0},{"$f":"PUANTAJ!AM69","v":0},{"$f":"K36+M36+O36+Q36+'PERSONEL BİLGİ GİRİŞİ'!V36-'PERSONEL BİLGİ GİRİŞİ'!X36+'ek bordro'!D35","v":0},{"$f":"AJ36-AZ36-BA36+'ek bordro'!E35-'PERSONEL BİLGİ GİRİŞİ'!AY36","v":0},{"$f":"IF(AN36<='ANA SAYFA'!$P$19,AK36*15%,IF(AN36<='ANA SAYFA'!$Q$19,((AK36-(AN36-'ANA SAYFA'!$P$19))*15%)+(AN36-'ANA SAYFA'!$P$19)*20%,IF(AN36<='ANA SAYFA'!$P$20,AK36*20%,IF(AN36<=('ANA SAYFA'!$Q$20),((AK36-(AN36-'ANA SAYFA'!$P$20))*20%)+(AN36-'ANA SAYFA'!$P$20)*27%,IF(AN36<='ANA SAYFA'!$P$21,AK36*27%)))))","v":0},0,{"$f":"'Vergi Matrahları'!D35","v":0},{"$f":"IF((AL36-AG36)<=0,0,AL36-AG36+'ek bordro'!G35)","v":0},{"$f":"IF(AJ36<='ANA SAYFA'!$J$15,0,AM36-AH36+'ek bordro'!H35)","v":0},{"$f":"IF(A36=\"\",0,IF((PUANTAJ!AV69+PUANTAJ!AR69)>1,' BORDRO HAZIRLIK'!AJ36,IF(AND(PUANTAJ!AV69=0,PUANTAJ!AM69<=140),'ANA SAYFA'!$J$15,IF(AND(COUNTA(PUANTAJ!D71:AH71)>=28,(AJ36<'ANA SAYFA'!$J$15)),'ANA SAYFA'!$J$15,AJ36))))+'ek bordro'!I68","v":0},{"$f":"IF(AQ36='ANA SAYFA'!$J$15,('ANA SAYFA'!$J$15*9/100)-(AJ36*9/100),(0))","v":0},{"$f":"ROUND(IF('PERSONEL BİLGİ GİRİŞİ'!AM36=\"VAR\",(AJ36*3/100),(0)),0)","v":0},{"$f":"ROUND(IF('PERSONEL BİLGİ GİRİŞİ'!AO36=\"VAR\",(BG36/4),(0)),2)","v":0},{"$f":"IF(NAFAKA!F36>1,NAFAKA!F36,IF('PERSONEL BİLGİ GİRİŞİ'!AT36=\"VAR\",(BG36/4),(0)))","v":0},{"$f":"ROUND(IF('PERSONEL BİLGİ GİRİŞİ'!BE36=\"VAR\",(((100*'ANA SAYFA'!$H$15))),(0)),2)","v":0},{"$f":"ROUND(IF('PERSONEL BİLGİ GİRİŞİ'!BD36=\"VAR\",((1500*'ANA SAYFA'!$H$15/4)),(0)),2)","v":0},{"$f":"IF(AQ36='ANA SAYFA'!$J$15,('ANA SAYFA'!$J$15*5/100)-(AJ36*5/100),(0))","v":0},{"$f":"IF(AQ36='ANA SAYFA'!$J$15,'ANA SAYFA'!$J$15*11/100+(AR36),(AQ36*11/100)+IF(AJ36>1,'Ödeme Emri'!$E$34,(0)))+'Ödeme Emri'!$L$37","v":0},0,0,{"$f":"IF(AQ36='ANA SAYFA'!$J$15,AQ36*7.5/100+(AX36),AJ36*7.5/100)","v":0},0,null,null,{"$f":"IF(AO36>='PERSONEL BİLGİ GİRİŞİ'!AA69,'PERSONEL BİLGİ GİRİŞİ'!AA69,IF('PERSONEL BİLGİ GİRİŞİ'!AA69,AO36))","v":0},0,0]
[{"$f":"PUANTAJ!A71","v":""},{"$f":"PUANTAJ!B71","v":" "},{"$f":"'PERSONEL BİLGİ GİRİŞİ'!H37","v":0},{"$f":"'PERSONEL BİLGİ GİRİŞİ'!P71","v":0},{"$f":"((D37-(D37*15/100))-((D37-(D37*15/100))*15/100))-(D37*0.00759)","v":0},{"$f":"'PERSONEL BİLGİ GİRİŞİ'!Q37","v":0},{"$f":"PUANTAJ!AI71","v":0},{"$f":"PUANTAJ!AU71","v":0},{"$f":"PUANTAJ!AT71-PUANTAJ!AP71","v":0},{"$f":"PUANTAJ!AI71","v":0},{"$f":"('PERSONEL BİLGİ GİRİŞİ'!R37*(PUANTAJ!AI71))","v":0},{"$f":"PUANTAJ!AJ71","v":0},{"$f":"('PERSONEL BİLGİ GİRİŞİ'!U37*PUANTAJ!AJ71)","v":0},{"$f":"PUANTAJ!AK71","v":0},{"$f":"('PERSONEL BİLGİ GİRİŞİ'!U37*(PUANTAJ!AK71))","v":0},{"$f":"PUANTAJ!AL71","v":0},{"$f":"('PERSONEL BİLGİ GİRİŞİ'!R37*(P37))","v":0},{"$f":"IF('PERSONEL BİLGİ GİRİŞİ'!AV71=\"YOK\",0,IF('PERSONEL BİLGİ GİRİŞİ'!AS71=\"VAR\",('ANA SAYFA'!$T$11),(0)))","v":0},{"$f":"('PERSONEL BİLGİ GİRİŞİ'!U71+'PERSONEL BİLGİ GİRİŞİ'!V71)*'ANA SAYFA'!$Q$9","v":0},{"$f":"IF('PERSONEL BİLGİ GİRİŞİ'!AV71=\"YOK\",0,'PERSONEL BİLGİ GİRİŞİ'!AE71*G37)","v":0},{"$f":"IF('PERSONEL BİLGİ GİRİŞİ'!AV71=\"YOK\",0,'PERSONEL BİLGİ GİRİŞİ'!AF71*G37)","v":0},null,null,null,null,null,{"$f":"IF(PUANTAJ!AX73>0,D37*1.6/7.5*PUANTAJ!AX73,0)","v":0},{"$f":"IF('PERSONEL BİLGİ GİRİŞİ'!AU71=\"YOK\",0,IF('PERSONEL BİLGİ GİRİŞİ'!AK71=\"VAR\",('ANA SAYFA'!$Q$17),(0)))","v":0},{"$f":"IF('PERSONEL BİLGİ GİRİŞİ'!AV71=\"YOK\",0,IF('PERSONEL BİLGİ GİRİŞİ'!AN71=\"VAR\",('ANA SAYFA'!$T$10),(0)))","v":0},{"$f":"IF('PERSONEL BİLGİ GİRİŞİ'!AV71=\"YOK\",0,IF('PERSONEL BİLGİ GİRİŞİ'!AR71=\"VAR\",('ANA SAYFA'!$T$13),(0)))","v":0},{"$f":"IF(I37=0,0,'ANA SAYFA'!$J$16)","v":0},{"$f":"'Vergi Matrahları'!E36","v":0},{"$f":"IF(AF37<='ANA SAYFA'!$P$19,AE37*15%,IF(AF37<='ANA SAYFA'!$Q$19,((AE37-(AF37-'ANA SAYFA'!$P$19))*15%)+(AF37-'ANA SAYFA'!$P$19)*20%,IF(AF37<='ANA SAYFA'!$P$20,AE37*20%,IF(AF37<=('ANA SAYFA'!$R$20),((AE37-(AF37-'ANA SAYFA'!$P$20))*20%)+(AF37-'ANA SAYFA'!$P$20)*27%,IF(AF37<='ANA SAYFA'!$P$21,AE37*27%)))))-'ek bordro'!K36","v":0},{"$f":"IF(I37=0,0,('ANA SAYFA'!$J$15)*0.00759)-'ek bordro'!L36","v":0},{"$f":"PUANTAJ!AM71","v":0},{"$f":"K37+M37+O37+Q37+'PERSONEL BİLGİ GİRİŞİ'!V37-'PERSONEL BİLGİ GİRİŞİ'!X37+'ek bordro'!D36","v":0},{"$f":"AJ37-AZ37-BA37+'ek bordro'!E36-'PERSONEL BİLGİ GİRİŞİ'!AY37","v":0},{"$f":"IF(AN37<='ANA SAYFA'!$P$19,AK37*15%,IF(AN37<='ANA SAYFA'!$Q$19,((AK37-(AN37-'ANA SAYFA'!$P$19))*15%)+(AN37-'ANA SAYFA'!$P$19)*20%,IF(AN37<='ANA SAYFA'!$P$20,AK37*20%,IF(AN37<=('ANA SAYFA'!$Q$20),((AK37-(AN37-'ANA SAYFA'!$P$20))*20%)+(AN37-'ANA SAYFA'!$P$20)*27%,IF(AN37<='ANA SAYFA'!$P$21,AK37*27%)))))","v":0},0,{"$f":"'Vergi Matrahları'!D36","v":0},{"$f":"IF((AL37-AG37)<=0,0,AL37-AG37+'ek bordro'!G36)","v":0},{"$f":"IF(AJ37<='ANA SAYFA'!$J$15,0,AM37-AH37+'ek bordro'!H36)","v":0},{"$f":"IF(A37=\"\",0,IF((PUANTAJ!AV71+PUANTAJ!AR71)>1,' BORDRO HAZIRLIK'!AJ37,IF(AND(PUANTAJ!AV71=0,PUANTAJ!AM71<=140),'ANA SAYFA'!$J$15,IF(AND(COUNTA(PUANTAJ!D73:AH73)>=28,(AJ37<'ANA SAYFA'!$J$15)),'ANA SAYFA'!$J$15,AJ37))))+'ek bordro'!I70","v":0},{"$f":"IF(AQ37='ANA SAYFA'!$J$15,('ANA SAYFA'!$J$15*9/100)-(AJ37*9/100),(0))","v":0},{"$f":"ROUND(IF('PERSONEL BİLGİ GİRİŞİ'!AM37=\"VAR\",(AJ37*3/100),(0)),0)","v":0},{"$f":"ROUND(IF('PERSONEL BİLGİ GİRİŞİ'!AO37=\"VAR\",(BG37/4),(0)),2)","v":0},{"$f":"IF(NAFAKA!F37>1,NAFAKA!F37,IF('PERSONEL BİLGİ GİRİŞİ'!AT37=\"VAR\",(BG37/4),(0)))","v":0},{"$f":"ROUND(IF('PERSONEL BİLGİ GİRİŞİ'!BE37=\"VAR\",(((100*'ANA SAYFA'!$H$15))),(0)),2)","v":0},{"$f":"ROUND(IF('PERSONEL BİLGİ GİRİŞİ'!BD37=\"VAR\",((1500*'ANA SAYFA'!$H$15/4)),(0)),2)","v":0},{"$f":"IF(AQ37='ANA SAYFA'!$J$15,('ANA SAYFA'!$J$15*5/100)-(AJ37*5/100),(0))","v":0},{"$f":"IF(AQ37='ANA SAYFA'!$J$15,'ANA SAYFA'!$J$15*11/100+(AR37),(AQ37*11/100)+IF(AJ37>1,'Ödeme Emri'!$E$34,(0)))+'Ödeme Emri'!$L$37","v":0},0,0,{"$f":"IF(AQ37='ANA SAYFA'!$J$15,AQ37*7.5/100+(AX37),AJ37*7.5/100)","v":0},0,null,null,{"$f":"IF(AO37>='PERSONEL BİLGİ GİRİŞİ'!AA71,'PERSONEL BİLGİ GİRİŞİ'!AA71,IF('PERSONEL BİLGİ GİRİŞİ'!AA71,AO37))","v":0},{"$f":"AJ37-AO37-AP37-AV37-AW37-AZ37-BA37-BE37","v":0},0]
[{"$f":"PUANTAJ!A73","v":""},{"$f":"PUANTAJ!B73","v":" "},{"$f":"'PERSONEL BİLGİ GİRİŞİ'!H38","v":0},{"$f":"'PERSONEL BİLGİ GİRİŞİ'!P73","v":0},0,{"$f":"'PERSONEL BİLGİ GİRİŞİ'!Q38","v":0},{"$f":"PUANTAJ!AI73","v":0},{"$f":"PUANTAJ!AU73","v":0},{"$f":"PUANTAJ!AT73-PUANTAJ!AP73","v":0},{"$f":"PUANTAJ!AI73","v":0},{"$f":"('PERSONEL BİLGİ GİRİŞİ'!R38*(PUANTAJ!AI73))","v":0},{"$f":"PUANTAJ!AJ73","v":0},{"$f":"('PERSONEL BİLGİ GİRİŞİ'!U38*PUANTAJ!AJ73)","v":0},{"$f":"PUANTAJ!AK73","v":0},{"$f":"('PERSONEL BİLGİ GİRİŞİ'!U38*(PUANTAJ!AK73))","v":0},{"$f":"PUANTAJ!AL73","v":0},{"$f":"('PERSONEL BİLGİ GİRİŞİ'!R38*(P38))","v":0},{"$f":"IF('PERSONEL BİLGİ GİRİŞİ'!AV73=\"YOK\",0,IF('PERSONEL BİLGİ GİRİŞİ'!AS73=\"VAR\",('ANA SAYFA'!$T$11),(0)))","v":0},{"$f":"('PERSONEL BİLGİ GİRİŞİ'!U73+'PERSONEL BİLGİ GİRİŞİ'!V73)*'ANA SAYFA'!$Q$9","v":0},{"$f":"IF('PERSONEL BİLGİ GİRİŞİ'!AV73=\"YOK\",0,'PERSONEL BİLGİ GİRİŞİ'!AE73*G38)","v":0},{"$f":"IF('PERSONEL BİLGİ GİRİŞİ'!AV73=\"YOK\",0,'PERSONEL BİLGİ GİRİŞİ'!AF73*G38)","v":0},null,null,null,null,null,{"$f":"IF(PUANTAJ!AX75>0,D38*1.6/7.5*PUANTAJ!AX75,0)","v":0},{"$f":"IF('PERSONEL BİLGİ GİRİŞİ'!AU73=\"YOK\",0,IF('PERSONEL BİLGİ GİRİŞİ'!AK73=\"VAR\",('ANA SAYFA'!$Q$17),(0)))","v":0},{"$f":"IF('PERSONEL BİLGİ GİRİŞİ'!AV73=\"YOK\",0,IF('PERSONEL BİLGİ GİRİŞİ'!AN73=\"VAR\",('ANA SAYFA'!$T$10),(0)))","v":0},{"$f":"IF('PERSONEL BİLGİ GİRİŞİ'!AV73=\"YOK\",0,IF('PERSONEL BİLGİ GİRİŞİ'!AR73=\"VAR\",('ANA SAYFA'!$T$13),(0)))","v":0},{"$f":"IF(I38=0,0,'ANA SAYFA'!$J$16)","v":0},{"$f":"'Vergi Matrahları'!E37","v":0},{"$f":"IF(AF38<='ANA SAYFA'!$P$19,AE38*15%,IF(AF38<='ANA SAYFA'!$Q$19,((AE38-(AF38-'ANA SAYFA'!$P$19))*15%)+(AF38-'ANA SAYFA'!$P$19)*20%,IF(AF38<='ANA SAYFA'!$P$20,AE38*20%,IF(AF38<=('ANA SAYFA'!$R$20),((AE38-(AF38-'ANA SAYFA'!$P$20))*20%)+(AF38-'ANA SAYFA'!$P$20)*27%,IF(AF38<='ANA SAYFA'!$P$21,AE38*27%)))))-'ek bordro'!K37","v":0},{"$f":"IF(I38=0,0,('ANA SAYFA'!$J$15)*0.00759)-'ek bordro'!L37","v":0},{"$f":"PUANTAJ!AM73","v":0},{"$f":"K38+M38+O38+Q38+'PERSONEL BİLGİ GİRİŞİ'!V38-'PERSONEL BİLGİ GİRİŞİ'!X38+'ek bordro'!D37","v":0},{"$f":"AJ38-AZ38-BA38+'ek bordro'!E37-'PERSONEL BİLGİ GİRİŞİ'!AY38","v":0},{"$f":"IF(AN38<='ANA SAYFA'!$P$19,AK38*15%,IF(AN38<='ANA SAYFA'!$Q$19,((AK38-(AN38-'ANA SAYFA'!$P$19))*15%)+(AN38-'ANA SAYFA'!$P$19)*20%,IF(AN38<='ANA SAYFA'!$P$20,AK38*20%,IF(AN38<=('ANA SAYFA'!$Q$20),((AK38-(AN38-'ANA SAYFA'!$P$20))*20%)+(AN38-'ANA SAYFA'!$P$20)*27%,IF(AN38<='ANA SAYFA'!$P$21,AK38*27%)))))","v":0},0,{"$f":"'Vergi Matrahları'!D37","v":0},{"$f":"IF((AL38-AG38)<=0,0,AL38-AG38+'ek bordro'!G37)","v":0},{"$f":"IF(AJ38<='ANA SAYFA'!$J$15,0,AM38-AH38+'ek bordro'!H37)","v":0},{"$f":"IF(A38=\"\",0,IF((PUANTAJ!AV73+PUANTAJ!AR73)>1,' BORDRO HAZIRLIK'!AJ38,IF(AND(PUANTAJ!AV73=0,PUANTAJ!AM73<=140),'ANA SAYFA'!$J$15,IF(AND(COUNTA(PUANTAJ!D75:AH75)>=28,(AJ38<'ANA SAYFA'!$J$15)),'ANA SAYFA'!$J$15,AJ38))))+'ek bordro'!I72","v":0},{"$f":"IF(AQ38='ANA SAYFA'!$J$15,('ANA SAYFA'!$J$15*9/100)-(AJ38*9/100),(0))","v":0},{"$f":"ROUND(IF('PERSONEL BİLGİ GİRİŞİ'!AM38=\"VAR\",(AJ38*3/100),(0)),0)","v":0},{"$f":"ROUND(IF('PERSONEL BİLGİ GİRİŞİ'!AO38=\"VAR\",(BG38/4),(0)),2)","v":0},{"$f":"IF(NAFAKA!F38>1,NAFAKA!F38,IF('PERSONEL BİLGİ GİRİŞİ'!AT38=\"VAR\",(BG38/4),(0)))","v":0},{"$f":"ROUND(IF('PERSONEL BİLGİ GİRİŞİ'!BE38=\"VAR\",(((100*'ANA SAYFA'!$H$15))),(0)),2)","v":0},{"$f":"ROUND(IF('PERSONEL BİLGİ GİRİŞİ'!BD38=\"VAR\",((1500*'ANA SAYFA'!$H$15/4)),(0)),2)","v":0},{"$f":"IF(AQ38='ANA SAYFA'!$J$15,('ANA SAYFA'!$J$15*5/100)-(AJ38*5/100),(0))","v":0},{"$f":"IF(AQ38='ANA SAYFA'!$J$15,'ANA SAYFA'!$J$15*11/100+(AR38),(AQ38*11/100)+IF(AJ38>1,'Ödeme Emri'!$E$34,(0)))+'Ödeme Emri'!$L$37","v":0},0,0,{"$f":"IF(AQ38='ANA SAYFA'!$J$15,AQ38*7.5/100+(AX38),AJ38*7.5/100)","v":0},0,null,null,{"$f":"IF(AO38>='PERSONEL BİLGİ GİRİŞİ'!AA73,'PERSONEL BİLGİ GİRİŞİ'!AA73,IF('PERSONEL BİLGİ GİRİŞİ'!AA73,AO38))","v":0},0,0]
[{"$f":"PUANTAJ!A75","v":""},{"$f":"PUANTAJ!B75","v":" "},{"$f":"'PERSONEL BİLGİ GİRİŞİ'!H39","v":0},null,null,{"$f":"'PERSONEL BİLGİ GİRİŞİ'!Q39","v":0},{"$f":"PUANTAJ!AI75","v":0},{"$f":"PUANTAJ!AU75","v":0},{"$f":"PUANTAJ!AT75-PUANTAJ!AP75","v":0},{"$f":"PUANTAJ!AI75","v":0},{"$f":"('PERSONEL BİLGİ GİRİŞİ'!R39*(PUANTAJ!AI75))","v":0},{"$f":"PUANTAJ!AJ75","v":0},{"$f":"('PERSONEL BİLGİ GİRİŞİ'!U39*PUANTAJ!AJ75)","v":0},{"$f":"PUANTAJ!AK75","v":0},{"$f":"('PERSONEL BİLGİ GİRİŞİ'!U39*(PUANTAJ!AK75))","v":0},{"$f":"PUANTAJ!AL75","v":0},{"$f":"('PERSONEL BİLGİ GİRİŞİ'!R39*(P39))","v":0},{"$f":"IF('PERSONEL BİLGİ GİRİŞİ'!AV74=\"YOK\",0,IF('PERSONEL BİLGİ GİRİŞİ'!AS74=\"VAR\",('ANA SAYFA'!$T$11),(0)))","v":0},{"$f":"('PERSONEL BİLGİ GİRİŞİ'!U74+'PERSONEL BİLGİ GİRİŞİ'!V74)*'ANA SAYFA'!$Q$9","v":0},{"$f":"IF('PERSONEL BİLGİ GİRİŞİ'!AV74=\"YOK\",0,'PERSONEL BİLGİ GİRİŞİ'!AE74*G39)","v":0},{"$f":"IF('PERSONEL BİLGİ GİRİŞİ'!AV74=\"YOK\",0,'PERSONEL BİLGİ GİRİŞİ'!AF74*G39)","v":0},null,null,null,null,null,{"$f":"IF(PUANTAJ!AX76>0,D39*1.6/7.5*PUANTAJ!AX76,0)","v":0},{"$f":"IF('PERSONEL BİLGİ GİRİŞİ'!AU74=\"YOK\",0,IF('PERSONEL BİLGİ GİRİŞİ'!AK74=\"VAR\",('ANA SAYFA'!$Q$17),(0)))","v":0},{"$f":"IF('PERSONEL BİLGİ GİRİŞİ'!AV74=\"YOK\",0,IF('PERSONEL BİLGİ GİRİŞİ'!AN74=\"VAR\",('ANA SAYFA'!$T$10),(0)))","v":0},{"$f":"IF('PERSONEL BİLGİ GİRİŞİ'!AV74=\"YOK\",0,IF('PERSONEL BİLGİ GİRİŞİ'!AR74=\"VAR\",('ANA SAYFA'!$T$13),(0)))","v":0},{"$f":"IF(I39=0,0,'ANA SAYFA'!$J$16)","v":0},{"$f":"'Vergi Matrahları'!E38","v":0},{"$f":"IF(AF39<='ANA SAYFA'!$P$19,AE39*15%,IF(AF39<='ANA SAYFA'!$Q$19,((AE39-(AF39-'ANA SAYFA'!$P$19))*15%)+(AF39-'ANA SAYFA'!$P$19)*20%,IF(AF39<='ANA SAYFA'!$P$20,AE39*20%,IF(AF39<=('ANA SAYFA'!$R$20),((AE39-(AF39-'ANA SAYFA'!$P$20))*20%)+(AF39-'ANA SAYFA'!$P$20)*27%,IF(AF39<='ANA SAYFA'!$P$21,AE39*27%)))))-'ek bordro'!K38","v":0},{"$f":"IF(I39=0,0,('ANA SAYFA'!$J$15)*0.00759)-'ek bordro'!L38","v":0},{"$f":"PUANTAJ!AM75","v":0},{"$f":"K39+M39+O39+Q39+'PERSONEL BİLGİ GİRİŞİ'!V39-'PERSONEL BİLGİ GİRİŞİ'!X39+'ek bordro'!D38","v":0},{"$f":"AJ39-AZ39-BA39+'ek bordro'!E38-'PERSONEL BİLGİ GİRİŞİ'!AY39","v":0},{"$f":"IF(AN39<='ANA SAYFA'!$P$19,AK39*15%,IF(AN39<='ANA SAYFA'!$Q$19,((AK39-(AN39-'ANA SAYFA'!$P$19))*15%)+(AN39-'ANA SAYFA'!$P$19)*20%,IF(AN39<='ANA SAYFA'!$P$20,AK39*20%,IF(AN39<=('ANA SAYFA'!$Q$20),((AK39-(AN39-'ANA SAYFA'!$P$20))*20%)+(AN39-'ANA SAYFA'!$P$20)*27%,IF(AN39<='ANA SAYFA'!$P$21,AK39*27%)))))","v":0},{"$f":"AJ39*0.00759","v":0},{"$f":"'Vergi Matrahları'!D38","v":0},{"$f":"IF((AL39-AG39)<=0,0,AL39-AG39+'ek bordro'!G38)","v":0},{"$f":"IF(AJ39<='ANA SAYFA'!$J$15,0,AM39-AH39+'ek bordro'!H38)","v":0},{"$f":"IF(A39=\"\",0,IF((PUANTAJ!AV75+PUANTAJ!AR75)>1,' BORDRO HAZIRLIK'!AJ39,IF(AND(PUANTAJ!AV75=0,PUANTAJ!AM75<=140),'ANA SAYFA'!$J$15,IF(AND(COUNTA(PUANTAJ!D76:AH76)>=28,(AJ39<'ANA SAYFA'!$J$15)),'ANA SAYFA'!$J$15,AJ39))))+'ek bordro'!I73","v":0},{"$f":"IF(AQ39='ANA SAYFA'!$J$15,('ANA SAYFA'!$J$15*9/100)-(AJ39*9/100),(0))","v":0},{"$f":"ROUND(IF('PERSONEL BİLGİ GİRİŞİ'!AM39=\"VAR\",(AJ39*3/100),(0)),0)","v":0},{"$f":"ROUND(IF('PERSONEL BİLGİ GİRİŞİ'!AO39=\"VAR\",(BG39/4),(0)),2)","v":0},{"$f":"IF(NAFAKA!F39>1,NAFAKA!F39,IF('PERSONEL BİLGİ GİRİŞİ'!AT39=\"VAR\",(BG39/4),(0)))","v":0},{"$f":"ROUND(IF('PERSONEL BİLGİ GİRİŞİ'!BE39=\"VAR\",(((100*'ANA SAYFA'!$H$15))),(0)),2)","v":0},{"$f":"ROUND(IF('PERSONEL BİLGİ GİRİŞİ'!BD39=\"VAR\",((1500*'ANA SAYFA'!$H$15/4)),(0)),2)","v":0},{"$f":"IF(AQ39='ANA SAYFA'!$J$15,('ANA SAYFA'!$J$15*5/100)-(AJ39*5/100),(0))","v":0},{"$f":"IF(AQ39='ANA SAYFA'!$J$15,'ANA SAYFA'!$J$15*11/100+(AR39),(AQ39*11/100)+IF(AJ39>1,'Ödeme Emri'!$E$34,(0)))+'Ödeme Emri'!$L$37","v":0},{"$f":"AJ39*9/100","v":0},{"$f":"AJ39*5/100","v":0},{"$f":"IF(AQ39='ANA SAYFA'!$J$15,AQ39*7.5/100+(AX39),AJ39*7.5/100)","v":0},{"$f":"AQ39*2/100","v":0},null,null,{"$f":"IF(AO39>='PERSONEL BİLGİ GİRİŞİ'!AA74,'PERSONEL BİLGİ GİRİŞİ'!AA74,IF('PERSONEL BİLGİ GİRİŞİ'!AA74,AO39))","v":0},0,0]
["TOPLAM",null,null,null,null,{"$f":"SUM(F5:F38)","v":17469.599999999999},164,30,23,164,17469.28,0,0,0,0,41,4367.32,0,0,13859355,13980632.640000001,0,0,0,0,0,0,0,0,0,17002.12,17002.12,2550.3200000000002,151.82,205,21836.6,18779.48,{"$f":"SUM(AL5:AL38)","v":2816.92},165.74,18779.48,266.60000000000002,13.92,21836.6,0,0,0,0,0,0,0,2402.04,1965.29,1091.83,1637.75,436.73,0,0,0,18498.96,18498.96]
[null,null,null,null,null,null,null,null,null,null,null,null,null,null,null,null,null,null,null,null,null,null,null,null,null,null,null,null,null,null,null,null,null,null,null,null,null,null,null,null,null,null,null,null,null,null,null,null,null,null,{"$f":"SUM(AY40:BE40)","v":7533.64}]
[null,null,null,null,null,null,null,null,null,null,null,{"$f":"PUANTAJ!AJ80","v":0},null,{"$f":"PUANTAJ!AK80","v":0},null,null,null,null,null,null,null,null,null,null,null,null,null,null,null,null,null,null,null,{"$f":"IF(I42=0,0,'ANA SAYFA'!$J$15*0.00759)","v":0},{"$f":"PUANTAJ!AM80","v":0},null,null,null,{"$f":"AJ42*0.00759","v":0},null,null,null,null,null,null,null,null,null,null,null,{"$f":"AY40+AZ40","v":4367.33},null,{"$f":"BA40+BB40","v":2729.58},null,{"$f":"BD40","v":0},{"$f":"BC40+BE40","v":436.73}]
[]
[{"$f":"'PERSONEL BİLGİ GİRİŞİ'!A81:B81","v":"MAAŞ MUTEMEDİ"},null,null,null,null,null,null,null,null,null,null,null,null,null,null,null,null,null,null,null,null,null,null,null,null,null,null,null,null,null,null,null,null,null,null,{"$f":"'PERSONEL BİLGİ GİRİŞİ'!J81","v":"GERÇEKLEŞTİRME GÖREVLİSİ"},null,null,null,null,null,null,null,null,null," ",null,null,null,null,null,null,null,null,{"$f":"'PERSONEL BİLGİ GİRİŞİ'!K81","v":"HARCAMA YETKİLİSİ"}]
[{"$f":"'PERSONEL BİLGİ GİRİŞİ'!A82:B82","v":0},null,null,null,null,null,null,null,null,null,null,null,null,null,null,null,null,null,null,null,null,null,null,null,null,null,null,null,null,null,null,null,null,null,null,{"$f":"'PERSONEL BİLGİ GİRİŞİ'!J82","v":0},null,null,null,null,null,null,null,null,null,null,null,null,null,null,null,null,null,null,{"$f":"'PERSONEL BİLGİ GİRİŞİ'!K82","v":0}]
[{"$f":"'PERSONEL BİLGİ GİRİŞİ'!A83:B83","v":{"$error":"#N/A"}},null,null,null,null,null,null,null,null,null,null,null,null,null,null,null,null,null,null,null,null,null,null,null,null,null,null,null,null,null,null,null,null,null,null,{"$f":"'PERSONEL BİLGİ GİRİŞİ'!J83","v":{"$error":"#N/A"}},null,null,null,null,null,null,null,null,null,null,null,null,null,null,null,null,null,null,{"$f":"'PERSONEL BİLGİ GİRİŞİ'!K83","v":{"$error":"#N/A"}}]
[{"$f":"TODAY()","v":"2024-02-05"},null,null,null,null,null,null,null,null,null,null,null,null,null,null,null,null,null,null,null,null,null,null,null,null,null,null,null,null,null,null,null,null,null,null,{"$f":"'PERSONEL BİLGİ GİRİŞİ'!J84","v":"2024-02-05"},null,null,null,null,null,null,null,null,null,null,null,null,null,null,null,null,null,null,{"$f":"TODAY()","v":"2024-02-05"}]

{"sheet":"Ödeme Emri","index":9,"n_rows":37,"n_cols":16,"rows_kept":37,"cut":false,"hidden":false,"merged":[[34,6,35,6],[33,4,33,5],[33,11,33,15],[31,0,31,1],[25,6,25,10],[26,6,26,10],[31,11,31,15],[32,11,32,15],[32,4,32,5],[34,11,35,15],[23,6,23,10],[24,6,24,10],[33,9,33,10],[27,6,27,10],[28,6,28,10],[32,9,32,10],[33,7,33,8],[20,6,20,10],[19,6,19,10],[18,6,18,10],[21,6,21,10],[22,6,22,10],[13,1,13,2],[14,6,14,10],[15,6,15,10],[16,6,16,10],[17,6,17,10],[36,11,36,15],[12,1,12,2],[0,0,0,15],[3,0,3,15],[6,2,6,3],[29,2,29,12],[2,2,2,3],[2,4,2,8],[4,0,4,15],[1,14,1,15],[2,14,2,15],[1,9,1,11],[8,1,8,2],[9,1,9,2],[10,1,10,2],[11,1,11,2]]}
["Ö D E M E   E M R İ   B E L G E S İ"]
["Sıra No","AD-Soyad /Unvan",null,"VKN/TCKN","IBAN",null,null,"NET TUTAR",null,"ANA SAYFA",null,null,null,null,"ÖDENMESİ GEREKEN TUTAR"]
[1,{"$f":"'ANA SAYFA'!A1","v":"AİLE VE SOSYAL HİZMETLER İL MÜDÜRLÜĞÜ"},{"$f":"'ANA SAYFA'!H7","v":0},null,{"$f":"'ANA SAYFA'!H6","v":0},null,null,null,null,null,null,null,null,null,{"$f":"L33","v":18498.96}]
["Ödeme Emri Detayı"]
[{"$f":"'ANA SAYFA'!A2:J2","v":"EK DERS KARŞILIĞI ÇALIŞAN PERSONELLERİN MAAŞ ÖDEMESİ"}]
["Sıra No","Ödeme Kalemi"]
[null,"Ödeme Kalemi","Bütçe Tertibi",null,"Brüt Tutar","Kesinti Türü","Kesinti Alt Türü","Kesinti Yapılan Kişi Kurum",null,"Dosya No","Hesaba Esas Tutar","Kesinti Oranı","Tutar","Diğer Detay Türü","Diğer Detay Alt Türü","Tutar"]
[null,null,null,null,"MAAŞ",null,null,"Ad Soyad/ Ünvanı","VCN/ TCKN"]
[1,"GEÇİCİ SÜRELİ ÇALIŞTIRILAN PERSONEL                 (DERS ÜCRETİ KARŞILIĞI ÇALIŞAN,,,USTA ÖĞRETİCİLER, )",null,null,{"$f":"' BORDRO HAZIRLIK'!AJ40-E11-E10","v":21836.6}]
[2,"376 S. KHK' nın Geçici 23. Md. Kapsamında Sürekli İşçi Kadrolarına Geçirilen İşçilerin Fazla Mesaileri",null,null,{"$f":"' BORDRO HAZIRLIK'!AA40","v":0}]
[3,"376 S. KHK' nın Geçici 23. Md. Kapsamında Sürekli İşçi Kadrolarına Geçirilen İşçilerin SOSYAL HAKLARI",null,null,0]
[4,"SOSYAL GÜV. PİRİMİ ÖDEMELERİ\n%11 + %2",null,null,{"$f":"M17+M21","v":2838.77}]
[null,"SAĞLIK PRİMİ ÖDEMELERİ - %7,5",null,null,{"$f":"M20","v":1637.75}]
[5,{"$f":"G22","v":"İŞSİZLİK SİGORTASI PİRİMİ- İŞVEREN            %2"},null,null,{"$f":"M22","v":0},null,null,null,null,null,null,null,"MAAŞ"]
[6,null,null,null,null,"Vergi","Damga Vergisi- Maaş, Ücret vb.Her NeAdla Olursa Olsun Hizmet Karşılığı Yapılan Ödemeler (Avams Değil)Nedeniyle Düzenlenen Makbuzlar İle Bu Mahiyetteki Kağıtlar",null,null,null,null,null,{"$f":"' BORDRO HAZIRLIK'!AP40","v":13.92}]
[7,null,null,null,null,"Vergi","Gelir Vergisi",null,null,null,null,null,{"$f":"' BORDRO HAZIRLIK'!AO40","v":266.60000000000002}]
[8,null,null,null,null,"SGK",{"$f":"' BORDRO HAZIRLIK'!AY4","v":"MALULUK YAŞLILIK (İŞVEREN-İŞÇİ)\n%11"},null,null,null,null,null,{"$f":"' BORDRO HAZIRLIK'!AY40","v":2402.04}]
[9,null,null,null,null,"SGK",{"$f":"' BORDRO HAZIRLIK'!AZ4","v":"MALULUK YAŞLILIK (İŞTİRAKÇİ-İŞÇİ)                 %9"},null,null,null,null,null,{"$f":"' BORDRO HAZIRLIK'!AZ40","v":1965.29}]
[10,null,null,null,null,"SGK",{"$f":"' BORDRO HAZIRLIK'!BA4","v":"G.S.S.  (İŞTİRAKÇİ İŞÇİ)\n%5"},null,null,null,null,null,{"$f":"' BORDRO HAZIRLIK'!BA40","v":1091.83}]
[11,null,null,null,null,"SGK",{"$f":"' BORDRO HAZIRLIK'!BB4","v":"G.S.S.  (İŞVEREN İŞÇİ)\n%7.5"},null,null,null,null,null,{"$f":"' BORDRO HAZIRLIK'!BB40","v":1637.75}]
[12,null,null,null,null,"SGK",{"$f":"' BORDRO HAZIRLIK'!BC4","v":"KISA VAADELİ SİGORTA KOLLARI PİRİMİ\n%2"},null,null,null,null,null,{"$f":"' BORDRO HAZIRLIK'!BC40","v":436.73}]
[13,null,null,null,null,"SGK",{"$f":"' BORDRO HAZIRLIK'!BD4","v":"İŞSİZLİK SİGORTASI PİRİMİ- İŞVEREN            %2"},null,null,null,null,null,{"$f":"' BORDRO HAZIRLIK'!BD40","v":0}]
[14,null,null,null,null,"SGK",{"$f":"' BORDRO HAZIRLIK'!BE4","v":"İŞSİZLİK SİGORTASI PİRİMİ- İŞÇİ             %1  "},null,null,null,null,null,{"$f":"' BORDRO HAZIRLIK'!BE40","v":0}]
[15,null,null,null,null,"İCRA","İCRA",null,null,null,null,null,{"$f":"' BORDRO HAZIRLIK'!AT40","v":0}]
[16,null,null,null,null,"BES","Halk - Hayat Emeklilik İşçi",null,null,null,null,null,{"$f":"' BORDRO HAZIRLIK'!AS40","v":0}]
[17,null,null,null,null,"AİDAT","SENDİKA",null,null,null,null,null,0]
[18,null,null,null,null,"KEFALET","KEFALET",null,null,null,null,null,{"$f":"' BORDRO HAZIRLIK'!AV40+' BORDRO HAZIRLIK'!AW40","v":0}]
[null,null,null,null,null,"CEZA","YEVMİYE CEZASI",null,null,null,null,null,0]
[null,null,null,null,null,"NAFAKA","NAFAKA",null,null,null,null,null,{"$f":"' BORDRO HAZIRLIK'!AU40","v":0}]
[null,null,{"$f":"CONCATENATE('[2]ANA SAYFA'!H9,\" \",'ANA SAYFA'!J9)","v":"188990101106924506701 "},null,null,null,null,null,null,null,null,null,null,null,"Ücretlerde Vergi İndirimi",{"$f":"' BORDRO HAZIRLIK'!BF40","v":0}]
[]
["Ödeme Emri Toplam Tuatrı",null,"Brüt Tutar",null,"Kesinti Toplamı",null,"Diğer Detay Toplamı",null,null,"Net Tutar",null,"Ödenmesi Gereken Tutar"]
[null,null,{"$f":"SUM(E9:E14)","v":26313.119999999999},null,{"$f":"SUM(M15:M29)","v":7814.16},null,{"$f":"P30","v":0},null,null,{"$f":"C33-E33+G33","v":18498.96},null,{"$f":"' BORDRO HAZIRLIK'!BG40","v":18498.96}]
[null,"TAHAKKUK TOPLAMI",{"$f":"' BORDRO HAZIRLIK'!AY41","v":7533.64},null,{"$f":"G37/G34","v":0.01},null,{"$f":"COUNTA('PERSONEL BİLGİ GİRİŞİ'!$B$5:$B$79)","v":1},null,null,"FARK",null,{"$f":"L33-J33","v":0}]
[null,null,null,null,null,null,"KURUŞ FARKI DÜZELT",null,null,null,null,"MANUEL KURUŞ FARKI DÜZELT"]
[]
[null,null,null,null,null,"!!!!!!!",0.01,"!!!!!!!",null,null,null,0]

{"sheet":"BANKA LİSTESİ","index":10,"n_rows":46,"n_cols":6,"rows_kept":46,"cut":false,"hidden":false,"merged":[[39,0,39,4],[45,0,45,1],[42,0,42,1],[43,0,43,1],[44,0,44,1],[42,2,42,4],[43,2,43,4],[44,2,44,4],[45,2,45,4],[0,0,0,5],[2,0,3,0],[2,1,3,1],[2,2,3,2],[2,3,3,3],[2,4,3,4],[1,0,1,4]]}
[{"$f":"'PERSONEL BİLGİ GİRİŞİ'!A1","v":"AİLE VE SOSYAL HİZMETLER İL MÜDÜRLÜĞÜ"}]
["B A N K A   M A A Ş   L İ S T E S İ",null,null,null,null,{"$f":"PUANTAJ!AI2","v":"2024-01-01"}]
["SIRA NO","AD-SOYAD","TC. KİMLİK NO","ÖDEME DÖNEMİ","İBAN","ÖDENECEK OLAN TUTAR"]
[null,null,null,null,null,"ANA SAYFA"]
[{"$f":"PUANTAJ!A7","v":1},{"$f":"PUANTAJ!B7","v":"ALİ BZC "},{"$f":"IF(F5>1,'PERSONEL BİLGİ GİRİŞİ'!H5,\"\")","v":0},{"$f":"IF(F5>1,$F$2,\"\")","v":"2024-01-01"},{"$f":"IF(F5>1,'PERSONEL BİLGİ GİRİŞİ'!J5,\"\")","v":0},{"$f":"' BORDRO HAZIRLIK'!BH5","v":18498.96}]
[{"$f":"PUANTAJ!A9","v":""},{"$f":"PUANTAJ!B9","v":" "},{"$f":"IF(F6>1,'PERSONEL BİLGİ GİRİŞİ'!H6,\"\")","v":""},{"$f":"IF(F6>1,$F$2,\"\")","v":""},{"$f":"IF(F6>1,'PERSONEL BİLGİ GİRİŞİ'!J6,\"\")","v":""},{"$f":"' BORDRO HAZIRLIK'!BH6","v":0}]
[{"$f":"PUANTAJ!A11","v":""},{"$f":"PUANTAJ!B11","v":" "},{"$f":"IF(F7>1,'PERSONEL BİLGİ GİRİŞİ'!H7,\"\")","v":""},"",{"$f":"IF(F7>1,'PERSONEL BİLGİ GİRİŞİ'!J7,\"\")","v":""},{"$f":"' BORDRO HAZIRLIK'!BH7","v":0}]
[{"$f":"PUANTAJ!A13","v":""},{"$f":"PUANTAJ!B13","v":" "},{"$f":"IF(F8>1,'PERSONEL BİLGİ GİRİŞİ'!H8,\"\")","v":""},"",{"$f":"IF(F8>1,'PERSONEL BİLGİ GİRİŞİ'!J8,\"\")","v":""},{"$f":"' BORDRO HAZIRLIK'!BH8","v":0}]
[{"$f":"PUANTAJ!A15","v":""},{"$f":"PUANTAJ!B15","v":" "},{"$f":"IF(F9>1,'PERSONEL BİLGİ GİRİŞİ'!H9,\"\")","v":""},"",{"$f":"IF(F9>1,'PERSONEL BİLGİ GİRİŞİ'!J9,\"\")","v":""},{"$f":"' BORDRO HAZIRLIK'!BH9","v":0}]
[{"$f":"PUANTAJ!A17","v":""},{"$f":"PUANTAJ!B17","v":" "},{"$f":"IF(F10>1,'PERSONEL BİLGİ GİRİŞİ'!H10,\"\")","v":""},"",{"$f":"IF(F10>1,'PERSONEL BİLGİ GİRİŞİ'!J10,\"\")","v":""},{"$f":"' BORDRO HAZIRLIK'!BH10","v":0}]
[{"$f":"PUANTAJ!A19","v":""},{"$f":"PUANTAJ!B19","v":" "},{"$f":"IF(F11>1,'PERSONEL BİLGİ GİRİŞİ'!H11,\"\")","v":""},"",{"$f":"IF(F11>1,'PERSONEL BİLGİ GİRİŞİ'!J11,\"\")","v":""},{"$f":"' BORDRO HAZIRLIK'!BH11","v":0}]
[{"$f":"PUANTAJ!A21","v":""},{"$f":"PUANTAJ!B21","v":" "},{"$f":"IF(F12>1,'PERSONEL BİLGİ GİRİŞİ'!H12,\"\")","v":""},"",{"$f":"IF(F12>1,'PERSONEL BİLGİ GİRİŞİ'!J12,\"\")","v":""},{"$f":"' BORDRO HAZIRLIK'!BH12","v":0}]
[{"$f":"PUANTAJ!A23","v":""},{"$f":"PUANTAJ!B23","v":" "},{"$f":"IF(F13>1,'PERSONEL BİLGİ GİRİŞİ'!H13,\"\")","v":""},"",{"$f":"IF(F13>1,'PERSONEL BİLGİ GİRİŞİ'!J13,\"\")","v":""},{"$f":"' BORDRO HAZIRLIK'!BH13","v":0}]
[{"$f":"PUANTAJ!A25","v":""},{"$f":"PUANTAJ!B25","v":" "},{"$f":"IF(F14>1,'PERSONEL BİLGİ GİRİŞİ'!H14,\"\")","v":""},"",{"$f":"IF(F14>1,'PERSONEL BİLGİ GİRİŞİ'!J14,\"\")","v":""},{"$f":"' BORDRO HAZIRLIK'!BH14","v":0}]
[{"$f":"PUANTAJ!A27","v":""},{"$f":"PUANTAJ!B27","v":" "},{"$f":"IF(F15>1,'PERSONEL BİLGİ GİRİŞİ'!H15,\"\")","v":""},"",{"$f":"IF(F15>1,'PERSONEL BİLGİ GİRİŞİ'!J15,\"\")","v":""},{"$f":"' BORDRO HAZIRLIK'!BH15","v":0}]
[{"$f":"PUANTAJ!A29","v":""},{"$f":"PUANTAJ!B29","v":" "},{"$f":"IF(F16>1,'PERSONEL BİLGİ GİRİŞİ'!H16,\"\")","v":""},"",{"$f":"IF(F16>1,'PERSONEL BİLGİ GİRİŞİ'!J16,\"\")","v":""},{"$f":"' BORDRO HAZIRLIK'!BH16","v":0}]
[{"$f":"PUANTAJ!A31","v":""},{"$f":"PUANTAJ!B31","v":" "},{"$f":"IF(F17>1,'PERSONEL BİLGİ GİRİŞİ'!H17,\"\")","v":""},"",{"$f":"IF(F17>1,'PERSONEL BİLGİ GİRİŞİ'!J17,\"\")","v":""},{"$f":"' BORDRO HAZIRLIK'!BH17","v":0}]
[{"$f":"PUANTAJ!A33","v":""},{"$f":"PUANTAJ!B33","v":" "},{"$f":"IF(F18>1,'PERSONEL BİLGİ GİRİŞİ'!H18,\"\")","v":""},"",{"$f":"IF(F18>1,'PERSONEL BİLGİ GİRİŞİ'!J18,\"\")","v":""},{"$f":"' BORDRO HAZIRLIK'!BH18","v":0}]
[{"$f":"PUANTAJ!A35","v":""},{"$f":"PUANTAJ!B35","v":" "},{"$f":"IF(F19>1,'PERSONEL BİLGİ GİRİŞİ'!H19,\"\")","v":""},"",{"$f":"IF(F19>1,'PERSONEL BİLGİ GİRİŞİ'!J19,\"\")","v":""},{"$f":"' BORDRO HAZIRLIK'!BH19","v":0}]
[{"$f":"PUANTAJ!A37","v":""},{"$f":"PUANTAJ!B37","v":" "},{"$f":"IF(F20>1,'PERSONEL BİLGİ GİRİŞİ'!H20,\"\")","v":""},"",{"$f":"IF(F20>1,'PERSONEL BİLGİ GİRİŞİ'!J20,\"\")","v":""},{"$f":"' BORDRO HAZIRLIK'!BH20","v":0}]
[{"$f":"PUANTAJ!A39","v":""},{"$f":"PUANTAJ!B39","v":" "},{"$f":"IF(F21>1,'PERSONEL BİLGİ GİRİŞİ'!H21,\"\")","v":""},"",{"$f":"IF(F21>1,'PERSONEL BİLGİ GİRİŞİ'!J21,\"\")","v":""},{"$f":"' BORDRO HAZIRLIK'!BH21","v":0}]
[{"$f":"PUANTAJ!A41","v":""},{"$f":"PUANTAJ!B41","v":" "},{"$f":"IF(F22>1,'PERSONEL BİLGİ GİRİŞİ'!H22,\"\")","v":""},"",{"$f":"IF(F22>1,'PERSONEL BİLGİ GİRİŞİ'!J22,\"\")","v":""},{"$f":"' BORDRO HAZIRLIK'!BH22","v":0}]
[{"$f":"PUANTAJ!A43","v":""},{"$f":"PUANTAJ!B43","v":" "},{"$f":"IF(F23>1,'PERSONEL BİLGİ GİRİŞİ'!H23,\"\")","v":""},"",{"$f":"IF(F23>1,'PERSONEL BİLGİ GİRİŞİ'!J23,\"\")","v":""},{"$f":"' BORDRO HAZIRLIK'!BH23","v":0}]
[{"$f":"PUANTAJ!A45","v":""},{"$f":"PUANTAJ!B45","v":" "},{"$f":"IF(F24>1,'PERSONEL BİLGİ GİRİŞİ'!H24,\"\")","v":""},"",{"$f":"IF(F24>1,'PERSONEL BİLGİ GİRİŞİ'!J24,\"\")","v":""},{"$f":"' BORDRO HAZIRLIK'!BH24","v":0}]
[{"$f":"PUANTAJ!A47","v":""},{"$f":"PUANTAJ!B47","v":" "},{"$f":"IF(F25>1,'PERSONEL BİLGİ GİRİŞİ'!H25,\"\")","v":""},"",{"$f":"IF(F25>1,'PERSONEL BİLGİ GİRİŞİ'!J25,\"\")","v":""},{"$f":"' BORDRO HAZIRLIK'!BH25","v":0}]
[{"$f":"PUANTAJ!A49","v":""},{"$f":"PUANTAJ!B49","v":" "},{"$f":"IF(F26>1,'PERSONEL BİLGİ GİRİŞİ'!H26,\"\")","v":""},"",{"$f":"IF(F26>1,'PERSONEL BİLGİ GİRİŞİ'!J26,\"\")","v":""},{"$f":"' BORDRO HAZIRLIK'!BH26","v":0}]
[{"$f":"PUANTAJ!A51","v":""},{"$f":"PUANTAJ!B51","v":" "},{"$f":"IF(F27>1,'PERSONEL BİLGİ GİRİŞİ'!H27,\"\")","v":""},"",{"$f":"IF(F27>1,'PERSONEL BİLGİ GİRİŞİ'!J27,\"\")","v":""},{"$f":"' BORDRO HAZIRLIK'!BH27","v":0}]
[{"$f":"PUANTAJ!A53","v":""},{"$f":"PUANTAJ!B53","v":" "},{"$f":"IF(F28>1,'PERSONEL BİLGİ GİRİŞİ'!H28,\"\")","v":""},"",{"$f":"IF(F28>1,'PERSONEL BİLGİ GİRİŞİ'!J28,\"\")","v":""},{"$f":"' BORDRO HAZIRLIK'!BH28","v":0}]
[{"$f":"PUANTAJ!A55","v":""},{"$f":"PUANTAJ!B55","v":" "},{"$f":"IF(F29>1,'PERSONEL BİLGİ GİRİŞİ'!H29,\"\")","v":""},"",{"$f":"IF(F29>1,'PERSONEL BİLGİ GİRİŞİ'!J29,\"\")","v":""},{"$f":"' BORDRO HAZIRLIK'!BH29","v":0}]
[{"$f":"PUANTAJ!A57","v":""},{"$f":"PUANTAJ!B57","v":" "},{"$f":"IF(F30>1,'PERSONEL BİLGİ GİRİŞİ'!H30,\"\")","v":""},"",{"$f":"IF(F30>1,'PERSONEL BİLGİ GİRİŞİ'!J30,\"\")","v":""},{"$f":"' BORDRO HAZIRLIK'!BH30","v":0}]
[{"$f":"PUANTAJ!A59","v":""},{"$f":"PUANTAJ!B59","v":" "},{"$f":"IF(F31>1,'PERSONEL BİLGİ GİRİŞİ'!H31,\"\")","v":""},"",{"$f":"IF(F31>1,'PERSONEL BİLGİ GİRİŞİ'!J31,\"\")","v":""},{"$f":"' BORDRO HAZIRLIK'!BH31","v":0}]
[{"$f":"PUANTAJ!A61","v":""},{"$f":"PUANTAJ!B61","v":" "},{"$f":"IF(F32>1,'PERSONEL BİLGİ GİRİŞİ'!H32,\"\")","v":""},"",{"$f":"IF(F32>1,'PERSONEL BİLGİ GİRİŞİ'!J32,\"\")","v":""},{"$f":"' BORDRO HAZIRLIK'!BH32","v":0}]
[{"$f":"PUANTAJ!A63","v":""},{"$f":"PUANTAJ!B63","v":" "},{"$f":"IF(F33>1,'PERSONEL BİLGİ GİRİŞİ'!H33,\"\")","v":""},"",{"$f":"IF(F33>1,'PERSONEL BİLGİ GİRİŞİ'!J33,\"\")","v":""},{"$f":"' BORDRO HAZIRLIK'!BH33","v":0}]
[{"$f":"PUANTAJ!A65","v":""},{"$f":"PUANTAJ!B65","v":" "},{"$f":"IF(F34>1,'PERSONEL BİLGİ GİRİŞİ'!H34,\"\")","v":""},"",{"$f":"IF(F34>1,'PERSONEL BİLGİ GİRİŞİ'!J34,\"\")","v":""},{"$f":"' BORDRO HAZIRLIK'!BH34","v":0}]
[{"$f":"PUANTAJ!A67","v":""},{"$f":"PUANTAJ!B67","v":" "},{"$f":"IF(F35>1,'PERSONEL BİLGİ GİRİŞİ'!H35,\"\")","v":""},"",{"$f":"IF(F35>1,'PERSONEL BİLGİ GİRİŞİ'!J35,\"\")","v":""},{"$f":"' BORDRO HAZIRLIK'!BH35","v":0}]
[{"$f":"PUANTAJ!A69","v":""},{"$f":"PUANTAJ!B69","v":" "},{"$f":"IF(F36>1,'PERSONEL BİLGİ GİRİŞİ'!H36,\"\")","v":""},"",{"$f":"IF(F36>1,'PERSONEL BİLGİ GİRİŞİ'!J36,\"\")","v":""},{"$f":"' BORDRO HAZIRLIK'!BH36","v":0}]
[{"$f":"PUANTAJ!A71","v":""},{"$f":"PUANTAJ!B71","v":" "},{"$f":"IF(F37>1,'PERSONEL BİLGİ GİRİŞİ'!H37,\"\")","v":""},"",{"$f":"IF(F37>1,'PERSONEL BİLGİ GİRİŞİ'!J37,\"\")","v":""},{"$f":"' BORDRO HAZIRLIK'!BH37","v":0}]
[{"$f":"PUANTAJ!A73","v":""},{"$f":"PUANTAJ!B73","v":" "},{"$f":"IF(F38>1,'PERSONEL BİLGİ GİRİŞİ'!H38,\"\")","v":""},{"$f":"IF(F38>1,$F$2,\"\")","v":""},{"$f":"IF(F38>1,'PERSONEL BİLGİ GİRİŞİ'!J38,\"\")","v":""},{"$f":"' BORDRO HAZIRLIK'!BH38","v":0}]
[{"$f":"PUANTAJ!A75","v":""},{"$f":"PUANTAJ!B75","v":" "},{"$f":"IF(F39>1,'PERSONEL BİLGİ GİRİŞİ'!H39,\"\")","v":""},"",{"$f":"IF(F39>1,'PERSONEL BİLGİ GİRİŞİ'!J39,\"\")","v":""},{"$f":"' BORDRO HAZIRLIK'!BH39","v":0}]
["TOPLAM",null,null,null,null,{"$f":"SUM(F5:F39)","v":18498.96}]
[]
[]
[{"$f":"'PERSONEL BİLGİ GİRİŞİ'!A81","v":"MAAŞ MUTEMEDİ"},null,{"$f":"'PERSONEL BİLGİ GİRİŞİ'!J81","v":"GERÇEKLEŞTİRME GÖREVLİSİ"},null,null,{"$f":"'PERSONEL BİLGİ GİRİŞİ'!K81","v":"HARCAMA YETKİLİSİ"}]
[{"$f":"'PERSONEL BİLGİ GİRİŞİ'!A82","v":0},null,{"$f":"'PERSONEL BİLGİ GİRİŞİ'!J82","v":0},null,null,{"$f":"'PERSONEL BİLGİ GİRİŞİ'!K82","v":0}]
[{"$f":"'PERSONEL BİLGİ GİRİŞİ'!A83","v":{"$error":"#N/A"}},null,{"$f":"'PERSONEL BİLGİ GİRİŞİ'!J83","v":{"$error":"#N/A"}},null,null,{"$f":"'PERSONEL BİLGİ GİRİŞİ'!K83","v":{"$error":"#N/A"}}]
[{"$f":"TODAY()","v":"2024-02-05"},null,{"$f":"TODAY()","v":"2024-02-05"},null,null,{"$f":"'PERSONEL BİLGİ GİRİŞİ'!K84","v":"2024-02-05"}]

{"sheet":"Bildirge","index":11,"n_rows":517,"n_cols":20,"rows_kept":517,"cut":false,"hidden":false,"merged":[]}
[null,"İŞYERİ",null,null,"052",null,null,"Sürüm:6.0.1","20180524_2136",null,null,null,null,null,null,null,null,null,null,"ANASAYFA"]
[null,"Sicil No........................",null,null,{"$f":"'ANA SAYFA'!H9","v":0},null,"Kontrol No...........","052"]
[null,"Aracı No.......................",null,null,"000",null,null,""]
[null,"Ünvan...........................",null,null,{"$f":"'ANA SAYFA'!A1","v":"AİLE VE SOSYAL HİZMETLER İL MÜDÜRLÜĞÜ"}]
[null,"Adres...........................",null,null,{"$f":"'ANA SAYFA'!H10","v":0}]
[null,"Vergi No.......................",null,null,{"$f":"'ANA SAYFA'!H7","v":0}]
[null,"BORDRO"]
[null,"Yıl (yyyy)......................",null,null,{"$f":"'ANA SAYFA'!I5","v":2024}]
[null,"Ay (aa).........................",null,null,{"$f":"'ANA SAYFA'!H5","v":1}]
[null,"Hizmet Yıl (yyyy)......................",null,null,{"$f":"'ANA SAYFA'!I5","v":2024}]
[null,"Hizmet Ay (aa).........................",null,null,{"$f":"'ANA SAYFA'!H5","v":1}]
[null,"Mahiyet.......................",null,null,{"$f":"'ANA SAYFA'!J5","v":"A"},"(Asıl için A. Ek için E. İptal için I)"]
[null,"Tahakkuk Nedeni",null,null,{"$f":"'ANA SAYFA'!J5","v":"A"}]
[null,null,null,null,null,null,null,null,null,null,null,"Prim","işe","işten","eksik","eksik","işten",null,"İstirahat"]
[null,"Sıra","Belge","Kanun","Sigortalı","SGNO(TCKimlik)","Sigortalı Adı","Sigortalı Soyadı","Sigortalı","ÜCRET","İKRAMİYE","Öd.","giriş g.","çıkış g.","gün","gün","çıkış","Meslek","  Sürelerinde"]
[null,"No","Türü","No(5hane)","Sicil Numarası","Numarası (11hane)",null,null,"İlkSoyadı","TL","TL","Günü","GGAA","GGAA","sayısı","nedeni","nedeni","Kod","Çalışmamıştır"]
[null,1,{"$f":"IF('PERSONEL BİLGİ GİRİŞİ'!B5<>\"\",'PERSONEL BİLGİ GİRİŞİ'!F5,\"\")","v":13},{"$f":"IF('PERSONEL BİLGİ GİRİŞİ'!B5<>\"\",'PERSONEL BİLGİ GİRİŞİ'!G5,\"\")","v":"00000"},{"$f":"IF('PERSONEL BİLGİ GİRİŞİ'!H5<>\"\",'PERSONEL BİLGİ GİRİŞİ'!H5,\"\")","v":""},{"$f":"IF('PERSONEL BİLGİ GİRİŞİ'!H5<>\"\",'PERSONEL BİLGİ GİRİŞİ'!H5,\"\")","v":""},{"$f":"IF('PERSONEL BİLGİ GİRİŞİ'!B5<>\"\",'PERSONEL BİLGİ GİRİŞİ'!B5,\"\")","v":"ALİ BZC"},{"$f":"IF('PERSONEL BİLGİ GİRİŞİ'!C5<>\"\",'PERSONEL BİLGİ GİRİŞİ'!C5,\"\")","v":""},{"$f":"IF('PERSONEL BİLGİ GİRİŞİ'!D5<>\"\",'PERSONEL BİLGİ GİRİŞİ'!D5,\"\")","v":""},{"$f":"IF(' BORDRO HAZIRLIK'!AQ5,' BORDRO HAZIRLIK'!AQ5,\"\")","v":21836.6},null,{"$f":"IF(PUANTAJ!AU7,PUANTAJ!AU7,\"\")","v":30},{"$f":"IF('PERSONEL BİLGİ GİRİŞİ'!K5,'PERSONEL BİLGİ GİRİŞİ'!K5,\"\")","v":""},{"$f":"IF('PERSONEL BİLGİ GİRİŞİ'!L5,'PERSONEL BİLGİ GİRİŞİ'!L5,\"\")","v":""},{"$f":"IF(PUANTAJ!AV7,PUANTAJ!AV7,\"\")","v":""},{"$f":"IF(PUANTAJ!AW7=\"E\",1,IF(PUANTAJ!BF7>=1,19,\"\"))","v":""},{"$f":"IF('PERSONEL BİLGİ GİRİŞİ'!M5,'PERSONEL BİLGİ GİRİŞİ'!M5,\"\")","v":""},{"$f":"IF('PERSONEL BİLGİ GİRİŞİ'!E5>=1,'PERSONEL BİLGİ GİRİŞİ'!E5,\"\")","v":""},{"$f":"IF(PUANTAJ!AW7<>\"\",PUANTAJ!AW7,\"\")","v":""}]
[null,2,{"$f":"IF('PERSONEL BİLGİ GİRİŞİ'!B6<>\"\",'PERSONEL BİLGİ GİRİŞİ'!F6,\"\")","v":""},{"$f":"IF('PERSONEL BİLGİ GİRİŞİ'!B6<>\"\",'PERSONEL BİLGİ GİRİŞİ'!G6,\"\")","v":""},{"$f":"IF('PERSONEL BİLGİ GİRİŞİ'!H6<>\"\",'PERSONEL BİLGİ GİRİŞİ'!H6,\"\")","v":""},{"$f":"IF('PERSONEL BİLGİ GİRİŞİ'!H6<>\"\",'PERSONEL BİLGİ GİRİŞİ'!H6,\"\")","v":""},{"$f":"IF('PERSONEL BİLGİ GİRİŞİ'!B6<>\"\",'PERSONEL BİLGİ GİRİŞİ'!B6,\"\")","v":""},{"$f":"IF('PERSONEL BİLGİ GİRİŞİ'!C6<>\"\",'PERSONEL BİLGİ GİRİŞİ'!C6,\"\")","v":""},{"$f":"IF('PERSONEL BİLGİ GİRİŞİ'!D6<>\"\",'PERSONEL BİLGİ GİRİŞİ'!D6,\"\")","v":""},{"$f":"IF(' BORDRO HAZIRLIK'!AQ6,' BORDRO HAZIRLIK'!AQ6,\"\")","v":""},null,{"$f":"IF(PUANTAJ!AU9,PUANTAJ!AU9,\"\")","v":""},{"$f":"IF('PERSONEL BİLGİ GİRİŞİ'!K6,'PERSONEL BİLGİ GİRİŞİ'!K6,\"\")","v":""},{"$f":"IF('PERSONEL BİLGİ GİRİŞİ'!L6,'PERSONEL BİLGİ GİRİŞİ'!L6,\"\")","v":""},{"$f":"IF(PUANTAJ!AV9,PUANTAJ!AV9,\"\")","v":""},{"$f":"IF(PUANTAJ!AW9=\"E\",1,IF(PUANTAJ!BF9>=1,19,\"\"))","v":""},{"$f":"IF('PERSONEL BİLGİ GİRİŞİ'!M6,'PERSONEL BİLGİ GİRİŞİ'!M6,\"\")","v":""},{"$f":"IF('PERSONEL BİLGİ GİRİŞİ'!E6>=1,'PERSONEL BİLGİ GİRİŞİ'!E6,\"\")","v":""},{"$f":"IF(PUANTAJ!AW9<>\"\",PUANTAJ!AW9,\"\")","v":""}]
[null,3,{"$f":"IF('PERSONEL BİLGİ GİRİŞİ'!B7<>\"\",'PERSONEL BİLGİ GİRİŞİ'!F7,\"\")","v":""},{"$f":"IF('PERSONEL BİLGİ GİRİŞİ'!B7<>\"\",'PERSONEL BİLGİ GİRİŞİ'!G7,\"\")","v":""},{"$f":"IF('PERSONEL BİLGİ GİRİŞİ'!H7<>\"\",'PERSONEL BİLGİ GİRİŞİ'!H7,\"\")","v":""},{"$f":"IF('PERSONEL BİLGİ GİRİŞİ'!H7<>\"\",'PERSONEL BİLGİ GİRİŞİ'!H7,\"\")","v":""},{"$f":"IF('PERSONEL BİLGİ GİRİŞİ'!B7<>\"\",'PERSONEL BİLGİ GİRİŞİ'!B7,\"\")","v":""},{"$f":"IF('PERSONEL BİLGİ GİRİŞİ'!C7<>\"\",'PERSONEL BİLGİ GİRİŞİ'!C7,\"\")","v":""},{"$f":"IF('PERSONEL BİLGİ GİRİŞİ'!D7<>\"\",'PERSONEL BİLGİ GİRİŞİ'!D7,\"\")","v":""},{"$f":"IF(' BORDRO HAZIRLIK'!AQ7,' BORDRO HAZIRLIK'!AQ7,\"\")","v":""},null,{"$f":"IF(PUANTAJ!AU11,PUANTAJ!AU11,\"\")","v":""},{"$f":"IF('PERSONEL BİLGİ GİRİŞİ'!K7,'PERSONEL BİLGİ GİRİŞİ'!K7,\"\")","v":""},{"$f":"IF('PERSONEL BİLGİ GİRİŞİ'!L7,'PERSONEL BİLGİ GİRİŞİ'!L7,\"\")","v":""},{"$f":"IF(PUANTAJ!AV11,PUANTAJ!AV11,\"\")","v":""},{"$f":"IF(PUANTAJ!AW11=\"E\",1,IF(PUANTAJ!BF11>=1,19,\"\"))","v":""},{"$f":"IF('PERSONEL BİLGİ GİRİŞİ'!M7,'PERSONEL BİLGİ GİRİŞİ'!M7,\"\")","v":""},{"$f":"IF('PERSONEL BİLGİ GİRİŞİ'!E7>=1,'PERSONEL BİLGİ GİRİŞİ'!E7,\"\")","v":""},{"$f":"IF(PUANTAJ!AW11<>\"\",PUANTAJ!AW11,\"\")","v":""}]
[null,4,{"$f":"IF('PERSONEL BİLGİ GİRİŞİ'!B8<>\"\",'PERSONEL BİLGİ GİRİŞİ'!F8,\"\")","v":""},{"$f":"IF('PERSONEL BİLGİ GİRİŞİ'!B8<>\"\",'PERSONEL BİLGİ GİRİŞİ'!G8,\"\")","v":""},{"$f":"IF('PERSONEL BİLGİ GİRİŞİ'!H8<>\"\",'PERSONEL BİLGİ GİRİŞİ'!H8,\"\")","v":""},{"$f":"IF('PERSONEL BİLGİ GİRİŞİ'!H8<>\"\",'PERSONEL BİLGİ GİRİŞİ'!H8,\"\")","v":""},{"$f":"IF('PERSONEL BİLGİ GİRİŞİ'!B8<>\"\",'PERSONEL BİLGİ GİRİŞİ'!B8,\"\")","v":""},{"$f":"IF('PERSONEL BİLGİ GİRİŞİ'!C8<>\"\",'PERSONEL BİLGİ GİRİŞİ'!C8,\"\")","v":""},{"$f":"IF('PERSONEL BİLGİ GİRİŞİ'!D8<>\"\",'PERSONEL BİLGİ GİRİŞİ'!D8,\"\")","v":""},{"$f":"IF(' BORDRO HAZIRLIK'!AQ8,' BORDRO HAZIRLIK'!AQ8,\"\")","v":""},null,{"$f":"IF(PUANTAJ!AU13,PUANTAJ!AU13,\"\")","v":""},{"$f":"IF('PERSONEL BİLGİ GİRİŞİ'!K8,'PERSONEL BİLGİ GİRİŞİ'!K8,\"\")","v":""},{"$f":"IF('PERSONEL BİLGİ GİRİŞİ'!L8,'PERSONEL BİLGİ GİRİŞİ'!L8,\"\")","v":""},{"$f":"IF(PUANTAJ!AV13,PUANTAJ!AV13,\"\")","v":""},{"$f":"IF(PUANTAJ!AW13=\"E\",1,IF(PUANTAJ!BF13>=1,19,\"\"))","v":""},{"$f":"IF('PERSONEL BİLGİ GİRİŞİ'!M8,'PERSONEL BİLGİ GİRİŞİ'!M8,\"\")","v":""},{"$f":"IF('PERSONEL BİLGİ GİRİŞİ'!E8>=1,'PERSONEL BİLGİ GİRİŞİ'!E8,\"\")","v":""},{"$f":"IF(PUANTAJ!AW13<>\"\",PUANTAJ!AW13,\"\")","v":""}]
[null,5,{"$f":"IF('PERSONEL BİLGİ GİRİŞİ'!B9<>\"\",'PERSONEL BİLGİ GİRİŞİ'!F9,\"\")","v":""},{"$f":"IF('PERSONEL BİLGİ GİRİŞİ'!B9<>\"\",'PERSONEL BİLGİ GİRİŞİ'!G9,\"\")","v":""},{"$f":"IF('PERSONEL BİLGİ GİRİŞİ'!H9<>\"\",'PERSONEL BİLGİ GİRİŞİ'!H9,\"\")","v":""},{"$f":"IF('PERSONEL BİLGİ GİRİŞİ'!H9<>\"\",'PERSONEL BİLGİ GİRİŞİ'!H9,\"\")","v":""},{"$f":"IF('PERSONEL BİLGİ GİRİŞİ'!B9<>\"\",'PERSONEL BİLGİ GİRİŞİ'!B9,\"\")","v":""},{"$f":"IF('PERSONEL BİLGİ GİRİŞİ'!C9<>\"\",'PERSONEL BİLGİ GİRİŞİ'!C9,\"\")","v":""},{"$f":"IF('PERSONEL BİLGİ GİRİŞİ'!D9<>\"\",'PERSONEL BİLGİ GİRİŞİ'!D9,\"\")","v":""},{"$f":"IF(' BORDRO HAZIRLIK'!AQ9,' BORDRO HAZIRLIK'!AQ9,\"\")","v":""},null,{"$f":"IF(PUANTAJ!AU15,PUANTAJ!AU15,\"\")","v":""},{"$f":"IF('PERSONEL BİLGİ GİRİŞİ'!K9,'PERSONEL BİLGİ GİRİŞİ'!K9,\"\")","v":""},{"$f":"IF('PERSONEL BİLGİ GİRİŞİ'!L9,'PERSONEL BİLGİ GİRİŞİ'!L9,\"\")","v":""},{"$f":"IF(PUANTAJ!AV15,PUANTAJ!AV15,\"\")","v":""},{"$f":"IF(PUANTAJ!AW15=\"E\",1,IF(PUANTAJ!BF15>=1,19,\"\"))","v":""},{"$f":"IF('PERSONEL BİLGİ GİRİŞİ'!M9,'PERSONEL BİLGİ GİRİŞİ'!M9,\"\")","v":""},{"$f":"IF('PERSONEL BİLGİ GİRİŞİ'!E9>=1,'PERSONEL BİLGİ GİRİŞİ'!E9,\"\")","v":""},{"$f":"IF(PUANTAJ!AW15<>\"\",PUANTAJ!AW15,\"\")","v":""}]
[null,6,{"$f":"IF('PERSONEL BİLGİ GİRİŞİ'!B10<>\"\",'PERSONEL BİLGİ GİRİŞİ'!F10,\"\")","v":""},{"$f":"IF('PERSONEL BİLGİ GİRİŞİ'!B10<>\"\",'PERSONEL BİLGİ GİRİŞİ'!G10,\"\")","v":""},{"$f":"IF('PERSONEL BİLGİ GİRİŞİ'!H10<>\"\",'PERSONEL BİLGİ GİRİŞİ'!H10,\"\")","v":""},{"$f":"IF('PERSONEL BİLGİ GİRİŞİ'!H10<>\"\",'PERSONEL BİLGİ GİRİŞİ'!H10,\"\")","v":""},{"$f":"IF('PERSONEL BİLGİ GİRİŞİ'!B10<>\"\",'PERSONEL BİLGİ GİRİŞİ'!B10,\"\")","v":""},{"$f":"IF('PERSONEL BİLGİ GİRİŞİ'!C10<>\"\",'PERSONEL BİLGİ GİRİŞİ'!C10,\"\")","v":""},{"$f":"IF('PERSONEL BİLGİ GİRİŞİ'!D10<>\"\",'PERSONEL BİLGİ GİRİŞİ'!D10,\"\")","v":""},{"$f":"IF(' BORDRO HAZIRLIK'!AQ10,' BORDRO HAZIRLIK'!AQ10,\"\")","v":""},null,{"$f":"IF(PUANTAJ!AU17,PUANTAJ!AU17,\"\")","v":""},{"$f":"IF('PERSONEL BİLGİ GİRİŞİ'!K10,'PERSONEL BİLGİ GİRİŞİ'!K10,\"\")","v":""},{"$f":"IF('PERSONEL BİLGİ GİRİŞİ'!L10,'PERSONEL BİLGİ GİRİŞİ'!L10,\"\")","v":""},{"$f":"IF(PUANTAJ!AV17,PUANTAJ!AV17,\"\")","v":""},{"$f":"IF(PUANTAJ!AW17=\"E\",1,IF(PUANTAJ!BF17>=1,19,\"\"))","v":""},{"$f":"IF('PERSONEL BİLGİ GİRİŞİ'!M10,'PERSONEL BİLGİ GİRİŞİ'!M10,\"\")","v":""},{"$f":"IF('PERSONEL BİLGİ GİRİŞİ'!E10>=1,'PERSONEL BİLGİ GİRİŞİ'!E10,\"\")","v":""},{"$f":"IF(PUANTAJ!AW17<>\"\",PUANTAJ!AW17,\"\")","v":""}]
[null,7,{"$f":"IF('PERSONEL BİLGİ GİRİŞİ'!B11<>\"\",'PERSONEL BİLGİ GİRİŞİ'!F11,\"\")","v":""},{"$f":"IF('PERSONEL BİLGİ GİRİŞİ'!B11<>\"\",'PERSONEL BİLGİ GİRİŞİ'!G11,\"\")","v":""},{"$f":"IF('PERSONEL BİLGİ GİRİŞİ'!H11<>\"\",'PERSONEL BİLGİ GİRİŞİ'!H11,\"\")","v":""},{"$f":"IF('PERSONEL BİLGİ GİRİŞİ'!H11<>\"\",'PERSONEL BİLGİ GİRİŞİ'!H11,\"\")","v":""},{"$f":"IF('PERSONEL BİLGİ GİRİŞİ'!B11<>\"\",'PERSONEL BİLGİ GİRİŞİ'!B11,\"\")","v":""},{"$f":"IF('PERSONEL BİLGİ GİRİŞİ'!C11<>\"\",'PERSONEL BİLGİ GİRİŞİ'!C11,\"\")","v":""},{"$f":"IF('PERSONEL BİLGİ GİRİŞİ'!D11<>\"\",'PERSONEL BİLGİ GİRİŞİ'!D11,\"\")","v":""},{"$f":"IF(' BORDRO HAZIRLIK'!AQ11,' BORDRO HAZIRLIK'!AQ11,\"\")","v":""},null,{"$f":"IF(PUANTAJ!AU19,PUANTAJ!AU19,\"\")","v":""},{"$f":"IF('PERSONEL BİLGİ GİRİŞİ'!K11,'PERSONEL BİLGİ GİRİŞİ'!K11,\"\")","v":""},{"$f":"IF('PERSONEL BİLGİ GİRİŞİ'!L11,'PERSONEL BİLGİ GİRİŞİ'!L11,\"\")","v":""},{"$f":"IF(PUANTAJ!AV19,PUANTAJ!AV19,\"\")","v":""},{"$f":"IF(PUANTAJ!AW19=\"E\",1,IF(PUANTAJ!BF19>=1,19,\"\"))","v":""},{"$f":"IF('PERSONEL BİLGİ GİRİŞİ'!M11,'PERSONEL BİLGİ GİRİŞİ'!M11,\"\")","v":""},{"$f":"IF('PERSONEL BİLGİ GİRİŞİ'!E11>=1,'PERSONEL BİLGİ GİRİŞİ'!E11,\"\")","v":""},{"$f":"IF(PUANTAJ!AW19<>\"\",PUANTAJ!AW19,\"\")","v":""}]
[null,8,{"$f":"IF('PERSONEL BİLGİ GİRİŞİ'!B12<>\"\",'PERSONEL BİLGİ GİRİŞİ'!F12,\"\")","v":""},{"$f":"IF('PERSONEL BİLGİ GİRİŞİ'!B12<>\"\",'PERSONEL BİLGİ GİRİŞİ'!G12,\"\")","v":""},{"$f":"IF('PERSONEL BİLGİ GİRİŞİ'!H12<>\"\",'PERSONEL BİLGİ GİRİŞİ'!H12,\"\")","v":""},{"$f":"IF('PERSONEL BİLGİ GİRİŞİ'!H12<>\"\",'PERSONEL BİLGİ GİRİŞİ'!H12,\"\")","v":""},{"$f":"IF('PERSONEL BİLGİ GİRİŞİ'!B12<>\"\",'PERSONEL BİLGİ GİRİŞİ'!B12,\"\")","v":""},{"$f":"IF('PERSONEL BİLGİ GİRİŞİ'!C12<>\"\",'PERSONEL BİLGİ GİRİŞİ'!C12,\"\")","v":""},{"$f":"IF('PERSONEL BİLGİ GİRİŞİ'!D12<>\"\",'PERSONEL BİLGİ GİRİŞİ'!D12,\"\")","v":""},{"$f":"IF(' BORDRO HAZIRLIK'!AQ12,' BORDRO HAZIRLIK'!AQ12,\"\")","v":""},null,{"$f":"IF(PUANTAJ!AU21,PUANTAJ!AU21,\"\")","v":""},{"$f":"IF('PERSONEL BİLGİ GİRİŞİ'!K12,'PERSONEL BİLGİ GİRİŞİ'!K12,\"\")","v":""},{"$f":"IF('PERSONEL BİLGİ GİRİŞİ'!L12,'PERSONEL BİLGİ GİRİŞİ'!L12,\"\")","v":""},{"$f":"IF(PUANTAJ!AV21,PUANTAJ!AV21,\"\")","v":""},{"$f":"IF(PUANTAJ!AW21=\"E\",1,IF(PUANTAJ!BF21>=1,19,\"\"))","v":""},{"$f":"IF('PERSONEL BİLGİ GİRİŞİ'!M12,'PERSONEL BİLGİ GİRİŞİ'!M12,\"\")","v":""},{"$f":"IF('PERSONEL BİLGİ GİRİŞİ'!E12>=1,'PERSONEL BİLGİ GİRİŞİ'!E12,\"\")","v":""},{"$f":"IF(PUANTAJ!AW21<>\"\",PUANTAJ!AW21,\"\")","v":""}]
[null,9,{"$f":"IF('PERSONEL BİLGİ GİRİŞİ'!B13<>\"\",'PERSONEL BİLGİ GİRİŞİ'!F13,\"\")","v":""},{"$f":"IF('PERSONEL BİLGİ GİRİŞİ'!B13<>\"\",'PERSONEL BİLGİ GİRİŞİ'!G13,\"\")","v":""},{"$f":"IF('PERSONEL BİLGİ GİRİŞİ'!H13<>\"\",'PERSONEL BİLGİ GİRİŞİ'!H13,\"\")","v":""},{"$f":"IF('PERSONEL BİLGİ GİRİŞİ'!H13<>\"\",'PERSONEL BİLGİ GİRİŞİ'!H13,\"\")","v":""},{"$f":"IF('PERSONEL BİLGİ GİRİŞİ'!B13<>\"\",'PERSONEL BİLGİ GİRİŞİ'!B13,\"\")","v":""},{"$f":"IF('PERSONEL BİLGİ GİRİŞİ'!C13<>\"\",'PERSONEL BİLGİ GİRİŞİ'!C13,\"\")","v":""},{"$f":"IF('PERSONEL BİLGİ GİRİŞİ'!D13<>\"\",'PERSONEL BİLGİ GİRİŞİ'!D13,\"\")","v":""},{"$f":"IF(' BORDRO HAZIRLIK'!AQ13,' BORDRO HAZIRLIK'!AQ13,\"\")","v":""},null,{"$f":"IF(PUANTAJ!AU23,PUANTAJ!AU23,\"\")","v":""},{"$f":"IF('PERSONEL BİLGİ GİRİŞİ'!K13,'PERSONEL BİLGİ GİRİŞİ'!K13,\"\")","v":""},{"$f":"IF('PERSONEL BİLGİ GİRİŞİ'!L13,'PERSONEL BİLGİ GİRİŞİ'!L13,\"\")","v":""},{"$f":"IF(PUANTAJ!AV23,PUANTAJ!AV23,\"\")","v":""},{"$f":"IF(PUANTAJ!AW23=\"E\",1,IF(PUANTAJ!BF23>=1,19,\"\"))","v":""},{"$f":"IF('PERSONEL BİLGİ GİRİŞİ'!M13,'PERSONEL BİLGİ GİRİŞİ'!M13,\"\")","v":""},{"$f":"IF('PERSONEL BİLGİ GİRİŞİ'!E13>=1,'PERSONEL BİLGİ GİRİŞİ'!E13,\"\")","v":""},{"$f":"IF(PUANTAJ!AW23<>\"\",PUANTAJ!AW23,\"\")","v":""}]
[null,10,{"$f":"IF('PERSONEL BİLGİ GİRİŞİ'!B14<>\"\",'PERSONEL BİLGİ GİRİŞİ'!F14,\"\")","v":""},{"$f":"IF('PERSONEL BİLGİ GİRİŞİ'!B14<>\"\",'PERSONEL BİLGİ GİRİŞİ'!G14,\"\")","v":""},{"$f":"IF('PERSONEL BİLGİ GİRİŞİ'!H14<>\"\",'PERSONEL BİLGİ GİRİŞİ'!H14,\"\")","v":""},{"$f":"IF('PERSONEL BİLGİ GİRİŞİ'!H14<>\"\",'PERSONEL BİLGİ GİRİŞİ'!H14,\"\")","v":""},{"$f":"IF('PERSONEL BİLGİ GİRİŞİ'!B14<>\"\",'PERSONEL BİLGİ GİRİŞİ'!B14,\"\")","v":""},{"$f":"IF('PERSONEL BİLGİ GİRİŞİ'!C14<>\"\",'PERSONEL BİLGİ GİRİŞİ'!C14,\"\")","v":""},{"$f":"IF('PERSONEL BİLGİ GİRİŞİ'!D14<>\"\",'PERSONEL BİLGİ GİRİŞİ'!D14,\"\")","v":""},{"$f":"IF(' BORDRO HAZIRLIK'!AQ14,' BORDRO HAZIRLIK'!AQ14,\"\")","v":""},null,{"$f":"IF(PUANTAJ!AU25,PUANTAJ!AU25,\"\")","v":""},{"$f":"IF('PERSONEL BİLGİ GİRİŞİ'!K14,'PERSONEL BİLGİ GİRİŞİ'!K14,\"\")","v":""},{"$f":"IF('PERSONEL BİLGİ GİRİŞİ'!L14,'PERSONEL BİLGİ GİRİŞİ'!L14,\"\")","v":""},{"$f":"IF(PUANTAJ!AV25,PUANTAJ!AV25,\"\")","v":""},{"$f":"IF(PUANTAJ!AW25=\"E\",1,IF(PUANTAJ!BF25>=1,19,\"\"))","v":""},{"$f":"IF('PERSONEL BİLGİ GİRİŞİ'!M14,'PERSONEL BİLGİ GİRİŞİ'!M14,\"\")","v":""},{"$f":"IF('PERSONEL BİLGİ GİRİŞİ'!E14>=1,'PERSONEL BİLGİ GİRİŞİ'!E14,\"\")","v":""},{"$f":"IF(PUANTAJ!AW25<>\"\",PUANTAJ!AW14,\"\")","v":""}]
[null,11,{"$f":"IF('PERSONEL BİLGİ GİRİŞİ'!B15<>\"\",'PERSONEL BİLGİ GİRİŞİ'!F15,\"\")","v":""},{"$f":"IF('PERSONEL BİLGİ GİRİŞİ'!B15<>\"\",'PERSONEL BİLGİ GİRİŞİ'!G15,\"\")","v":""},{"$f":"IF('PERSONEL BİLGİ GİRİŞİ'!H15<>\"\",'PERSONEL BİLGİ GİRİŞİ'!H15,\"\")","v":""},{"$f":"IF('PERSONEL BİLGİ GİRİŞİ'!H15<>\"\",'PERSONEL BİLGİ GİRİŞİ'!H15,\"\")","v":""},{"$f":"IF('PERSONEL BİLGİ GİRİŞİ'!B15<>\"\",'PERSONEL BİLGİ GİRİŞİ'!B15,\"\")","v":""},{"$f":"IF('PERSONEL BİLGİ GİRİŞİ'!C15<>\"\",'PERSONEL BİLGİ GİRİŞİ'!C15,\"\")","v":""},{"$f":"IF('PERSONEL BİLGİ GİRİŞİ'!D15<>\"\",'PERSONEL BİLGİ GİRİŞİ'!D15,\"\")","v":""},{"$f":"IF(' BORDRO HAZIRLIK'!AQ15,' BORDRO HAZIRLIK'!AQ15,\"\")","v":""},null,{"$f":"IF(PUANTAJ!AU27,PUANTAJ!AU27,\"\")","v":""},{"$f":"IF('PERSONEL BİLGİ GİRİŞİ'!K15,'PERSONEL BİLGİ GİRİŞİ'!K15,\"\")","v":""},{"$f":"IF('PERSONEL BİLGİ GİRİŞİ'!L15,'PERSONEL BİLGİ GİRİŞİ'!L15,\"\")","v":""},{"$f":"IF(PUANTAJ!AV27,PUANTAJ!AV27,\"\")","v":""},{"$f":"IF(PUANTAJ!AW27=\"E\",1,IF(PUANTAJ!BF27>=1,19,\"\"))","v":""},{"$f":"IF('PERSONEL BİLGİ GİRİŞİ'!M15,'PERSONEL BİLGİ GİRİŞİ'!M15,\"\")","v":""},{"$f":"IF('PERSONEL BİLGİ GİRİŞİ'!E15>=1,'PERSONEL BİLGİ GİRİŞİ'!E15,\"\")","v":""},{"$f":"IF(PUANTAJ!AW27<>\"\",PUANTAJ!AW27,\"\")","v":""}]
[null,12,{"$f":"IF('PERSONEL BİLGİ GİRİŞİ'!B16<>\"\",'PERSONEL BİLGİ GİRİŞİ'!F16,\"\")","v":""},{"$f":"IF('PERSONEL BİLGİ GİRİŞİ'!B16<>\"\",'PERSONEL BİLGİ GİRİŞİ'!G16,\"\")","v":""},{"$f":"IF('PERSONEL BİLGİ GİRİŞİ'!H16<>\"\",'PERSONEL BİLGİ GİRİŞİ'!H16,\"\")","v":""},{"$f":"IF('PERSONEL BİLGİ GİRİŞİ'!H16<>\"\",'PERSONEL BİLGİ GİRİŞİ'!H16,\"\")","v":""},{"$f":"IF('PERSONEL BİLGİ GİRİŞİ'!B16<>\"\",'PERSONEL BİLGİ GİRİŞİ'!B16,\"\")","v":""},{"$f":"IF('PERSONEL BİLGİ GİRİŞİ'!C16<>\"\",'PERSONEL BİLGİ GİRİŞİ'!C16,\"\")","v":""},{"$f":"IF('PERSONEL BİLGİ GİRİŞİ'!D16<>\"\",'PERSONEL BİLGİ GİRİŞİ'!D16,\"\")","v":""},{"$f":"IF(' BORDRO HAZIRLIK'!AQ16,' BORDRO HAZIRLIK'!AQ16,\"\")","v":""},null,{"$f":"IF(PUANTAJ!AU29,PUANTAJ!AU29,\"\")","v":""},{"$f":"IF('PERSONEL BİLGİ GİRİŞİ'!K16,'PERSONEL BİLGİ GİRİŞİ'!K16,\"\")","v":""},{"$f":"IF('PERSONEL BİLGİ GİRİŞİ'!L16,'PERSONEL BİLGİ GİRİŞİ'!L16,\"\")","v":""},{"$f":"IF(PUANTAJ!AV29,PUANTAJ!AV29,\"\")","v":""},{"$f":"IF(PUANTAJ!AW29=\"E\",1,IF(PUANTAJ!BF29>=1,19,\"\"))","v":""},{"$f":"IF('PERSONEL BİLGİ GİRİŞİ'!M16,'PERSONEL BİLGİ GİRİŞİ'!M16,\"\")","v":""},{"$f":"IF('PERSONEL BİLGİ GİRİŞİ'!E16>=1,'PERSONEL BİLGİ GİRİŞİ'!E16,\"\")","v":""},{"$f":"IF(PUANTAJ!AW29<>\"\",PUANTAJ!AW29,\"\")","v":""}]
[null,13,{"$f":"IF('PERSONEL BİLGİ GİRİŞİ'!B17<>\"\",'PERSONEL BİLGİ GİRİŞİ'!F17,\"\")","v":""},{"$f":"IF('PERSONEL BİLGİ GİRİŞİ'!B17<>\"\",'PERSONEL BİLGİ GİRİŞİ'!G17,\"\")","v":""},{"$f":"IF('PERSONEL BİLGİ GİRİŞİ'!H17<>\"\",'PERSONEL BİLGİ GİRİŞİ'!H17,\"\")","v":""},{"$f":"IF('PERSONEL BİLGİ GİRİŞİ'!H17<>\"\",'PERSONEL BİLGİ GİRİŞİ'!H17,\"\")","v":""},{"$f":"IF('PERSONEL BİLGİ GİRİŞİ'!B17<>\"\",'PERSONEL BİLGİ GİRİŞİ'!B17,\"\")","v":""},{"$f":"IF('PERSONEL BİLGİ GİRİŞİ'!C17<>\"\",'PERSONEL BİLGİ GİRİŞİ'!C17,\"\")","v":""},{"$f":"IF('PERSONEL BİLGİ GİRİŞİ'!D17<>\"\",'PERSONEL BİLGİ GİRİŞİ'!D17,\"\")","v":""},{"$f":"IF(' BORDRO HAZIRLIK'!AQ17,' BORDRO HAZIRLIK'!AQ17,\"\")","v":""},null,{"$f":"IF(PUANTAJ!AU31,PUANTAJ!AU31,\"\")","v":""},{"$f":"IF('PERSONEL BİLGİ GİRİŞİ'!K17,'PERSONEL BİLGİ GİRİŞİ'!K17,\"\")","v":""},{"$f":"IF('PERSONEL BİLGİ GİRİŞİ'!L17,'PERSONEL BİLGİ GİRİŞİ'!L17,\"\")","v":""},{"$f":"IF(PUANTAJ!AV31,PUANTAJ!AV31,\"\")","v":""},{"$f":"IF(PUANTAJ!AW31=\"E\",1,IF(PUANTAJ!BF31>=1,19,\"\"))","v":""},{"$f":"IF('PERSONEL BİLGİ GİRİŞİ'!M17,'PERSONEL BİLGİ GİRİŞİ'!M17,\"\")","v":""},{"$f":"IF('PERSONEL BİLGİ GİRİŞİ'!E17>=1,'PERSONEL BİLGİ GİRİŞİ'!E17,\"\")","v":""},{"$f":"IF(PUANTAJ!AW31<>\"\",PUANTAJ!AW31,\"\")","v":""}]
[null,14,{"$f":"IF('PERSONEL BİLGİ GİRİŞİ'!B18<>\"\",'PERSONEL BİLGİ GİRİŞİ'!F18,\"\")","v":""},{"$f":"IF('PERSONEL BİLGİ GİRİŞİ'!B18<>\"\",'PERSONEL BİLGİ GİRİŞİ'!G18,\"\")","v":""},{"$f":"IF('PERSONEL BİLGİ GİRİŞİ'!H18<>\"\",'PERSONEL BİLGİ GİRİŞİ'!H18,\"\")","v":""},{"$f":"IF('PERSONEL BİLGİ GİRİŞİ'!H18<>\"\",'PERSONEL BİLGİ GİRİŞİ'!H18,\"\")","v":""},{"$f":"IF('PERSONEL BİLGİ GİRİŞİ'!B18<>\"\",'PERSONEL BİLGİ GİRİŞİ'!B18,\"\")","v":""},{"$f":"IF('PERSONEL BİLGİ GİRİŞİ'!C18<>\"\",'PERSONEL BİLGİ GİRİŞİ'!C18,\"\")","v":""},{"$f":"IF('PERSONEL BİLGİ GİRİŞİ'!D18<>\"\",'PERSONEL BİLGİ GİRİŞİ'!D18,\"\")","v":""},{"$f":"IF(' BORDRO HAZIRLIK'!AQ18,' BORDRO HAZIRLIK'!AQ18,\"\")","v":""},null,{"$f":"IF(PUANTAJ!AU33,PUANTAJ!AU33,\"\")","v":""},{"$f":"IF('PERSONEL BİLGİ GİRİŞİ'!K18,'PERSONEL BİLGİ GİRİŞİ'!K18,\"\")","v":""},{"$f":"IF('PERSONEL BİLGİ GİRİŞİ'!L18,'PERSONEL BİLGİ GİRİŞİ'!L18,\"\")","v":""},{"$f":"IF(PUANTAJ!AV33,PUANTAJ!AV33,\"\")","v":""},{"$f":"IF(PUANTAJ!AW33=\"E\",1,IF(PUANTAJ!BF33>=1,19,\"\"))","v":""},{"$f":"IF('PERSONEL BİLGİ GİRİŞİ'!M18,'PERSONEL BİLGİ GİRİŞİ'!M18,\"\")","v":""},{"$f":"IF('PERSONEL BİLGİ GİRİŞİ'!E18>=1,'PERSONEL BİLGİ GİRİŞİ'!E18,\"\")","v":""},{"$f":"IF(PUANTAJ!AW33<>\"\",PUANTAJ!AW33,\"\")","v":""}]
[null,15,{"$f":"IF('PERSONEL BİLGİ GİRİŞİ'!B19<>\"\",'PERSONEL BİLGİ GİRİŞİ'!F19,\"\")","v":""},{"$f":"IF('PERSONEL BİLGİ GİRİŞİ'!B19<>\"\",'PERSONEL BİLGİ GİRİŞİ'!G19,\"\")","v":""},{"$f":"IF('PERSONEL BİLGİ GİRİŞİ'!H19<>\"\",'PERSONEL BİLGİ GİRİŞİ'!H19,\"\")","v":""},{"$f":"IF('PERSONEL BİLGİ GİRİŞİ'!H19<>\"\",'PERSONEL BİLGİ GİRİŞİ'!H19,\"\")","v":""},{"$f":"IF('PERSONEL BİLGİ GİRİŞİ'!B19<>\"\",'PERSONEL BİLGİ GİRİŞİ'!B19,\"\")","v":""},{"$f":"IF('PERSONEL BİLGİ GİRİŞİ'!C19<>\"\",'PERSONEL BİLGİ GİRİŞİ'!C19,\"\")","v":""},{"$f":"IF('PERSONEL BİLGİ GİRİŞİ'!D19<>\"\",'PERSONEL BİLGİ GİRİŞİ'!D19,\"\")","v":""},{"$f":"IF(' BORDRO HAZIRLIK'!AQ19,' BORDRO HAZIRLIK'!AQ19,\"\")","v":""},null,{"$f":"IF(PUANTAJ!AU35,PUANTAJ!AU35,\"\")","v":""},{"$f":"IF('PERSONEL BİLGİ GİRİŞİ'!K19,'PERSONEL BİLGİ GİRİŞİ'!K19,\"\")","v":""},{"$f":"IF('PERSONEL BİLGİ GİRİŞİ'!L19,'PERSONEL BİLGİ GİRİŞİ'!L19,\"\")","v":""},{"$f":"IF(PUANTAJ!AV35,PUANTAJ!AV35,\"\")","v":""},{"$f":"IF(PUANTAJ!AW35=\"E\",1,IF(PUANTAJ!BF35>=1,19,\"\"))","v":""},{"$f":"IF('PERSONEL BİLGİ GİRİŞİ'!M19,'PERSONEL BİLGİ GİRİŞİ'!M19,\"\")","v":""},{"$f":"IF('PERSONEL BİLGİ GİRİŞİ'!E19>=1,'PERSONEL BİLGİ GİRİŞİ'!E19,\"\")","v":""},{"$f":"IF(PUANTAJ!AW35<>\"\",PUANTAJ!AW35,\"\")","v":""}]
[null,16,{"$f":"IF('PERSONEL BİLGİ GİRİŞİ'!B20<>\"\",'PERSONEL BİLGİ GİRİŞİ'!F20,\"\")","v":""},{"$f":"IF('PERSONEL BİLGİ GİRİŞİ'!B20<>\"\",'PERSONEL BİLGİ GİRİŞİ'!G20,\"\")","v":""},{"$f":"IF('PERSONEL BİLGİ GİRİŞİ'!H20<>\"\",'PERSONEL BİLGİ GİRİŞİ'!H20,\"\")","v":""},{"$f":"IF('PERSONEL BİLGİ GİRİŞİ'!H20<>\"\",'PERSONEL BİLGİ GİRİŞİ'!H20,\"\")","v":""},{"$f":"IF('PERSONEL BİLGİ GİRİŞİ'!B20<>\"\",'PERSONEL BİLGİ GİRİŞİ'!B20,\"\")","v":""},{"$f":"IF('PERSONEL BİLGİ GİRİŞİ'!C20<>\"\",'PERSONEL BİLGİ GİRİŞİ'!C20,\"\")","v":""},{"$f":"IF('PERSONEL BİLGİ GİRİŞİ'!D20<>\"\",'PERSONEL BİLGİ GİRİŞİ'!D20,\"\")","v":""},{"$f":"IF(' BORDRO HAZIRLIK'!AQ20,' BORDRO HAZIRLIK'!AQ20,\"\")","v":""},null,{"$f":"IF(PUANTAJ!AU37,PUANTAJ!AU37,\"\")","v":""},{"$f":"IF('PERSONEL BİLGİ GİRİŞİ'!K20,'PERSONEL BİLGİ GİRİŞİ'!K20,\"\")","v":""},{"$f":"IF('PERSONEL BİLGİ GİRİŞİ'!L20,'PERSONEL BİLGİ GİRİŞİ'!L20,\"\")","v":""},{"$f":"IF(PUANTAJ!AV37,PUANTAJ!AV37,\"\")","v":""},{"$f":"IF(PUANTAJ!AW37=\"E\",1,IF(PUANTAJ!BF37>=1,19,\"\"))","v":""},{"$f":"IF('PERSONEL BİLGİ GİRİŞİ'!M20,'PERSONEL BİLGİ GİRİŞİ'!M20,\"\")","v":""},{"$f":"IF('PERSONEL BİLGİ GİRİŞİ'!E20>=1,'PERSONEL BİLGİ GİRİŞİ'!E20,\"\")","v":""},{"$f":"IF(PUANTAJ!AW37<>\"\",PUANTAJ!AW37,\"\")","v":""}]
[null,17,{"$f":"IF('PERSONEL BİLGİ GİRİŞİ'!B21<>\"\",'PERSONEL BİLGİ GİRİŞİ'!F21,\"\")","v":""},{"$f":"IF('PERSONEL BİLGİ GİRİŞİ'!B21<>\"\",'PERSONEL BİLGİ GİRİŞİ'!G21,\"\")","v":""},{"$f":"IF('PERSONEL BİLGİ GİRİŞİ'!H21<>\"\",'PERSONEL BİLGİ GİRİŞİ'!H21,\"\")","v":""},{"$f":"IF('PERSONEL BİLGİ GİRİŞİ'!H21<>\"\",'PERSONEL BİLGİ GİRİŞİ'!H21,\"\")","v":""},{"$f":"IF('PERSONEL BİLGİ GİRİŞİ'!B21<>\"\",'PERSONEL BİLGİ GİRİŞİ'!B21,\"\")","v":""},{"$f":"IF('PERSONEL BİLGİ GİRİŞİ'!C21<>\"\",'PERSONEL BİLGİ GİRİŞİ'!C21,\"\")","v":""},{"$f":"IF('PERSONEL BİLGİ GİRİŞİ'!D21<>\"\",'PERSONEL BİLGİ GİRİŞİ'!D21,\"\")","v":""},{"$f":"IF(' BORDRO HAZIRLIK'!AQ21,' BORDRO HAZIRLIK'!AQ21,\"\")","v":""},null,{"$f":"IF(PUANTAJ!AU39,PUANTAJ!AU39,\"\")","v":""},{"$f":"IF('PERSONEL BİLGİ GİRİŞİ'!K21,'PERSONEL BİLGİ GİRİŞİ'!K21,\"\")","v":""},{"$f":"IF('PERSONEL BİLGİ GİRİŞİ'!L21,'PERSONEL BİLGİ GİRİŞİ'!L21,\"\")","v":""},{"$f":"IF(PUANTAJ!AV39,PUANTAJ!AV39,\"\")","v":""},{"$f":"IF(PUANTAJ!AW39=\"E\",1,IF(PUANTAJ!BF39>=1,19,\"\"))","v":""},{"$f":"IF('PERSONEL BİLGİ GİRİŞİ'!M21,'PERSONEL BİLGİ GİRİŞİ'!M21,\"\")","v":""},{"$f":"IF('PERSONEL BİLGİ GİRİŞİ'!E21>=1,'PERSONEL BİLGİ GİRİŞİ'!E21,\"\")","v":""},{"$f":"IF(PUANTAJ!AW39<>\"\",PUANTAJ!AW39,\"\")","v":""}]
[null,18,{"$f":"IF('PERSONEL BİLGİ GİRİŞİ'!B22<>\"\",'PERSONEL BİLGİ GİRİŞİ'!F22,\"\")","v":""},{"$f":"IF('PERSONEL BİLGİ GİRİŞİ'!B22<>\"\",'PERSONEL BİLGİ GİRİŞİ'!G22,\"\")","v":""},{"$f":"IF('PERSONEL BİLGİ GİRİŞİ'!H22<>\"\",'PERSONEL BİLGİ GİRİŞİ'!H22,\"\")","v":""},{"$f":"IF('PERSONEL BİLGİ GİRİŞİ'!H22<>\"\",'PERSONEL BİLGİ GİRİŞİ'!H22,\"\")","v":""},{"$f":"IF('PERSONEL BİLGİ GİRİŞİ'!B22<>\"\",'PERSONEL BİLGİ GİRİŞİ'!B22,\"\")","v":""},{"$f":"IF('PERSONEL BİLGİ GİRİŞİ'!C22<>\"\",'PERSONEL BİLGİ GİRİŞİ'!C22,\"\")","v":""},{"$f":"IF('PERSONEL BİLGİ GİRİŞİ'!D22<>\"\",'PERSONEL BİLGİ GİRİŞİ'!D22,\"\")","v":""},{"$f":"IF(' BORDRO HAZIRLIK'!AQ22,' BORDRO HAZIRLIK'!AQ22,\"\")","v":""},null,{"$f":"IF(PUANTAJ!AU41,PUANTAJ!AU41,\"\")","v":""},{"$f":"IF('PERSONEL BİLGİ GİRİŞİ'!K22,'PERSONEL BİLGİ GİRİŞİ'!K22,\"\")","v":""},{"$f":"IF('PERSONEL BİLGİ GİRİŞİ'!L22,'PERSONEL BİLGİ GİRİŞİ'!L22,\"\")","v":""},{"$f":"IF(PUANTAJ!AV41,PUANTAJ!AV41,\"\")","v":""},{"$f":"IF(PUANTAJ!AW41=\"E\",1,IF(PUANTAJ!BF41>=1,19,\"\"))","v":""},{"$f":"IF('PERSONEL BİLGİ GİRİŞİ'!M22,'PERSONEL BİLGİ GİRİŞİ'!M22,\"\")","v":""},{"$f":"IF('PERSONEL BİLGİ GİRİŞİ'!E22>=1,'PERSONEL BİLGİ GİRİŞİ'!E22,\"\")","v":""},{"$f":"IF(PUANTAJ!AW41<>\"\",PUANTAJ!AW41,\"\")","v":""}]
[null,19,{"$f":"IF('PERSONEL BİLGİ GİRİŞİ'!B23<>\"\",'PERSONEL BİLGİ GİRİŞİ'!F23,\"\")","v":""},{"$f":"IF('PERSONEL BİLGİ GİRİŞİ'!B23<>\"\",'PERSONEL BİLGİ GİRİŞİ'!G23,\"\")","v":""},{"$f":"IF('PERSONEL BİLGİ GİRİŞİ'!H23<>\"\",'PERSONEL BİLGİ GİRİŞİ'!H23,\"\")","v":""},{"$f":"IF('PERSONEL BİLGİ GİRİŞİ'!H23<>\"\",'PERSONEL BİLGİ GİRİŞİ'!H23,\"\")","v":""},{"$f":"IF('PERSONEL BİLGİ GİRİŞİ'!B23<>\"\",'PERSONEL BİLGİ GİRİŞİ'!B23,\"\")","v":""},{"$f":"IF('PERSONEL BİLGİ GİRİŞİ'!C23<>\"\",'PERSONEL BİLGİ GİRİŞİ'!C23,\"\")","v":""},{"$f":"IF('PERSONEL BİLGİ GİRİŞİ'!D23<>\"\",'PERSONEL BİLGİ GİRİŞİ'!D23,\"\")","v":""},{"$f":"IF(' BORDRO HAZIRLIK'!AQ23,' BORDRO HAZIRLIK'!AQ23,\"\")","v":""},null,{"$f":"IF(PUANTAJ!AU43,PUANTAJ!AU43,\"\")","v":""},{"$f":"IF('PERSONEL BİLGİ GİRİŞİ'!K23,'PERSONEL BİLGİ GİRİŞİ'!K23,\"\")","v":""},{"$f":"IF('PERSONEL BİLGİ GİRİŞİ'!L23,'PERSONEL BİLGİ GİRİŞİ'!L23,\"\")","v":""},{"$f":"IF(PUANTAJ!AV43,PUANTAJ!AV43,\"\")","v":""},{"$f":"IF(PUANTAJ!AW43=\"E\",1,IF(PUANTAJ!BF43>=1,19,\"\"))","v":""},{"$f":"IF('PERSONEL BİLGİ GİRİŞİ'!M23,'PERSONEL BİLGİ GİRİŞİ'!M23,\"\")","v":""},{"$f":"IF('PERSONEL BİLGİ GİRİŞİ'!E23>=1,'PERSONEL BİLGİ GİRİŞİ'!E23,\"\")","v":""},{"$f":"IF(PUANTAJ!AW43<>\"\",PUANTAJ!AW43,\"\")","v":""}]
[null,20,{"$f":"IF('PERSONEL BİLGİ GİRİŞİ'!B24<>\"\",'PERSONEL BİLGİ GİRİŞİ'!F24,\"\")","v":""},{"$f":"IF('PERSONEL BİLGİ GİRİŞİ'!B24<>\"\",'PERSONEL BİLGİ GİRİŞİ'!G24,\"\")","v":""},{"$f":"IF('PERSONEL BİLGİ GİRİŞİ'!H24<>\"\",'PERSONEL BİLGİ GİRİŞİ'!H24,\"\")","v":""},{"$f":"IF('PERSONEL BİLGİ GİRİŞİ'!H24<>\"\",'PERSONEL BİLGİ GİRİŞİ'!H24,\"\")","v":""},{"$f":"IF('PERSONEL BİLGİ GİRİŞİ'!B24<>\"\",'PERSONEL BİLGİ GİRİŞİ'!B24,\"\")","v":""},{"$f":"IF('PERSONEL BİLGİ GİRİŞİ'!C24<>\"\",'PERSONEL BİLGİ GİRİŞİ'!C24,\"\")","v":""},{"$f":"IF('PERSONEL BİLGİ GİRİŞİ'!D24<>\"\",'PERSONEL BİLGİ GİRİŞİ'!D24,\"\")","v":""},{"$f":"IF(' BORDRO HAZIRLIK'!AQ24,' BORDRO HAZIRLIK'!AQ24,\"\")","v":""},null,{"$f":"IF(PUANTAJ!AU45,PUANTAJ!AU45,\"\")","v":""},{"$f":"IF('PERSONEL BİLGİ GİRİŞİ'!K24,'PERSONEL BİLGİ GİRİŞİ'!K24,\"\")","v":""},{"$f":"IF('PERSONEL BİLGİ GİRİŞİ'!L24,'PERSONEL BİLGİ GİRİŞİ'!L24,\"\")","v":""},{"$f":"IF(PUANTAJ!AV45,PUANTAJ!AV45,\"\")","v":""},{"$f":"IF(PUANTAJ!AW45=\"E\",1,IF(PUANTAJ!BF45>=1,19,\"\"))","v":""},{"$f":"IF('PERSONEL BİLGİ GİRİŞİ'!M24,'PERSONEL BİLGİ GİRİŞİ'!M24,\"\")","v":""},{"$f":"IF('PERSONEL BİLGİ GİRİŞİ'!E24>=1,'PERSONEL BİLGİ GİRİŞİ'!E24,\"\")","v":""},{"$f":"IF(PUANTAJ!AW45<>\"\",PUANTAJ!AW45,\"\")","v":""}]
[null,21,{"$f":"IF('PERSONEL BİLGİ GİRİŞİ'!B25<>\"\",'PERSONEL BİLGİ GİRİŞİ'!F25,\"\")","v":""},{"$f":"IF('PERSONEL BİLGİ GİRİŞİ'!B25<>\"\",'PERSONEL BİLGİ GİRİŞİ'!G25,\"\")","v":""},{"$f":"IF('PERSONEL BİLGİ GİRİŞİ'!H25<>\"\",'PERSONEL BİLGİ GİRİŞİ'!H25,\"\")","v":""},{"$f":"IF('PERSONEL BİLGİ GİRİŞİ'!H25<>\"\",'PERSONEL BİLGİ GİRİŞİ'!H25,\"\")","v":""},{"$f":"IF('PERSONEL BİLGİ GİRİŞİ'!B25<>\"\",'PERSONEL BİLGİ GİRİŞİ'!B25,\"\")","v":""},{"$f":"IF('PERSONEL BİLGİ GİRİŞİ'!C25<>\"\",'PERSONEL BİLGİ GİRİŞİ'!C25,\"\")","v":""},{"$f":"IF('PERSONEL BİLGİ GİRİŞİ'!D25<>\"\",'PERSONEL BİLGİ GİRİŞİ'!D25,\"\")","v":""},{"$f":"IF(' BORDRO HAZIRLIK'!AQ25,' BORDRO HAZIRLIK'!AQ25,\"\")","v":""},null,{"$f":"IF(PUANTAJ!AU47,PUANTAJ!AU47,\"\")","v":""},{"$f":"IF('PERSONEL BİLGİ GİRİŞİ'!K25,'PERSONEL BİLGİ GİRİŞİ'!K25,\"\")","v":""},{"$f":"IF('PERSONEL BİLGİ GİRİŞİ'!L25,'PERSONEL BİLGİ GİRİŞİ'!L25,\"\")","v":""},{"$f":"IF(PUANTAJ!AV47,PUANTAJ!AV47,\"\")","v":""},{"$f":"IF(PUANTAJ!AW47=\"E\",1,IF(PUANTAJ!BF47>=1,19,\"\"))","v":""},{"$f":"IF('PERSONEL BİLGİ GİRİŞİ'!M25,'PERSONEL BİLGİ GİRİŞİ'!M25,\"\")","v":""},{"$f":"IF('PERSONEL BİLGİ GİRİŞİ'!E25>=1,'PERSONEL BİLGİ GİRİŞİ'!E25,\"\")","v":""},{"$f":"IF(PUANTAJ!AW47<>\"\",PUANTAJ!AW47,\"\")","v":""}]
[null,22,{"$f":"IF('PERSONEL BİLGİ GİRİŞİ'!B26<>\"\",'PERSONEL BİLGİ GİRİŞİ'!F26,\"\")","v":""},{"$f":"IF('PERSONEL BİLGİ GİRİŞİ'!B26<>\"\",'PERSONEL BİLGİ GİRİŞİ'!G26,\"\")","v":""},{"$f":"IF('PERSONEL BİLGİ GİRİŞİ'!H26<>\"\",'PERSONEL BİLGİ GİRİŞİ'!H26,\"\")","v":""},{"$f":"IF('PERSONEL BİLGİ GİRİŞİ'!H26<>\"\",'PERSONEL BİLGİ GİRİŞİ'!H26,\"\")","v":""},{"$f":"IF('PERSONEL BİLGİ GİRİŞİ'!B26<>\"\",'PERSONEL BİLGİ GİRİŞİ'!B26,\"\")","v":""},{"$f":"IF('PERSONEL BİLGİ GİRİŞİ'!C26<>\"\",'PERSONEL BİLGİ GİRİŞİ'!C26,\"\")","v":""},{"$f":"IF('PERSONEL BİLGİ GİRİŞİ'!D26<>\"\",'PERSONEL BİLGİ GİRİŞİ'!D26,\"\")","v":""},{"$f":"IF(' BORDRO HAZIRLIK'!AQ26,' BORDRO HAZIRLIK'!AQ26,\"\")","v":""},null,{"$f":"IF(PUANTAJ!AU49,PUANTAJ!AU49,\"\")","v":""},{"$f":"IF('PERSONEL BİLGİ GİRİŞİ'!K26,'PERSONEL BİLGİ GİRİŞİ'!K26,\"\")","v":""},{"$f":"IF('PERSONEL BİLGİ GİRİŞİ'!L26,'PERSONEL BİLGİ GİRİŞİ'!L26,\"\")","v":""},{"$f":"IF(PUANTAJ!AV49,PUANTAJ!AV49,\"\")","v":""},{"$f":"IF(PUANTAJ!AW49=\"E\",1,IF(PUANTAJ!BF49>=1,19,\"\"))","v":""},{"$f":"IF('PERSONEL BİLGİ GİRİŞİ'!M26,'PERSONEL BİLGİ GİRİŞİ'!M26,\"\")","v":""},{"$f":"IF('PERSONEL BİLGİ GİRİŞİ'!E26>=1,'PERSONEL BİLGİ GİRİŞİ'!E26,\"\")","v":""},{"$f":"IF(PUANTAJ!AW49<>\"\",PUANTAJ!AW49,\"\")","v":""}]
[null,23,{"$f":"IF('PERSONEL BİLGİ GİRİŞİ'!B27<>\"\",'PERSONEL BİLGİ GİRİŞİ'!F27,\"\")","v":""},{"$f":"IF('PERSONEL BİLGİ GİRİŞİ'!B27<>\"\",'PERSONEL BİLGİ GİRİŞİ'!G27,\"\")","v":""},{"$f":"IF('PERSONEL BİLGİ GİRİŞİ'!H27<>\"\",'PERSONEL BİLGİ GİRİŞİ'!H27,\"\")","v":""},{"$f":"IF('PERSONEL BİLGİ GİRİŞİ'!H27<>\"\",'PERSONEL BİLGİ GİRİŞİ'!H27,\"\")","v":""},{"$f":"IF('PERSONEL BİLGİ GİRİŞİ'!B27<>\"\",'PERSONEL BİLGİ GİRİŞİ'!B27,\"\")","v":""},{"$f":"IF('PERSONEL BİLGİ GİRİŞİ'!C27<>\"\",'PERSONEL BİLGİ GİRİŞİ'!C27,\"\")","v":""},{"$f":"IF('PERSONEL BİLGİ GİRİŞİ'!D27<>\"\",'PERSONEL BİLGİ GİRİŞİ'!D27,\"\")","v":""},{"$f":"IF(' BORDRO HAZIRLIK'!AQ27,' BORDRO HAZIRLIK'!AQ27,\"\")","v":""},null,{"$f":"IF(PUANTAJ!AU51,PUANTAJ!AU51,\"\")","v":""},{"$f":"IF('PERSONEL BİLGİ GİRİŞİ'!K27,'PERSONEL BİLGİ GİRİŞİ'!K27,\"\")","v":""},{"$f":"IF('PERSONEL BİLGİ GİRİŞİ'!L27,'PERSONEL BİLGİ GİRİŞİ'!L27,\"\")","v":""},{"$f":"IF(PUANTAJ!AV51,PUANTAJ!AV51,\"\")","v":""},{"$f":"IF(PUANTAJ!AW51=\"E\",1,IF(PUANTAJ!BF51>=1,19,\"\"))","v":""},{"$f":"IF('PERSONEL BİLGİ GİRİŞİ'!M27,'PERSONEL BİLGİ GİRİŞİ'!M27,\"\")","v":""},{"$f":"IF('PERSONEL BİLGİ GİRİŞİ'!E27>=1,'PERSONEL BİLGİ GİRİŞİ'!E27,\"\")","v":""},{"$f":"IF(PUANTAJ!AW51<>\"\",PUANTAJ!AW51,\"\")","v":""}]
[null,24,{"$f":"IF('PERSONEL BİLGİ GİRİŞİ'!B28<>\"\",'PERSONEL BİLGİ GİRİŞİ'!F28,\"\")","v":""},{"$f":"IF('PERSONEL BİLGİ GİRİŞİ'!B28<>\"\",'PERSONEL BİLGİ GİRİŞİ'!G28,\"\")","v":""},{"$f":"IF('PERSONEL BİLGİ GİRİŞİ'!H28<>\"\",'PERSONEL BİLGİ GİRİŞİ'!H28,\"\")","v":""},{"$f":"IF('PERSONEL BİLGİ GİRİŞİ'!H28<>\"\",'PERSONEL BİLGİ GİRİŞİ'!H28,\"\")","v":""},{"$f":"IF('PERSONEL BİLGİ GİRİŞİ'!B28<>\"\",'PERSONEL BİLGİ GİRİŞİ'!B28,\"\")","v":""},{"$f":"IF('PERSONEL BİLGİ GİRİŞİ'!C28<>\"\",'PERSONEL BİLGİ GİRİŞİ'!C28,\"\")","v":""},{"$f":"IF('PERSONEL BİLGİ GİRİŞİ'!D28<>\"\",'PERSONEL BİLGİ GİRİŞİ'!D28,\"\")","v":""},{"$f":"IF(' BORDRO HAZIRLIK'!AQ28,' BORDRO HAZIRLIK'!AQ28,\"\")","v":""},null,{"$f":"IF(PUANTAJ!AU53,PUANTAJ!AU53,\"\")","v":""},{"$f":"IF('PERSONEL BİLGİ GİRİŞİ'!K28,'PERSONEL BİLGİ GİRİŞİ'!K28,\"\")","v":""},{"$f":"IF('PERSONEL BİLGİ GİRİŞİ'!L28,'PERSONEL BİLGİ GİRİŞİ'!L28,\"\")","v":""},{"$f":"IF(PUANTAJ!AV53,PUANTAJ!AV53,\"\")","v":""},{"$f":"IF(PUANTAJ!AW53=\"E\",1,IF(PUANTAJ!BF53>=1,19,\"\"))","v":""},{"$f":"IF('PERSONEL BİLGİ GİRİŞİ'!M28,'PERSONEL BİLGİ GİRİŞİ'!M28,\"\")","v":""},{"$f":"IF('PERSONEL BİLGİ GİRİŞİ'!E28>=1,'PERSONEL BİLGİ GİRİŞİ'!E28,\"\")","v":""},{"$f":"IF(PUANTAJ!AW53<>\"\",PUANTAJ!AW53,\"\")","v":""}]
[null,25,{"$f":"IF('PERSONEL BİLGİ GİRİŞİ'!B29<>\"\",'PERSONEL BİLGİ GİRİŞİ'!F29,\"\")","v":""},{"$f":"IF('PERSONEL BİLGİ GİRİŞİ'!B29<>\"\",'PERSONEL BİLGİ GİRİŞİ'!G29,\"\")","v":""},{"$f":"IF('PERSONEL BİLGİ GİRİŞİ'!H29<>\"\",'PERSONEL BİLGİ GİRİŞİ'!H29,\"\")","v":""},{"$f":"IF('PERSONEL BİLGİ GİRİŞİ'!H29<>\"\",'PERSONEL BİLGİ GİRİŞİ'!H29,\"\")","v":""},{"$f":"IF('PERSONEL BİLGİ GİRİŞİ'!B29<>\"\",'PERSONEL BİLGİ GİRİŞİ'!B29,\"\")","v":""},{"$f":"IF('PERSONEL BİLGİ GİRİŞİ'!C29<>\"\",'PERSONEL BİLGİ GİRİŞİ'!C29,\"\")","v":""},{"$f":"IF('PERSONEL BİLGİ GİRİŞİ'!D29<>\"\",'PERSONEL BİLGİ GİRİŞİ'!D29,\"\")","v":""},{"$f":"IF(' BORDRO HAZIRLIK'!AQ29,' BORDRO HAZIRLIK'!AQ29,\"\")","v":""},null,{"$f":"IF(PUANTAJ!AU55,PUANTAJ!AU55,\"\")","v":""},{"$f":"IF('PERSONEL BİLGİ GİRİŞİ'!K29,'PERSONEL BİLGİ GİRİŞİ'!K29,\"\")","v":""},{"$f":"IF('PERSONEL BİLGİ GİRİŞİ'!L29,'PERSONEL BİLGİ GİRİŞİ'!L29,\"\")","v":""},{"$f":"IF(PUANTAJ!AV55,PUANTAJ!AV55,\"\")","v":""},{"$f":"IF(PUANTAJ!AW55=\"E\",1,IF(PUANTAJ!BF55>=1,19,\"\"))","v":""},{"$f":"IF('PERSONEL BİLGİ GİRİŞİ'!M29,'PERSONEL BİLGİ GİRİŞİ'!M29,\"\")","v":""},{"$f":"IF('PERSONEL BİLGİ GİRİŞİ'!E29>=1,'PERSONEL BİLGİ GİRİŞİ'!E29,\"\")","v":""},{"$f":"IF(PUANTAJ!AW55<>\"\",PUANTAJ!AW55,\"\")","v":""}]
[null,26,{"$f":"IF('PERSONEL BİLGİ GİRİŞİ'!B30<>\"\",'PERSONEL BİLGİ GİRİŞİ'!F30,\"\")","v":""},{"$f":"IF('PERSONEL BİLGİ GİRİŞİ'!B30<>\"\",'PERSONEL BİLGİ GİRİŞİ'!G30,\"\")","v":""},{"$f":"IF('PERSONEL BİLGİ GİRİŞİ'!H30<>\"\",'PERSONEL BİLGİ GİRİŞİ'!H30,\"\")","v":""},{"$f":"IF('PERSONEL BİLGİ GİRİŞİ'!H30<>\"\",'PERSONEL BİLGİ GİRİŞİ'!H30,\"\")","v":""},{"$f":"IF('PERSONEL BİLGİ GİRİŞİ'!B30<>\"\",'PERSONEL BİLGİ GİRİŞİ'!B30,\"\")","v":""},{"$f":"IF('PERSONEL BİLGİ GİRİŞİ'!C30<>\"\",'PERSONEL BİLGİ GİRİŞİ'!C30,\"\")","v":""},{"$f":"IF('PERSONEL BİLGİ GİRİŞİ'!D30<>\"\",'PERSONEL BİLGİ GİRİŞİ'!D30,\"\")","v":""},{"$f":"IF(' BORDRO HAZIRLIK'!AQ30,' BORDRO HAZIRLIK'!AQ30,\"\")","v":""},null,{"$f":"IF(PUANTAJ!AU57,PUANTAJ!AU57,\"\")","v":""},{"$f":"IF('PERSONEL BİLGİ GİRİŞİ'!K30,'PERSONEL BİLGİ GİRİŞİ'!K30,\"\")","v":""},{"$f":"IF('PERSONEL BİLGİ GİRİŞİ'!L30,'PERSONEL BİLGİ GİRİŞİ'!L30,\"\")","v":""},{"$f":"IF(PUANTAJ!AV57,PUANTAJ!AV57,\"\")","v":""},{"$f":"IF(PUANTAJ!AW57=\"E\",1,IF(PUANTAJ!BF57>=1,19,\"\"))","v":""},{"$f":"IF('PERSONEL BİLGİ GİRİŞİ'!M30,'PERSONEL BİLGİ GİRİŞİ'!M30,\"\")","v":""},{"$f":"IF('PERSONEL BİLGİ GİRİŞİ'!E30>=1,'PERSONEL BİLGİ GİRİŞİ'!E30,\"\")","v":""},{"$f":"IF(PUANTAJ!AW57<>\"\",PUANTAJ!AW57,\"\")","v":""}]
[null,27,{"$f":"IF('PERSONEL BİLGİ GİRİŞİ'!B31<>\"\",'PERSONEL BİLGİ GİRİŞİ'!F31,\"\")","v":""},{"$f":"IF('PERSONEL BİLGİ GİRİŞİ'!B31<>\"\",'PERSONEL BİLGİ GİRİŞİ'!G31,\"\")","v":""},{"$f":"IF('PERSONEL BİLGİ GİRİŞİ'!H31<>\"\",'PERSONEL BİLGİ GİRİŞİ'!H31,\"\")","v":""},{"$f":"IF('PERSONEL BİLGİ GİRİŞİ'!H31<>\"\",'PERSONEL BİLGİ GİRİŞİ'!H31,\"\")","v":""},{"$f":"IF('PERSONEL BİLGİ GİRİŞİ'!B31<>\"\",'PERSONEL BİLGİ GİRİŞİ'!B31,\"\")","v":""},{"$f":"IF('PERSONEL BİLGİ GİRİŞİ'!C31<>\"\",'PERSONEL BİLGİ GİRİŞİ'!C31,\"\")","v":""},{"$f":"IF('PERSONEL BİLGİ GİRİŞİ'!D31<>\"\",'PERSONEL BİLGİ GİRİŞİ'!D31,\"\")","v":""},{"$f":"IF(' BORDRO HAZIRLIK'!AQ31,' BORDRO HAZIRLIK'!AQ31,\"\")","v":""},null,{"$f":"IF(PUANTAJ!AU59,PUANTAJ!AU59,\"\")","v":""},{"$f":"IF('PERSONEL BİLGİ GİRİŞİ'!K31,'PERSONEL BİLGİ GİRİŞİ'!K31,\"\")","v":""},{"$f":"IF('PERSONEL BİLGİ GİRİŞİ'!L31,'PERSONEL BİLGİ GİRİŞİ'!L31,\"\")","v":""},{"$f":"IF(PUANTAJ!AV59,PUANTAJ!AV59,\"\")","v":""},{"$f":"IF(PUANTAJ!AW59=\"E\",1,IF(PUANTAJ!BF59>=1,19,\"\"))","v":""},{"$f":"IF('PERSONEL BİLGİ GİRİŞİ'!M31,'PERSONEL BİLGİ GİRİŞİ'!M31,\"\")","v":""},{"$f":"IF('PERSONEL BİLGİ GİRİŞİ'!E31>=1,'PERSONEL BİLGİ GİRİŞİ'!E31,\"\")","v":""},{"$f":"IF(PUANTAJ!AW59<>\"\",PUANTAJ!AW59,\"\")","v":""}]
[null,28,{"$f":"IF('PERSONEL BİLGİ GİRİŞİ'!B32<>\"\",'PERSONEL BİLGİ GİRİŞİ'!F32,\"\")","v":""},{"$f":"IF('PERSONEL BİLGİ GİRİŞİ'!B32<>\"\",'PERSONEL BİLGİ GİRİŞİ'!G32,\"\")","v":""},{"$f":"IF('PERSONEL BİLGİ GİRİŞİ'!H32<>\"\",'PERSONEL BİLGİ GİRİŞİ'!H32,\"\")","v":""},{"$f":"IF('PERSONEL BİLGİ GİRİŞİ'!H32<>\"\",'PERSONEL BİLGİ GİRİŞİ'!H32,\"\")","v":""},{"$f":"IF('PERSONEL BİLGİ GİRİŞİ'!B32<>\"\",'PERSONEL BİLGİ GİRİŞİ'!B32,\"\")","v":""},{"$f":"IF('PERSONEL BİLGİ GİRİŞİ'!C32<>\"\",'PERSONEL BİLGİ GİRİŞİ'!C32,\"\")","v":""},{"$f":"IF('PERSONEL BİLGİ GİRİŞİ'!D32<>\"\",'PERSONEL BİLGİ GİRİŞİ'!D32,\"\")","v":""},{"$f":"IF(' BORDRO HAZIRLIK'!AQ32,' BORDRO HAZIRLIK'!AQ32,\"\")","v":""},null,{"$f":"IF(PUANTAJ!AU61,PUANTAJ!AU61,\"\")","v":""},{"$f":"IF('PERSONEL BİLGİ GİRİŞİ'!K32,'PERSONEL BİLGİ GİRİŞİ'!K32,\"\")","v":""},{"$f":"IF('PERSONEL BİLGİ GİRİŞİ'!L32,'PERSONEL BİLGİ GİRİŞİ'!L32,\"\")","v":""},{"$f":"IF(PUANTAJ!AV61,PUANTAJ!AV61,\"\")","v":""},{"$f":"IF(PUANTAJ!AW61=\"E\",1,IF(PUANTAJ!BF61>=1,19,\"\"))","v":""},{"$f":"IF('PERSONEL BİLGİ GİRİŞİ'!M32,'PERSONEL BİLGİ GİRİŞİ'!M32,\"\")","v":""},{"$f":"IF('PERSONEL BİLGİ GİRİŞİ'!E32>=1,'PERSONEL BİLGİ GİRİŞİ'!E32,\"\")","v":""},{"$f":"IF(PUANTAJ!AW61<>\"\",PUANTAJ!AW61,\"\")","v":""}]
[null,29,{"$f":"IF('PERSONEL BİLGİ GİRİŞİ'!B33<>\"\",'PERSONEL BİLGİ GİRİŞİ'!F33,\"\")","v":""},{"$f":"IF('PERSONEL BİLGİ GİRİŞİ'!B33<>\"\",'PERSONEL BİLGİ GİRİŞİ'!G33,\"\")","v":""},{"$f":"IF('PERSONEL BİLGİ GİRİŞİ'!H33<>\"\",'PERSONEL BİLGİ GİRİŞİ'!H33,\"\")","v":""},{"$f":"IF('PERSONEL BİLGİ GİRİŞİ'!H33<>\"\",'PERSONEL BİLGİ GİRİŞİ'!H33,\"\")","v":""},{"$f":"IF('PERSONEL BİLGİ GİRİŞİ'!B33<>\"\",'PERSONEL BİLGİ GİRİŞİ'!B33,\"\")","v":""},{"$f":"IF('PERSONEL BİLGİ GİRİŞİ'!C33<>\"\",'PERSONEL BİLGİ GİRİŞİ'!C33,\"\")","v":""},{"$f":"IF('PERSONEL BİLGİ GİRİŞİ'!D33<>\"\",'PERSONEL BİLGİ GİRİŞİ'!D33,\"\")","v":""},{"$f":"IF(' BORDRO HAZIRLIK'!AQ33,' BORDRO HAZIRLIK'!AQ33,\"\")","v":""},null,{"$f":"IF(PUANTAJ!AU63,PUANTAJ!AU63,\"\")","v":""},{"$f":"IF('PERSONEL BİLGİ GİRİŞİ'!K33,'PERSONEL BİLGİ GİRİŞİ'!K33,\"\")","v":""},{"$f":"IF('PERSONEL BİLGİ GİRİŞİ'!L33,'PERSONEL BİLGİ GİRİŞİ'!L33,\"\")","v":""},{"$f":"IF(PUANTAJ!AV63,PUANTAJ!AV63,\"\")","v":""},{"$f":"IF(PUANTAJ!AW63=\"E\",1,IF(PUANTAJ!BF63>=1,19,\"\"))","v":""},{"$f":"IF('PERSONEL BİLGİ GİRİŞİ'!M33,'PERSONEL BİLGİ GİRİŞİ'!M33,\"\")","v":""},{"$f":"IF('PERSONEL BİLGİ GİRİŞİ'!E33>=1,'PERSONEL BİLGİ GİRİŞİ'!E33,\"\")","v":""},{"$f":"IF(PUANTAJ!AW63<>\"\",PUANTAJ!AW63,\"\")","v":""}]
[null,30,{"$f":"IF('PERSONEL BİLGİ GİRİŞİ'!B34<>\"\",'PERSONEL BİLGİ GİRİŞİ'!F34,\"\")","v":""},{"$f":"IF('PERSONEL BİLGİ GİRİŞİ'!B34<>\"\",'PERSONEL BİLGİ GİRİŞİ'!G34,\"\")","v":""},{"$f":"IF('PERSONEL BİLGİ GİRİŞİ'!H34<>\"\",'PERSONEL BİLGİ GİRİŞİ'!H34,\"\")","v":""},{"$f":"IF('PERSONEL BİLGİ GİRİŞİ'!H34<>\"\",'PERSONEL BİLGİ GİRİŞİ'!H34,\"\")","v":""},{"$f":"IF('PERSONEL BİLGİ GİRİŞİ'!B34<>\"\",'PERSONEL BİLGİ GİRİŞİ'!B34,\"\")","v":""},{"$f":"IF('PERSONEL BİLGİ GİRİŞİ'!C34<>\"\",'PERSONEL BİLGİ GİRİŞİ'!C34,\"\")","v":""},{"$f":"IF('PERSONEL BİLGİ GİRİŞİ'!D34<>\"\",'PERSONEL BİLGİ GİRİŞİ'!D34,\"\")","v":""},{"$f":"IF(' BORDRO HAZIRLIK'!AQ34,' BORDRO HAZIRLIK'!AQ34,\"\")","v":""},null,{"$f":"IF(PUANTAJ!AU65,PUANTAJ!AU65,\"\")","v":""},{"$f":"IF('PERSONEL BİLGİ GİRİŞİ'!K34,'PERSONEL BİLGİ GİRİŞİ'!K34,\"\")","v":""},{"$f":"IF('PERSONEL BİLGİ GİRİŞİ'!L34,'PERSONEL BİLGİ GİRİŞİ'!L34,\"\")","v":""},{"$f":"IF(PUANTAJ!AV65,PUANTAJ!AV65,\"\")","v":""},{"$f":"IF(PUANTAJ!AW65=\"E\",1,IF(PUANTAJ!BF65>=1,19,\"\"))","v":""},{"$f":"IF('PERSONEL BİLGİ GİRİŞİ'!M34,'PERSONEL BİLGİ GİRİŞİ'!M34,\"\")","v":""},{"$f":"IF('PERSONEL BİLGİ GİRİŞİ'!E34>=1,'PERSONEL BİLGİ GİRİŞİ'!E34,\"\")","v":""},{"$f":"IF(PUANTAJ!AW65<>\"\",PUANTAJ!AW65,\"\")","v":""}]
[null,31,{"$f":"IF('PERSONEL BİLGİ GİRİŞİ'!B35<>\"\",'PERSONEL BİLGİ GİRİŞİ'!F35,\"\")","v":""},{"$f":"IF('PERSONEL BİLGİ GİRİŞİ'!B35<>\"\",'PERSONEL BİLGİ GİRİŞİ'!G35,\"\")","v":""},{"$f":"IF('PERSONEL BİLGİ GİRİŞİ'!H35<>\"\",'PERSONEL BİLGİ GİRİŞİ'!H35,\"\")","v":""},{"$f":"IF('PERSONEL BİLGİ GİRİŞİ'!H35<>\"\",'PERSONEL BİLGİ GİRİŞİ'!H35,\"\")","v":""},{"$f":"IF('PERSONEL BİLGİ GİRİŞİ'!B35<>\"\",'PERSONEL BİLGİ GİRİŞİ'!B35,\"\")","v":""},{"$f":"IF('PERSONEL BİLGİ GİRİŞİ'!C35<>\"\",'PERSONEL BİLGİ GİRİŞİ'!C35,\"\")","v":""},{"$f":"IF('PERSONEL BİLGİ GİRİŞİ'!D35<>\"\",'PERSONEL BİLGİ GİRİŞİ'!D35,\"\")","v":""},{"$f":"IF(' BORDRO HAZIRLIK'!AQ35,' BORDRO HAZIRLIK'!AQ35,\"\")","v":""},null,{"$f":"IF(PUANTAJ!AU67,PUANTAJ!AU67,\"\")","v":""},{"$f":"IF('PERSONEL BİLGİ GİRİŞİ'!K35,'PERSONEL BİLGİ GİRİŞİ'!K35,\"\")","v":""},{"$f":"IF('PERSONEL BİLGİ GİRİŞİ'!L35,'PERSONEL BİLGİ GİRİŞİ'!L35,\"\")","v":""},{"$f":"IF(PUANTAJ!AV67,PUANTAJ!AV67,\"\")","v":""},{"$f":"IF(PUANTAJ!AW67=\"E\",1,IF(PUANTAJ!BF67>=1,19,\"\"))","v":""},{"$f":"IF('PERSONEL BİLGİ GİRİŞİ'!M35,'PERSONEL BİLGİ GİRİŞİ'!M35,\"\")","v":""},{"$f":"IF('PERSONEL BİLGİ GİRİŞİ'!E35>=1,'PERSONEL BİLGİ GİRİŞİ'!E35,\"\")","v":""},{"$f":"IF(PUANTAJ!AW67<>\"\",PUANTAJ!AW67,\"\")","v":""}]
[null,32,{"$f":"IF('PERSONEL BİLGİ GİRİŞİ'!B36<>\"\",'PERSONEL BİLGİ GİRİŞİ'!F36,\"\")","v":""},{"$f":"IF('PERSONEL BİLGİ GİRİŞİ'!B36<>\"\",'PERSONEL BİLGİ GİRİŞİ'!G36,\"\")","v":""},{"$f":"IF('PERSONEL BİLGİ GİRİŞİ'!H36<>\"\",'PERSONEL BİLGİ GİRİŞİ'!H36,\"\")","v":""},{"$f":"IF('PERSONEL BİLGİ GİRİŞİ'!H36<>\"\",'PERSONEL BİLGİ GİRİŞİ'!H36,\"\")","v":""},{"$f":"IF('PERSONEL BİLGİ GİRİŞİ'!B36<>\"\",'PERSONEL BİLGİ GİRİŞİ'!B36,\"\")","v":""},{"$f":"IF('PERSONEL BİLGİ GİRİŞİ'!C36<>\"\",'PERSONEL BİLGİ GİRİŞİ'!C36,\"\")","v":""},{"$f":"IF('PERSONEL BİLGİ GİRİŞİ'!D36<>\"\",'PERSONEL BİLGİ GİRİŞİ'!D36,\"\")","v":""},{"$f":"IF(' BORDRO HAZIRLIK'!AQ36,' BORDRO HAZIRLIK'!AQ36,\"\")","v":""},null,{"$f":"IF(PUANTAJ!AU69,PUANTAJ!AU69,\"\")","v":""},{"$f":"IF('PERSONEL BİLGİ GİRİŞİ'!K36,'PERSONEL BİLGİ GİRİŞİ'!K36,\"\")","v":""},{"$f":"IF('PERSONEL BİLGİ GİRİŞİ'!L36,'PERSONEL BİLGİ GİRİŞİ'!L36,\"\")","v":""},{"$f":"IF(PUANTAJ!AV69,PUANTAJ!AV69,\"\")","v":""},{"$f":"IF(PUANTAJ!AW69=\"E\",1,IF(PUANTAJ!BF69>=1,19,\"\"))","v":""},{"$f":"IF('PERSONEL BİLGİ GİRİŞİ'!M36,'PERSONEL BİLGİ GİRİŞİ'!M36,\"\")","v":""},{"$f":"IF('PERSONEL BİLGİ GİRİŞİ'!E36>=1,'PERSONEL BİLGİ GİRİŞİ'!E36,\"\")","v":""},{"$f":"IF(PUANTAJ!AW69<>\"\",PUANTAJ!AW69,\"\")","v":""}]
[null,33,{"$f":"IF('PERSONEL BİLGİ GİRİŞİ'!B37<>\"\",'PERSONEL BİLGİ GİRİŞİ'!F37,\"\")","v":""},{"$f":"IF('PERSONEL BİLGİ GİRİŞİ'!B37<>\"\",'PERSONEL BİLGİ GİRİŞİ'!G37,\"\")","v":""},{"$f":"IF('PERSONEL BİLGİ GİRİŞİ'!H37<>\"\",'PERSONEL BİLGİ GİRİŞİ'!H37,\"\")","v":""},{"$f":"IF('PERSONEL BİLGİ GİRİŞİ'!H37<>\"\",'PERSONEL BİLGİ GİRİŞİ'!H37,\"\")","v":""},{"$f":"IF('PERSONEL BİLGİ GİRİŞİ'!B37<>\"\",'PERSONEL BİLGİ GİRİŞİ'!B37,\"\")","v":""},{"$f":"IF('PERSONEL BİLGİ GİRİŞİ'!C37<>\"\",'PERSONEL BİLGİ GİRİŞİ'!C37,\"\")","v":""},{"$f":"IF('PERSONEL BİLGİ GİRİŞİ'!D37<>\"\",'PERSONEL BİLGİ GİRİŞİ'!D37,\"\")","v":""},{"$f":"IF(' BORDRO HAZIRLIK'!AQ37,' BORDRO HAZIRLIK'!AQ37,\"\")","v":""},null,{"$f":"IF(PUANTAJ!AU71,PUANTAJ!AU71,\"\")","v":""},{"$f":"IF('PERSONEL BİLGİ GİRİŞİ'!K37,'PERSONEL BİLGİ GİRİŞİ'!K37,\"\")","v":""},{"$f":"IF('PERSONEL BİLGİ GİRİŞİ'!L37,'PERSONEL BİLGİ GİRİŞİ'!L37,\"\")","v":""},{"$f":"IF(PUANTAJ!AV71,PUANTAJ!AV71,\"\")","v":""},{"$f":"IF(PUANTAJ!AW71=\"E\",1,IF(PUANTAJ!BF71>=1,19,\"\"))","v":""},{"$f":"IF('PERSONEL BİLGİ GİRİŞİ'!M37,'PERSONEL BİLGİ GİRİŞİ'!M37,\"\")","v":""},{"$f":"IF('PERSONEL BİLGİ GİRİŞİ'!E37>=1,'PERSONEL BİLGİ GİRİŞİ'!E37,\"\")","v":""},{"$f":"IF(PUANTAJ!AW71<>\"\",PUANTAJ!AW71,\"\")","v":""}]
[null,34,{"$f":"IF('PERSONEL BİLGİ GİRİŞİ'!B38<>\"\",'PERSONEL BİLGİ GİRİŞİ'!F38,\"\")","v":""},{"$f":"IF('PERSONEL BİLGİ GİRİŞİ'!B38<>\"\",'PERSONEL BİLGİ GİRİŞİ'!G38,\"\")","v":""},{"$f":"IF('PERSONEL BİLGİ GİRİŞİ'!H38<>\"\",'PERSONEL BİLGİ GİRİŞİ'!H38,\"\")","v":""},{"$f":"IF('PERSONEL BİLGİ GİRİŞİ'!H38<>\"\",'PERSONEL BİLGİ GİRİŞİ'!H38,\"\")","v":""},{"$f":"IF('PERSONEL BİLGİ GİRİŞİ'!B38<>\"\",'PERSONEL BİLGİ GİRİŞİ'!B38,\"\")","v":""},{"$f":"IF('PERSONEL BİLGİ GİRİŞİ'!C38<>\"\",'PERSONEL BİLGİ GİRİŞİ'!C38,\"\")","v":""},{"$f":"IF('PERSONEL BİLGİ GİRİŞİ'!D38<>\"\",'PERSONEL BİLGİ GİRİŞİ'!D38,\"\")","v":""},{"$f":"IF(' BORDRO HAZIRLIK'!AQ38,' BORDRO HAZIRLIK'!AQ38,\"\")","v":""},null,{"$f":"IF(PUANTAJ!AU73,PUANTAJ!AU73,\"\")","v":""},{"$f":"IF('PERSONEL BİLGİ GİRİŞİ'!K38,'PERSONEL BİLGİ GİRİŞİ'!K38,\"\")","v":""},{"$f":"IF('PERSONEL BİLGİ GİRİŞİ'!L38,'PERSONEL BİLGİ GİRİŞİ'!L38,\"\")","v":""},{"$f":"IF(PUANTAJ!AV73,PUANTAJ!AV73,\"\")","v":""},{"$f":"IF(PUANTAJ!AW73=\"E\",1,IF(PUANTAJ!BF73>=1,19,\"\"))","v":""},{"$f":"IF('PERSONEL BİLGİ GİRİŞİ'!M38,'PERSONEL BİLGİ GİRİŞİ'!M38,\"\")","v":""},{"$f":"IF('PERSONEL BİLGİ GİRİŞİ'!E38>=1,'PERSONEL BİLGİ GİRİŞİ'!E38,\"\")","v":""},{"$f":"IF(PUANTAJ!AW73<>\"\",PUANTAJ!AW73,\"\")","v":""}]
[null,35,{"$f":"IF('PERSONEL BİLGİ GİRİŞİ'!B39<>\"\",'PERSONEL BİLGİ GİRİŞİ'!F39,\"\")","v":""},{"$f":"IF('PERSONEL BİLGİ GİRİŞİ'!B39<>\"\",'PERSONEL BİLGİ GİRİŞİ'!G39,\"\")","v":""},{"$f":"IF('PERSONEL BİLGİ GİRİŞİ'!H39<>\"\",'PERSONEL BİLGİ GİRİŞİ'!H39,\"\")","v":""},{"$f":"IF('PERSONEL BİLGİ GİRİŞİ'!H39<>\"\",'PERSONEL BİLGİ GİRİŞİ'!H39,\"\")","v":""},{"$f":"IF('PERSONEL BİLGİ GİRİŞİ'!B39<>\"\",'PERSONEL BİLGİ GİRİŞİ'!B39,\"\")","v":""},{"$f":"IF('PERSONEL BİLGİ GİRİŞİ'!C39<>\"\",'PERSONEL BİLGİ GİRİŞİ'!C39,\"\")","v":""},{"$f":"IF('PERSONEL BİLGİ GİRİŞİ'!D39<>\"\",'PERSONEL BİLGİ GİRİŞİ'!D39,\"\")","v":""},{"$f":"IF(' BORDRO HAZIRLIK'!AQ39,' BORDRO HAZIRLIK'!AQ39,\"\")","v":""},null,{"$f":"IF(PUANTAJ!AU75,PUANTAJ!AU75,\"\")","v":""},{"$f":"IF('PERSONEL BİLGİ GİRİŞİ'!K39,'PERSONEL BİLGİ GİRİŞİ'!K39,\"\")","v":""},{"$f":"IF('PERSONEL BİLGİ GİRİŞİ'!L39,'PERSONEL BİLGİ GİRİŞİ'!L39,\"\")","v":""},{"$f":"IF(PUANTAJ!AV75,PUANTAJ!AV75,\"\")","v":""},{"$f":"IF(PUANTAJ!AW75=\"E\",1,IF(PUANTAJ!BF75>=1,19,\"\"))","v":""},{"$f":"IF('PERSONEL BİLGİ GİRİŞİ'!M39,'PERSONEL BİLGİ GİRİŞİ'!M39,\"\")","v":""},{"$f":"IF('PERSONEL BİLGİ GİRİŞİ'!E39>=1,'PERSONEL BİLGİ GİRİŞİ'!E39,\"\")","v":""},{"$f":"IF(PUANTAJ!AW75<>\"\",PUANTAJ!AW75,\"\")","v":""}]
[null,null,null,null,null,null,null,null,null,null,null,null,{"$f":"IF('PERSONEL BİLGİ GİRİŞİ'!K40,'PERSONEL BİLGİ GİRİŞİ'!K40,\"\")","v":""},null,null,null,null,{"$f":"IF('PERSONEL BİLGİ GİRİŞİ'!E40>=1,'PERSONEL BİLGİ GİRİŞİ'!E40,\"\")","v":""}]
[null,null,null,null,null,null,null,null,null,null,null,null,{"$f":"IF('PERSONEL BİLGİ GİRİŞİ'!K41,'PERSONEL BİLGİ GİRİŞİ'!K41,\"\")","v":""},null,null,null,null,{"$f":"IF('PERSONEL BİLGİ GİRİŞİ'!E41>=1,'PERSONEL BİLGİ GİRİŞİ'!E41,\"\")","v":""}]
[null,null,null,null,null,null,null,null,null,null,null,null,{"$f":"IF('PERSONEL BİLGİ GİRİŞİ'!K42,'PERSONEL BİLGİ GİRİŞİ'!K42,\"\")","v":""},null,null,null,null,{"$f":"IF('PERSONEL BİLGİ GİRİŞİ'!E42>=1,'PERSONEL BİLGİ GİRİŞİ'!E42,\"\")","v":""}]
[null,null,null,null,null,null,null,null,null,null,null,null,{"$f":"IF('PERSONEL BİLGİ GİRİŞİ'!K43,'PERSONEL BİLGİ GİRİŞİ'!K43,\"\")","v":""},null,null,null,null,{"$f":"IF('PERSONEL BİLGİ GİRİŞİ'!E43>=1,'PERSONEL BİLGİ GİRİŞİ'!E43,\"\")","v":""}]
[null,null,null,null,null,null,null,null,null,null,null,null,{"$f":"IF('PERSONEL BİLGİ GİRİŞİ'!K44,'PERSONEL BİLGİ GİRİŞİ'!K44,\"\")","v":""},null,null,null,null,{"$f":"IF('PERSONEL BİLGİ GİRİŞİ'!E44>=1,'PERSONEL BİLGİ GİRİŞİ'!E44,\"\")","v":""}]
[null,null,null,null,null,null,null,null,null,null,null,null,{"$f":"IF('PERSONEL BİLGİ GİRİŞİ'!K45,'PERSONEL BİLGİ GİRİŞİ'!K45,\"\")","v":""},null,null,null,null,{"$f":"IF('PERSONEL BİLGİ GİRİŞİ'!E45>=1,'PERSONEL BİLGİ GİRİŞİ'!E45,\"\")","v":""}]
[null,null,null,null,null,null,null,null,null,null,null,null,{"$f":"IF('PERSONEL BİLGİ GİRİŞİ'!K46,'PERSONEL BİLGİ GİRİŞİ'!K46,\"\")","v":""},null,null,null,null,{"$f":"IF('PERSONEL BİLGİ GİRİŞİ'!E46>=1,'PERSONEL BİLGİ GİRİŞİ'!E46,\"\")","v":""}]
[null,null,null,null,null,null,null,null,null,null,null,null,{"$f":"IF('PERSONEL BİLGİ GİRİŞİ'!K47,'PERSONEL BİLGİ GİRİŞİ'!K47,\"\")","v":""},null,null,null,null,{"$f":"IF('PERSONEL BİLGİ GİRİŞİ'!E47>=1,'PERSONEL BİLGİ GİRİŞİ'!E47,\"\")","v":""}]
[null,null,null,null,null,null,null,null,null,null,null,null,{"$f":"IF('PERSONEL BİLGİ GİRİŞİ'!K48,'PERSONEL BİLGİ GİRİŞİ'!K48,\"\")","v":""},null,null,null,null,{"$f":"IF('PERSONEL BİLGİ GİRİŞİ'!E48>=1,'PERSONEL BİLGİ GİRİŞİ'!E48,\"\")","v":""}]
[null,null,null,null,null,null,null,null,null,null,null,null,{"$f":"IF('PERSONEL BİLGİ GİRİŞİ'!K49,'PERSONEL BİLGİ GİRİŞİ'!K49,\"\")","v":""},null,null,null,null,{"$f":"IF('PERSONEL BİLGİ GİRİŞİ'!E49>=1,'PERSONEL BİLGİ GİRİŞİ'!E49,\"\")","v":""}]
[null,null,null,null,null,null,null,null,null,null,null,null,{"$f":"IF('PERSONEL BİLGİ GİRİŞİ'!K50,'PERSONEL BİLGİ GİRİŞİ'!K50,\"\")","v":""},null,null,null,null,{"$f":"IF('PERSONEL BİLGİ GİRİŞİ'!E50>=1,'PERSONEL BİLGİ GİRİŞİ'!E50,\"\")","v":""}]
[null,null,null,null,null,null,null,null,null,null,null,null,{"$f":"IF('PERSONEL BİLGİ GİRİŞİ'!K51,'PERSONEL BİLGİ GİRİŞİ'!K51,\"\")","v":""},null,null,null,null,{"$f":"IF('PERSONEL BİLGİ GİRİŞİ'!E51>=1,'PERSONEL BİLGİ GİRİŞİ'!E51,\"\")","v":""}]
[null,null,null,null,null,null,null,null,null,null,null,null,{"$f":"IF('PERSONEL BİLGİ GİRİŞİ'!K52,'PERSONEL BİLGİ GİRİŞİ'!K52,\"\")","v":""},null,null,null,null,{"$f":"IF('PERSONEL BİLGİ GİRİŞİ'!E52>=1,'PERSONEL BİLGİ GİRİŞİ'!E52,\"\")","v":""}]
[null,null,null,null,null,null,null,null,null,null,null,null,{"$f":"IF('PERSONEL BİLGİ GİRİŞİ'!K53,'PERSONEL BİLGİ GİRİŞİ'!K53,\"\")","v":""},null,null,null,null,{"$f":"IF('PERSONEL BİLGİ GİRİŞİ'!E53>=1,'PERSONEL BİLGİ GİRİŞİ'!E53,\"\")","v":""}]
[null,null,null,null,null,null,null,null,null,null,null,null,{"$f":"IF('PERSONEL BİLGİ GİRİŞİ'!K54,'PERSONEL BİLGİ GİRİŞİ'!K54,\"\")","v":""},null,null,null,null,{"$f":"IF('PERSONEL BİLGİ GİRİŞİ'!E54>=1,'PERSONEL BİLGİ GİRİŞİ'!E54,\"\")","v":""}]
[null,null,null,null,null,null,null,null,null,null,null,null,{"$f":"IF('PERSONEL BİLGİ GİRİŞİ'!K55,'PERSONEL BİLGİ GİRİŞİ'!K55,\"\")","v":""},null,null,null,null,{"$f":"IF('PERSONEL BİLGİ GİRİŞİ'!E55>=1,'PERSONEL BİLGİ GİRİŞİ'!E55,\"\")","v":""}]
[null,null,null,null,null,null,null,null,null,null,null,null,{"$f":"IF('PERSONEL BİLGİ GİRİŞİ'!K56,'PERSONEL BİLGİ GİRİŞİ'!K56,\"\")","v":""},null,null,null,null,{"$f":"IF('PERSONEL BİLGİ GİRİŞİ'!E56>=1,'PERSONEL BİLGİ GİRİŞİ'!E56,\"\")","v":""}]
[null,null,null,null,null,null,null,null,null,null,null,null,{"$f":"IF('PERSONEL BİLGİ GİRİŞİ'!K57,'PERSONEL BİLGİ GİRİŞİ'!K57,\"\")","v":""},null,null,null,null,{"$f":"IF('PERSONEL BİLGİ GİRİŞİ'!E57>=1,'PERSONEL BİLGİ GİRİŞİ'!E57,\"\")","v":""}]
[null,null,null,null,null,null,null,null,null,null,null,null,{"$f":"IF('PERSONEL BİLGİ GİRİŞİ'!K58,'PERSONEL BİLGİ GİRİŞİ'!K58,\"\")","v":""},null,null,null,null,{"$f":"IF('PERSONEL BİLGİ GİRİŞİ'!E58>=1,'PERSONEL BİLGİ GİRİŞİ'!E58,\"\")","v":""}]
[null,null,null,null,null,null,null,null,null,null,null,null,{"$f":"IF('PERSONEL BİLGİ GİRİŞİ'!K59,'PERSONEL BİLGİ GİRİŞİ'!K59,\"\")","v":""},null,null,null,null,{"$f":"IF('PERSONEL BİLGİ GİRİŞİ'!E59>=1,'PERSONEL BİLGİ GİRİŞİ'!E59,\"\")","v":""}]
[null,null,null,null,null,null,null,null,null,null,null,null,{"$f":"IF('PERSONEL BİLGİ GİRİŞİ'!K60,'PERSONEL BİLGİ GİRİŞİ'!K60,\"\")","v":""},null,null,null,null,{"$f":"IF('PERSONEL BİLGİ GİRİŞİ'!E60>=1,'PERSONEL BİLGİ GİRİŞİ'!E60,\"\")","v":""}]
[null,null,null,null,null,null,null,null,null,null,null,null,{"$f":"IF('PERSONEL BİLGİ GİRİŞİ'!K61,'PERSONEL BİLGİ GİRİŞİ'!K61,\"\")","v":""},null,null,null,null,{"$f":"IF('PERSONEL BİLGİ GİRİŞİ'!E61>=1,'PERSONEL BİLGİ GİRİŞİ'!E61,\"\")","v":""}]
[null,null,null,null,null,null,null,null,null,null,null,null,{"$f":"IF('PERSONEL BİLGİ GİRİŞİ'!K62,'PERSONEL BİLGİ GİRİŞİ'!K62,\"\")","v":""},null,null,null,null,{"$f":"IF('PERSONEL BİLGİ GİRİŞİ'!E62>=1,'PERSONEL BİLGİ GİRİŞİ'!E62,\"\")","v":""}]
[null,null,null,null,null,null,null,null,null,null,null,null,{"$f":"IF('PERSONEL BİLGİ GİRİŞİ'!K63,'PERSONEL BİLGİ GİRİŞİ'!K63,\"\")","v":""},null,null,null,null,{"$f":"IF('PERSONEL BİLGİ GİRİŞİ'!E63>=1,'PERSONEL BİLGİ GİRİŞİ'!E63,\"\")","v":""}]
[null,null,null,null,null,null,null,null,null,null,null,null,{"$f":"IF('PERSONEL BİLGİ GİRİŞİ'!K64,'PERSONEL BİLGİ GİRİŞİ'!K64,\"\")","v":""},null,null,null,null,{"$f":"IF('PERSONEL BİLGİ GİRİŞİ'!E64>=1,'PERSONEL BİLGİ GİRİŞİ'!E64,\"\")","v":""}]
[null,null,null,null,null,null,null,null,null,null,null,null,{"$f":"IF('PERSONEL BİLGİ GİRİŞİ'!K65,'PERSONEL BİLGİ GİRİŞİ'!K65,\"\")","v":""},null,null,null,null,{"$f":"IF('PERSONEL BİLGİ GİRİŞİ'!E65>=1,'PERSONEL BİLGİ GİRİŞİ'!E65,\"\")","v":""}]
[null,null,null,null,null,null,null,null,null,null,null,null,{"$f":"IF('PERSONEL BİLGİ GİRİŞİ'!K66,'PERSONEL BİLGİ GİRİŞİ'!K66,\"\")","v":""},null,null,null,null,{"$f":"IF('PERSONEL BİLGİ GİRİŞİ'!E66>=1,'PERSONEL BİLGİ GİRİŞİ'!E66,\"\")","v":""}]
[null,null,null,null,null,null,null,null,null,null,null,null,{"$f":"IF('PERSONEL BİLGİ GİRİŞİ'!K67,'PERSONEL BİLGİ GİRİŞİ'!K67,\"\")","v":""},null,null,null,null,{"$f":"IF('PERSONEL BİLGİ GİRİŞİ'!E67>=1,'PERSONEL BİLGİ GİRİŞİ'!E67,\"\")","v":""}]
[null,null,null,null,null,null,null,null,null,null,null,null,{"$f":"IF('PERSONEL BİLGİ GİRİŞİ'!K68,'PERSONEL BİLGİ GİRİŞİ'!K68,\"\")","v":""},null,null,null,null,{"$f":"IF('PERSONEL BİLGİ GİRİŞİ'!E68>=1,'PERSONEL BİLGİ GİRİŞİ'!E68,\"\")","v":""}]
[null,null,null,null,null,null,null,null,null,null,null,null,{"$f":"IF('PERSONEL BİLGİ GİRİŞİ'!K69,'PERSONEL BİLGİ GİRİŞİ'!K69,\"\")","v":""},null,null,null,null,{"$f":"IF('PERSONEL BİLGİ GİRİŞİ'!E69>=1,'PERSONEL BİLGİ GİRİŞİ'!E69,\"\")","v":""}]
[null,null,null,null,null,null,null,null,null,null,null,null,{"$f":"IF('PERSONEL BİLGİ GİRİŞİ'!K70,'PERSONEL BİLGİ GİRİŞİ'!K70,\"\")","v":""},null,null,null,null,{"$f":"IF('PERSONEL BİLGİ GİRİŞİ'!E70>=1,'PERSONEL BİLGİ GİRİŞİ'!E70,\"\")","v":""}]
[null,null,null,null,null,null,null,null,null,null,null,null,{"$f":"IF('PERSONEL BİLGİ GİRİŞİ'!K71,'PERSONEL BİLGİ GİRİŞİ'!K71,\"\")","v":""},null,null,null,null,{"$f":"IF('PERSONEL BİLGİ GİRİŞİ'!E71>=1,'PERSONEL BİLGİ GİRİŞİ'!E71,\"\")","v":""}]
[null,null,null,null,null,null,null,null,null,null,null,null,{"$f":"IF('PERSONEL BİLGİ GİRİŞİ'!K72,'PERSONEL BİLGİ GİRİŞİ'!K72,\"\")","v":""},null,null,null,null,{"$f":"IF('PERSONEL BİLGİ GİRİŞİ'!E72>=1,'PERSONEL BİLGİ GİRİŞİ'!E72,\"\")","v":""}]
[null,null,null,null,null,null,null,null,null,null,null,null,{"$f":"IF('PERSONEL BİLGİ GİRİŞİ'!K73,'PERSONEL BİLGİ GİRİŞİ'!K73,\"\")","v":""},null,null,null,null,{"$f":"IF('PERSONEL BİLGİ GİRİŞİ'!E73>=1,'PERSONEL BİLGİ GİRİŞİ'!E73,\"\")","v":""}]
[null,null,null,null,null,null,null,null,null,null,null,null,{"$f":"IF('PERSONEL BİLGİ GİRİŞİ'!K74,'PERSONEL BİLGİ GİRİŞİ'!K74,\"\")","v":""},null,null,null,null,{"$f":"IF('PERSONEL BİLGİ GİRİŞİ'!E74>=1,'PERSONEL BİLGİ GİRİŞİ'!E74,\"\")","v":""}]
[null,null,null,null,null,null,null,null,null,null,null,null,{"$f":"IF('PERSONEL BİLGİ GİRİŞİ'!K75,'PERSONEL BİLGİ GİRİŞİ'!K75,\"\")","v":""},null,null,null,null,{"$f":"IF('PERSONEL BİLGİ GİRİŞİ'!E75>=1,'PERSONEL BİLGİ GİRİŞİ'!E75,\"\")","v":""}]
[null,null,null,null,null,null,null,null,null,null,null,null,{"$f":"IF('PERSONEL BİLGİ GİRİŞİ'!K76,'PERSONEL BİLGİ GİRİŞİ'!K76,\"\")","v":""},null,null,null,null,{"$f":"IF('PERSONEL BİLGİ GİRİŞİ'!E76>=1,'PERSONEL BİLGİ GİRİŞİ'!E76,\"\")","v":""}]
[null,null,null,null,null,null,null,null,null,null,null,null,{"$f":"IF('PERSONEL BİLGİ GİRİŞİ'!K77,'PERSONEL BİLGİ GİRİŞİ'!K77,\"\")","v":""},null,null,null,null,{"$f":"IF('PERSONEL BİLGİ GİRİŞİ'!E77>=1,'PERSONEL BİLGİ GİRİŞİ'!E77,\"\")","v":""}]
[null,null,null,null,null,null,null,null,null,null,null,null,{"$f":"IF('PERSONEL BİLGİ GİRİŞİ'!K78,'PERSONEL BİLGİ GİRİŞİ'!K78,\"\")","v":""},null,null,null,null,{"$f":"IF('PERSONEL BİLGİ GİRİŞİ'!E78>=1,'PERSONEL BİLGİ GİRİŞİ'!E78,\"\")","v":""}]
[null,null,null,null,null,null,null,null,null,null,null,null,{"$f":"IF('PERSONEL BİLGİ GİRİŞİ'!K79,'PERSONEL BİLGİ GİRİŞİ'!K79,\"\")","v":""},null,null,null,null,{"$f":"IF('PERSONEL BİLGİ GİRİŞİ'!E79>=1,'PERSONEL BİLGİ GİRİŞİ'!E79,\"\")","v":""}]
[null,null,null,null,null,null,null,null,null,null,null,null,{"$f":"IF('PERSONEL BİLGİ GİRİŞİ'!K80,'PERSONEL BİLGİ GİRİŞİ'!K80,\"\")","v":""},null,null,null,null,{"$f":"IF('PERSONEL BİLGİ GİRİŞİ'!E80>=1,'PERSONEL BİLGİ GİRİŞİ'!E80,\"\")","v":""}]
[null,null,null,null,null,null,null,null,null,null,null,null,{"$f":"IF('PERSONEL BİLGİ GİRİŞİ'!K81,'PERSONEL BİLGİ GİRİŞİ'!K81,\"\")","v":{"$error":"#VALUE!"}},null,null,null,null,{"$f":"IF('PERSONEL BİLGİ GİRİŞİ'!E81>=1,'PERSONEL BİLGİ GİRİŞİ'!E81,\"\")","v":""}]
[null,null,null,null,null,null,null,null,null,null,null,null,{"$f":"IF('PERSONEL BİLGİ GİRİŞİ'!K82,'PERSONEL BİLGİ GİRİŞİ'!K82,\"\")","v":""},null,null,null,null,{"$f":"IF('PERSONEL BİLGİ GİRİŞİ'!E82>=1,'PERSONEL BİLGİ GİRİŞİ'!E82,\"\")","v":""}]
[null,null,null,null,null,null,null,null,null,null,null,null,{"$f":"IF('PERSONEL BİLGİ GİRİŞİ'!K83,'PERSONEL BİLGİ GİRİŞİ'!K83,\"\")","v":{"$error":"#N/A"}},null,null,null,null,{"$f":"IF('PERSONEL BİLGİ GİRİŞİ'!E83>=1,'PERSONEL BİLGİ GİRİŞİ'!E83,\"\")","v":""}]
[null,null,null,null,null,null,null,null,null,null,null,null,{"$f":"IF('PERSONEL BİLGİ GİRİŞİ'!K84,'PERSONEL BİLGİ GİRİŞİ'!K84,\"\")","v":"2024-02-05"},null,null,null,null,{"$f":"IF('PERSONEL BİLGİ GİRİŞİ'!E84>=1,'PERSONEL BİLGİ GİRİŞİ'!E84,\"\")","v":""}]
[null,null,null,null,null,null,null,null,null,null,null,null,{"$f":"IF('PERSONEL BİLGİ GİRİŞİ'!K85,'PERSONEL BİLGİ GİRİŞİ'!K85,\"\")","v":""},null,null,null,null,{"$f":"IF('PERSONEL BİLGİ GİRİŞİ'!E85>=1,'PERSONEL BİLGİ GİRİŞİ'!E85,\"\")","v":""}]
[null,null,null,null,null,null,null,null,null,null,null,null,{"$f":"IF('PERSONEL BİLGİ GİRİŞİ'!K86,'PERSONEL BİLGİ GİRİŞİ'!K86,\"\")","v":""},null,null,null,null,{"$f":"IF('PERSONEL BİLGİ GİRİŞİ'!E86>=1,'PERSONEL BİLGİ GİRİŞİ'!E86,\"\")","v":""}]
[null,null,null,null,null,null,null,null,null,null,null,null,{"$f":"IF('PERSONEL BİLGİ GİRİŞİ'!K87,'PERSONEL BİLGİ GİRİŞİ'!K87,\"\")","v":""},null,null,null,null,{"$f":"IF('PERSONEL BİLGİ GİRİŞİ'!E87>=1,'PERSONEL BİLGİ GİRİŞİ'!E87,\"\")","v":""}]
[null,null,null,null,null,null,null,null,null,null,null,null,{"$f":"IF('PERSONEL BİLGİ GİRİŞİ'!K88,'PERSONEL BİLGİ GİRİŞİ'!K88,\"\")","v":""},null,null,null,null,{"$f":"IF('PERSONEL BİLGİ GİRİŞİ'!E88>=1,'PERSONEL BİLGİ GİRİŞİ'!E88,\"\")","v":""}]
[null,null,null,null,null,null,null,null,null,null,null,null,{"$f":"IF('PERSONEL BİLGİ GİRİŞİ'!K89,'PERSONEL BİLGİ GİRİŞİ'!K89,\"\")","v":""},null,null,null,null,{"$f":"IF('PERSONEL BİLGİ GİRİŞİ'!E89>=1,'PERSONEL BİLGİ GİRİŞİ'!E89,\"\")","v":""}]
[null,null,null,null,null,null,null,null,null,null,null,null,{"$f":"IF('PERSONEL BİLGİ GİRİŞİ'!K90,'PERSONEL BİLGİ GİRİŞİ'!K90,\"\")","v":""},null,null,null,null,{"$f":"IF('PERSONEL BİLGİ GİRİŞİ'!E90>=1,'PERSONEL BİLGİ GİRİŞİ'!E90,\"\")","v":""}]
[null,null,null,null,null,null,null,null,null,null,null,null,{"$f":"IF('PERSONEL BİLGİ GİRİŞİ'!K91,'PERSONEL BİLGİ GİRİŞİ'!K91,\"\")","v":""},null,null,null,null,{"$f":"IF('PERSONEL BİLGİ GİRİŞİ'!E91>=1,'PERSONEL BİLGİ GİRİŞİ'!E91,\"\")","v":""}]
[null,null,null,null,null,null,null,null,null,null,null,null,{"$f":"IF('PERSONEL BİLGİ GİRİŞİ'!K92,'PERSONEL BİLGİ GİRİŞİ'!K92,\"\")","v":""},null,null,null,null,{"$f":"IF('PERSONEL BİLGİ GİRİŞİ'!E92>=1,'PERSONEL BİLGİ GİRİŞİ'!E92,\"\")","v":""}]
[null,null,null,null,null,null,null,null,null,null,null,null,{"$f":"IF('PERSONEL BİLGİ GİRİŞİ'!K93,'PERSONEL BİLGİ GİRİŞİ'!K93,\"\")","v":""},null,null,null,null,{"$f":"IF('PERSONEL BİLGİ GİRİŞİ'!E93>=1,'PERSONEL BİLGİ GİRİŞİ'!E93,\"\")","v":""}]
[null,null,null,null,null,null,null,null,null,null,null,null,{"$f":"IF('PERSONEL BİLGİ GİRİŞİ'!K94,'PERSONEL BİLGİ GİRİŞİ'!K94,\"\")","v":""},null,null,null,null,{"$f":"IF('PERSONEL BİLGİ GİRİŞİ'!E94>=1,'PERSONEL BİLGİ GİRİŞİ'!E94,\"\")","v":""}]
[null,null,null,null,null,null,null,null,null,null,null,null,{"$f":"IF('PERSONEL BİLGİ GİRİŞİ'!K95,'PERSONEL BİLGİ GİRİŞİ'!K95,\"\")","v":""},null,null,null,null,{"$f":"IF('PERSONEL BİLGİ GİRİŞİ'!E95>=1,'PERSONEL BİLGİ GİRİŞİ'!E95,\"\")","v":""}]
[null,null,null,null,null,null,null,null,null,null,null,null,{"$f":"IF('PERSONEL BİLGİ GİRİŞİ'!K96,'PERSONEL BİLGİ GİRİŞİ'!K96,\"\")","v":""},null,null,null,null,{"$f":"IF('PERSONEL BİLGİ GİRİŞİ'!E96>=1,'PERSONEL BİLGİ GİRİŞİ'!E96,\"\")","v":""}]
[null,null,null,null,null,null,null,null,null,null,null,null,{"$f":"IF('PERSONEL BİLGİ GİRİŞİ'!K97,'PERSONEL BİLGİ GİRİŞİ'!K97,\"\")","v":""},null,null,null,null,{"$f":"IF('PERSONEL BİLGİ GİRİŞİ'!E97>=1,'PERSONEL BİLGİ GİRİŞİ'!E97,\"\")","v":""}]
[null,null,null,null,null,null,null,null,null,null,null,null,{"$f":"IF('PERSONEL BİLGİ GİRİŞİ'!K98,'PERSONEL BİLGİ GİRİŞİ'!K98,\"\")","v":""},null,null,null,null,{"$f":"IF('PERSONEL BİLGİ GİRİŞİ'!E98>=1,'PERSONEL BİLGİ GİRİŞİ'!E98,\"\")","v":""}]
[null,null,null,null,null,null,null,null,null,null,null,null,{"$f":"IF('PERSONEL BİLGİ GİRİŞİ'!K99,'PERSONEL BİLGİ GİRİŞİ'!K99,\"\")","v":""},null,null,null,null,{"$f":"IF('PERSONEL BİLGİ GİRİŞİ'!E99>=1,'PERSONEL BİLGİ GİRİŞİ'!E99,\"\")","v":""}]
[null,null,null,null,null,null,null,null,null,null,null,null,{"$f":"IF('PERSONEL BİLGİ GİRİŞİ'!K100,'PERSONEL BİLGİ GİRİŞİ'!K100,\"\")","v":""},null,null,null,null,{"$f":"IF('PERSONEL BİLGİ GİRİŞİ'!E100>=1,'PERSONEL BİLGİ GİRİŞİ'!E100,\"\")","v":""}]
[null,null,null,null,null,null,null,null,null,null,null,null,{"$f":"IF('PERSONEL BİLGİ GİRİŞİ'!K101,'PERSONEL BİLGİ GİRİŞİ'!K101,\"\")","v":""},null,null,null,null,{"$f":"IF('PERSONEL BİLGİ GİRİŞİ'!E101>=1,'PERSONEL BİLGİ GİRİŞİ'!E101,\"\")","v":""}]
[null,null,null,null,null,null,null,null,null,null,null,null,{"$f":"IF('PERSONEL BİLGİ GİRİŞİ'!K102,'PERSONEL BİLGİ GİRİŞİ'!K102,\"\")","v":""},null,null,null,null,{"$f":"IF('PERSONEL BİLGİ GİRİŞİ'!E102>=1,'PERSONEL BİLGİ GİRİŞİ'!E102,\"\")","v":""}]
[null,null,null,null,null,null,null,null,null,null,null,null,{"$f":"IF('PERSONEL BİLGİ GİRİŞİ'!K103,'PERSONEL BİLGİ GİRİŞİ'!K103,\"\")","v":""},null,null,null,null,{"$f":"IF('PERSONEL BİLGİ GİRİŞİ'!E103>=1,'PERSONEL BİLGİ GİRİŞİ'!E103,\"\")","v":""}]
[null,null,null,null,null,null,null,null,null,null,null,null,{"$f":"IF('PERSONEL BİLGİ GİRİŞİ'!K104,'PERSONEL BİLGİ GİRİŞİ'!K104,\"\")","v":""},null,null,null,null,{"$f":"IF('PERSONEL BİLGİ GİRİŞİ'!E104>=1,'PERSONEL BİLGİ GİRİŞİ'!E104,\"\")","v":""}]
[null,null,null,null,null,null,null,null,null,null,null,null,{"$f":"IF('PERSONEL BİLGİ GİRİŞİ'!K105,'PERSONEL BİLGİ GİRİŞİ'!K105,\"\")","v":""},null,null,null,null,{"$f":"IF('PERSONEL BİLGİ GİRİŞİ'!E105>=1,'PERSONEL BİLGİ GİRİŞİ'!E105,\"\")","v":""}]
[null,null,null,null,null,null,null,null,null,null,null,null,{"$f":"IF('PERSONEL BİLGİ GİRİŞİ'!K106,'PERSONEL BİLGİ GİRİŞİ'!K106,\"\")","v":""},null,null,null,null,{"$f":"IF('PERSONEL BİLGİ GİRİŞİ'!E106>=1,'PERSONEL BİLGİ GİRİŞİ'!E106,\"\")","v":""}]
[null,null,null,null,null,null,null,null,null,null,null,null,{"$f":"IF('PERSONEL BİLGİ GİRİŞİ'!K107,'PERSONEL BİLGİ GİRİŞİ'!K107,\"\")","v":""},null,null,null,null,{"$f":"IF('PERSONEL BİLGİ GİRİŞİ'!E107>=1,'PERSONEL BİLGİ GİRİŞİ'!E107,\"\")","v":""}]
[null,null,null,null,null,null,null,null,null,null,null,null,{"$f":"IF('PERSONEL BİLGİ GİRİŞİ'!K108,'PERSONEL BİLGİ GİRİŞİ'!K108,\"\")","v":""},null,null,null,null,{"$f":"IF('PERSONEL BİLGİ GİRİŞİ'!E108>=1,'PERSONEL BİLGİ GİRİŞİ'!E108,\"\")","v":""}]
[null,null,null,null,null,null,null,null,null,null,null,null,{"$f":"IF('PERSONEL BİLGİ GİRİŞİ'!K109,'PERSONEL BİLGİ GİRİŞİ'!K109,\"\")","v":""},null,null,null,null,{"$f":"IF('PERSONEL BİLGİ GİRİŞİ'!E109>=1,'PERSONEL BİLGİ GİRİŞİ'!E109,\"\")","v":""}]
[null,null,null,null,null,null,null,null,null,null,null,null,{"$f":"IF('PERSONEL BİLGİ GİRİŞİ'!K110,'PERSONEL BİLGİ GİRİŞİ'!K110,\"\")","v":""},null,null,null,null,{"$f":"IF('PERSONEL BİLGİ GİRİŞİ'!E110>=1,'PERSONEL BİLGİ GİRİŞİ'!E110,\"\")","v":""}]
[null,null,null,null,null,null,null,null,null,null,null,null,{"$f":"IF('PERSONEL BİLGİ GİRİŞİ'!K111,'PERSONEL BİLGİ GİRİŞİ'!K111,\"\")","v":""},null,null,null,null,{"$f":"IF('PERSONEL BİLGİ GİRİŞİ'!E111>=1,'PERSONEL BİLGİ GİRİŞİ'!E111,\"\")","v":""}]
[null,null,null,null,null,null,null,null,null,null,null,null,{"$f":"IF('PERSONEL BİLGİ GİRİŞİ'!K112,'PERSONEL BİLGİ GİRİŞİ'!K112,\"\")","v":""},null,null,null,null,{"$f":"IF('PERSONEL BİLGİ GİRİŞİ'!E112>=1,'PERSONEL BİLGİ GİRİŞİ'!E112,\"\")","v":""}]
[null,null,null,null,null,null,null,null,null,null,null,null,{"$f":"IF('PERSONEL BİLGİ GİRİŞİ'!K113,'PERSONEL BİLGİ GİRİŞİ'!K113,\"\")","v":""},null,null,null,null,{"$f":"IF('PERSONEL BİLGİ GİRİŞİ'!E113>=1,'PERSONEL BİLGİ GİRİŞİ'!E113,\"\")","v":""}]
[null,null,null,null,null,null,null,null,null,null,null,null,{"$f":"IF('PERSONEL BİLGİ GİRİŞİ'!K114,'PERSONEL BİLGİ GİRİŞİ'!K114,\"\")","v":""},null,null,null,null,{"$f":"IF('PERSONEL BİLGİ GİRİŞİ'!E114>=1,'PERSONEL BİLGİ GİRİŞİ'!E114,\"\")","v":""}]
[null,null,null,null,null,null,null,null,null,null,null,null,{"$f":"IF('PERSONEL BİLGİ GİRİŞİ'!K115,'PERSONEL BİLGİ GİRİŞİ'!K115,\"\")","v":""},null,null,null,null,{"$f":"IF('PERSONEL BİLGİ GİRİŞİ'!E115>=1,'PERSONEL BİLGİ GİRİŞİ'!E115,\"\")","v":""}]
[null,null,null,null,null,null,null,null,null,null,null,null,{"$f":"IF('PERSONEL BİLGİ GİRİŞİ'!K116,'PERSONEL BİLGİ GİRİŞİ'!K116,\"\")","v":""},null,null,null,null,{"$f":"IF('PERSONEL BİLGİ GİRİŞİ'!E116>=1,'PERSONEL BİLGİ GİRİŞİ'!E116,\"\")","v":""}]
[null,null,null,null,null,null,null,null,null,null,null,null,{"$f":"IF('PERSONEL BİLGİ GİRİŞİ'!K117,'PERSONEL BİLGİ GİRİŞİ'!K117,\"\")","v":""},null,null,null,null,{"$f":"IF('PERSONEL BİLGİ GİRİŞİ'!E117>=1,'PERSONEL BİLGİ GİRİŞİ'!E117,\"\")","v":""}]
[null,null,null,null,null,null,null,null,null,null,null,null,{"$f":"IF('PERSONEL BİLGİ GİRİŞİ'!K118,'PERSONEL BİLGİ GİRİŞİ'!K118,\"\")","v":""},null,null,null,null,{"$f":"IF('PERSONEL BİLGİ GİRİŞİ'!E118>=1,'PERSONEL BİLGİ GİRİŞİ'!E118,\"\")","v":""}]
[null,null,null,null,null,null,null,null,null,null,null,null,{"$f":"IF('PERSONEL BİLGİ GİRİŞİ'!K119,'PERSONEL BİLGİ GİRİŞİ'!K119,\"\")","v":""},null,null,null,null,{"$f":"IF('PERSONEL BİLGİ GİRİŞİ'!E119>=1,'PERSONEL BİLGİ GİRİŞİ'!E119,\"\")","v":""}]
[null,null,null,null,null,null,null,null,null,null,null,null,{"$f":"IF('PERSONEL BİLGİ GİRİŞİ'!K120,'PERSONEL BİLGİ GİRİŞİ'!K120,\"\")","v":""},null,null,null,null,{"$f":"IF('PERSONEL BİLGİ GİRİŞİ'!E120>=1,'PERSONEL BİLGİ GİRİŞİ'!E120,\"\")","v":""}]
[null,null,null,null,null,null,null,null,null,null,null,null,{"$f":"IF('PERSONEL BİLGİ GİRİŞİ'!K121,'PERSONEL BİLGİ GİRİŞİ'!K121,\"\")","v":""},null,null,null,null,{"$f":"IF('PERSONEL BİLGİ GİRİŞİ'!E121>=1,'PERSONEL BİLGİ GİRİŞİ'!E121,\"\")","v":""}]
[null,null,null,null,null,null,null,null,null,null,null,null,{"$f":"IF('PERSONEL BİLGİ GİRİŞİ'!K122,'PERSONEL BİLGİ GİRİŞİ'!K122,\"\")","v":""},null,null,null,null,{"$f":"IF('PERSONEL BİLGİ GİRİŞİ'!E122>=1,'PERSONEL BİLGİ GİRİŞİ'!E122,\"\")","v":""}]
[null,null,null,null,null,null,null,null,null,null,null,null,{"$f":"IF('PERSONEL BİLGİ GİRİŞİ'!K123,'PERSONEL BİLGİ GİRİŞİ'!K123,\"\")","v":""},null,null,null,null,{"$f":"IF('PERSONEL BİLGİ GİRİŞİ'!E123>=1,'PERSONEL BİLGİ GİRİŞİ'!E123,\"\")","v":""}]
[null,null,null,null,null,null,null,null,null,null,null,null,{"$f":"IF('PERSONEL BİLGİ GİRİŞİ'!K124,'PERSONEL BİLGİ GİRİŞİ'!K124,\"\")","v":""},null,null,null,null,{"$f":"IF('PERSONEL BİLGİ GİRİŞİ'!E124>=1,'PERSONEL BİLGİ GİRİŞİ'!E124,\"\")","v":""}]
[null,null,null,null,null,null,null,null,null,null,null,null,{"$f":"IF('PERSONEL BİLGİ GİRİŞİ'!K125,'PERSONEL BİLGİ GİRİŞİ'!K125,\"\")","v":""},null,null,null,null,{"$f":"IF('PERSONEL BİLGİ GİRİŞİ'!E125>=1,'PERSONEL BİLGİ GİRİŞİ'!E125,\"\")","v":""}]
[null,null,null,null,null,null,null,null,null,null,null,null,{"$f":"IF('PERSONEL BİLGİ GİRİŞİ'!K126,'PERSONEL BİLGİ GİRİŞİ'!K126,\"\")","v":""},null,null,null,null,{"$f":"IF('PERSONEL BİLGİ GİRİŞİ'!E126>=1,'PERSONEL BİLGİ GİRİŞİ'!E126,\"\")","v":""}]
[null,null,null,null,null,null,null,null,null,null,null,null,{"$f":"IF('PERSONEL BİLGİ GİRİŞİ'!K127,'PERSONEL BİLGİ GİRİŞİ'!K127,\"\")","v":""},null,null,null,null,{"$f":"IF('PERSONEL BİLGİ GİRİŞİ'!E127>=1,'PERSONEL BİLGİ GİRİŞİ'!E127,\"\")","v":""}]
[null,null,null,null,null,null,null,null,null,null,null,null,{"$f":"IF('PERSONEL BİLGİ GİRİŞİ'!K128,'PERSONEL BİLGİ GİRİŞİ'!K128,\"\")","v":""},null,null,null,null,{"$f":"IF('PERSONEL BİLGİ GİRİŞİ'!E128>=1,'PERSONEL BİLGİ GİRİŞİ'!E128,\"\")","v":""}]
[null,null,null,null,null,null,null,null,null,null,null,null,{"$f":"IF('PERSONEL BİLGİ GİRİŞİ'!K129,'PERSONEL BİLGİ GİRİŞİ'!K129,\"\")","v":""},null,null,null,null,{"$f":"IF('PERSONEL BİLGİ GİRİŞİ'!E129>=1,'PERSONEL BİLGİ GİRİŞİ'!E129,\"\")","v":""}]
[null,null,null,null,null,null,null,null,null,null,null,null,{"$f":"IF('PERSONEL BİLGİ GİRİŞİ'!K130,'PERSONEL BİLGİ GİRİŞİ'!K130,\"\")","v":""},null,null,null,null,{"$f":"IF('PERSONEL BİLGİ GİRİŞİ'!E130>=1,'PERSONEL BİLGİ GİRİŞİ'!E130,\"\")","v":""}]
[null,null,null,null,null,null,null,null,null,null,null,null,{"$f":"IF('PERSONEL BİLGİ GİRİŞİ'!K131,'PERSONEL BİLGİ GİRİŞİ'!K131,\"\")","v":""},null,null,null,null,{"$f":"IF('PERSONEL BİLGİ GİRİŞİ'!E131>=1,'PERSONEL BİLGİ GİRİŞİ'!E131,\"\")","v":""}]
[null,null,null,null,null,null,null,null,null,null,null,null,{"$f":"IF('PERSONEL BİLGİ GİRİŞİ'!K132,'PERSONEL BİLGİ GİRİŞİ'!K132,\"\")","v":""},null,null,null,null,{"$f":"IF('PERSONEL BİLGİ GİRİŞİ'!E132>=1,'PERSONEL BİLGİ GİRİŞİ'!E132,\"\")","v":""}]
[null,null,null,null,null,null,null,null,null,null,null,null,{"$f":"IF('PERSONEL BİLGİ GİRİŞİ'!K133,'PERSONEL BİLGİ GİRİŞİ'!K133,\"\")","v":""},null,null,null,null,{"$f":"IF('PERSONEL BİLGİ GİRİŞİ'!E133>=1,'PERSONEL BİLGİ GİRİŞİ'!E133,\"\")","v":""}]
[null,null,null,null,null,null,null,null,null,null,null,null,{"$f":"IF('PERSONEL BİLGİ GİRİŞİ'!K134,'PERSONEL BİLGİ GİRİŞİ'!K134,\"\")","v":""},null,null,null,null,{"$f":"IF('PERSONEL BİLGİ GİRİŞİ'!E134>=1,'PERSONEL BİLGİ GİRİŞİ'!E134,\"\")","v":""}]
[null,null,null,null,null,null,null,null,null,null,null,null,{"$f":"IF('PERSONEL BİLGİ GİRİŞİ'!K135,'PERSONEL BİLGİ GİRİŞİ'!K135,\"\")","v":""},null,null,null,null,{"$f":"IF('PERSONEL BİLGİ GİRİŞİ'!E135>=1,'PERSONEL BİLGİ GİRİŞİ'!E135,\"\")","v":""}]
[null,null,null,null,null,null,null,null,null,null,null,null,{"$f":"IF('PERSONEL BİLGİ GİRİŞİ'!K136,'PERSONEL BİLGİ GİRİŞİ'!K136,\"\")","v":""},null,null,null,null,{"$f":"IF('PERSONEL BİLGİ GİRİŞİ'!E136>=1,'PERSONEL BİLGİ GİRİŞİ'!E136,\"\")","v":""}]
[null,null,null,null,null,null,null,null,null,null,null,null,{"$f":"IF('PERSONEL BİLGİ GİRİŞİ'!K137,'PERSONEL BİLGİ GİRİŞİ'!K137,\"\")","v":""},null,null,null,null,{"$f":"IF('PERSONEL BİLGİ GİRİŞİ'!E137>=1,'PERSONEL BİLGİ GİRİŞİ'!E137,\"\")","v":""}]
[null,null,null,null,null,null,null,null,null,null,null,null,{"$f":"IF('PERSONEL BİLGİ GİRİŞİ'!K138,'PERSONEL BİLGİ GİRİŞİ'!K138,\"\")","v":""},null,null,null,null,{"$f":"IF('PERSONEL BİLGİ GİRİŞİ'!E138>=1,'PERSONEL BİLGİ GİRİŞİ'!E138,\"\")","v":""}]
[null,null,null,null,null,null,null,null,null,null,null,null,{"$f":"IF('PERSONEL BİLGİ GİRİŞİ'!K139,'PERSONEL BİLGİ GİRİŞİ'!K139,\"\")","v":""},null,null,null,null,{"$f":"IF('PERSONEL BİLGİ GİRİŞİ'!E139>=1,'PERSONEL BİLGİ GİRİŞİ'!E139,\"\")","v":""}]
[null,null,null,null,null,null,null,null,null,null,null,null,{"$f":"IF('PERSONEL BİLGİ GİRİŞİ'!K140,'PERSONEL BİLGİ GİRİŞİ'!K140,\"\")","v":""},null,null,null,null,{"$f":"IF('PERSONEL BİLGİ GİRİŞİ'!E140>=1,'PERSONEL BİLGİ GİRİŞİ'!E140,\"\")","v":""}]
[null,null,null,null,null,null,null,null,null,null,null,null,{"$f":"IF('PERSONEL BİLGİ GİRİŞİ'!K141,'PERSONEL BİLGİ GİRİŞİ'!K141,\"\")","v":""},null,null,null,null,{"$f":"IF('PERSONEL BİLGİ GİRİŞİ'!E141>=1,'PERSONEL BİLGİ GİRİŞİ'!E141,\"\")","v":""}]
[null,null,null,null,null,null,null,null,null,null,null,null,{"$f":"IF('PERSONEL BİLGİ GİRİŞİ'!K142,'PERSONEL BİLGİ GİRİŞİ'!K142,\"\")","v":""},null,null,null,null,{"$f":"IF('PERSONEL BİLGİ GİRİŞİ'!E142>=1,'PERSONEL BİLGİ GİRİŞİ'!E142,\"\")","v":""}]
[null,null,null,null,null,null,null,null,null,null,null,null,{"$f":"IF('PERSONEL BİLGİ GİRİŞİ'!K143,'PERSONEL BİLGİ GİRİŞİ'!K143,\"\")","v":""},null,null,null,null,{"$f":"IF('PERSONEL BİLGİ GİRİŞİ'!E143>=1,'PERSONEL BİLGİ GİRİŞİ'!E143,\"\")","v":""}]
[null,null,null,null,null,null,null,null,null,null,null,null,{"$f":"IF('PERSONEL BİLGİ GİRİŞİ'!K144,'PERSONEL BİLGİ GİRİŞİ'!K144,\"\")","v":""},null,null,null,null,{"$f":"IF('PERSONEL BİLGİ GİRİŞİ'!E144>=1,'PERSONEL BİLGİ GİRİŞİ'!E144,\"\")","v":""}]
[null,null,null,null,null,null,null,null,null,null,null,null,{"$f":"IF('PERSONEL BİLGİ GİRİŞİ'!K145,'PERSONEL BİLGİ GİRİŞİ'!K145,\"\")","v":""},null,null,null,null,{"$f":"IF('PERSONEL BİLGİ GİRİŞİ'!E145>=1,'PERSONEL BİLGİ GİRİŞİ'!E145,\"\")","v":""}]
[null,null,null,null,null,null,null,null,null,null,null,null,{"$f":"IF('PERSONEL BİLGİ GİRİŞİ'!K146,'PERSONEL BİLGİ GİRİŞİ'!K146,\"\")","v":""},null,null,null,null,{"$f":"IF('PERSONEL BİLGİ GİRİŞİ'!E146>=1,'PERSONEL BİLGİ GİRİŞİ'!E146,\"\")","v":""}]
[null,null,null,null,null,null,null,null,null,null,null,null,{"$f":"IF('PERSONEL BİLGİ GİRİŞİ'!K147,'PERSONEL BİLGİ GİRİŞİ'!K147,\"\")","v":""},null,null,null,null,{"$f":"IF('PERSONEL BİLGİ GİRİŞİ'!E147>=1,'PERSONEL BİLGİ GİRİŞİ'!E147,\"\")","v":""}]
[null,null,null,null,null,null,null,null,null,null,null,null,{"$f":"IF('PERSONEL BİLGİ GİRİŞİ'!K148,'PERSONEL BİLGİ GİRİŞİ'!K148,\"\")","v":""},null,null,null,null,{"$f":"IF('PERSONEL BİLGİ GİRİŞİ'!E148>=1,'PERSONEL BİLGİ GİRİŞİ'!E148,\"\")","v":""}]
[null,null,null,null,null,null,null,null,null,null,null,null,{"$f":"IF('PERSONEL BİLGİ GİRİŞİ'!K149,'PERSONEL BİLGİ GİRİŞİ'!K149,\"\")","v":""},null,null,null,null,{"$f":"IF('PERSONEL BİLGİ GİRİŞİ'!E149>=1,'PERSONEL BİLGİ GİRİŞİ'!E149,\"\")","v":""}]
[null,null,null,null,null,null,null,null,null,null,null,null,{"$f":"IF('PERSONEL BİLGİ GİRİŞİ'!K150,'PERSONEL BİLGİ GİRİŞİ'!K150,\"\")","v":""},null,null,null,null,{"$f":"IF('PERSONEL BİLGİ GİRİŞİ'!E150>=1,'PERSONEL BİLGİ GİRİŞİ'!E150,\"\")","v":""}]
[null,null,null,null,null,null,null,null,null,null,null,null,{"$f":"IF('PERSONEL BİLGİ GİRİŞİ'!K151,'PERSONEL BİLGİ GİRİŞİ'!K151,\"\")","v":""},null,null,null,null,{"$f":"IF('PERSONEL BİLGİ GİRİŞİ'!E151>=1,'PERSONEL BİLGİ GİRİŞİ'!E151,\"\")","v":""}]
[null,null,null,null,null,null,null,null,null,null,null,null,{"$f":"IF('PERSONEL BİLGİ GİRİŞİ'!K152,'PERSONEL BİLGİ GİRİŞİ'!K152,\"\")","v":""},null,null,null,null,{"$f":"IF('PERSONEL BİLGİ GİRİŞİ'!E152>=1,'PERSONEL BİLGİ GİRİŞİ'!E152,\"\")","v":""}]
[null,null,null,null,null,null,null,null,null,null,null,null,{"$f":"IF('PERSONEL BİLGİ GİRİŞİ'!K153,'PERSONEL BİLGİ GİRİŞİ'!K153,\"\")","v":""},null,null,null,null,{"$f":"IF('PERSONEL BİLGİ GİRİŞİ'!E153>=1,'PERSONEL BİLGİ GİRİŞİ'!E153,\"\")","v":""}]
[null,null,null,null,null,null,null,null,null,null,null,null,{"$f":"IF('PERSONEL BİLGİ GİRİŞİ'!K154,'PERSONEL BİLGİ GİRİŞİ'!K154,\"\")","v":""},null,null,null,null,{"$f":"IF('PERSONEL BİLGİ GİRİŞİ'!E154>=1,'PERSONEL BİLGİ GİRİŞİ'!E154,\"\")","v":""}]
[null,null,null,null,null,null,null,null,null,null,null,null,{"$f":"IF('PERSONEL BİLGİ GİRİŞİ'!K155,'PERSONEL BİLGİ GİRİŞİ'!K155,\"\")","v":""},null,null,null,null,{"$f":"IF('PERSONEL BİLGİ GİRİŞİ'!E155>=1,'PERSONEL BİLGİ GİRİŞİ'!E155,\"\")","v":""}]
[null,null,null,null,null,null,null,null,null,null,null,null,{"$f":"IF('PERSONEL BİLGİ GİRİŞİ'!K156,'PERSONEL BİLGİ GİRİŞİ'!K156,\"\")","v":""},null,null,null,null,{"$f":"IF('PERSONEL BİLGİ GİRİŞİ'!E156>=1,'PERSONEL BİLGİ GİRİŞİ'!E156,\"\")","v":""}]
[null,null,null,null,null,null,null,null,null,null,null,null,{"$f":"IF('PERSONEL BİLGİ GİRİŞİ'!K157,'PERSONEL BİLGİ GİRİŞİ'!K157,\"\")","v":""},null,null,null,null,{"$f":"IF('PERSONEL BİLGİ GİRİŞİ'!E157>=1,'PERSONEL BİLGİ GİRİŞİ'!E157,\"\")","v":""}]
[null,null,null,null,null,null,null,null,null,null,null,null,{"$f":"IF('PERSONEL BİLGİ GİRİŞİ'!K158,'PERSONEL BİLGİ GİRİŞİ'!K158,\"\")","v":""},null,null,null,null,{"$f":"IF('PERSONEL BİLGİ GİRİŞİ'!E158>=1,'PERSONEL BİLGİ GİRİŞİ'!E158,\"\")","v":""}]
[null,null,null,null,null,null,null,null,null,null,null,null,{"$f":"IF('PERSONEL BİLGİ GİRİŞİ'!K159,'PERSONEL BİLGİ GİRİŞİ'!K159,\"\")","v":""},null,null,null,null,{"$f":"IF('PERSONEL BİLGİ GİRİŞİ'!E159>=1,'PERSONEL BİLGİ GİRİŞİ'!E159,\"\")","v":""}]
[null,null,null,null,null,null,null,null,null,null,null,null,{"$f":"IF('PERSONEL BİLGİ GİRİŞİ'!K160,'PERSONEL BİLGİ GİRİŞİ'!K160,\"\")","v":""},null,null,null,null,{"$f":"IF('PERSONEL BİLGİ GİRİŞİ'!E160>=1,'PERSONEL BİLGİ GİRİŞİ'!E160,\"\")","v":""}]
[null,null,null,null,null,null,null,null,null,null,null,null,{"$f":"IF('PERSONEL BİLGİ GİRİŞİ'!K161,'PERSONEL BİLGİ GİRİŞİ'!K161,\"\")","v":""},null,null,null,null,{"$f":"IF('PERSONEL BİLGİ GİRİŞİ'!E161>=1,'PERSONEL BİLGİ GİRİŞİ'!E161,\"\")","v":""}]
[null,null,null,null,null,null,null,null,null,null,null,null,{"$f":"IF('PERSONEL BİLGİ GİRİŞİ'!K162,'PERSONEL BİLGİ GİRİŞİ'!K162,\"\")","v":""},null,null,null,null,{"$f":"IF('PERSONEL BİLGİ GİRİŞİ'!E162>=1,'PERSONEL BİLGİ GİRİŞİ'!E162,\"\")","v":""}]
[null,null,null,null,null,null,null,null,null,null,null,null,{"$f":"IF('PERSONEL BİLGİ GİRİŞİ'!K163,'PERSONEL BİLGİ GİRİŞİ'!K163,\"\")","v":""},null,null,null,null,{"$f":"IF('PERSONEL BİLGİ GİRİŞİ'!E163>=1,'PERSONEL BİLGİ GİRİŞİ'!E163,\"\")","v":""}]
[null,null,null,null,null,null,null,null,null,null,null,null,{"$f":"IF('PERSONEL BİLGİ GİRİŞİ'!K164,'PERSONEL BİLGİ GİRİŞİ'!K164,\"\")","v":""},null,null,null,null,{"$f":"IF('PERSONEL BİLGİ GİRİŞİ'!E164>=1,'PERSONEL BİLGİ GİRİŞİ'!E164,\"\")","v":""}]
[null,null,null,null,null,null,null,null,null,null,null,null,{"$f":"IF('PERSONEL BİLGİ GİRİŞİ'!K165,'PERSONEL BİLGİ GİRİŞİ'!K165,\"\")","v":""},null,null,null,null,{"$f":"IF('PERSONEL BİLGİ GİRİŞİ'!E165>=1,'PERSONEL BİLGİ GİRİŞİ'!E165,\"\")","v":""}]
[null,null,null,null,null,null,null,null,null,null,null,null,{"$f":"IF('PERSONEL BİLGİ GİRİŞİ'!K166,'PERSONEL BİLGİ GİRİŞİ'!K166,\"\")","v":""},null,null,null,null,{"$f":"IF('PERSONEL BİLGİ GİRİŞİ'!E166>=1,'PERSONEL BİLGİ GİRİŞİ'!E166,\"\")","v":""}]
[null,null,null,null,null,null,null,null,null,null,null,null,{"$f":"IF('PERSONEL BİLGİ GİRİŞİ'!K167,'PERSONEL BİLGİ GİRİŞİ'!K167,\"\")","v":""},null,null,null,null,{"$f":"IF('PERSONEL BİLGİ GİRİŞİ'!E167>=1,'PERSONEL BİLGİ GİRİŞİ'!E167,\"\")","v":""}]
[null,null,null,null,null,null,null,null,null,null,null,null,{"$f":"IF('PERSONEL BİLGİ GİRİŞİ'!K168,'PERSONEL BİLGİ GİRİŞİ'!K168,\"\")","v":""},null,null,null,null,{"$f":"IF('PERSONEL BİLGİ GİRİŞİ'!E168>=1,'PERSONEL BİLGİ GİRİŞİ'!E168,\"\")","v":""}]
[null,null,null,null,null,null,null,null,null,null,null,null,{"$f":"IF('PERSONEL BİLGİ GİRİŞİ'!K169,'PERSONEL BİLGİ GİRİŞİ'!K169,\"\")","v":""},null,null,null,null,{"$f":"IF('PERSONEL BİLGİ GİRİŞİ'!E169>=1,'PERSONEL BİLGİ GİRİŞİ'!E169,\"\")","v":""}]
[null,null,null,null,null,null,null,null,null,null,null,null,{"$f":"IF('PERSONEL BİLGİ GİRİŞİ'!K170,'PERSONEL BİLGİ GİRİŞİ'!K170,\"\")","v":""},null,null,null,null,{"$f":"IF('PERSONEL BİLGİ GİRİŞİ'!E170>=1,'PERSONEL BİLGİ GİRİŞİ'!E170,\"\")","v":""}]
[null,null,null,null,null,null,null,null,null,null,null,null,{"$f":"IF('PERSONEL BİLGİ GİRİŞİ'!K171,'PERSONEL BİLGİ GİRİŞİ'!K171,\"\")","v":""},null,null,null,null,{"$f":"IF('PERSONEL BİLGİ GİRİŞİ'!E171>=1,'PERSONEL BİLGİ GİRİŞİ'!E171,\"\")","v":""}]
[null,null,null,null,null,null,null,null,null,null,null,null,{"$f":"IF('PERSONEL BİLGİ GİRİŞİ'!K172,'PERSONEL BİLGİ GİRİŞİ'!K172,\"\")","v":""},null,null,null,null,{"$f":"IF('PERSONEL BİLGİ GİRİŞİ'!E172>=1,'PERSONEL BİLGİ GİRİŞİ'!E172,\"\")","v":""}]
[null,null,null,null,null,null,null,null,null,null,null,null,{"$f":"IF('PERSONEL BİLGİ GİRİŞİ'!K173,'PERSONEL BİLGİ GİRİŞİ'!K173,\"\")","v":""},null,null,null,null,{"$f":"IF('PERSONEL BİLGİ GİRİŞİ'!E173>=1,'PERSONEL BİLGİ GİRİŞİ'!E173,\"\")","v":""}]
[null,null,null,null,null,null,null,null,null,null,null,null,{"$f":"IF('PERSONEL BİLGİ GİRİŞİ'!K174,'PERSONEL BİLGİ GİRİŞİ'!K174,\"\")","v":""},null,null,null,null,{"$f":"IF('PERSONEL BİLGİ GİRİŞİ'!E174>=1,'PERSONEL BİLGİ GİRİŞİ'!E174,\"\")","v":""}]
[null,null,null,null,null,null,null,null,null,null,null,null,{"$f":"IF('PERSONEL BİLGİ GİRİŞİ'!K175,'PERSONEL BİLGİ GİRİŞİ'!K175,\"\")","v":""},null,null,null,null,{"$f":"IF('PERSONEL BİLGİ GİRİŞİ'!E175>=1,'PERSONEL BİLGİ GİRİŞİ'!E175,\"\")","v":""}]
[null,null,null,null,null,null,null,null,null,null,null,null,{"$f":"IF('PERSONEL BİLGİ GİRİŞİ'!K176,'PERSONEL BİLGİ GİRİŞİ'!K176,\"\")","v":""},null,null,null,null,{"$f":"IF('PERSONEL BİLGİ GİRİŞİ'!E176>=1,'PERSONEL BİLGİ GİRİŞİ'!E176,\"\")","v":""}]
[null,null,null,null,null,null,null,null,null,null,null,null,{"$f":"IF('PERSONEL BİLGİ GİRİŞİ'!K177,'PERSONEL BİLGİ GİRİŞİ'!K177,\"\")","v":""},null,null,null,null,{"$f":"IF('PERSONEL BİLGİ GİRİŞİ'!E177>=1,'PERSONEL BİLGİ GİRİŞİ'!E177,\"\")","v":""}]
[null,null,null,null,null,null,null,null,null,null,null,null,{"$f":"IF('PERSONEL BİLGİ GİRİŞİ'!K178,'PERSONEL BİLGİ GİRİŞİ'!K178,\"\")","v":""},null,null,null,null,{"$f":"IF('PERSONEL BİLGİ GİRİŞİ'!E178>=1,'PERSONEL BİLGİ GİRİŞİ'!E178,\"\")","v":""}]
[null,null,null,null,null,null,null,null,null,null,null,null,{"$f":"IF('PERSONEL BİLGİ GİRİŞİ'!K179,'PERSONEL BİLGİ GİRİŞİ'!K179,\"\")","v":""},null,null,null,null,{"$f":"IF('PERSONEL BİLGİ GİRİŞİ'!E179>=1,'PERSONEL BİLGİ GİRİŞİ'!E179,\"\")","v":""}]
[null,null,null,null,null,null,null,null,null,null,null,null,{"$f":"IF('PERSONEL BİLGİ GİRİŞİ'!K180,'PERSONEL BİLGİ GİRİŞİ'!K180,\"\")","v":""},null,null,null,null,{"$f":"IF('PERSONEL BİLGİ GİRİŞİ'!E180>=1,'PERSONEL BİLGİ GİRİŞİ'!E180,\"\")","v":""}]
[null,null,null,null,null,null,null,null,null,null,null,null,{"$f":"IF('PERSONEL BİLGİ GİRİŞİ'!K181,'PERSONEL BİLGİ GİRİŞİ'!K181,\"\")","v":""},null,null,null,null,{"$f":"IF('PERSONEL BİLGİ GİRİŞİ'!E181>=1,'PERSONEL BİLGİ GİRİŞİ'!E181,\"\")","v":""}]
[null,null,null,null,null,null,null,null,null,null,null,null,{"$f":"IF('PERSONEL BİLGİ GİRİŞİ'!K182,'PERSONEL BİLGİ GİRİŞİ'!K182,\"\")","v":""},null,null,null,null,{"$f":"IF('PERSONEL BİLGİ GİRİŞİ'!E182>=1,'PERSONEL BİLGİ GİRİŞİ'!E182,\"\")","v":""}]
[null,null,null,null,null,null,null,null,null,null,null,null,{"$f":"IF('PERSONEL BİLGİ GİRİŞİ'!K183,'PERSONEL BİLGİ GİRİŞİ'!K183,\"\")","v":""},null,null,null,null,{"$f":"IF('PERSONEL BİLGİ GİRİŞİ'!E183>=1,'PERSONEL BİLGİ GİRİŞİ'!E183,\"\")","v":""}]
[null,null,null,null,null,null,null,null,null,null,null,null,{"$f":"IF('PERSONEL BİLGİ GİRİŞİ'!K184,'PERSONEL BİLGİ GİRİŞİ'!K184,\"\")","v":""},null,null,null,null,{"$f":"IF('PERSONEL BİLGİ GİRİŞİ'!E184>=1,'PERSONEL BİLGİ GİRİŞİ'!E184,\"\")","v":""}]
[null,null,null,null,null,null,null,null,null,null,null,null,{"$f":"IF('PERSONEL BİLGİ GİRİŞİ'!K185,'PERSONEL BİLGİ GİRİŞİ'!K185,\"\")","v":""},null,null,null,null,{"$f":"IF('PERSONEL BİLGİ GİRİŞİ'!E185>=1,'PERSONEL BİLGİ GİRİŞİ'!E185,\"\")","v":""}]
[null,null,null,null,null,null,null,null,null,null,null,null,{"$f":"IF('PERSONEL BİLGİ GİRİŞİ'!K186,'PERSONEL BİLGİ GİRİŞİ'!K186,\"\")","v":""},null,null,null,null,{"$f":"IF('PERSONEL BİLGİ GİRİŞİ'!E186>=1,'PERSONEL BİLGİ GİRİŞİ'!E186,\"\")","v":""}]
[null,null,null,null,null,null,null,null,null,null,null,null,{"$f":"IF('PERSONEL BİLGİ GİRİŞİ'!K187,'PERSONEL BİLGİ GİRİŞİ'!K187,\"\")","v":""},null,null,null,null,{"$f":"IF('PERSONEL BİLGİ GİRİŞİ'!E187>=1,'PERSONEL BİLGİ GİRİŞİ'!E187,\"\")","v":""}]
[null,null,null,null,null,null,null,null,null,null,null,null,{"$f":"IF('PERSONEL BİLGİ GİRİŞİ'!K188,'PERSONEL BİLGİ GİRİŞİ'!K188,\"\")","v":""},null,null,null,null,{"$f":"IF('PERSONEL BİLGİ GİRİŞİ'!E188>=1,'PERSONEL BİLGİ GİRİŞİ'!E188,\"\")","v":""}]
[null,null,null,null,null,null,null,null,null,null,null,null,{"$f":"IF('PERSONEL BİLGİ GİRİŞİ'!K189,'PERSONEL BİLGİ GİRİŞİ'!K189,\"\")","v":""},null,null,null,null,{"$f":"IF('PERSONEL BİLGİ GİRİŞİ'!E189>=1,'PERSONEL BİLGİ GİRİŞİ'!E189,\"\")","v":""}]
[null,null,null,null,null,null,null,null,null,null,null,null,{"$f":"IF('PERSONEL BİLGİ GİRİŞİ'!K190,'PERSONEL BİLGİ GİRİŞİ'!K190,\"\")","v":""},null,null,null,null,{"$f":"IF('PERSONEL BİLGİ GİRİŞİ'!E190>=1,'PERSONEL BİLGİ GİRİŞİ'!E190,\"\")","v":""}]
[null,null,null,null,null,null,null,null,null,null,null,null,{"$f":"IF('PERSONEL BİLGİ GİRİŞİ'!K191,'PERSONEL BİLGİ GİRİŞİ'!K191,\"\")","v":""},null,null,null,null,{"$f":"IF('PERSONEL BİLGİ GİRİŞİ'!E191>=1,'PERSONEL BİLGİ GİRİŞİ'!E191,\"\")","v":""}]
[null,null,null,null,null,null,null,null,null,null,null,null,{"$f":"IF('PERSONEL BİLGİ GİRİŞİ'!K192,'PERSONEL BİLGİ GİRİŞİ'!K192,\"\")","v":""},null,null,null,null,{"$f":"IF('PERSONEL BİLGİ GİRİŞİ'!E192>=1,'PERSONEL BİLGİ GİRİŞİ'!E192,\"\")","v":""}]
[null,null,null,null,null,null,null,null,null,null,null,null,{"$f":"IF('PERSONEL BİLGİ GİRİŞİ'!K193,'PERSONEL BİLGİ GİRİŞİ'!K193,\"\")","v":""},null,null,null,null,{"$f":"IF('PERSONEL BİLGİ GİRİŞİ'!E193>=1,'PERSONEL BİLGİ GİRİŞİ'!E193,\"\")","v":""}]
[null,null,null,null,null,null,null,null,null,null,null,null,{"$f":"IF('PERSONEL BİLGİ GİRİŞİ'!K194,'PERSONEL BİLGİ GİRİŞİ'!K194,\"\")","v":""},null,null,null,null,{"$f":"IF('PERSONEL BİLGİ GİRİŞİ'!E194>=1,'PERSONEL BİLGİ GİRİŞİ'!E194,\"\")","v":""}]
[null,null,null,null,null,null,null,null,null,null,null,null,{"$f":"IF('PERSONEL BİLGİ GİRİŞİ'!K195,'PERSONEL BİLGİ GİRİŞİ'!K195,\"\")","v":""},null,null,null,null,{"$f":"IF('PERSONEL BİLGİ GİRİŞİ'!E195>=1,'PERSONEL BİLGİ GİRİŞİ'!E195,\"\")","v":""}]
[null,null,null,null,null,null,null,null,null,null,null,null,{"$f":"IF('PERSONEL BİLGİ GİRİŞİ'!K196,'PERSONEL BİLGİ GİRİŞİ'!K196,\"\")","v":""},null,null,null,null,{"$f":"IF('PERSONEL BİLGİ GİRİŞİ'!E196>=1,'PERSONEL BİLGİ GİRİŞİ'!E196,\"\")","v":""}]
[null,null,null,null,null,null,null,null,null,null,null,null,{"$f":"IF('PERSONEL BİLGİ GİRİŞİ'!K197,'PERSONEL BİLGİ GİRİŞİ'!K197,\"\")","v":""},null,null,null,null,{"$f":"IF('PERSONEL BİLGİ GİRİŞİ'!E197>=1,'PERSONEL BİLGİ GİRİŞİ'!E197,\"\")","v":""}]
[null,null,null,null,null,null,null,null,null,null,null,null,{"$f":"IF('PERSONEL BİLGİ GİRİŞİ'!K198,'PERSONEL BİLGİ GİRİŞİ'!K198,\"\")","v":""},null,null,null,null,{"$f":"IF('PERSONEL BİLGİ GİRİŞİ'!E198>=1,'PERSONEL BİLGİ GİRİŞİ'!E198,\"\")","v":""}]
[null,null,null,null,null,null,null,null,null,null,null,null,{"$f":"IF('PERSONEL BİLGİ GİRİŞİ'!K199,'PERSONEL BİLGİ GİRİŞİ'!K199,\"\")","v":""},null,null,null,null,{"$f":"IF('PERSONEL BİLGİ GİRİŞİ'!E199>=1,'PERSONEL BİLGİ GİRİŞİ'!E199,\"\")","v":""}]
[null,null,null,null,null,null,null,null,null,null,null,null,{"$f":"IF('PERSONEL BİLGİ GİRİŞİ'!K200,'PERSONEL BİLGİ GİRİŞİ'!K200,\"\")","v":""},null,null,null,null,{"$f":"IF('PERSONEL BİLGİ GİRİŞİ'!E200>=1,'PERSONEL BİLGİ GİRİŞİ'!E200,\"\")","v":""}]
[null,null,null,null,null,null,null,null,null,null,null,null,{"$f":"IF('PERSONEL BİLGİ GİRİŞİ'!K201,'PERSONEL BİLGİ GİRİŞİ'!K201,\"\")","v":""},null,null,null,null,{"$f":"IF('PERSONEL BİLGİ GİRİŞİ'!E201>=1,'PERSONEL BİLGİ GİRİŞİ'!E201,\"\")","v":""}]
[null,null,null,null,null,null,null,null,null,null,null,null,{"$f":"IF('PERSONEL BİLGİ GİRİŞİ'!K202,'PERSONEL BİLGİ GİRİŞİ'!K202,\"\")","v":""},null,null,null,null,{"$f":"IF('PERSONEL BİLGİ GİRİŞİ'!E202>=1,'PERSONEL BİLGİ GİRİŞİ'!E202,\"\")","v":""}]
[null,null,null,null,null,null,null,null,null,null,null,null,{"$f":"IF('PERSONEL BİLGİ GİRİŞİ'!K203,'PERSONEL BİLGİ GİRİŞİ'!K203,\"\")","v":""},null,null,null,null,{"$f":"IF('PERSONEL BİLGİ GİRİŞİ'!E203>=1,'PERSONEL BİLGİ GİRİŞİ'!E203,\"\")","v":""}]
[null,null,null,null,null,null,null,null,null,null,null,null,{"$f":"IF('PERSONEL BİLGİ GİRİŞİ'!K204,'PERSONEL BİLGİ GİRİŞİ'!K204,\"\")","v":""},null,null,null,null,{"$f":"IF('PERSONEL BİLGİ GİRİŞİ'!E204>=1,'PERSONEL BİLGİ GİRİŞİ'!E204,\"\")","v":""}]
[null,null,null,null,null,null,null,null,null,null,null,null,{"$f":"IF('PERSONEL BİLGİ GİRİŞİ'!K205,'PERSONEL BİLGİ GİRİŞİ'!K205,\"\")","v":""},null,null,null,null,{"$f":"IF('PERSONEL BİLGİ GİRİŞİ'!E205>=1,'PERSONEL BİLGİ GİRİŞİ'!E205,\"\")","v":""}]
[null,null,null,null,null,null,null,null,null,null,null,null,{"$f":"IF('PERSONEL BİLGİ GİRİŞİ'!K206,'PERSONEL BİLGİ GİRİŞİ'!K206,\"\")","v":""},null,null,null,null,{"$f":"IF('PERSONEL BİLGİ GİRİŞİ'!E206>=1,'PERSONEL BİLGİ GİRİŞİ'!E206,\"\")","v":""}]
[null,null,null,null,null,null,null,null,null,null,null,null,{"$f":"IF('PERSONEL BİLGİ GİRİŞİ'!K207,'PERSONEL BİLGİ GİRİŞİ'!K207,\"\")","v":""},null,null,null,null,{"$f":"IF('PERSONEL BİLGİ GİRİŞİ'!E207>=1,'PERSONEL BİLGİ GİRİŞİ'!E207,\"\")","v":""}]
[null,null,null,null,null,null,null,null,null,null,null,null,{"$f":"IF('PERSONEL BİLGİ GİRİŞİ'!K208,'PERSONEL BİLGİ GİRİŞİ'!K208,\"\")","v":""},null,null,null,null,{"$f":"IF('PERSONEL BİLGİ GİRİŞİ'!E208>=1,'PERSONEL BİLGİ GİRİŞİ'!E208,\"\")","v":""}]
[null,null,null,null,null,null,null,null,null,null,null,null,{"$f":"IF('PERSONEL BİLGİ GİRİŞİ'!K209,'PERSONEL BİLGİ GİRİŞİ'!K209,\"\")","v":""},null,null,null,null,{"$f":"IF('PERSONEL BİLGİ GİRİŞİ'!E209>=1,'PERSONEL BİLGİ GİRİŞİ'!E209,\"\")","v":""}]
[null,null,null,null,null,null,null,null,null,null,null,null,{"$f":"IF('PERSONEL BİLGİ GİRİŞİ'!K210,'PERSONEL BİLGİ GİRİŞİ'!K210,\"\")","v":""},null,null,null,null,{"$f":"IF('PERSONEL BİLGİ GİRİŞİ'!E210>=1,'PERSONEL BİLGİ GİRİŞİ'!E210,\"\")","v":""}]
[null,null,null,null,null,null,null,null,null,null,null,null,{"$f":"IF('PERSONEL BİLGİ GİRİŞİ'!K211,'PERSONEL BİLGİ GİRİŞİ'!K211,\"\")","v":""},null,null,null,null,{"$f":"IF('PERSONEL BİLGİ GİRİŞİ'!E211>=1,'PERSONEL BİLGİ GİRİŞİ'!E211,\"\")","v":""}]
[null,null,null,null,null,null,null,null,null,null,null,null,{"$f":"IF('PERSONEL BİLGİ GİRİŞİ'!K212,'PERSONEL BİLGİ GİRİŞİ'!K212,\"\")","v":""},null,null,null,null,{"$f":"IF('PERSONEL BİLGİ GİRİŞİ'!E212>=1,'PERSONEL BİLGİ GİRİŞİ'!E212,\"\")","v":""}]
[null,null,null,null,null,null,null,null,null,null,null,null,{"$f":"IF('PERSONEL BİLGİ GİRİŞİ'!K213,'PERSONEL BİLGİ GİRİŞİ'!K213,\"\")","v":""},null,null,null,null,{"$f":"IF('PERSONEL BİLGİ GİRİŞİ'!E213>=1,'PERSONEL BİLGİ GİRİŞİ'!E213,\"\")","v":""}]
[null,null,null,null,null,null,null,null,null,null,null,null,{"$f":"IF('PERSONEL BİLGİ GİRİŞİ'!K214,'PERSONEL BİLGİ GİRİŞİ'!K214,\"\")","v":""},null,null,null,null,{"$f":"IF('PERSONEL BİLGİ GİRİŞİ'!E214>=1,'PERSONEL BİLGİ GİRİŞİ'!E214,\"\")","v":""}]
[null,null,null,null,null,null,null,null,null,null,null,null,{"$f":"IF('PERSONEL BİLGİ GİRİŞİ'!K215,'PERSONEL BİLGİ GİRİŞİ'!K215,\"\")","v":""},null,null,null,null,{"$f":"IF('PERSONEL BİLGİ GİRİŞİ'!E215>=1,'PERSONEL BİLGİ GİRİŞİ'!E215,\"\")","v":""}]
[null,null,null,null,null,null,null,null,null,null,null,null,{"$f":"IF('PERSONEL BİLGİ GİRİŞİ'!K216,'PERSONEL BİLGİ GİRİŞİ'!K216,\"\")","v":""},null,null,null,null,{"$f":"IF('PERSONEL BİLGİ GİRİŞİ'!E216>=1,'PERSONEL BİLGİ GİRİŞİ'!E216,\"\")","v":""}]
[null,null,null,null,null,null,null,null,null,null,null,null,{"$f":"IF('PERSONEL BİLGİ GİRİŞİ'!K217,'PERSONEL BİLGİ GİRİŞİ'!K217,\"\")","v":""},null,null,null,null,{"$f":"IF('PERSONEL BİLGİ GİRİŞİ'!E217>=1,'PERSONEL BİLGİ GİRİŞİ'!E217,\"\")","v":""}]
[null,null,null,null,null,null,null,null,null,null,null,null,{"$f":"IF('PERSONEL BİLGİ GİRİŞİ'!K218,'PERSONEL BİLGİ GİRİŞİ'!K218,\"\")","v":""},null,null,null,null,{"$f":"IF('PERSONEL BİLGİ GİRİŞİ'!E218>=1,'PERSONEL BİLGİ GİRİŞİ'!E218,\"\")","v":""}]
[null,null,null,null,null,null,null,null,null,null,null,null,{"$f":"IF('PERSONEL BİLGİ GİRİŞİ'!K219,'PERSONEL BİLGİ GİRİŞİ'!K219,\"\")","v":""},null,null,null,null,{"$f":"IF('PERSONEL BİLGİ GİRİŞİ'!E219>=1,'PERSONEL BİLGİ GİRİŞİ'!E219,\"\")","v":""}]
[null,null,null,null,null,null,null,null,null,null,null,null,{"$f":"IF('PERSONEL BİLGİ GİRİŞİ'!K220,'PERSONEL BİLGİ GİRİŞİ'!K220,\"\")","v":""},null,null,null,null,{"$f":"IF('PERSONEL BİLGİ GİRİŞİ'!E220>=1,'PERSONEL BİLGİ GİRİŞİ'!E220,\"\")","v":""}]
[null,null,null,null,null,null,null,null,null,null,null,null,{"$f":"IF('PERSONEL BİLGİ GİRİŞİ'!K221,'PERSONEL BİLGİ GİRİŞİ'!K221,\"\")","v":""},null,null,null,null,{"$f":"IF('PERSONEL BİLGİ GİRİŞİ'!E221>=1,'PERSONEL BİLGİ GİRİŞİ'!E221,\"\")","v":""}]
[null,null,null,null,null,null,null,null,null,null,null,null,{"$f":"IF('PERSONEL BİLGİ GİRİŞİ'!K222,'PERSONEL BİLGİ GİRİŞİ'!K222,\"\")","v":""},null,null,null,null,{"$f":"IF('PERSONEL BİLGİ GİRİŞİ'!E222>=1,'PERSONEL BİLGİ GİRİŞİ'!E222,\"\")","v":""}]
[null,null,null,null,null,null,null,null,null,null,null,null,{"$f":"IF('PERSONEL BİLGİ GİRİŞİ'!K223,'PERSONEL BİLGİ GİRİŞİ'!K223,\"\")","v":""},null,null,null,null,{"$f":"IF('PERSONEL BİLGİ GİRİŞİ'!E223>=1,'PERSONEL BİLGİ GİRİŞİ'!E223,\"\")","v":""}]
[null,null,null,null,null,null,null,null,null,null,null,null,{"$f":"IF('PERSONEL BİLGİ GİRİŞİ'!K224,'PERSONEL BİLGİ GİRİŞİ'!K224,\"\")","v":""},null,null,null,null,{"$f":"IF('PERSONEL BİLGİ GİRİŞİ'!E224>=1,'PERSONEL BİLGİ GİRİŞİ'!E224,\"\")","v":""}]
[null,null,null,null,null,null,null,null,null,null,null,null,{"$f":"IF('PERSONEL BİLGİ GİRİŞİ'!K225,'PERSONEL BİLGİ GİRİŞİ'!K225,\"\")","v":""},null,null,null,null,{"$f":"IF('PERSONEL BİLGİ GİRİŞİ'!E225>=1,'PERSONEL BİLGİ GİRİŞİ'!E225,\"\")","v":""}]
[null,null,null,null,null,null,null,null,null,null,null,null,{"$f":"IF('PERSONEL BİLGİ GİRİŞİ'!K226,'PERSONEL BİLGİ GİRİŞİ'!K226,\"\")","v":""},null,null,null,null,{"$f":"IF('PERSONEL BİLGİ GİRİŞİ'!E226>=1,'PERSONEL BİLGİ GİRİŞİ'!E226,\"\")","v":""}]
[null,null,null,null,null,null,null,null,null,null,null,null,{"$f":"IF('PERSONEL BİLGİ GİRİŞİ'!K227,'PERSONEL BİLGİ GİRİŞİ'!K227,\"\")","v":""},null,null,null,null,{"$f":"IF('PERSONEL BİLGİ GİRİŞİ'!E227>=1,'PERSONEL BİLGİ GİRİŞİ'!E227,\"\")","v":""}]
[null,null,null,null,null,null,null,null,null,null,null,null,{"$f":"IF('PERSONEL BİLGİ GİRİŞİ'!K228,'PERSONEL BİLGİ GİRİŞİ'!K228,\"\")","v":""},null,null,null,null,{"$f":"IF('PERSONEL BİLGİ GİRİŞİ'!E228>=1,'PERSONEL BİLGİ GİRİŞİ'!E228,\"\")","v":""}]
[null,null,null,null,null,null,null,null,null,null,null,null,{"$f":"IF('PERSONEL BİLGİ GİRİŞİ'!K229,'PERSONEL BİLGİ GİRİŞİ'!K229,\"\")","v":""},null,null,null,null,{"$f":"IF('PERSONEL BİLGİ GİRİŞİ'!E229>=1,'PERSONEL BİLGİ GİRİŞİ'!E229,\"\")","v":""}]
[null,null,null,null,null,null,null,null,null,null,null,null,{"$f":"IF('PERSONEL BİLGİ GİRİŞİ'!K230,'PERSONEL BİLGİ GİRİŞİ'!K230,\"\")","v":""},null,null,null,null,{"$f":"IF('PERSONEL BİLGİ GİRİŞİ'!E230>=1,'PERSONEL BİLGİ GİRİŞİ'!E230,\"\")","v":""}]
[null,null,null,null,null,null,null,null,null,null,null,null,{"$f":"IF('PERSONEL BİLGİ GİRİŞİ'!K231,'PERSONEL BİLGİ GİRİŞİ'!K231,\"\")","v":""},null,null,null,null,{"$f":"IF('PERSONEL BİLGİ GİRİŞİ'!E231>=1,'PERSONEL BİLGİ GİRİŞİ'!E231,\"\")","v":""}]
[null,null,null,null,null,null,null,null,null,null,null,null,{"$f":"IF('PERSONEL BİLGİ GİRİŞİ'!K232,'PERSONEL BİLGİ GİRİŞİ'!K232,\"\")","v":""},null,null,null,null,{"$f":"IF('PERSONEL BİLGİ GİRİŞİ'!E232>=1,'PERSONEL BİLGİ GİRİŞİ'!E232,\"\")","v":""}]
[null,null,null,null,null,null,null,null,null,null,null,null,{"$f":"IF('PERSONEL BİLGİ GİRİŞİ'!K233,'PERSONEL BİLGİ GİRİŞİ'!K233,\"\")","v":""},null,null,null,null,{"$f":"IF('PERSONEL BİLGİ GİRİŞİ'!E233>=1,'PERSONEL BİLGİ GİRİŞİ'!E233,\"\")","v":""}]
[null,null,null,null,null,null,null,null,null,null,null,null,{"$f":"IF('PERSONEL BİLGİ GİRİŞİ'!K234,'PERSONEL BİLGİ GİRİŞİ'!K234,\"\")","v":""},null,null,null,null,{"$f":"IF('PERSONEL BİLGİ GİRİŞİ'!E234>=1,'PERSONEL BİLGİ GİRİŞİ'!E234,\"\")","v":""}]
[null,null,null,null,null,null,null,null,null,null,null,null,{"$f":"IF('PERSONEL BİLGİ GİRİŞİ'!K235,'PERSONEL BİLGİ GİRİŞİ'!K235,\"\")","v":""},null,null,null,null,{"$f":"IF('PERSONEL BİLGİ GİRİŞİ'!E235>=1,'PERSONEL BİLGİ GİRİŞİ'!E235,\"\")","v":""}]
[null,null,null,null,null,null,null,null,null,null,null,null,{"$f":"IF('PERSONEL BİLGİ GİRİŞİ'!K236,'PERSONEL BİLGİ GİRİŞİ'!K236,\"\")","v":""},null,null,null,null,{"$f":"IF('PERSONEL BİLGİ GİRİŞİ'!E236>=1,'PERSONEL BİLGİ GİRİŞİ'!E236,\"\")","v":""}]
[null,null,null,null,null,null,null,null,null,null,null,null,{"$f":"IF('PERSONEL BİLGİ GİRİŞİ'!K237,'PERSONEL BİLGİ GİRİŞİ'!K237,\"\")","v":""},null,null,null,null,{"$f":"IF('PERSONEL BİLGİ GİRİŞİ'!E237>=1,'PERSONEL BİLGİ GİRİŞİ'!E237,\"\")","v":""}]
[null,null,null,null,null,null,null,null,null,null,null,null,{"$f":"IF('PERSONEL BİLGİ GİRİŞİ'!K238,'PERSONEL BİLGİ GİRİŞİ'!K238,\"\")","v":""},null,null,null,null,{"$f":"IF('PERSONEL BİLGİ GİRİŞİ'!E238>=1,'PERSONEL BİLGİ GİRİŞİ'!E238,\"\")","v":""}]
[null,null,null,null,null,null,null,null,null,null,null,null,{"$f":"IF('PERSONEL BİLGİ GİRİŞİ'!K239,'PERSONEL BİLGİ GİRİŞİ'!K239,\"\")","v":""},null,null,null,null,{"$f":"IF('PERSONEL BİLGİ GİRİŞİ'!E239>=1,'PERSONEL BİLGİ GİRİŞİ'!E239,\"\")","v":""}]
[null,null,null,null,null,null,null,null,null,null,null,null,{"$f":"IF('PERSONEL BİLGİ GİRİŞİ'!K240,'PERSONEL BİLGİ GİRİŞİ'!K240,\"\")","v":""},null,null,null,null,{"$f":"IF('PERSONEL BİLGİ GİRİŞİ'!E240>=1,'PERSONEL BİLGİ GİRİŞİ'!E240,\"\")","v":""}]
[null,null,null,null,null,null,null,null,null,null,null,null,{"$f":"IF('PERSONEL BİLGİ GİRİŞİ'!K241,'PERSONEL BİLGİ GİRİŞİ'!K241,\"\")","v":""},null,null,null,null,{"$f":"IF('PERSONEL BİLGİ GİRİŞİ'!E241>=1,'PERSONEL BİLGİ GİRİŞİ'!E241,\"\")","v":""}]
[null,null,null,null,null,null,null,null,null,null,null,null,{"$f":"IF('PERSONEL BİLGİ GİRİŞİ'!K242,'PERSONEL BİLGİ GİRİŞİ'!K242,\"\")","v":""},null,null,null,null,{"$f":"IF('PERSONEL BİLGİ GİRİŞİ'!E242>=1,'PERSONEL BİLGİ GİRİŞİ'!E242,\"\")","v":""}]
[null,null,null,null,null,null,null,null,null,null,null,null,{"$f":"IF('PERSONEL BİLGİ GİRİŞİ'!K243,'PERSONEL BİLGİ GİRİŞİ'!K243,\"\")","v":""},null,null,null,null,{"$f":"IF('PERSONEL BİLGİ GİRİŞİ'!E243>=1,'PERSONEL BİLGİ GİRİŞİ'!E243,\"\")","v":""}]
[null,null,null,null,null,null,null,null,null,null,null,null,{"$f":"IF('PERSONEL BİLGİ GİRİŞİ'!K244,'PERSONEL BİLGİ GİRİŞİ'!K244,\"\")","v":""},null,null,null,null,{"$f":"IF('PERSONEL BİLGİ GİRİŞİ'!E244>=1,'PERSONEL BİLGİ GİRİŞİ'!E244,\"\")","v":""}]
[null,null,null,null,null,null,null,null,null,null,null,null,{"$f":"IF('PERSONEL BİLGİ GİRİŞİ'!K245,'PERSONEL BİLGİ GİRİŞİ'!K245,\"\")","v":""},null,null,null,null,{"$f":"IF('PERSONEL BİLGİ GİRİŞİ'!E245>=1,'PERSONEL BİLGİ GİRİŞİ'!E245,\"\")","v":""}]
[null,null,null,null,null,null,null,null,null,null,null,null,{"$f":"IF('PERSONEL BİLGİ GİRİŞİ'!K246,'PERSONEL BİLGİ GİRİŞİ'!K246,\"\")","v":""},null,null,null,null,{"$f":"IF('PERSONEL BİLGİ GİRİŞİ'!E246>=1,'PERSONEL BİLGİ GİRİŞİ'!E246,\"\")","v":""}]
[null,null,null,null,null,null,null,null,null,null,null,null,{"$f":"IF('PERSONEL BİLGİ GİRİŞİ'!K247,'PERSONEL BİLGİ GİRİŞİ'!K247,\"\")","v":""},null,null,null,null,{"$f":"IF('PERSONEL BİLGİ GİRİŞİ'!E247>=1,'PERSONEL BİLGİ GİRİŞİ'!E247,\"\")","v":""}]
[null,null,null,null,null,null,null,null,null,null,null,null,{"$f":"IF('PERSONEL BİLGİ GİRİŞİ'!K248,'PERSONEL BİLGİ GİRİŞİ'!K248,\"\")","v":""},null,null,null,null,{"$f":"IF('PERSONEL BİLGİ GİRİŞİ'!E248>=1,'PERSONEL BİLGİ GİRİŞİ'!E248,\"\")","v":""}]
[null,null,null,null,null,null,null,null,null,null,null,null,{"$f":"IF('PERSONEL BİLGİ GİRİŞİ'!K249,'PERSONEL BİLGİ GİRİŞİ'!K249,\"\")","v":""},null,null,null,null,{"$f":"IF('PERSONEL BİLGİ GİRİŞİ'!E249>=1,'PERSONEL BİLGİ GİRİŞİ'!E249,\"\")","v":""}]
[null,null,null,null,null,null,null,null,null,null,null,null,{"$f":"IF('PERSONEL BİLGİ GİRİŞİ'!K250,'PERSONEL BİLGİ GİRİŞİ'!K250,\"\")","v":""},null,null,null,null,{"$f":"IF('PERSONEL BİLGİ GİRİŞİ'!E250>=1,'PERSONEL BİLGİ GİRİŞİ'!E250,\"\")","v":""}]
[null,null,null,null,null,null,null,null,null,null,null,null,{"$f":"IF('PERSONEL BİLGİ GİRİŞİ'!K251,'PERSONEL BİLGİ GİRİŞİ'!K251,\"\")","v":""},null,null,null,null,{"$f":"IF('PERSONEL BİLGİ GİRİŞİ'!E251>=1,'PERSONEL BİLGİ GİRİŞİ'!E251,\"\")","v":""}]
[null,null,null,null,null,null,null,null,null,null,null,null,{"$f":"IF('PERSONEL BİLGİ GİRİŞİ'!K252,'PERSONEL BİLGİ GİRİŞİ'!K252,\"\")","v":""},null,null,null,null,{"$f":"IF('PERSONEL BİLGİ GİRİŞİ'!E252>=1,'PERSONEL BİLGİ GİRİŞİ'!E252,\"\")","v":""}]
[null,null,null,null,null,null,null,null,null,null,null,null,{"$f":"IF('PERSONEL BİLGİ GİRİŞİ'!K253,'PERSONEL BİLGİ GİRİŞİ'!K253,\"\")","v":""},null,null,null,null,{"$f":"IF('PERSONEL BİLGİ GİRİŞİ'!E253>=1,'PERSONEL BİLGİ GİRİŞİ'!E253,\"\")","v":""}]
[null,null,null,null,null,null,null,null,null,null,null,null,{"$f":"IF('PERSONEL BİLGİ GİRİŞİ'!K254,'PERSONEL BİLGİ GİRİŞİ'!K254,\"\")","v":""},null,null,null,null,{"$f":"IF('PERSONEL BİLGİ GİRİŞİ'!E254>=1,'PERSONEL BİLGİ GİRİŞİ'!E254,\"\")","v":""}]
[null,null,null,null,null,null,null,null,null,null,null,null,{"$f":"IF('PERSONEL BİLGİ GİRİŞİ'!K255,'PERSONEL BİLGİ GİRİŞİ'!K255,\"\")","v":""},null,null,null,null,{"$f":"IF('PERSONEL BİLGİ GİRİŞİ'!E255>=1,'PERSONEL BİLGİ GİRİŞİ'!E255,\"\")","v":""}]
[null,null,null,null,null,null,null,null,null,null,null,null,{"$f":"IF('PERSONEL BİLGİ GİRİŞİ'!K256,'PERSONEL BİLGİ GİRİŞİ'!K256,\"\")","v":""},null,null,null,null,{"$f":"IF('PERSONEL BİLGİ GİRİŞİ'!E256>=1,'PERSONEL BİLGİ GİRİŞİ'!E256,\"\")","v":""}]
[null,null,null,null,null,null,null,null,null,null,null,null,{"$f":"IF('PERSONEL BİLGİ GİRİŞİ'!K257,'PERSONEL BİLGİ GİRİŞİ'!K257,\"\")","v":""},null,null,null,null,{"$f":"IF('PERSONEL BİLGİ GİRİŞİ'!E257>=1,'PERSONEL BİLGİ GİRİŞİ'!E257,\"\")","v":""}]
[null,null,null,null,null,null,null,null,null,null,null,null,{"$f":"IF('PERSONEL BİLGİ GİRİŞİ'!K258,'PERSONEL BİLGİ GİRİŞİ'!K258,\"\")","v":""},null,null,null,null,{"$f":"IF('PERSONEL BİLGİ GİRİŞİ'!E258>=1,'PERSONEL BİLGİ GİRİŞİ'!E258,\"\")","v":""}]
[null,null,null,null,null,null,null,null,null,null,null,null,{"$f":"IF('PERSONEL BİLGİ GİRİŞİ'!K259,'PERSONEL BİLGİ GİRİŞİ'!K259,\"\")","v":""},null,null,null,null,{"$f":"IF('PERSONEL BİLGİ GİRİŞİ'!E259>=1,'PERSONEL BİLGİ GİRİŞİ'!E259,\"\")","v":""}]
[null,null,null,null,null,null,null,null,null,null,null,null,{"$f":"IF('PERSONEL BİLGİ GİRİŞİ'!K260,'PERSONEL BİLGİ GİRİŞİ'!K260,\"\")","v":""},null,null,null,null,{"$f":"IF('PERSONEL BİLGİ GİRİŞİ'!E260>=1,'PERSONEL BİLGİ GİRİŞİ'!E260,\"\")","v":""}]
[null,null,null,null,null,null,null,null,null,null,null,null,{"$f":"IF('PERSONEL BİLGİ GİRİŞİ'!K261,'PERSONEL BİLGİ GİRİŞİ'!K261,\"\")","v":""},null,null,null,null,{"$f":"IF('PERSONEL BİLGİ GİRİŞİ'!E261>=1,'PERSONEL BİLGİ GİRİŞİ'!E261,\"\")","v":""}]
[null,null,null,null,null,null,null,null,null,null,null,null,{"$f":"IF('PERSONEL BİLGİ GİRİŞİ'!K262,'PERSONEL BİLGİ GİRİŞİ'!K262,\"\")","v":""},null,null,null,null,{"$f":"IF('PERSONEL BİLGİ GİRİŞİ'!E262>=1,'PERSONEL BİLGİ GİRİŞİ'!E262,\"\")","v":""}]
[null,null,null,null,null,null,null,null,null,null,null,null,{"$f":"IF('PERSONEL BİLGİ GİRİŞİ'!K263,'PERSONEL BİLGİ GİRİŞİ'!K263,\"\")","v":""},null,null,null,null,{"$f":"IF('PERSONEL BİLGİ GİRİŞİ'!E263>=1,'PERSONEL BİLGİ GİRİŞİ'!E263,\"\")","v":""}]
[null,null,null,null,null,null,null,null,null,null,null,null,{"$f":"IF('PERSONEL BİLGİ GİRİŞİ'!K264,'PERSONEL BİLGİ GİRİŞİ'!K264,\"\")","v":""},null,null,null,null,{"$f":"IF('PERSONEL BİLGİ GİRİŞİ'!E264>=1,'PERSONEL BİLGİ GİRİŞİ'!E264,\"\")","v":""}]
[null,null,null,null,null,null,null,null,null,null,null,null,{"$f":"IF('PERSONEL BİLGİ GİRİŞİ'!K265,'PERSONEL BİLGİ GİRİŞİ'!K265,\"\")","v":""},null,null,null,null,{"$f":"IF('PERSONEL BİLGİ GİRİŞİ'!E265>=1,'PERSONEL BİLGİ GİRİŞİ'!E265,\"\")","v":""}]
[null,null,null,null,null,null,null,null,null,null,null,null,{"$f":"IF('PERSONEL BİLGİ GİRİŞİ'!K266,'PERSONEL BİLGİ GİRİŞİ'!K266,\"\")","v":""},null,null,null,null,{"$f":"IF('PERSONEL BİLGİ GİRİŞİ'!E266>=1,'PERSONEL BİLGİ GİRİŞİ'!E266,\"\")","v":""}]
[null,null,null,null,null,null,null,null,null,null,null,null,{"$f":"IF('PERSONEL BİLGİ GİRİŞİ'!K267,'PERSONEL BİLGİ GİRİŞİ'!K267,\"\")","v":""},null,null,null,null,{"$f":"IF('PERSONEL BİLGİ GİRİŞİ'!E267>=1,'PERSONEL BİLGİ GİRİŞİ'!E267,\"\")","v":""}]
[null,null,null,null,null,null,null,null,null,null,null,null,{"$f":"IF('PERSONEL BİLGİ GİRİŞİ'!K268,'PERSONEL BİLGİ GİRİŞİ'!K268,\"\")","v":""},null,null,null,null,{"$f":"IF('PERSONEL BİLGİ GİRİŞİ'!E268>=1,'PERSONEL BİLGİ GİRİŞİ'!E268,\"\")","v":""}]
[null,null,null,null,null,null,null,null,null,null,null,null,{"$f":"IF('PERSONEL BİLGİ GİRİŞİ'!K269,'PERSONEL BİLGİ GİRİŞİ'!K269,\"\")","v":""},null,null,null,null,{"$f":"IF('PERSONEL BİLGİ GİRİŞİ'!E269>=1,'PERSONEL BİLGİ GİRİŞİ'!E269,\"\")","v":""}]
[null,null,null,null,null,null,null,null,null,null,null,null,{"$f":"IF('PERSONEL BİLGİ GİRİŞİ'!K270,'PERSONEL BİLGİ GİRİŞİ'!K270,\"\")","v":""},null,null,null,null,{"$f":"IF('PERSONEL BİLGİ GİRİŞİ'!E270>=1,'PERSONEL BİLGİ GİRİŞİ'!E270,\"\")","v":""}]
[null,null,null,null,null,null,null,null,null,null,null,null,{"$f":"IF('PERSONEL BİLGİ GİRİŞİ'!K271,'PERSONEL BİLGİ GİRİŞİ'!K271,\"\")","v":""},null,null,null,null,{"$f":"IF('PERSONEL BİLGİ GİRİŞİ'!E271>=1,'PERSONEL BİLGİ GİRİŞİ'!E271,\"\")","v":""}]
[null,null,null,null,null,null,null,null,null,null,null,null,{"$f":"IF('PERSONEL BİLGİ GİRİŞİ'!K272,'PERSONEL BİLGİ GİRİŞİ'!K272,\"\")","v":""},null,null,null,null,{"$f":"IF('PERSONEL BİLGİ GİRİŞİ'!E272>=1,'PERSONEL BİLGİ GİRİŞİ'!E272,\"\")","v":""}]
[null,null,null,null,null,null,null,null,null,null,null,null,{"$f":"IF('PERSONEL BİLGİ GİRİŞİ'!K273,'PERSONEL BİLGİ GİRİŞİ'!K273,\"\")","v":""},null,null,null,null,{"$f":"IF('PERSONEL BİLGİ GİRİŞİ'!E273>=1,'PERSONEL BİLGİ GİRİŞİ'!E273,\"\")","v":""}]
[null,null,null,null,null,null,null,null,null,null,null,null,{"$f":"IF('PERSONEL BİLGİ GİRİŞİ'!K274,'PERSONEL BİLGİ GİRİŞİ'!K274,\"\")","v":""},null,null,null,null,{"$f":"IF('PERSONEL BİLGİ GİRİŞİ'!E274>=1,'PERSONEL BİLGİ GİRİŞİ'!E274,\"\")","v":""}]
[null,null,null,null,null,null,null,null,null,null,null,null,{"$f":"IF('PERSONEL BİLGİ GİRİŞİ'!K275,'PERSONEL BİLGİ GİRİŞİ'!K275,\"\")","v":""},null,null,null,null,{"$f":"IF('PERSONEL BİLGİ GİRİŞİ'!E275>=1,'PERSONEL BİLGİ GİRİŞİ'!E275,\"\")","v":""}]
[null,null,null,null,null,null,null,null,null,null,null,null,{"$f":"IF('PERSONEL BİLGİ GİRİŞİ'!K276,'PERSONEL BİLGİ GİRİŞİ'!K276,\"\")","v":""},null,null,null,null,{"$f":"IF('PERSONEL BİLGİ GİRİŞİ'!E276>=1,'PERSONEL BİLGİ GİRİŞİ'!E276,\"\")","v":""}]
[null,null,null,null,null,null,null,null,null,null,null,null,{"$f":"IF('PERSONEL BİLGİ GİRİŞİ'!K277,'PERSONEL BİLGİ GİRİŞİ'!K277,\"\")","v":""},null,null,null,null,{"$f":"IF('PERSONEL BİLGİ GİRİŞİ'!E277>=1,'PERSONEL BİLGİ GİRİŞİ'!E277,\"\")","v":""}]
[null,null,null,null,null,null,null,null,null,null,null,null,{"$f":"IF('PERSONEL BİLGİ GİRİŞİ'!K278,'PERSONEL BİLGİ GİRİŞİ'!K278,\"\")","v":""},null,null,null,null,{"$f":"IF('PERSONEL BİLGİ GİRİŞİ'!E278>=1,'PERSONEL BİLGİ GİRİŞİ'!E278,\"\")","v":""}]
[null,null,null,null,null,null,null,null,null,null,null,null,{"$f":"IF('PERSONEL BİLGİ GİRİŞİ'!K279,'PERSONEL BİLGİ GİRİŞİ'!K279,\"\")","v":""},null,null,null,null,{"$f":"IF('PERSONEL BİLGİ GİRİŞİ'!E279>=1,'PERSONEL BİLGİ GİRİŞİ'!E279,\"\")","v":""}]
[null,null,null,null,null,null,null,null,null,null,null,null,{"$f":"IF('PERSONEL BİLGİ GİRİŞİ'!K280,'PERSONEL BİLGİ GİRİŞİ'!K280,\"\")","v":""},null,null,null,null,{"$f":"IF('PERSONEL BİLGİ GİRİŞİ'!E280>=1,'PERSONEL BİLGİ GİRİŞİ'!E280,\"\")","v":""}]
[null,null,null,null,null,null,null,null,null,null,null,null,{"$f":"IF('PERSONEL BİLGİ GİRİŞİ'!K281,'PERSONEL BİLGİ GİRİŞİ'!K281,\"\")","v":""},null,null,null,null,{"$f":"IF('PERSONEL BİLGİ GİRİŞİ'!E281>=1,'PERSONEL BİLGİ GİRİŞİ'!E281,\"\")","v":""}]
[null,null,null,null,null,null,null,null,null,null,null,null,{"$f":"IF('PERSONEL BİLGİ GİRİŞİ'!K282,'PERSONEL BİLGİ GİRİŞİ'!K282,\"\")","v":""},null,null,null,null,{"$f":"IF('PERSONEL BİLGİ GİRİŞİ'!E282>=1,'PERSONEL BİLGİ GİRİŞİ'!E282,\"\")","v":""}]
[null,null,null,null,null,null,null,null,null,null,null,null,{"$f":"IF('PERSONEL BİLGİ GİRİŞİ'!K283,'PERSONEL BİLGİ GİRİŞİ'!K283,\"\")","v":""},null,null,null,null,{"$f":"IF('PERSONEL BİLGİ GİRİŞİ'!E283>=1,'PERSONEL BİLGİ GİRİŞİ'!E283,\"\")","v":""}]
[null,null,null,null,null,null,null,null,null,null,null,null,{"$f":"IF('PERSONEL BİLGİ GİRİŞİ'!K284,'PERSONEL BİLGİ GİRİŞİ'!K284,\"\")","v":""},null,null,null,null,{"$f":"IF('PERSONEL BİLGİ GİRİŞİ'!E284>=1,'PERSONEL BİLGİ GİRİŞİ'!E284,\"\")","v":""}]
[null,null,null,null,null,null,null,null,null,null,null,null,{"$f":"IF('PERSONEL BİLGİ GİRİŞİ'!K285,'PERSONEL BİLGİ GİRİŞİ'!K285,\"\")","v":""},null,null,null,null,{"$f":"IF('PERSONEL BİLGİ GİRİŞİ'!E285>=1,'PERSONEL BİLGİ GİRİŞİ'!E285,\"\")","v":""}]
[null,null,null,null,null,null,null,null,null,null,null,null,{"$f":"IF('PERSONEL BİLGİ GİRİŞİ'!K286,'PERSONEL BİLGİ GİRİŞİ'!K286,\"\")","v":""},null,null,null,null,{"$f":"IF('PERSONEL BİLGİ GİRİŞİ'!E286>=1,'PERSONEL BİLGİ GİRİŞİ'!E286,\"\")","v":""}]
[null,null,null,null,null,null,null,null,null,null,null,null,{"$f":"IF('PERSONEL BİLGİ GİRİŞİ'!K287,'PERSONEL BİLGİ GİRİŞİ'!K287,\"\")","v":""},null,null,null,null,{"$f":"IF('PERSONEL BİLGİ GİRİŞİ'!E287>=1,'PERSONEL BİLGİ GİRİŞİ'!E287,\"\")","v":""}]
[null,null,null,null,null,null,null,null,null,null,null,null,{"$f":"IF('PERSONEL BİLGİ GİRİŞİ'!K288,'PERSONEL BİLGİ GİRİŞİ'!K288,\"\")","v":""},null,null,null,null,{"$f":"IF('PERSONEL BİLGİ GİRİŞİ'!E288>=1,'PERSONEL BİLGİ GİRİŞİ'!E288,\"\")","v":""}]
[null,null,null,null,null,null,null,null,null,null,null,null,{"$f":"IF('PERSONEL BİLGİ GİRİŞİ'!K289,'PERSONEL BİLGİ GİRİŞİ'!K289,\"\")","v":""},null,null,null,null,{"$f":"IF('PERSONEL BİLGİ GİRİŞİ'!E289>=1,'PERSONEL BİLGİ GİRİŞİ'!E289,\"\")","v":""}]
[null,null,null,null,null,null,null,null,null,null,null,null,{"$f":"IF('PERSONEL BİLGİ GİRİŞİ'!K290,'PERSONEL BİLGİ GİRİŞİ'!K290,\"\")","v":""},null,null,null,null,{"$f":"IF('PERSONEL BİLGİ GİRİŞİ'!E290>=1,'PERSONEL BİLGİ GİRİŞİ'!E290,\"\")","v":""}]
[null,null,null,null,null,null,null,null,null,null,null,null,{"$f":"IF('PERSONEL BİLGİ GİRİŞİ'!K291,'PERSONEL BİLGİ GİRİŞİ'!K291,\"\")","v":""},null,null,null,null,{"$f":"IF('PERSONEL BİLGİ GİRİŞİ'!E291>=1,'PERSONEL BİLGİ GİRİŞİ'!E291,\"\")","v":""}]
[null,null,null,null,null,null,null,null,null,null,null,null,{"$f":"IF('PERSONEL BİLGİ GİRİŞİ'!K292,'PERSONEL BİLGİ GİRİŞİ'!K292,\"\")","v":""},null,null,null,null,{"$f":"IF('PERSONEL BİLGİ GİRİŞİ'!E292>=1,'PERSONEL BİLGİ GİRİŞİ'!E292,\"\")","v":""}]
[null,null,null,null,null,null,null,null,null,null,null,null,{"$f":"IF('PERSONEL BİLGİ GİRİŞİ'!K293,'PERSONEL BİLGİ GİRİŞİ'!K293,\"\")","v":""},null,null,null,null,{"$f":"IF('PERSONEL BİLGİ GİRİŞİ'!E293>=1,'PERSONEL BİLGİ GİRİŞİ'!E293,\"\")","v":""}]
[null,null,null,null,null,null,null,null,null,null,null,null,{"$f":"IF('PERSONEL BİLGİ GİRİŞİ'!K294,'PERSONEL BİLGİ GİRİŞİ'!K294,\"\")","v":""},null,null,null,null,{"$f":"IF('PERSONEL BİLGİ GİRİŞİ'!E294>=1,'PERSONEL BİLGİ GİRİŞİ'!E294,\"\")","v":""}]
[null,null,null,null,null,null,null,null,null,null,null,null,{"$f":"IF('PERSONEL BİLGİ GİRİŞİ'!K295,'PERSONEL BİLGİ GİRİŞİ'!K295,\"\")","v":""},null,null,null,null,{"$f":"IF('PERSONEL BİLGİ GİRİŞİ'!E295>=1,'PERSONEL BİLGİ GİRİŞİ'!E295,\"\")","v":""}]
[null,null,null,null,null,null,null,null,null,null,null,null,{"$f":"IF('PERSONEL BİLGİ GİRİŞİ'!K296,'PERSONEL BİLGİ GİRİŞİ'!K296,\"\")","v":""},null,null,null,null,{"$f":"IF('PERSONEL BİLGİ GİRİŞİ'!E296>=1,'PERSONEL BİLGİ GİRİŞİ'!E296,\"\")","v":""}]
[null,null,null,null,null,null,null,null,null,null,null,null,{"$f":"IF('PERSONEL BİLGİ GİRİŞİ'!K297,'PERSONEL BİLGİ GİRİŞİ'!K297,\"\")","v":""},null,null,null,null,{"$f":"IF('PERSONEL BİLGİ GİRİŞİ'!E297>=1,'PERSONEL BİLGİ GİRİŞİ'!E297,\"\")","v":""}]
[null,null,null,null,null,null,null,null,null,null,null,null,{"$f":"IF('PERSONEL BİLGİ GİRİŞİ'!K298,'PERSONEL BİLGİ GİRİŞİ'!K298,\"\")","v":""},null,null,null,null,{"$f":"IF('PERSONEL BİLGİ GİRİŞİ'!E298>=1,'PERSONEL BİLGİ GİRİŞİ'!E298,\"\")","v":""}]
[null,null,null,null,null,null,null,null,null,null,null,null,{"$f":"IF('PERSONEL BİLGİ GİRİŞİ'!K299,'PERSONEL BİLGİ GİRİŞİ'!K299,\"\")","v":""},null,null,null,null,{"$f":"IF('PERSONEL BİLGİ GİRİŞİ'!E299>=1,'PERSONEL BİLGİ GİRİŞİ'!E299,\"\")","v":""}]
[null,null,null,null,null,null,null,null,null,null,null,null,{"$f":"IF('PERSONEL BİLGİ GİRİŞİ'!K300,'PERSONEL BİLGİ GİRİŞİ'!K300,\"\")","v":""},null,null,null,null,{"$f":"IF('PERSONEL BİLGİ GİRİŞİ'!E300>=1,'PERSONEL BİLGİ GİRİŞİ'!E300,\"\")","v":""}]
[null,null,null,null,null,null,null,null,null,null,null,null,{"$f":"IF('PERSONEL BİLGİ GİRİŞİ'!K301,'PERSONEL BİLGİ GİRİŞİ'!K301,\"\")","v":""},null,null,null,null,{"$f":"IF('PERSONEL BİLGİ GİRİŞİ'!E301>=1,'PERSONEL BİLGİ GİRİŞİ'!E301,\"\")","v":""}]
[null,null,null,null,null,null,null,null,null,null,null,null,{"$f":"IF('PERSONEL BİLGİ GİRİŞİ'!K302,'PERSONEL BİLGİ GİRİŞİ'!K302,\"\")","v":""},null,null,null,null,{"$f":"IF('PERSONEL BİLGİ GİRİŞİ'!E302>=1,'PERSONEL BİLGİ GİRİŞİ'!E302,\"\")","v":""}]
[null,null,null,null,null,null,null,null,null,null,null,null,{"$f":"IF('PERSONEL BİLGİ GİRİŞİ'!K303,'PERSONEL BİLGİ GİRİŞİ'!K303,\"\")","v":""},null,null,null,null,{"$f":"IF('PERSONEL BİLGİ GİRİŞİ'!E303>=1,'PERSONEL BİLGİ GİRİŞİ'!E303,\"\")","v":""}]
[null,null,null,null,null,null,null,null,null,null,null,null,{"$f":"IF('PERSONEL BİLGİ GİRİŞİ'!K304,'PERSONEL BİLGİ GİRİŞİ'!K304,\"\")","v":""},null,null,null,null,{"$f":"IF('PERSONEL BİLGİ GİRİŞİ'!E304>=1,'PERSONEL BİLGİ GİRİŞİ'!E304,\"\")","v":""}]
[null,null,null,null,null,null,null,null,null,null,null,null,{"$f":"IF('PERSONEL BİLGİ GİRİŞİ'!K305,'PERSONEL BİLGİ GİRİŞİ'!K305,\"\")","v":""},null,null,null,null,{"$f":"IF('PERSONEL BİLGİ GİRİŞİ'!E305>=1,'PERSONEL BİLGİ GİRİŞİ'!E305,\"\")","v":""}]
[null,null,null,null,null,null,null,null,null,null,null,null,{"$f":"IF('PERSONEL BİLGİ GİRİŞİ'!K306,'PERSONEL BİLGİ GİRİŞİ'!K306,\"\")","v":""},null,null,null,null,{"$f":"IF('PERSONEL BİLGİ GİRİŞİ'!E306>=1,'PERSONEL BİLGİ GİRİŞİ'!E306,\"\")","v":""}]
[null,null,null,null,null,null,null,null,null,null,null,null,{"$f":"IF('PERSONEL BİLGİ GİRİŞİ'!K307,'PERSONEL BİLGİ GİRİŞİ'!K307,\"\")","v":""},null,null,null,null,{"$f":"IF('PERSONEL BİLGİ GİRİŞİ'!E307>=1,'PERSONEL BİLGİ GİRİŞİ'!E307,\"\")","v":""}]
[null,null,null,null,null,null,null,null,null,null,null,null,{"$f":"IF('PERSONEL BİLGİ GİRİŞİ'!K308,'PERSONEL BİLGİ GİRİŞİ'!K308,\"\")","v":""},null,null,null,null,{"$f":"IF('PERSONEL BİLGİ GİRİŞİ'!E308>=1,'PERSONEL BİLGİ GİRİŞİ'!E308,\"\")","v":""}]
[null,null,null,null,null,null,null,null,null,null,null,null,{"$f":"IF('PERSONEL BİLGİ GİRİŞİ'!K309,'PERSONEL BİLGİ GİRİŞİ'!K309,\"\")","v":""},null,null,null,null,{"$f":"IF('PERSONEL BİLGİ GİRİŞİ'!E309>=1,'PERSONEL BİLGİ GİRİŞİ'!E309,\"\")","v":""}]
[null,null,null,null,null,null,null,null,null,null,null,null,{"$f":"IF('PERSONEL BİLGİ GİRİŞİ'!K310,'PERSONEL BİLGİ GİRİŞİ'!K310,\"\")","v":""},null,null,null,null,{"$f":"IF('PERSONEL BİLGİ GİRİŞİ'!E310>=1,'PERSONEL BİLGİ GİRİŞİ'!E310,\"\")","v":""}]
[null,null,null,null,null,null,null,null,null,null,null,null,{"$f":"IF('PERSONEL BİLGİ GİRİŞİ'!K311,'PERSONEL BİLGİ GİRİŞİ'!K311,\"\")","v":""},null,null,null,null,{"$f":"IF('PERSONEL BİLGİ GİRİŞİ'!E311>=1,'PERSONEL BİLGİ GİRİŞİ'!E311,\"\")","v":""}]
[null,null,null,null,null,null,null,null,null,null,null,null,{"$f":"IF('PERSONEL BİLGİ GİRİŞİ'!K312,'PERSONEL BİLGİ GİRİŞİ'!K312,\"\")","v":""},null,null,null,null,{"$f":"IF('PERSONEL BİLGİ GİRİŞİ'!E312>=1,'PERSONEL BİLGİ GİRİŞİ'!E312,\"\")","v":""}]
[null,null,null,null,null,null,null,null,null,null,null,null,{"$f":"IF('PERSONEL BİLGİ GİRİŞİ'!K313,'PERSONEL BİLGİ GİRİŞİ'!K313,\"\")","v":""},null,null,null,null,{"$f":"IF('PERSONEL BİLGİ GİRİŞİ'!E313>=1,'PERSONEL BİLGİ GİRİŞİ'!E313,\"\")","v":""}]
[null,null,null,null,null,null,null,null,null,null,null,null,{"$f":"IF('PERSONEL BİLGİ GİRİŞİ'!K314,'PERSONEL BİLGİ GİRİŞİ'!K314,\"\")","v":""},null,null,null,null,{"$f":"IF('PERSONEL BİLGİ GİRİŞİ'!E314>=1,'PERSONEL BİLGİ GİRİŞİ'!E314,\"\")","v":""}]
[null,null,null,null,null,null,null,null,null,null,null,null,{"$f":"IF('PERSONEL BİLGİ GİRİŞİ'!K315,'PERSONEL BİLGİ GİRİŞİ'!K315,\"\")","v":""},null,null,null,null,{"$f":"IF('PERSONEL BİLGİ GİRİŞİ'!E315>=1,'PERSONEL BİLGİ GİRİŞİ'!E315,\"\")","v":""}]
[null,null,null,null,null,null,null,null,null,null,null,null,{"$f":"IF('PERSONEL BİLGİ GİRİŞİ'!K316,'PERSONEL BİLGİ GİRİŞİ'!K316,\"\")","v":""},null,null,null,null,{"$f":"IF('PERSONEL BİLGİ GİRİŞİ'!E316>=1,'PERSONEL BİLGİ GİRİŞİ'!E316,\"\")","v":""}]
[null,null,null,null,null,null,null,null,null,null,null,null,{"$f":"IF('PERSONEL BİLGİ GİRİŞİ'!K317,'PERSONEL BİLGİ GİRİŞİ'!K317,\"\")","v":""},null,null,null,null,{"$f":"IF('PERSONEL BİLGİ GİRİŞİ'!E317>=1,'PERSONEL BİLGİ GİRİŞİ'!E317,\"\")","v":""}]
[null,null,null,null,null,null,null,null,null,null,null,null,{"$f":"IF('PERSONEL BİLGİ GİRİŞİ'!K318,'PERSONEL BİLGİ GİRİŞİ'!K318,\"\")","v":""},null,null,null,null,{"$f":"IF('PERSONEL BİLGİ GİRİŞİ'!E318>=1,'PERSONEL BİLGİ GİRİŞİ'!E318,\"\")","v":""}]
[null,null,null,null,null,null,null,null,null,null,null,null,{"$f":"IF('PERSONEL BİLGİ GİRİŞİ'!K319,'PERSONEL BİLGİ GİRİŞİ'!K319,\"\")","v":""},null,null,null,null,{"$f":"IF('PERSONEL BİLGİ GİRİŞİ'!E319>=1,'PERSONEL BİLGİ GİRİŞİ'!E319,\"\")","v":""}]
[null,null,null,null,null,null,null,null,null,null,null,null,{"$f":"IF('PERSONEL BİLGİ GİRİŞİ'!K320,'PERSONEL BİLGİ GİRİŞİ'!K320,\"\")","v":""},null,null,null,null,{"$f":"IF('PERSONEL BİLGİ GİRİŞİ'!E320>=1,'PERSONEL BİLGİ GİRİŞİ'!E320,\"\")","v":""}]
[null,null,null,null,null,null,null,null,null,null,null,null,{"$f":"IF('PERSONEL BİLGİ GİRİŞİ'!K321,'PERSONEL BİLGİ GİRİŞİ'!K321,\"\")","v":""},null,null,null,null,{"$f":"IF('PERSONEL BİLGİ GİRİŞİ'!E321>=1,'PERSONEL BİLGİ GİRİŞİ'!E321,\"\")","v":""}]
[null,null,null,null,null,null,null,null,null,null,null,null,{"$f":"IF('PERSONEL BİLGİ GİRİŞİ'!K322,'PERSONEL BİLGİ GİRİŞİ'!K322,\"\")","v":""},null,null,null,null,{"$f":"IF('PERSONEL BİLGİ GİRİŞİ'!E322>=1,'PERSONEL BİLGİ GİRİŞİ'!E322,\"\")","v":""}]
[null,null,null,null,null,null,null,null,null,null,null,null,{"$f":"IF('PERSONEL BİLGİ GİRİŞİ'!K323,'PERSONEL BİLGİ GİRİŞİ'!K323,\"\")","v":""},null,null,null,null,{"$f":"IF('PERSONEL BİLGİ GİRİŞİ'!E323>=1,'PERSONEL BİLGİ GİRİŞİ'!E323,\"\")","v":""}]
[null,null,null,null,null,null,null,null,null,null,null,null,{"$f":"IF('PERSONEL BİLGİ GİRİŞİ'!K324,'PERSONEL BİLGİ GİRİŞİ'!K324,\"\")","v":""},null,null,null,null,{"$f":"IF('PERSONEL BİLGİ GİRİŞİ'!E324>=1,'PERSONEL BİLGİ GİRİŞİ'!E324,\"\")","v":""}]
[null,null,null,null,null,null,null,null,null,null,null,null,{"$f":"IF('PERSONEL BİLGİ GİRİŞİ'!K325,'PERSONEL BİLGİ GİRİŞİ'!K325,\"\")","v":""},null,null,null,null,{"$f":"IF('PERSONEL BİLGİ GİRİŞİ'!E325>=1,'PERSONEL BİLGİ GİRİŞİ'!E325,\"\")","v":""}]
[null,null,null,null,null,null,null,null,null,null,null,null,{"$f":"IF('PERSONEL BİLGİ GİRİŞİ'!K326,'PERSONEL BİLGİ GİRİŞİ'!K326,\"\")","v":""},null,null,null,null,{"$f":"IF('PERSONEL BİLGİ GİRİŞİ'!E326>=1,'PERSONEL BİLGİ GİRİŞİ'!E326,\"\")","v":""}]
[null,null,null,null,null,null,null,null,null,null,null,null,{"$f":"IF('PERSONEL BİLGİ GİRİŞİ'!K327,'PERSONEL BİLGİ GİRİŞİ'!K327,\"\")","v":""},null,null,null,null,{"$f":"IF('PERSONEL BİLGİ GİRİŞİ'!E327>=1,'PERSONEL BİLGİ GİRİŞİ'!E327,\"\")","v":""}]
[null,null,null,null,null,null,null,null,null,null,null,null,{"$f":"IF('PERSONEL BİLGİ GİRİŞİ'!K328,'PERSONEL BİLGİ GİRİŞİ'!K328,\"\")","v":""},null,null,null,null,{"$f":"IF('PERSONEL BİLGİ GİRİŞİ'!E328>=1,'PERSONEL BİLGİ GİRİŞİ'!E328,\"\")","v":""}]
[null,null,null,null,null,null,null,null,null,null,null,null,{"$f":"IF('PERSONEL BİLGİ GİRİŞİ'!K329,'PERSONEL BİLGİ GİRİŞİ'!K329,\"\")","v":""},null,null,null,null,{"$f":"IF('PERSONEL BİLGİ GİRİŞİ'!E329>=1,'PERSONEL BİLGİ GİRİŞİ'!E329,\"\")","v":""}]
[null,null,null,null,null,null,null,null,null,null,null,null,{"$f":"IF('PERSONEL BİLGİ GİRİŞİ'!K330,'PERSONEL BİLGİ GİRİŞİ'!K330,\"\")","v":""},null,null,null,null,{"$f":"IF('PERSONEL BİLGİ GİRİŞİ'!E330>=1,'PERSONEL BİLGİ GİRİŞİ'!E330,\"\")","v":""}]
[null,null,null,null,null,null,null,null,null,null,null,null,{"$f":"IF('PERSONEL BİLGİ GİRİŞİ'!K331,'PERSONEL BİLGİ GİRİŞİ'!K331,\"\")","v":""},null,null,null,null,{"$f":"IF('PERSONEL BİLGİ GİRİŞİ'!E331>=1,'PERSONEL BİLGİ GİRİŞİ'!E331,\"\")","v":""}]
[null,null,null,null,null,null,null,null,null,null,null,null,{"$f":"IF('PERSONEL BİLGİ GİRİŞİ'!K332,'PERSONEL BİLGİ GİRİŞİ'!K332,\"\")","v":""},null,null,null,null,{"$f":"IF('PERSONEL BİLGİ GİRİŞİ'!E332>=1,'PERSONEL BİLGİ GİRİŞİ'!E332,\"\")","v":""}]
[null,null,null,null,null,null,null,null,null,null,null,null,{"$f":"IF('PERSONEL BİLGİ GİRİŞİ'!K333,'PERSONEL BİLGİ GİRİŞİ'!K333,\"\")","v":""},null,null,null,null,{"$f":"IF('PERSONEL BİLGİ GİRİŞİ'!E333>=1,'PERSONEL BİLGİ GİRİŞİ'!E333,\"\")","v":""}]
[null,null,null,null,null,null,null,null,null,null,null,null,{"$f":"IF('PERSONEL BİLGİ GİRİŞİ'!K334,'PERSONEL BİLGİ GİRİŞİ'!K334,\"\")","v":""},null,null,null,null,{"$f":"IF('PERSONEL BİLGİ GİRİŞİ'!E334>=1,'PERSONEL BİLGİ GİRİŞİ'!E334,\"\")","v":""}]
[null,null,null,null,null,null,null,null,null,null,null,null,{"$f":"IF('PERSONEL BİLGİ GİRİŞİ'!K335,'PERSONEL BİLGİ GİRİŞİ'!K335,\"\")","v":""},null,null,null,null,{"$f":"IF('PERSONEL BİLGİ GİRİŞİ'!E335>=1,'PERSONEL BİLGİ GİRİŞİ'!E335,\"\")","v":""}]
[null,null,null,null,null,null,null,null,null,null,null,null,{"$f":"IF('PERSONEL BİLGİ GİRİŞİ'!K336,'PERSONEL BİLGİ GİRİŞİ'!K336,\"\")","v":""},null,null,null,null,{"$f":"IF('PERSONEL BİLGİ GİRİŞİ'!E336>=1,'PERSONEL BİLGİ GİRİŞİ'!E336,\"\")","v":""}]
[null,null,null,null,null,null,null,null,null,null,null,null,{"$f":"IF('PERSONEL BİLGİ GİRİŞİ'!K337,'PERSONEL BİLGİ GİRİŞİ'!K337,\"\")","v":""},null,null,null,null,{"$f":"IF('PERSONEL BİLGİ GİRİŞİ'!E337>=1,'PERSONEL BİLGİ GİRİŞİ'!E337,\"\")","v":""}]
[null,null,null,null,null,null,null,null,null,null,null,null,{"$f":"IF('PERSONEL BİLGİ GİRİŞİ'!K338,'PERSONEL BİLGİ GİRİŞİ'!K338,\"\")","v":""},null,null,null,null,{"$f":"IF('PERSONEL BİLGİ GİRİŞİ'!E338>=1,'PERSONEL BİLGİ GİRİŞİ'!E338,\"\")","v":""}]
[null,null,null,null,null,null,null,null,null,null,null,null,{"$f":"IF('PERSONEL BİLGİ GİRİŞİ'!K339,'PERSONEL BİLGİ GİRİŞİ'!K339,\"\")","v":""},null,null,null,null,{"$f":"IF('PERSONEL BİLGİ GİRİŞİ'!E339>=1,'PERSONEL BİLGİ GİRİŞİ'!E339,\"\")","v":""}]
[null,null,null,null,null,null,null,null,null,null,null,null,{"$f":"IF('PERSONEL BİLGİ GİRİŞİ'!K340,'PERSONEL BİLGİ GİRİŞİ'!K340,\"\")","v":""},null,null,null,null,{"$f":"IF('PERSONEL BİLGİ GİRİŞİ'!E340>=1,'PERSONEL BİLGİ GİRİŞİ'!E340,\"\")","v":""}]
[null,null,null,null,null,null,null,null,null,null,null,null,{"$f":"IF('PERSONEL BİLGİ GİRİŞİ'!K341,'PERSONEL BİLGİ GİRİŞİ'!K341,\"\")","v":""},null,null,null,null,{"$f":"IF('PERSONEL BİLGİ GİRİŞİ'!E341>=1,'PERSONEL BİLGİ GİRİŞİ'!E341,\"\")","v":""}]
[null,null,null,null,null,null,null,null,null,null,null,null,{"$f":"IF('PERSONEL BİLGİ GİRİŞİ'!K342,'PERSONEL BİLGİ GİRİŞİ'!K342,\"\")","v":""},null,null,null,null,{"$f":"IF('PERSONEL BİLGİ GİRİŞİ'!E342>=1,'PERSONEL BİLGİ GİRİŞİ'!E342,\"\")","v":""}]
[null,null,null,null,null,null,null,null,null,null,null,null,{"$f":"IF('PERSONEL BİLGİ GİRİŞİ'!K343,'PERSONEL BİLGİ GİRİŞİ'!K343,\"\")","v":""},null,null,null,null,{"$f":"IF('PERSONEL BİLGİ GİRİŞİ'!E343>=1,'PERSONEL BİLGİ GİRİŞİ'!E343,\"\")","v":""}]
[null,null,null,null,null,null,null,null,null,null,null,null,{"$f":"IF('PERSONEL BİLGİ GİRİŞİ'!K344,'PERSONEL BİLGİ GİRİŞİ'!K344,\"\")","v":""},null,null,null,null,{"$f":"IF('PERSONEL BİLGİ GİRİŞİ'!E344>=1,'PERSONEL BİLGİ GİRİŞİ'!E344,\"\")","v":""}]
[null,null,null,null,null,null,null,null,null,null,null,null,{"$f":"IF('PERSONEL BİLGİ GİRİŞİ'!K345,'PERSONEL BİLGİ GİRİŞİ'!K345,\"\")","v":""},null,null,null,null,{"$f":"IF('PERSONEL BİLGİ GİRİŞİ'!E345>=1,'PERSONEL BİLGİ GİRİŞİ'!E345,\"\")","v":""}]
[null,null,null,null,null,null,null,null,null,null,null,null,{"$f":"IF('PERSONEL BİLGİ GİRİŞİ'!K346,'PERSONEL BİLGİ GİRİŞİ'!K346,\"\")","v":""},null,null,null,null,{"$f":"IF('PERSONEL BİLGİ GİRİŞİ'!E346>=1,'PERSONEL BİLGİ GİRİŞİ'!E346,\"\")","v":""}]
[null,null,null,null,null,null,null,null,null,null,null,null,{"$f":"IF('PERSONEL BİLGİ GİRİŞİ'!K347,'PERSONEL BİLGİ GİRİŞİ'!K347,\"\")","v":""},null,null,null,null,{"$f":"IF('PERSONEL BİLGİ GİRİŞİ'!E347>=1,'PERSONEL BİLGİ GİRİŞİ'!E347,\"\")","v":""}]
[null,null,null,null,null,null,null,null,null,null,null,null,{"$f":"IF('PERSONEL BİLGİ GİRİŞİ'!K348,'PERSONEL BİLGİ GİRİŞİ'!K348,\"\")","v":""},null,null,null,null,{"$f":"IF('PERSONEL BİLGİ GİRİŞİ'!E348>=1,'PERSONEL BİLGİ GİRİŞİ'!E348,\"\")","v":""}]
[null,null,null,null,null,null,null,null,null,null,null,null,{"$f":"IF('PERSONEL BİLGİ GİRİŞİ'!K349,'PERSONEL BİLGİ GİRİŞİ'!K349,\"\")","v":""},null,null,null,null,{"$f":"IF('PERSONEL BİLGİ GİRİŞİ'!E349>=1,'PERSONEL BİLGİ GİRİŞİ'!E349,\"\")","v":""}]
[null,null,null,null,null,null,null,null,null,null,null,null,{"$f":"IF('PERSONEL BİLGİ GİRİŞİ'!K350,'PERSONEL BİLGİ GİRİŞİ'!K350,\"\")","v":""},null,null,null,null,{"$f":"IF('PERSONEL BİLGİ GİRİŞİ'!E350>=1,'PERSONEL BİLGİ GİRİŞİ'!E350,\"\")","v":""}]
[null,null,null,null,null,null,null,null,null,null,null,null,{"$f":"IF('PERSONEL BİLGİ GİRİŞİ'!K351,'PERSONEL BİLGİ GİRİŞİ'!K351,\"\")","v":""},null,null,null,null,{"$f":"IF('PERSONEL BİLGİ GİRİŞİ'!E351>=1,'PERSONEL BİLGİ GİRİŞİ'!E351,\"\")","v":""}]
[null,null,null,null,null,null,null,null,null,null,null,null,{"$f":"IF('PERSONEL BİLGİ GİRİŞİ'!K352,'PERSONEL BİLGİ GİRİŞİ'!K352,\"\")","v":""},null,null,null,null,{"$f":"IF('PERSONEL BİLGİ GİRİŞİ'!E352>=1,'PERSONEL BİLGİ GİRİŞİ'!E352,\"\")","v":""}]
[null,null,null,null,null,null,null,null,null,null,null,null,{"$f":"IF('PERSONEL BİLGİ GİRİŞİ'!K353,'PERSONEL BİLGİ GİRİŞİ'!K353,\"\")","v":""},null,null,null,null,{"$f":"IF('PERSONEL BİLGİ GİRİŞİ'!E353>=1,'PERSONEL BİLGİ GİRİŞİ'!E353,\"\")","v":""}]
[null,null,null,null,null,null,null,null,null,null,null,null,{"$f":"IF('PERSONEL BİLGİ GİRİŞİ'!K354,'PERSONEL BİLGİ GİRİŞİ'!K354,\"\")","v":""},null,null,null,null,{"$f":"IF('PERSONEL BİLGİ GİRİŞİ'!E354>=1,'PERSONEL BİLGİ GİRİŞİ'!E354,\"\")","v":""}]
[null,null,null,null,null,null,null,null,null,null,null,null,{"$f":"IF('PERSONEL BİLGİ GİRİŞİ'!K355,'PERSONEL BİLGİ GİRİŞİ'!K355,\"\")","v":""},null,null,null,null,{"$f":"IF('PERSONEL BİLGİ GİRİŞİ'!E355>=1,'PERSONEL BİLGİ GİRİŞİ'!E355,\"\")","v":""}]
[null,null,null,null,null,null,null,null,null,null,null,null,{"$f":"IF('PERSONEL BİLGİ GİRİŞİ'!K356,'PERSONEL BİLGİ GİRİŞİ'!K356,\"\")","v":""},null,null,null,null,{"$f":"IF('PERSONEL BİLGİ GİRİŞİ'!E356>=1,'PERSONEL BİLGİ GİRİŞİ'!E356,\"\")","v":""}]
[null,null,null,null,null,null,null,null,null,null,null,null,{"$f":"IF('PERSONEL BİLGİ GİRİŞİ'!K357,'PERSONEL BİLGİ GİRİŞİ'!K357,\"\")","v":""},null,null,null,null,{"$f":"IF('PERSONEL BİLGİ GİRİŞİ'!E357>=1,'PERSONEL BİLGİ GİRİŞİ'!E357,\"\")","v":""}]
[null,null,null,null,null,null,null,null,null,null,null,null,{"$f":"IF('PERSONEL BİLGİ GİRİŞİ'!K358,'PERSONEL BİLGİ GİRİŞİ'!K358,\"\")","v":""},null,null,null,null,{"$f":"IF('PERSONEL BİLGİ GİRİŞİ'!E358>=1,'PERSONEL BİLGİ GİRİŞİ'!E358,\"\")","v":""}]
[null,null,null,null,null,null,null,null,null,null,null,null,{"$f":"IF('PERSONEL BİLGİ GİRİŞİ'!K359,'PERSONEL BİLGİ GİRİŞİ'!K359,\"\")","v":""},null,null,null,null,{"$f":"IF('PERSONEL BİLGİ GİRİŞİ'!E359>=1,'PERSONEL BİLGİ GİRİŞİ'!E359,\"\")","v":""}]
[null,null,null,null,null,null,null,null,null,null,null,null,{"$f":"IF('PERSONEL BİLGİ GİRİŞİ'!K360,'PERSONEL BİLGİ GİRİŞİ'!K360,\"\")","v":""},null,null,null,null,{"$f":"IF('PERSONEL BİLGİ GİRİŞİ'!E360>=1,'PERSONEL BİLGİ GİRİŞİ'!E360,\"\")","v":""}]
[null,null,null,null,null,null,null,null,null,null,null,null,{"$f":"IF('PERSONEL BİLGİ GİRİŞİ'!K361,'PERSONEL BİLGİ GİRİŞİ'!K361,\"\")","v":""},null,null,null,null,{"$f":"IF('PERSONEL BİLGİ GİRİŞİ'!E361>=1,'PERSONEL BİLGİ GİRİŞİ'!E361,\"\")","v":""}]
[null,null,null,null,null,null,null,null,null,null,null,null,{"$f":"IF('PERSONEL BİLGİ GİRİŞİ'!K362,'PERSONEL BİLGİ GİRİŞİ'!K362,\"\")","v":""},null,null,null,null,{"$f":"IF('PERSONEL BİLGİ GİRİŞİ'!E362>=1,'PERSONEL BİLGİ GİRİŞİ'!E362,\"\")","v":""}]
[null,null,null,null,null,null,null,null,null,null,null,null,{"$f":"IF('PERSONEL BİLGİ GİRİŞİ'!K363,'PERSONEL BİLGİ GİRİŞİ'!K363,\"\")","v":""},null,null,null,null,{"$f":"IF('PERSONEL BİLGİ GİRİŞİ'!E363>=1,'PERSONEL BİLGİ GİRİŞİ'!E363,\"\")","v":""}]
[null,null,null,null,null,null,null,null,null,null,null,null,{"$f":"IF('PERSONEL BİLGİ GİRİŞİ'!K364,'PERSONEL BİLGİ GİRİŞİ'!K364,\"\")","v":""},null,null,null,null,{"$f":"IF('PERSONEL BİLGİ GİRİŞİ'!E364>=1,'PERSONEL BİLGİ GİRİŞİ'!E364,\"\")","v":""}]
[null,null,null,null,null,null,null,null,null,null,null,null,{"$f":"IF('PERSONEL BİLGİ GİRİŞİ'!K365,'PERSONEL BİLGİ GİRİŞİ'!K365,\"\")","v":""},null,null,null,null,{"$f":"IF('PERSONEL BİLGİ GİRİŞİ'!E365>=1,'PERSONEL BİLGİ GİRİŞİ'!E365,\"\")","v":""}]
[null,null,null,null,null,null,null,null,null,null,null,null,{"$f":"IF('PERSONEL BİLGİ GİRİŞİ'!K366,'PERSONEL BİLGİ GİRİŞİ'!K366,\"\")","v":""},null,null,null,null,{"$f":"IF('PERSONEL BİLGİ GİRİŞİ'!E366>=1,'PERSONEL BİLGİ GİRİŞİ'!E366,\"\")","v":""}]
[null,null,null,null,null,null,null,null,null,null,null,null,{"$f":"IF('PERSONEL BİLGİ GİRİŞİ'!K367,'PERSONEL BİLGİ GİRİŞİ'!K367,\"\")","v":""},null,null,null,null,{"$f":"IF('PERSONEL BİLGİ GİRİŞİ'!E367>=1,'PERSONEL BİLGİ GİRİŞİ'!E367,\"\")","v":""}]
[null,null,null,null,null,null,null,null,null,null,null,null,{"$f":"IF('PERSONEL BİLGİ GİRİŞİ'!K368,'PERSONEL BİLGİ GİRİŞİ'!K368,\"\")","v":""},null,null,null,null,{"$f":"IF('PERSONEL BİLGİ GİRİŞİ'!E368>=1,'PERSONEL BİLGİ GİRİŞİ'!E368,\"\")","v":""}]
[null,null,null,null,null,null,null,null,null,null,null,null,{"$f":"IF('PERSONEL BİLGİ GİRİŞİ'!K369,'PERSONEL BİLGİ GİRİŞİ'!K369,\"\")","v":""},null,null,null,null,{"$f":"IF('PERSONEL BİLGİ GİRİŞİ'!E369>=1,'PERSONEL BİLGİ GİRİŞİ'!E369,\"\")","v":""}]
[null,null,null,null,null,null,null,null,null,null,null,null,{"$f":"IF('PERSONEL BİLGİ GİRİŞİ'!K370,'PERSONEL BİLGİ GİRİŞİ'!K370,\"\")","v":""},null,null,null,null,{"$f":"IF('PERSONEL BİLGİ GİRİŞİ'!E370>=1,'PERSONEL BİLGİ GİRİŞİ'!E370,\"\")","v":""}]
[null,null,null,null,null,null,null,null,null,null,null,null,{"$f":"IF('PERSONEL BİLGİ GİRİŞİ'!K371,'PERSONEL BİLGİ GİRİŞİ'!K371,\"\")","v":""},null,null,null,null,{"$f":"IF('PERSONEL BİLGİ GİRİŞİ'!E371>=1,'PERSONEL BİLGİ GİRİŞİ'!E371,\"\")","v":""}]
[null,null,null,null,null,null,null,null,null,null,null,null,{"$f":"IF('PERSONEL BİLGİ GİRİŞİ'!K372,'PERSONEL BİLGİ GİRİŞİ'!K372,\"\")","v":""},null,null,null,null,{"$f":"IF('PERSONEL BİLGİ GİRİŞİ'!E372>=1,'PERSONEL BİLGİ GİRİŞİ'!E372,\"\")","v":""}]
[null,null,null,null,null,null,null,null,null,null,null,null,{"$f":"IF('PERSONEL BİLGİ GİRİŞİ'!K373,'PERSONEL BİLGİ GİRİŞİ'!K373,\"\")","v":""},null,null,null,null,{"$f":"IF('PERSONEL BİLGİ GİRİŞİ'!E373>=1,'PERSONEL BİLGİ GİRİŞİ'!E373,\"\")","v":""}]
[null,null,null,null,null,null,null,null,null,null,null,null,{"$f":"IF('PERSONEL BİLGİ GİRİŞİ'!K374,'PERSONEL BİLGİ GİRİŞİ'!K374,\"\")","v":""},null,null,null,null,{"$f":"IF('PERSONEL BİLGİ GİRİŞİ'!E374>=1,'PERSONEL BİLGİ GİRİŞİ'!E374,\"\")","v":""}]
[null,null,null,null,null,null,null,null,null,null,null,null,{"$f":"IF('PERSONEL BİLGİ GİRİŞİ'!K375,'PERSONEL BİLGİ GİRİŞİ'!K375,\"\")","v":""},null,null,null,null,{"$f":"IF('PERSONEL BİLGİ GİRİŞİ'!E375>=1,'PERSONEL BİLGİ GİRİŞİ'!E375,\"\")","v":""}]
[null,null,null,null,null,null,null,null,null,null,null,null,{"$f":"IF('PERSONEL BİLGİ GİRİŞİ'!K376,'PERSONEL BİLGİ GİRİŞİ'!K376,\"\")","v":""},null,null,null,null,{"$f":"IF('PERSONEL BİLGİ GİRİŞİ'!E376>=1,'PERSONEL BİLGİ GİRİŞİ'!E376,\"\")","v":""}]
[null,null,null,null,null,null,null,null,null,null,null,null,{"$f":"IF('PERSONEL BİLGİ GİRİŞİ'!K377,'PERSONEL BİLGİ GİRİŞİ'!K377,\"\")","v":""},null,null,null,null,{"$f":"IF('PERSONEL BİLGİ GİRİŞİ'!E377>=1,'PERSONEL BİLGİ GİRİŞİ'!E377,\"\")","v":""}]
[null,null,null,null,null,null,null,null,null,null,null,null,{"$f":"IF('PERSONEL BİLGİ GİRİŞİ'!K378,'PERSONEL BİLGİ GİRİŞİ'!K378,\"\")","v":""},null,null,null,null,{"$f":"IF('PERSONEL BİLGİ GİRİŞİ'!E378>=1,'PERSONEL BİLGİ GİRİŞİ'!E378,\"\")","v":""}]
[null,null,null,null,null,null,null,null,null,null,null,null,{"$f":"IF('PERSONEL BİLGİ GİRİŞİ'!K379,'PERSONEL BİLGİ GİRİŞİ'!K379,\"\")","v":""},null,null,null,null,{"$f":"IF('PERSONEL BİLGİ GİRİŞİ'!E379>=1,'PERSONEL BİLGİ GİRİŞİ'!E379,\"\")","v":""}]
[null,null,null,null,null,null,null,null,null,null,null,null,{"$f":"IF('PERSONEL BİLGİ GİRİŞİ'!K380,'PERSONEL BİLGİ GİRİŞİ'!K380,\"\")","v":""},null,null,null,null,{"$f":"IF('PERSONEL BİLGİ GİRİŞİ'!E380>=1,'PERSONEL BİLGİ GİRİŞİ'!E380,\"\")","v":""}]
[null,null,null,null,null,null,null,null,null,null,null,null,{"$f":"IF('PERSONEL BİLGİ GİRİŞİ'!K381,'PERSONEL BİLGİ GİRİŞİ'!K381,\"\")","v":""},null,null,null,null,{"$f":"IF('PERSONEL BİLGİ GİRİŞİ'!E381>=1,'PERSONEL BİLGİ GİRİŞİ'!E381,\"\")","v":""}]
[null,null,null,null,null,null,null,null,null,null,null,null,{"$f":"IF('PERSONEL BİLGİ GİRİŞİ'!K382,'PERSONEL BİLGİ GİRİŞİ'!K382,\"\")","v":""},null,null,null,null,{"$f":"IF('PERSONEL BİLGİ GİRİŞİ'!E382>=1,'PERSONEL BİLGİ GİRİŞİ'!E382,\"\")","v":""}]
[null,null,null,null,null,null,null,null,null,null,null,null,{"$f":"IF('PERSONEL BİLGİ GİRİŞİ'!K383,'PERSONEL BİLGİ GİRİŞİ'!K383,\"\")","v":""},null,null,null,null,{"$f":"IF('PERSONEL BİLGİ GİRİŞİ'!E383>=1,'PERSONEL BİLGİ GİRİŞİ'!E383,\"\")","v":""}]
[null,null,null,null,null,null,null,null,null,null,null,null,{"$f":"IF('PERSONEL BİLGİ GİRİŞİ'!K384,'PERSONEL BİLGİ GİRİŞİ'!K384,\"\")","v":""},null,null,null,null,{"$f":"IF('PERSONEL BİLGİ GİRİŞİ'!E384>=1,'PERSONEL BİLGİ GİRİŞİ'!E384,\"\")","v":""}]
[null,null,null,null,null,null,null,null,null,null,null,null,{"$f":"IF('PERSONEL BİLGİ GİRİŞİ'!K385,'PERSONEL BİLGİ GİRİŞİ'!K385,\"\")","v":""},null,null,null,null,{"$f":"IF('PERSONEL BİLGİ GİRİŞİ'!E385>=1,'PERSONEL BİLGİ GİRİŞİ'!E385,\"\")","v":""}]
[null,null,null,null,null,null,null,null,null,null,null,null,{"$f":"IF('PERSONEL BİLGİ GİRİŞİ'!K386,'PERSONEL BİLGİ GİRİŞİ'!K386,\"\")","v":""},null,null,null,null,{"$f":"IF('PERSONEL BİLGİ GİRİŞİ'!E386>=1,'PERSONEL BİLGİ GİRİŞİ'!E386,\"\")","v":""}]
[null,null,null,null,null,null,null,null,null,null,null,null,{"$f":"IF('PERSONEL BİLGİ GİRİŞİ'!K387,'PERSONEL BİLGİ GİRİŞİ'!K387,\"\")","v":""},null,null,null,null,{"$f":"IF('PERSONEL BİLGİ GİRİŞİ'!E387>=1,'PERSONEL BİLGİ GİRİŞİ'!E387,\"\")","v":""}]
[null,null,null,null,null,null,null,null,null,null,null,null,{"$f":"IF('PERSONEL BİLGİ GİRİŞİ'!K388,'PERSONEL BİLGİ GİRİŞİ'!K388,\"\")","v":""},null,null,null,null,{"$f":"IF('PERSONEL BİLGİ GİRİŞİ'!E388>=1,'PERSONEL BİLGİ GİRİŞİ'!E388,\"\")","v":""}]
[null,null,null,null,null,null,null,null,null,null,null,null,{"$f":"IF('PERSONEL BİLGİ GİRİŞİ'!K389,'PERSONEL BİLGİ GİRİŞİ'!K389,\"\")","v":""},null,null,null,null,{"$f":"IF('PERSONEL BİLGİ GİRİŞİ'!E389>=1,'PERSONEL BİLGİ GİRİŞİ'!E389,\"\")","v":""}]
[null,null,null,null,null,null,null,null,null,null,null,null,{"$f":"IF('PERSONEL BİLGİ GİRİŞİ'!K390,'PERSONEL BİLGİ GİRİŞİ'!K390,\"\")","v":""},null,null,null,null,{"$f":"IF('PERSONEL BİLGİ GİRİŞİ'!E390>=1,'PERSONEL BİLGİ GİRİŞİ'!E390,\"\")","v":""}]
[null,null,null,null,null,null,null,null,null,null,null,null,{"$f":"IF('PERSONEL BİLGİ GİRİŞİ'!K391,'PERSONEL BİLGİ GİRİŞİ'!K391,\"\")","v":""},null,null,null,null,{"$f":"IF('PERSONEL BİLGİ GİRİŞİ'!E391>=1,'PERSONEL BİLGİ GİRİŞİ'!E391,\"\")","v":""}]
[null,null,null,null,null,null,null,null,null,null,null,null,{"$f":"IF('PERSONEL BİLGİ GİRİŞİ'!K392,'PERSONEL BİLGİ GİRİŞİ'!K392,\"\")","v":""},null,null,null,null,{"$f":"IF('PERSONEL BİLGİ GİRİŞİ'!E392>=1,'PERSONEL BİLGİ GİRİŞİ'!E392,\"\")","v":""}]
[null,null,null,null,null,null,null,null,null,null,null,null,{"$f":"IF('PERSONEL BİLGİ GİRİŞİ'!K393,'PERSONEL BİLGİ GİRİŞİ'!K393,\"\")","v":""},null,null,null,null,{"$f":"IF('PERSONEL BİLGİ GİRİŞİ'!E393>=1,'PERSONEL BİLGİ GİRİŞİ'!E393,\"\")","v":""}]
[null,null,null,null,null,null,null,null,null,null,null,null,{"$f":"IF('PERSONEL BİLGİ GİRİŞİ'!K394,'PERSONEL BİLGİ GİRİŞİ'!K394,\"\")","v":""},null,null,null,null,{"$f":"IF('PERSONEL BİLGİ GİRİŞİ'!E394>=1,'PERSONEL BİLGİ GİRİŞİ'!E394,\"\")","v":""}]
[null,null,null,null,null,null,null,null,null,null,null,null,{"$f":"IF('PERSONEL BİLGİ GİRİŞİ'!K395,'PERSONEL BİLGİ GİRİŞİ'!K395,\"\")","v":""},null,null,null,null,{"$f":"IF('PERSONEL BİLGİ GİRİŞİ'!E395>=1,'PERSONEL BİLGİ GİRİŞİ'!E395,\"\")","v":""}]
[null,null,null,null,null,null,null,null,null,null,null,null,{"$f":"IF('PERSONEL BİLGİ GİRİŞİ'!K396,'PERSONEL BİLGİ GİRİŞİ'!K396,\"\")","v":""},null,null,null,null,{"$f":"IF('PERSONEL BİLGİ GİRİŞİ'!E396>=1,'PERSONEL BİLGİ GİRİŞİ'!E396,\"\")","v":""}]
[null,null,null,null,null,null,null,null,null,null,null,null,{"$f":"IF('PERSONEL BİLGİ GİRİŞİ'!K397,'PERSONEL BİLGİ GİRİŞİ'!K397,\"\")","v":""},null,null,null,null,{"$f":"IF('PERSONEL BİLGİ GİRİŞİ'!E397>=1,'PERSONEL BİLGİ GİRİŞİ'!E397,\"\")","v":""}]
[null,null,null,null,null,null,null,null,null,null,null,null,{"$f":"IF('PERSONEL BİLGİ GİRİŞİ'!K398,'PERSONEL BİLGİ GİRİŞİ'!K398,\"\")","v":""},null,null,null,null,{"$f":"IF('PERSONEL BİLGİ GİRİŞİ'!E398>=1,'PERSONEL BİLGİ GİRİŞİ'!E398,\"\")","v":""}]
[null,null,null,null,null,null,null,null,null,null,null,null,{"$f":"IF('PERSONEL BİLGİ GİRİŞİ'!K399,'PERSONEL BİLGİ GİRİŞİ'!K399,\"\")","v":""},null,null,null,null,{"$f":"IF('PERSONEL BİLGİ GİRİŞİ'!E399>=1,'PERSONEL BİLGİ GİRİŞİ'!E399,\"\")","v":""}]
[null,null,null,null,null,null,null,null,null,null,null,null,{"$f":"IF('PERSONEL BİLGİ GİRİŞİ'!K400,'PERSONEL BİLGİ GİRİŞİ'!K400,\"\")","v":""},null,null,null,null,{"$f":"IF('PERSONEL BİLGİ GİRİŞİ'!E400>=1,'PERSONEL BİLGİ GİRİŞİ'!E400,\"\")","v":""}]
[null,null,null,null,null,null,null,null,null,null,null,null,{"$f":"IF('PERSONEL BİLGİ GİRİŞİ'!K401,'PERSONEL BİLGİ GİRİŞİ'!K401,\"\")","v":""},null,null,null,null,{"$f":"IF('PERSONEL BİLGİ GİRİŞİ'!E401>=1,'PERSONEL BİLGİ GİRİŞİ'!E401,\"\")","v":""}]
[null,null,null,null,null,null,null,null,null,null,null,null,{"$f":"IF('PERSONEL BİLGİ GİRİŞİ'!K402,'PERSONEL BİLGİ GİRİŞİ'!K402,\"\")","v":""},null,null,null,null,{"$f":"IF('PERSONEL BİLGİ GİRİŞİ'!E402>=1,'PERSONEL BİLGİ GİRİŞİ'!E402,\"\")","v":""}]
[null,null,null,null,null,null,null,null,null,null,null,null,{"$f":"IF('PERSONEL BİLGİ GİRİŞİ'!K403,'PERSONEL BİLGİ GİRİŞİ'!K403,\"\")","v":""},null,null,null,null,{"$f":"IF('PERSONEL BİLGİ GİRİŞİ'!E403>=1,'PERSONEL BİLGİ GİRİŞİ'!E403,\"\")","v":""}]
[null,null,null,null,null,null,null,null,null,null,null,null,{"$f":"IF('PERSONEL BİLGİ GİRİŞİ'!K404,'PERSONEL BİLGİ GİRİŞİ'!K404,\"\")","v":""},null,null,null,null,{"$f":"IF('PERSONEL BİLGİ GİRİŞİ'!E404>=1,'PERSONEL BİLGİ GİRİŞİ'!E404,\"\")","v":""}]
[null,null,null,null,null,null,null,null,null,null,null,null,{"$f":"IF('PERSONEL BİLGİ GİRİŞİ'!K405,'PERSONEL BİLGİ GİRİŞİ'!K405,\"\")","v":""},null,null,null,null,{"$f":"IF('PERSONEL BİLGİ GİRİŞİ'!E405>=1,'PERSONEL BİLGİ GİRİŞİ'!E405,\"\")","v":""}]
[null,null,null,null,null,null,null,null,null,null,null,null,{"$f":"IF('PERSONEL BİLGİ GİRİŞİ'!K406,'PERSONEL BİLGİ GİRİŞİ'!K406,\"\")","v":""},null,null,null,null,{"$f":"IF('PERSONEL BİLGİ GİRİŞİ'!E406>=1,'PERSONEL BİLGİ GİRİŞİ'!E406,\"\")","v":""}]
[null,null,null,null,null,null,null,null,null,null,null,null,{"$f":"IF('PERSONEL BİLGİ GİRİŞİ'!K407,'PERSONEL BİLGİ GİRİŞİ'!K407,\"\")","v":""},null,null,null,null,{"$f":"IF('PERSONEL BİLGİ GİRİŞİ'!E407>=1,'PERSONEL BİLGİ GİRİŞİ'!E407,\"\")","v":""}]
[null,null,null,null,null,null,null,null,null,null,null,null,{"$f":"IF('PERSONEL BİLGİ GİRİŞİ'!K408,'PERSONEL BİLGİ GİRİŞİ'!K408,\"\")","v":""},null,null,null,null,{"$f":"IF('PERSONEL BİLGİ GİRİŞİ'!E408>=1,'PERSONEL BİLGİ GİRİŞİ'!E408,\"\")","v":""}]
[null,null,null,null,null,null,null,null,null,null,null,null,{"$f":"IF('PERSONEL BİLGİ GİRİŞİ'!K409,'PERSONEL BİLGİ GİRİŞİ'!K409,\"\")","v":""},null,null,null,null,{"$f":"IF('PERSONEL BİLGİ GİRİŞİ'!E409>=1,'PERSONEL BİLGİ GİRİŞİ'!E409,\"\")","v":""}]
[null,null,null,null,null,null,null,null,null,null,null,null,{"$f":"IF('PERSONEL BİLGİ GİRİŞİ'!K410,'PERSONEL BİLGİ GİRİŞİ'!K410,\"\")","v":""},null,null,null,null,{"$f":"IF('PERSONEL BİLGİ GİRİŞİ'!E410>=1,'PERSONEL BİLGİ GİRİŞİ'!E410,\"\")","v":""}]
[null,null,null,null,null,null,null,null,null,null,null,null,{"$f":"IF('PERSONEL BİLGİ GİRİŞİ'!K411,'PERSONEL BİLGİ GİRİŞİ'!K411,\"\")","v":""},null,null,null,null,{"$f":"IF('PERSONEL BİLGİ GİRİŞİ'!E411>=1,'PERSONEL BİLGİ GİRİŞİ'!E411,\"\")","v":""}]
[null,null,null,null,null,null,null,null,null,null,null,null,{"$f":"IF('PERSONEL BİLGİ GİRİŞİ'!K412,'PERSONEL BİLGİ GİRİŞİ'!K412,\"\")","v":""},null,null,null,null,{"$f":"IF('PERSONEL BİLGİ GİRİŞİ'!E412>=1,'PERSONEL BİLGİ GİRİŞİ'!E412,\"\")","v":""}]
[null,null,null,null,null,null,null,null,null,null,null,null,{"$f":"IF('PERSONEL BİLGİ GİRİŞİ'!K413,'PERSONEL BİLGİ GİRİŞİ'!K413,\"\")","v":""},null,null,null,null,{"$f":"IF('PERSONEL BİLGİ GİRİŞİ'!E413>=1,'PERSONEL BİLGİ GİRİŞİ'!E413,\"\")","v":""}]
[null,null,null,null,null,null,null,null,null,null,null,null,{"$f":"IF('PERSONEL BİLGİ GİRİŞİ'!K414,'PERSONEL BİLGİ GİRİŞİ'!K414,\"\")","v":""},null,null,null,null,{"$f":"IF('PERSONEL BİLGİ GİRİŞİ'!E414>=1,'PERSONEL BİLGİ GİRİŞİ'!E414,\"\")","v":""}]
[null,null,null,null,null,null,null,null,null,null,null,null,{"$f":"IF('PERSONEL BİLGİ GİRİŞİ'!K415,'PERSONEL BİLGİ GİRİŞİ'!K415,\"\")","v":""},null,null,null,null,{"$f":"IF('PERSONEL BİLGİ GİRİŞİ'!E415>=1,'PERSONEL BİLGİ GİRİŞİ'!E415,\"\")","v":""}]
[null,null,null,null,null,null,null,null,null,null,null,null,{"$f":"IF('PERSONEL BİLGİ GİRİŞİ'!K416,'PERSONEL BİLGİ GİRİŞİ'!K416,\"\")","v":""},null,null,null,null,{"$f":"IF('PERSONEL BİLGİ GİRİŞİ'!E416>=1,'PERSONEL BİLGİ GİRİŞİ'!E416,\"\")","v":""}]
[null,null,null,null,null,null,null,null,null,null,null,null,{"$f":"IF('PERSONEL BİLGİ GİRİŞİ'!K417,'PERSONEL BİLGİ GİRİŞİ'!K417,\"\")","v":""},null,null,null,null,{"$f":"IF('PERSONEL BİLGİ GİRİŞİ'!E417>=1,'PERSONEL BİLGİ GİRİŞİ'!E417,\"\")","v":""}]
[null,null,null,null,null,null,null,null,null,null,null,null,{"$f":"IF('PERSONEL BİLGİ GİRİŞİ'!K418,'PERSONEL BİLGİ GİRİŞİ'!K418,\"\")","v":""},null,null,null,null,{"$f":"IF('PERSONEL BİLGİ GİRİŞİ'!E418>=1,'PERSONEL BİLGİ GİRİŞİ'!E418,\"\")","v":""}]
[null,null,null,null,null,null,null,null,null,null,null,null,{"$f":"IF('PERSONEL BİLGİ GİRİŞİ'!K419,'PERSONEL BİLGİ GİRİŞİ'!K419,\"\")","v":""},null,null,null,null,{"$f":"IF('PERSONEL BİLGİ GİRİŞİ'!E419>=1,'PERSONEL BİLGİ GİRİŞİ'!E419,\"\")","v":""}]
[null,null,null,null,null,null,null,null,null,null,null,null,{"$f":"IF('PERSONEL BİLGİ GİRİŞİ'!K420,'PERSONEL BİLGİ GİRİŞİ'!K420,\"\")","v":""},null,null,null,null,{"$f":"IF('PERSONEL BİLGİ GİRİŞİ'!E420>=1,'PERSONEL BİLGİ GİRİŞİ'!E420,\"\")","v":""}]
[null,null,null,null,null,null,null,null,null,null,null,null,{"$f":"IF('PERSONEL BİLGİ GİRİŞİ'!K421,'PERSONEL BİLGİ GİRİŞİ'!K421,\"\")","v":""},null,null,null,null,{"$f":"IF('PERSONEL BİLGİ GİRİŞİ'!E421>=1,'PERSONEL BİLGİ GİRİŞİ'!E421,\"\")","v":""}]
[null,null,null,null,null,null,null,null,null,null,null,null,{"$f":"IF('PERSONEL BİLGİ GİRİŞİ'!K422,'PERSONEL BİLGİ GİRİŞİ'!K422,\"\")","v":""},null,null,null,null,{"$f":"IF('PERSONEL BİLGİ GİRİŞİ'!E422>=1,'PERSONEL BİLGİ GİRİŞİ'!E422,\"\")","v":""}]
[null,null,null,null,null,null,null,null,null,null,null,null,{"$f":"IF('PERSONEL BİLGİ GİRİŞİ'!K423,'PERSONEL BİLGİ GİRİŞİ'!K423,\"\")","v":""},null,null,null,null,{"$f":"IF('PERSONEL BİLGİ GİRİŞİ'!E423>=1,'PERSONEL BİLGİ GİRİŞİ'!E423,\"\")","v":""}]
[null,null,null,null,null,null,null,null,null,null,null,null,{"$f":"IF('PERSONEL BİLGİ GİRİŞİ'!K424,'PERSONEL BİLGİ GİRİŞİ'!K424,\"\")","v":""},null,null,null,null,{"$f":"IF('PERSONEL BİLGİ GİRİŞİ'!E424>=1,'PERSONEL BİLGİ GİRİŞİ'!E424,\"\")","v":""}]
[null,null,null,null,null,null,null,null,null,null,null,null,{"$f":"IF('PERSONEL BİLGİ GİRİŞİ'!K425,'PERSONEL BİLGİ GİRİŞİ'!K425,\"\")","v":""},null,null,null,null,{"$f":"IF('PERSONEL BİLGİ GİRİŞİ'!E425>=1,'PERSONEL BİLGİ GİRİŞİ'!E425,\"\")","v":""}]
[null,null,null,null,null,null,null,null,null,null,null,null,{"$f":"IF('PERSONEL BİLGİ GİRİŞİ'!K426,'PERSONEL BİLGİ GİRİŞİ'!K426,\"\")","v":""},null,null,null,null,{"$f":"IF('PERSONEL BİLGİ GİRİŞİ'!E426>=1,'PERSONEL BİLGİ GİRİŞİ'!E426,\"\")","v":""}]
[null,null,null,null,null,null,null,null,null,null,null,null,{"$f":"IF('PERSONEL BİLGİ GİRİŞİ'!K427,'PERSONEL BİLGİ GİRİŞİ'!K427,\"\")","v":""},null,null,null,null,{"$f":"IF('PERSONEL BİLGİ GİRİŞİ'!E427>=1,'PERSONEL BİLGİ GİRİŞİ'!E427,\"\")","v":""}]
[null,null,null,null,null,null,null,null,null,null,null,null,{"$f":"IF('PERSONEL BİLGİ GİRİŞİ'!K428,'PERSONEL BİLGİ GİRİŞİ'!K428,\"\")","v":""},null,null,null,null,{"$f":"IF('PERSONEL BİLGİ GİRİŞİ'!E428>=1,'PERSONEL BİLGİ GİRİŞİ'!E428,\"\")","v":""}]
[null,null,null,null,null,null,null,null,null,null,null,null,{"$f":"IF('PERSONEL BİLGİ GİRİŞİ'!K429,'PERSONEL BİLGİ GİRİŞİ'!K429,\"\")","v":""},null,null,null,null,{"$f":"IF('PERSONEL BİLGİ GİRİŞİ'!E429>=1,'PERSONEL BİLGİ GİRİŞİ'!E429,\"\")","v":""}]
[null,null,null,null,null,null,null,null,null,null,null,null,{"$f":"IF('PERSONEL BİLGİ GİRİŞİ'!K430,'PERSONEL BİLGİ GİRİŞİ'!K430,\"\")","v":""},null,null,null,null,{"$f":"IF('PERSONEL BİLGİ GİRİŞİ'!E430>=1,'PERSONEL BİLGİ GİRİŞİ'!E430,\"\")","v":""}]
[null,null,null,null,null,null,null,null,null,null,null,null,{"$f":"IF('PERSONEL BİLGİ GİRİŞİ'!K431,'PERSONEL BİLGİ GİRİŞİ'!K431,\"\")","v":""},null,null,null,null,{"$f":"IF('PERSONEL BİLGİ GİRİŞİ'!E431>=1,'PERSONEL BİLGİ GİRİŞİ'!E431,\"\")","v":""}]
[null,null,null,null,null,null,null,null,null,null,null,null,{"$f":"IF('PERSONEL BİLGİ GİRİŞİ'!K432,'PERSONEL BİLGİ GİRİŞİ'!K432,\"\")","v":""},null,null,null,null,{"$f":"IF('PERSONEL BİLGİ GİRİŞİ'!E432>=1,'PERSONEL BİLGİ GİRİŞİ'!E432,\"\")","v":""}]
[null,null,null,null,null,null,null,null,null,null,null,null,{"$f":"IF('PERSONEL BİLGİ GİRİŞİ'!K433,'PERSONEL BİLGİ GİRİŞİ'!K433,\"\")","v":""},null,null,null,null,{"$f":"IF('PERSONEL BİLGİ GİRİŞİ'!E433>=1,'PERSONEL BİLGİ GİRİŞİ'!E433,\"\")","v":""}]
[null,null,null,null,null,null,null,null,null,null,null,null,{"$f":"IF('PERSONEL BİLGİ GİRİŞİ'!K434,'PERSONEL BİLGİ GİRİŞİ'!K434,\"\")","v":""},null,null,null,null,{"$f":"IF('PERSONEL BİLGİ GİRİŞİ'!E434>=1,'PERSONEL BİLGİ GİRİŞİ'!E434,\"\")","v":""}]
[null,null,null,null,null,null,null,null,null,null,null,null,{"$f":"IF('PERSONEL BİLGİ GİRİŞİ'!K435,'PERSONEL BİLGİ GİRİŞİ'!K435,\"\")","v":""},null,null,null,null,{"$f":"IF('PERSONEL BİLGİ GİRİŞİ'!E435>=1,'PERSONEL BİLGİ GİRİŞİ'!E435,\"\")","v":""}]
[null,null,null,null,null,null,null,null,null,null,null,null,{"$f":"IF('PERSONEL BİLGİ GİRİŞİ'!K436,'PERSONEL BİLGİ GİRİŞİ'!K436,\"\")","v":""},null,null,null,null,{"$f":"IF('PERSONEL BİLGİ GİRİŞİ'!E436>=1,'PERSONEL BİLGİ GİRİŞİ'!E436,\"\")","v":""}]
[null,null,null,null,null,null,null,null,null,null,null,null,{"$f":"IF('PERSONEL BİLGİ GİRİŞİ'!K437,'PERSONEL BİLGİ GİRİŞİ'!K437,\"\")","v":""},null,null,null,null,{"$f":"IF('PERSONEL BİLGİ GİRİŞİ'!E437>=1,'PERSONEL BİLGİ GİRİŞİ'!E437,\"\")","v":""}]
[null,null,null,null,null,null,null,null,null,null,null,null,{"$f":"IF('PERSONEL BİLGİ GİRİŞİ'!K438,'PERSONEL BİLGİ GİRİŞİ'!K438,\"\")","v":""},null,null,null,null,{"$f":"IF('PERSONEL BİLGİ GİRİŞİ'!E438>=1,'PERSONEL BİLGİ GİRİŞİ'!E438,\"\")","v":""}]
[null,null,null,null,null,null,null,null,null,null,null,null,{"$f":"IF('PERSONEL BİLGİ GİRİŞİ'!K439,'PERSONEL BİLGİ GİRİŞİ'!K439,\"\")","v":""},null,null,null,null,{"$f":"IF('PERSONEL BİLGİ GİRİŞİ'!E439>=1,'PERSONEL BİLGİ GİRİŞİ'!E439,\"\")","v":""}]
[null,null,null,null,null,null,null,null,null,null,null,null,{"$f":"IF('PERSONEL BİLGİ GİRİŞİ'!K440,'PERSONEL BİLGİ GİRİŞİ'!K440,\"\")","v":""},null,null,null,null,{"$f":"IF('PERSONEL BİLGİ GİRİŞİ'!E440>=1,'PERSONEL BİLGİ GİRİŞİ'!E440,\"\")","v":""}]
[null,null,null,null,null,null,null,null,null,null,null,null,{"$f":"IF('PERSONEL BİLGİ GİRİŞİ'!K441,'PERSONEL BİLGİ GİRİŞİ'!K441,\"\")","v":""},null,null,null,null,{"$f":"IF('PERSONEL BİLGİ GİRİŞİ'!E441>=1,'PERSONEL BİLGİ GİRİŞİ'!E441,\"\")","v":""}]
[null,null,null,null,null,null,null,null,null,null,null,null,{"$f":"IF('PERSONEL BİLGİ GİRİŞİ'!K442,'PERSONEL BİLGİ GİRİŞİ'!K442,\"\")","v":""},null,null,null,null,{"$f":"IF('PERSONEL BİLGİ GİRİŞİ'!E442>=1,'PERSONEL BİLGİ GİRİŞİ'!E442,\"\")","v":""}]
[null,null,null,null,null,null,null,null,null,null,null,null,{"$f":"IF('PERSONEL BİLGİ GİRİŞİ'!K443,'PERSONEL BİLGİ GİRİŞİ'!K443,\"\")","v":""},null,null,null,null,{"$f":"IF('PERSONEL BİLGİ GİRİŞİ'!E443>=1,'PERSONEL BİLGİ GİRİŞİ'!E443,\"\")","v":""}]
[null,null,null,null,null,null,null,null,null,null,null,null,{"$f":"IF('PERSONEL BİLGİ GİRİŞİ'!K444,'PERSONEL BİLGİ GİRİŞİ'!K444,\"\")","v":""},null,null,null,null,{"$f":"IF('PERSONEL BİLGİ GİRİŞİ'!E444>=1,'PERSONEL BİLGİ GİRİŞİ'!E444,\"\")","v":""}]
[null,null,null,null,null,null,null,null,null,null,null,null,{"$f":"IF('PERSONEL BİLGİ GİRİŞİ'!K445,'PERSONEL BİLGİ GİRİŞİ'!K445,\"\")","v":""},null,null,null,null,{"$f":"IF('PERSONEL BİLGİ GİRİŞİ'!E445>=1,'PERSONEL BİLGİ GİRİŞİ'!E445,\"\")","v":""}]
[null,null,null,null,null,null,null,null,null,null,null,null,{"$f":"IF('PERSONEL BİLGİ GİRİŞİ'!K446,'PERSONEL BİLGİ GİRİŞİ'!K446,\"\")","v":""},null,null,null,null,{"$f":"IF('PERSONEL BİLGİ GİRİŞİ'!E446>=1,'PERSONEL BİLGİ GİRİŞİ'!E446,\"\")","v":""}]
[null,null,null,null,null,null,null,null,null,null,null,null,{"$f":"IF('PERSONEL BİLGİ GİRİŞİ'!K447,'PERSONEL BİLGİ GİRİŞİ'!K447,\"\")","v":""},null,null,null,null,{"$f":"IF('PERSONEL BİLGİ GİRİŞİ'!E447>=1,'PERSONEL BİLGİ GİRİŞİ'!E447,\"\")","v":""}]
[null,null,null,null,null,null,null,null,null,null,null,null,{"$f":"IF('PERSONEL BİLGİ GİRİŞİ'!K448,'PERSONEL BİLGİ GİRİŞİ'!K448,\"\")","v":""},null,null,null,null,{"$f":"IF('PERSONEL BİLGİ GİRİŞİ'!E448>=1,'PERSONEL BİLGİ GİRİŞİ'!E448,\"\")","v":""}]
[null,null,null,null,null,null,null,null,null,null,null,null,{"$f":"IF('PERSONEL BİLGİ GİRİŞİ'!K449,'PERSONEL BİLGİ GİRİŞİ'!K449,\"\")","v":""},null,null,null,null,{"$f":"IF('PERSONEL BİLGİ GİRİŞİ'!E449>=1,'PERSONEL BİLGİ GİRİŞİ'!E449,\"\")","v":""}]
[null,null,null,null,null,null,null,null,null,null,null,null,{"$f":"IF('PERSONEL BİLGİ GİRİŞİ'!K450,'PERSONEL BİLGİ GİRİŞİ'!K450,\"\")","v":""},null,null,null,null,{"$f":"IF('PERSONEL BİLGİ GİRİŞİ'!E450>=1,'PERSONEL BİLGİ GİRİŞİ'!E450,\"\")","v":""}]
[null,null,null,null,null,null,null,null,null,null,null,null,{"$f":"IF('PERSONEL BİLGİ GİRİŞİ'!K451,'PERSONEL BİLGİ GİRİŞİ'!K451,\"\")","v":""},null,null,null,null,{"$f":"IF('PERSONEL BİLGİ GİRİŞİ'!E451>=1,'PERSONEL BİLGİ GİRİŞİ'!E451,\"\")","v":""}]
[null,null,null,null,null,null,null,null,null,null,null,null,{"$f":"IF('PERSONEL BİLGİ GİRİŞİ'!K452,'PERSONEL BİLGİ GİRİŞİ'!K452,\"\")","v":""},null,null,null,null,{"$f":"IF('PERSONEL BİLGİ GİRİŞİ'!E452>=1,'PERSONEL BİLGİ GİRİŞİ'!E452,\"\")","v":""}]
[null,null,null,null,null,null,null,null,null,null,null,null,{"$f":"IF('PERSONEL BİLGİ GİRİŞİ'!K453,'PERSONEL BİLGİ GİRİŞİ'!K453,\"\")","v":""},null,null,null,null,{"$f":"IF('PERSONEL BİLGİ GİRİŞİ'!E453>=1,'PERSONEL BİLGİ GİRİŞİ'!E453,\"\")","v":""}]
[null,null,null,null,null,null,null,null,null,null,null,null,{"$f":"IF('PERSONEL BİLGİ GİRİŞİ'!K454,'PERSONEL BİLGİ GİRİŞİ'!K454,\"\")","v":""},null,null,null,null,{"$f":"IF('PERSONEL BİLGİ GİRİŞİ'!E454>=1,'PERSONEL BİLGİ GİRİŞİ'!E454,\"\")","v":""}]
[null,null,null,null,null,null,null,null,null,null,null,null,{"$f":"IF('PERSONEL BİLGİ GİRİŞİ'!K455,'PERSONEL BİLGİ GİRİŞİ'!K455,\"\")","v":""},null,null,null,null,{"$f":"IF('PERSONEL BİLGİ GİRİŞİ'!E455>=1,'PERSONEL BİLGİ GİRİŞİ'!E455,\"\")","v":""}]
[null,null,null,null,null,null,null,null,null,null,null,null,{"$f":"IF('PERSONEL BİLGİ GİRİŞİ'!K456,'PERSONEL BİLGİ GİRİŞİ'!K456,\"\")","v":""},null,null,null,null,{"$f":"IF('PERSONEL BİLGİ GİRİŞİ'!E456>=1,'PERSONEL BİLGİ GİRİŞİ'!E456,\"\")","v":""}]
[null,null,null,null,null,null,null,null,null,null,null,null,{"$f":"IF('PERSONEL BİLGİ GİRİŞİ'!K457,'PERSONEL BİLGİ GİRİŞİ'!K457,\"\")","v":""},null,null,null,null,{"$f":"IF('PERSONEL BİLGİ GİRİŞİ'!E457>=1,'PERSONEL BİLGİ GİRİŞİ'!E457,\"\")","v":""}]
[null,null,null,null,null,null,null,null,null,null,null,null,{"$f":"IF('PERSONEL BİLGİ GİRİŞİ'!K458,'PERSONEL BİLGİ GİRİŞİ'!K458,\"\")","v":""},null,null,null,null,{"$f":"IF('PERSONEL BİLGİ GİRİŞİ'!E458>=1,'PERSONEL BİLGİ GİRİŞİ'!E458,\"\")","v":""}]
[null,null,null,null,null,null,null,null,null,null,null,null,{"$f":"IF('PERSONEL BİLGİ GİRİŞİ'!K459,'PERSONEL BİLGİ GİRİŞİ'!K459,\"\")","v":""},null,null,null,null,{"$f":"IF('PERSONEL BİLGİ GİRİŞİ'!E459>=1,'PERSONEL BİLGİ GİRİŞİ'!E459,\"\")","v":""}]
[null,null,null,null,null,null,null,null,null,null,null,null,{"$f":"IF('PERSONEL BİLGİ GİRİŞİ'!K460,'PERSONEL BİLGİ GİRİŞİ'!K460,\"\")","v":""},null,null,null,null,{"$f":"IF('PERSONEL BİLGİ GİRİŞİ'!E460>=1,'PERSONEL BİLGİ GİRİŞİ'!E460,\"\")","v":""}]
[null,null,null,null,null,null,null,null,null,null,null,null,{"$f":"IF('PERSONEL BİLGİ GİRİŞİ'!K461,'PERSONEL BİLGİ GİRİŞİ'!K461,\"\")","v":""},null,null,null,null,{"$f":"IF('PERSONEL BİLGİ GİRİŞİ'!E461>=1,'PERSONEL BİLGİ GİRİŞİ'!E461,\"\")","v":""}]
[null,null,null,null,null,null,null,null,null,null,null,null,{"$f":"IF('PERSONEL BİLGİ GİRİŞİ'!K462,'PERSONEL BİLGİ GİRİŞİ'!K462,\"\")","v":""},null,null,null,null,{"$f":"IF('PERSONEL BİLGİ GİRİŞİ'!E462>=1,'PERSONEL BİLGİ GİRİŞİ'!E462,\"\")","v":""}]
[null,null,null,null,null,null,null,null,null,null,null,null,{"$f":"IF('PERSONEL BİLGİ GİRİŞİ'!K463,'PERSONEL BİLGİ GİRİŞİ'!K463,\"\")","v":""},null,null,null,null,{"$f":"IF('PERSONEL BİLGİ GİRİŞİ'!E463>=1,'PERSONEL BİLGİ GİRİŞİ'!E463,\"\")","v":""}]
[null,null,null,null,null,null,null,null,null,null,null,null,{"$f":"IF('PERSONEL BİLGİ GİRİŞİ'!K464,'PERSONEL BİLGİ GİRİŞİ'!K464,\"\")","v":""},null,null,null,null,{"$f":"IF('PERSONEL BİLGİ GİRİŞİ'!E464>=1,'PERSONEL BİLGİ GİRİŞİ'!E464,\"\")","v":""}]
[null,null,null,null,null,null,null,null,null,null,null,null,{"$f":"IF('PERSONEL BİLGİ GİRİŞİ'!K465,'PERSONEL BİLGİ GİRİŞİ'!K465,\"\")","v":""},null,null,null,null,{"$f":"IF('PERSONEL BİLGİ GİRİŞİ'!E465>=1,'PERSONEL BİLGİ GİRİŞİ'!E465,\"\")","v":""}]
[null,null,null,null,null,null,null,null,null,null,null,null,{"$f":"IF('PERSONEL BİLGİ GİRİŞİ'!K466,'PERSONEL BİLGİ GİRİŞİ'!K466,\"\")","v":""},null,null,null,null,{"$f":"IF('PERSONEL BİLGİ GİRİŞİ'!E466>=1,'PERSONEL BİLGİ GİRİŞİ'!E466,\"\")","v":""}]
[null,null,null,null,null,null,null,null,null,null,null,null,{"$f":"IF('PERSONEL BİLGİ GİRİŞİ'!K467,'PERSONEL BİLGİ GİRİŞİ'!K467,\"\")","v":""},null,null,null,null,{"$f":"IF('PERSONEL BİLGİ GİRİŞİ'!E467>=1,'PERSONEL BİLGİ GİRİŞİ'!E467,\"\")","v":""}]
[null,null,null,null,null,null,null,null,null,null,null,null,{"$f":"IF('PERSONEL BİLGİ GİRİŞİ'!K468,'PERSONEL BİLGİ GİRİŞİ'!K468,\"\")","v":""},null,null,null,null,{"$f":"IF('PERSONEL BİLGİ GİRİŞİ'!E468>=1,'PERSONEL BİLGİ GİRİŞİ'!E468,\"\")","v":""}]
[null,null,null,null,null,null,null,null,null,null,null,null,{"$f":"IF('PERSONEL BİLGİ GİRİŞİ'!K469,'PERSONEL BİLGİ GİRİŞİ'!K469,\"\")","v":""},null,null,null,null,{"$f":"IF('PERSONEL BİLGİ GİRİŞİ'!E469>=1,'PERSONEL BİLGİ GİRİŞİ'!E469,\"\")","v":""}]
[null,null,null,null,null,null,null,null,null,null,null,null,{"$f":"IF('PERSONEL BİLGİ GİRİŞİ'!K470,'PERSONEL BİLGİ GİRİŞİ'!K470,\"\")","v":""},null,null,null,null,{"$f":"IF('PERSONEL BİLGİ GİRİŞİ'!E470>=1,'PERSONEL BİLGİ GİRİŞİ'!E470,\"\")","v":""}]
[null,null,null,null,null,null,null,null,null,null,null,null,{"$f":"IF('PERSONEL BİLGİ GİRİŞİ'!K471,'PERSONEL BİLGİ GİRİŞİ'!K471,\"\")","v":""},null,null,null,null,{"$f":"IF('PERSONEL BİLGİ GİRİŞİ'!E471>=1,'PERSONEL BİLGİ GİRİŞİ'!E471,\"\")","v":""}]
[null,null,null,null,null,null,null,null,null,null,null,null,{"$f":"IF('PERSONEL BİLGİ GİRİŞİ'!K472,'PERSONEL BİLGİ GİRİŞİ'!K472,\"\")","v":""},null,null,null,null,{"$f":"IF('PERSONEL BİLGİ GİRİŞİ'!E472>=1,'PERSONEL BİLGİ GİRİŞİ'!E472,\"\")","v":""}]
[null,null,null,null,null,null,null,null,null,null,null,null,{"$f":"IF('PERSONEL BİLGİ GİRİŞİ'!K473,'PERSONEL BİLGİ GİRİŞİ'!K473,\"\")","v":""},null,null,null,null,{"$f":"IF('PERSONEL BİLGİ GİRİŞİ'!E473>=1,'PERSONEL BİLGİ GİRİŞİ'!E473,\"\")","v":""}]
[null,null,null,null,null,null,null,null,null,null,null,null,{"$f":"IF('PERSONEL BİLGİ GİRİŞİ'!K474,'PERSONEL BİLGİ GİRİŞİ'!K474,\"\")","v":""},null,null,null,null,{"$f":"IF('PERSONEL BİLGİ GİRİŞİ'!E474>=1,'PERSONEL BİLGİ GİRİŞİ'!E474,\"\")","v":""}]
[null,null,null,null,null,null,null,null,null,null,null,null,{"$f":"IF('PERSONEL BİLGİ GİRİŞİ'!K475,'PERSONEL BİLGİ GİRİŞİ'!K475,\"\")","v":""},null,null,null,null,{"$f":"IF('PERSONEL BİLGİ GİRİŞİ'!E475>=1,'PERSONEL BİLGİ GİRİŞİ'!E475,\"\")","v":""}]
[null,null,null,null,null,null,null,null,null,null,null,null,{"$f":"IF('PERSONEL BİLGİ GİRİŞİ'!K476,'PERSONEL BİLGİ GİRİŞİ'!K476,\"\")","v":""},null,null,null,null,{"$f":"IF('PERSONEL BİLGİ GİRİŞİ'!E476>=1,'PERSONEL BİLGİ GİRİŞİ'!E476,\"\")","v":""}]
[null,null,null,null,null,null,null,null,null,null,null,null,{"$f":"IF('PERSONEL BİLGİ GİRİŞİ'!K477,'PERSONEL BİLGİ GİRİŞİ'!K477,\"\")","v":""},null,null,null,null,{"$f":"IF('PERSONEL BİLGİ GİRİŞİ'!E477>=1,'PERSONEL BİLGİ GİRİŞİ'!E477,\"\")","v":""}]
[null,null,null,null,null,null,null,null,null,null,null,null,{"$f":"IF('PERSONEL BİLGİ GİRİŞİ'!K478,'PERSONEL BİLGİ GİRİŞİ'!K478,\"\")","v":""},null,null,null,null,{"$f":"IF('PERSONEL BİLGİ GİRİŞİ'!E478>=1,'PERSONEL BİLGİ GİRİŞİ'!E478,\"\")","v":""}]
[null,null,null,null,null,null,null,null,null,null,null,null,{"$f":"IF('PERSONEL BİLGİ GİRİŞİ'!K479,'PERSONEL BİLGİ GİRİŞİ'!K479,\"\")","v":""},null,null,null,null,{"$f":"IF('PERSONEL BİLGİ GİRİŞİ'!E479>=1,'PERSONEL BİLGİ GİRİŞİ'!E479,\"\")","v":""}]
[null,null,null,null,null,null,null,null,null,null,null,null,{"$f":"IF('PERSONEL BİLGİ GİRİŞİ'!K480,'PERSONEL BİLGİ GİRİŞİ'!K480,\"\")","v":""},null,null,null,null,{"$f":"IF('PERSONEL BİLGİ GİRİŞİ'!E480>=1,'PERSONEL BİLGİ GİRİŞİ'!E480,\"\")","v":""}]
[null,null,null,null,null,null,null,null,null,null,null,null,{"$f":"IF('PERSONEL BİLGİ GİRİŞİ'!K481,'PERSONEL BİLGİ GİRİŞİ'!K481,\"\")","v":""},null,null,null,null,{"$f":"IF('PERSONEL BİLGİ GİRİŞİ'!E481>=1,'PERSONEL BİLGİ GİRİŞİ'!E481,\"\")","v":""}]
[null,null,null,null,null,null,null,null,null,null,null,null,{"$f":"IF('PERSONEL BİLGİ GİRİŞİ'!K482,'PERSONEL BİLGİ GİRİŞİ'!K482,\"\")","v":""},null,null,null,null,{"$f":"IF('PERSONEL BİLGİ GİRİŞİ'!E482>=1,'PERSONEL BİLGİ GİRİŞİ'!E482,\"\")","v":""}]
[null,null,null,null,null,null,null,null,null,null,null,null,{"$f":"IF('PERSONEL BİLGİ GİRİŞİ'!K483,'PERSONEL BİLGİ GİRİŞİ'!K483,\"\")","v":""},null,null,null,null,{"$f":"IF('PERSONEL BİLGİ GİRİŞİ'!E483>=1,'PERSONEL BİLGİ GİRİŞİ'!E483,\"\")","v":""}]
[null,null,null,null,null,null,null,null,null,null,null,null,{"$f":"IF('PERSONEL BİLGİ GİRİŞİ'!K484,'PERSONEL BİLGİ GİRİŞİ'!K484,\"\")","v":""},null,null,null,null,{"$f":"IF('PERSONEL BİLGİ GİRİŞİ'!E484>=1,'PERSONEL BİLGİ GİRİŞİ'!E484,\"\")","v":""}]
[null,null,null,null,null,null,null,null,null,null,null,null,{"$f":"IF('PERSONEL BİLGİ GİRİŞİ'!K485,'PERSONEL BİLGİ GİRİŞİ'!K485,\"\")","v":""},null,null,null,null,{"$f":"IF('PERSONEL BİLGİ GİRİŞİ'!E485>=1,'PERSONEL BİLGİ GİRİŞİ'!E485,\"\")","v":""}]
[null,null,null,null,null,null,null,null,null,null,null,null,{"$f":"IF('PERSONEL BİLGİ GİRİŞİ'!K486,'PERSONEL BİLGİ GİRİŞİ'!K486,\"\")","v":""},null,null,null,null,{"$f":"IF('PERSONEL BİLGİ GİRİŞİ'!E486>=1,'PERSONEL BİLGİ GİRİŞİ'!E486,\"\")","v":""}]
[null,null,null,null,null,null,null,null,null,null,null,null,{"$f":"IF('PERSONEL BİLGİ GİRİŞİ'!K487,'PERSONEL BİLGİ GİRİŞİ'!K487,\"\")","v":""},null,null,null,null,{"$f":"IF('PERSONEL BİLGİ GİRİŞİ'!E487>=1,'PERSONEL BİLGİ GİRİŞİ'!E487,\"\")","v":""}]
[null,null,null,null,null,null,null,null,null,null,null,null,{"$f":"IF('PERSONEL BİLGİ GİRİŞİ'!K488,'PERSONEL BİLGİ GİRİŞİ'!K488,\"\")","v":""},null,null,null,null,{"$f":"IF('PERSONEL BİLGİ GİRİŞİ'!E488>=1,'PERSONEL BİLGİ GİRİŞİ'!E488,\"\")","v":""}]
[null,null,null,null,null,null,null,null,null,null,null,null,{"$f":"IF('PERSONEL BİLGİ GİRİŞİ'!K489,'PERSONEL BİLGİ GİRİŞİ'!K489,\"\")","v":""},null,null,null,null,{"$f":"IF('PERSONEL BİLGİ GİRİŞİ'!E489>=1,'PERSONEL BİLGİ GİRİŞİ'!E489,\"\")","v":""}]
[null,null,null,null,null,null,null,null,null,null,null,null,{"$f":"IF('PERSONEL BİLGİ GİRİŞİ'!K490,'PERSONEL BİLGİ GİRİŞİ'!K490,\"\")","v":""},null,null,null,null,{"$f":"IF('PERSONEL BİLGİ GİRİŞİ'!E490>=1,'PERSONEL BİLGİ GİRİŞİ'!E490,\"\")","v":""}]
[null,null,null,null,null,null,null,null,null,null,null,null,{"$f":"IF('PERSONEL BİLGİ GİRİŞİ'!K491,'PERSONEL BİLGİ GİRİŞİ'!K491,\"\")","v":""},null,null,null,null,{"$f":"IF('PERSONEL BİLGİ GİRİŞİ'!E491>=1,'PERSONEL BİLGİ GİRİŞİ'!E491,\"\")","v":""}]
[null,null,null,null,null,null,null,null,null,null,null,null,{"$f":"IF('PERSONEL BİLGİ GİRİŞİ'!K492,'PERSONEL BİLGİ GİRİŞİ'!K492,\"\")","v":""},null,null,null,null,{"$f":"IF('PERSONEL BİLGİ GİRİŞİ'!E492>=1,'PERSONEL BİLGİ GİRİŞİ'!E492,\"\")","v":""}]
[null,null,null,null,null,null,null,null,null,null,null,null,{"$f":"IF('PERSONEL BİLGİ GİRİŞİ'!K493,'PERSONEL BİLGİ GİRİŞİ'!K493,\"\")","v":""},null,null,null,null,{"$f":"IF('PERSONEL BİLGİ GİRİŞİ'!E493>=1,'PERSONEL BİLGİ GİRİŞİ'!E493,\"\")","v":""}]
[null,null,null,null,null,null,null,null,null,null,null,null,{"$f":"IF('PERSONEL BİLGİ GİRİŞİ'!K494,'PERSONEL BİLGİ GİRİŞİ'!K494,\"\")","v":""},null,null,null,null,{"$f":"IF('PERSONEL BİLGİ GİRİŞİ'!E494>=1,'PERSONEL BİLGİ GİRİŞİ'!E494,\"\")","v":""}]
[null,null,null,null,null,null,null,null,null,null,null,null,{"$f":"IF('PERSONEL BİLGİ GİRİŞİ'!K495,'PERSONEL BİLGİ GİRİŞİ'!K495,\"\")","v":""},null,null,null,null,{"$f":"IF('PERSONEL BİLGİ GİRİŞİ'!E495>=1,'PERSONEL BİLGİ GİRİŞİ'!E495,\"\")","v":""}]
[null,null,null,null,null,null,null,null,null,null,null,null,{"$f":"IF('PERSONEL BİLGİ GİRİŞİ'!K496,'PERSONEL BİLGİ GİRİŞİ'!K496,\"\")","v":""},null,null,null,null,{"$f":"IF('PERSONEL BİLGİ GİRİŞİ'!E496>=1,'PERSONEL BİLGİ GİRİŞİ'!E496,\"\")","v":""}]
[null,null,null,null,null,null,null,null,null,null,null,null,{"$f":"IF('PERSONEL BİLGİ GİRİŞİ'!K497,'PERSONEL BİLGİ GİRİŞİ'!K497,\"\")","v":""},null,null,null,null,{"$f":"IF('PERSONEL BİLGİ GİRİŞİ'!E497>=1,'PERSONEL BİLGİ GİRİŞİ'!E497,\"\")","v":""}]
[null,null,null,null,null,null,null,null,null,null,null,null,{"$f":"IF('PERSONEL BİLGİ GİRİŞİ'!K498,'PERSONEL BİLGİ GİRİŞİ'!K498,\"\")","v":""},null,null,null,null,{"$f":"IF('PERSONEL BİLGİ GİRİŞİ'!E498>=1,'PERSONEL BİLGİ GİRİŞİ'!E498,\"\")","v":""}]
[null,null,null,null,null,null,null,null,null,null,null,null,{"$f":"IF('PERSONEL BİLGİ GİRİŞİ'!K499,'PERSONEL BİLGİ GİRİŞİ'!K499,\"\")","v":""},null,null,null,null,{"$f":"IF('PERSONEL BİLGİ GİRİŞİ'!E499>=1,'PERSONEL BİLGİ GİRİŞİ'!E499,\"\")","v":""}]
[null,null,null,null,null,null,null,null,null,null,null,null,{"$f":"IF('PERSONEL BİLGİ GİRİŞİ'!K500,'PERSONEL BİLGİ GİRİŞİ'!K500,\"\")","v":""},null,null,null,null,{"$f":"IF('PERSONEL BİLGİ GİRİŞİ'!E500>=1,'PERSONEL BİLGİ GİRİŞİ'!E500,\"\")","v":""}]
[null,null,null,null,null,null,null,null,null,null,null,null,{"$f":"IF('PERSONEL BİLGİ GİRİŞİ'!K501,'PERSONEL BİLGİ GİRİŞİ'!K501,\"\")","v":""},null,null,null,null,{"$f":"IF('PERSONEL BİLGİ GİRİŞİ'!E501>=1,'PERSONEL BİLGİ GİRİŞİ'!E501,\"\")","v":""}]
[null,null,null,null,null,null,null,null,null,null,null,null,{"$f":"IF('PERSONEL BİLGİ GİRİŞİ'!K502,'PERSONEL BİLGİ GİRİŞİ'!K502,\"\")","v":""},null,null,null,null,{"$f":"IF('PERSONEL BİLGİ GİRİŞİ'!E502>=1,'PERSONEL BİLGİ GİRİŞİ'!E502,\"\")","v":""}]
[null,null,null,null,null,null,null,null,null,null,null,null,{"$f":"IF('PERSONEL BİLGİ GİRİŞİ'!K503,'PERSONEL BİLGİ GİRİŞİ'!K503,\"\")","v":""},null,null,null,null,{"$f":"IF('PERSONEL BİLGİ GİRİŞİ'!E503>=1,'PERSONEL BİLGİ GİRİŞİ'!E503,\"\")","v":""}]
[null,null,null,null,null,null,null,null,null,null,null,null,{"$f":"IF('PERSONEL BİLGİ GİRİŞİ'!K504,'PERSONEL BİLGİ GİRİŞİ'!K504,\"\")","v":""},null,null,null,null,{"$f":"IF('PERSONEL BİLGİ GİRİŞİ'!E504>=1,'PERSONEL BİLGİ GİRİŞİ'!E504,\"\")","v":""}]
[null,null,"Uyarı: Sayfa 500  sigortalı ile sınırlı değildir. 65000 sigortalı girişi yapılabilir. "]

{"sheet":"PERSONEL BİLDİRİMİ","index":12,"n_rows":109,"n_cols":14,"rows_kept":109,"cut":false,"hidden":false,"merged":[[25,0,25,1],[26,0,26,1],[27,0,27,1],[28,0,28,1],[25,2,25,5],[26,2,26,5],[27,2,27,5],[28,2,28,5],[0,0,0,6],[3,3,3,5],[4,3,4,5],[2,0,2,2],[1,0,1,5],[2,3,2,5],[9,4,9,5],[10,0,10,2],[10,3,10,6],[12,3,12,5],[11,0,11,6],[9,1,9,2],[5,0,5,2],[5,3,5,5],[6,4,6,5],[7,4,7,5],[8,4,8,5],[6,1,6,2],[7,1,7,2],[8,1,8,2]]}
[{"$f":"'PERSONEL BİLGİ GİRİŞİ'!A1","v":"AİLE VE SOSYAL HİZMETLER İL MÜDÜRLÜĞÜ"}]
["P E R S O N E L    B İ L D İ R İ M İ",null,null,null,null,null,{"$f":"PUANTAJ!AI2","v":"2024-01-01"}]
[null,null,null,null,null,null,"ANA SAYFA"]
[null,null,null,"AİT OLDUĞU AY",null,null,{"$f":"PUANTAJ!AI2","v":"2024-01-01"}]
[null,null,null,"BÜTÇE YILI",null,null,{"$f":"YEAR(G4)","v":2024}]
["1 NOLU TABLO",null,null,"TAHAKKUK TOPLAMI",null,null,"ELE GEÇEN TOPLAM"]
[1,"Geçen Ay Personel Sayısı",null,{"$f":"COUNTA('PERSONEL BİLGİ GİRİŞİ'!$B$5:$B$79)","v":1},0,null,0]
[2,"Bu ay İçinde Giren"]
[3,"Bu ay İçinde Çıkan"]
[4,"Ödeme Yapılacak Personel Sayısı",null,{"$f":"D7","v":1},{"$f":"' BORDRO HAZIRLIK'!AJ40+' BORDRO HAZIRLIK'!BD40+' BORDRO HAZIRLIK'!BE40","v":21836.6},null,{"$f":"' BORDRO HAZIRLIK'!BG40","v":18498.96}]
["2 NOLU TABLO"]
["Hastalık İzni Kullanan Personel Yoktur",null,null,null,null,null,null,null,null,1,2,3,4,5]
["Sıra No","İşçinin Adı Soyadı","Geçen Aylarda Kullanılan Hastalık İzin süresi","Bu Ay Kullandığı Hastalık İzin Süresi",null,null,"Toplam Hastalık İzin Süresi",null,null,"AD-SOYAD","İSTİRHAT SÜRESİ","TOPLAM İSTİRHAT","GEÇEN AY İSTİRHAT SÜRESİ"]
[1," ",{"$f":"VLOOKUP(B14,$J$14:$N$88,4,FALSE)","v":0},{"$f":"VLOOKUP(B14,$J$14:$K$88,2,FALSE)","v":0},null,null,{"$f":"VLOOKUP(B14,$J$14:$N$88,3,FALSE)","v":0},null,1,{"$f":"PUANTAJ!B7","v":"ALİ BZC "},{"$f":"PUANTAJ!AV7","v":0}]
[2," ",{"$f":"VLOOKUP(B15,$J$14:$N$88,4,FALSE)","v":0},{"$f":"VLOOKUP(B15,$J$14:$K$88,2,FALSE)","v":0},null,null,{"$f":"VLOOKUP(B15,$J$14:$N$88,3,FALSE)","v":0},null,2,{"$f":"PUANTAJ!B8","v":0},{"$f":"PUANTAJ!AV8","v":0}]
[3," ",0,0,null,null,0,null,3,{"$f":"PUANTAJ!B9","v":" "},{"$f":"PUANTAJ!AV9","v":0}]
[4," ",0,0,null,null,0,null,4,{"$f":"PUANTAJ!B10","v":0},{"$f":"PUANTAJ!AV10","v":0}]
[5," ",0,0,null,null,0,null,5,{"$f":"PUANTAJ!B11","v":" "},{"$f":"PUANTAJ!AV11","v":0}]
[6," ",0,0,null,null,0,null,6,{"$f":"PUANTAJ!B12","v":0},{"$f":"PUANTAJ!AV12","v":0}]
[7," ",0,0,null,null,0,null,7,{"$f":"PUANTAJ!B13","v":" "},{"$f":"PUANTAJ!AV13","v":0}]
[8," ",0,0,null,null,0,null,8,{"$f":"PUANTAJ!B14","v":0},{"$f":"PUANTAJ!AV14","v":0}]
[9," ",0,0,null,null,0,null,9,{"$f":"PUANTAJ!B15","v":" "},{"$f":"PUANTAJ!AV15","v":0}]
[10," ",0,0,null,null,0,null,10,{"$f":"PUANTAJ!B16","v":0},{"$f":"PUANTAJ!AV16","v":0}]
[null,null,null,null,null,null,null,null,11,{"$f":"PUANTAJ!B17","v":" "},{"$f":"PUANTAJ!AV17","v":0}]
[null,null,null,null,null,null,null,null,12,{"$f":"PUANTAJ!B18","v":0},{"$f":"PUANTAJ!AV18","v":0}]
[{"$f":"'PERSONEL BİLGİ GİRİŞİ'!A81","v":"MAAŞ MUTEMEDİ"},null,{"$f":"'PERSONEL BİLGİ GİRİŞİ'!J81","v":"GERÇEKLEŞTİRME GÖREVLİSİ"},null,null,null,{"$f":"'PERSONEL BİLGİ GİRİŞİ'!K81","v":"HARCAMA YETKİLİSİ"},null,13,{"$f":"PUANTAJ!B19","v":" "},{"$f":"PUANTAJ!AV19","v":0}]
[{"$f":"'PERSONEL BİLGİ GİRİŞİ'!A82","v":0},null,{"$f":"'PERSONEL BİLGİ GİRİŞİ'!J82","v":0},null,null,null,{"$f":"'PERSONEL BİLGİ GİRİŞİ'!K82","v":0},null,14,{"$f":"PUANTAJ!B20","v":0},{"$f":"PUANTAJ!AV20","v":0}]
[{"$f":"'PERSONEL BİLGİ GİRİŞİ'!A83","v":{"$error":"#N/A"}},null,{"$f":"'PERSONEL BİLGİ GİRİŞİ'!J83","v":{"$error":"#N/A"}},null,null,null,{"$f":"'PERSONEL BİLGİ GİRİŞİ'!K83","v":{"$error":"#N/A"}},null,15,{"$f":"PUANTAJ!B21","v":" "},{"$f":"PUANTAJ!AV21","v":0}]
[{"$f":"TODAY()","v":"2024-02-05"},null,{"$f":"'PERSONEL BİLGİ GİRİŞİ'!J84","v":"2024-02-05"},null,null,null,{"$f":"'PERSONEL BİLGİ GİRİŞİ'!K84","v":"2024-02-05"},null,16,{"$f":"PUANTAJ!B22","v":0},{"$f":"PUANTAJ!AV22","v":0}]
[null,null,null,null,null,null,null,null,17,{"$f":"PUANTAJ!B23","v":" "},{"$f":"PUANTAJ!AV23","v":0}]
[null,null,null,null,null,null,null,null,18,{"$f":"PUANTAJ!B24","v":0},{"$f":"PUANTAJ!AV24","v":0}]
[null,null,null,null,null,null,null,null,19,{"$f":"PUANTAJ!B25","v":" "},{"$f":"PUANTAJ!AV25","v":0}]
[null,null,null,null,null,null,null,null,20,{"$f":"PUANTAJ!B26","v":0},{"$f":"PUANTAJ!AV26","v":0}]
[null,null,null,null,null,null,null,null,21,{"$f":"PUANTAJ!B27","v":" "},{"$f":"PUANTAJ!AV27","v":0}]
[null,null,null,null,null,null,null,null,22,{"$f":"PUANTAJ!B28","v":0},{"$f":"PUANTAJ!AV28","v":0}]
[null,null,null,null,null,null,null,null,23,{"$f":"PUANTAJ!B29","v":" "},{"$f":"PUANTAJ!AV29","v":0}]
[null,null,null,null,null,null,null,null,24,{"$f":"PUANTAJ!B30","v":0},{"$f":"PUANTAJ!AV30","v":0}]
[null,null,null,null,null,null,null,null,25,{"$f":"PUANTAJ!B31","v":" "},{"$f":"PUANTAJ!AV31","v":0}]
[null,null,null,null,null,null,null,null,26,{"$f":"PUANTAJ!B32","v":0},{"$f":"PUANTAJ!AV32","v":0}]
[null,null,null,null,null,null,null,null,27,{"$f":"PUANTAJ!B33","v":" "},{"$f":"PUANTAJ!AV33","v":0}]
[null,null,null,null,null,null,null,null,28,{"$f":"PUANTAJ!B34","v":0},{"$f":"PUANTAJ!AV34","v":0}]
[null,null,null,null,null,null,null,null,29,{"$f":"PUANTAJ!B35","v":" "},{"$f":"PUANTAJ!AV35","v":0}]
[null,null,null,null,null,null,null,null,30,{"$f":"PUANTAJ!B36","v":0},{"$f":"PUANTAJ!AV36","v":0}]
[null,null,null,null,null,null,null,null,31,{"$f":"PUANTAJ!B37","v":" "},{"$f":"PUANTAJ!AV37","v":0}]
[null,null,null,null,null,null,null,null,32,{"$f":"PUANTAJ!B38","v":0},{"$f":"PUANTAJ!AV38","v":0}]
[null,null,null,null,null,null,null,null,33,{"$f":"PUANTAJ!B39","v":" "},{"$f":"PUANTAJ!AV39","v":0}]
[null,null,null,null,null,null,null,null,34,{"$f":"PUANTAJ!B40","v":0},{"$f":"PUANTAJ!AV40","v":0}]
[null,null,null,null,null,null,null,null,35,{"$f":"PUANTAJ!B41","v":" "},{"$f":"PUANTAJ!AV41","v":0}]
[null,null,null,null,null,null,null,null,36,{"$f":"PUANTAJ!B42","v":0},{"$f":"PUANTAJ!AV42","v":0}]
[null,null,null,null,null,null,null,null,37,{"$f":"PUANTAJ!B43","v":" "},{"$f":"PUANTAJ!AV43","v":0}]
[null,null,null,null,null,null,null,null,38,{"$f":"PUANTAJ!B44","v":0},{"$f":"PUANTAJ!AV44","v":0}]
[null,null,null,null,null,null,null,null,39,{"$f":"PUANTAJ!B45","v":" "},{"$f":"PUANTAJ!AV45","v":0}]
[null,null,null,null,null,null,null,null,40,{"$f":"PUANTAJ!B46","v":0},{"$f":"PUANTAJ!AV46","v":0}]
[null,null,null,null,null,null,null,null,41,{"$f":"PUANTAJ!B47","v":" "},{"$f":"PUANTAJ!AV47","v":0}]
[null,null,null,null,null,null,null,null,42,{"$f":"PUANTAJ!B48","v":0},{"$f":"PUANTAJ!AV48","v":0}]
[null,null,null,null,null,null,null,null,43,{"$f":"PUANTAJ!B49","v":" "},{"$f":"PUANTAJ!AV49","v":0}]
[null,null,null,null,null,null,null,null,44,{"$f":"PUANTAJ!B50","v":0},{"$f":"PUANTAJ!AV50","v":0}]
[null,null,null,null,null,null,null,null,45,{"$f":"PUANTAJ!B51","v":" "},{"$f":"PUANTAJ!AV51","v":0}]
[null,null,null,null,null,null,null,null,46,{"$f":"PUANTAJ!B52","v":0},{"$f":"PUANTAJ!AV52","v":0}]
[null,null,null,null,null,null,null,null,47,{"$f":"PUANTAJ!B53","v":" "},{"$f":"PUANTAJ!AV53","v":0}]
[null,null,null,null,null,null,null,null,48,{"$f":"PUANTAJ!B54","v":0},{"$f":"PUANTAJ!AV54","v":0}]
[null,null,null,null,null,null,null,null,49,{"$f":"PUANTAJ!B55","v":" "},{"$f":"PUANTAJ!AV55","v":0}]
[null,null,null,null,null,null,null,null,50,{"$f":"PUANTAJ!B56","v":0},{"$f":"PUANTAJ!AV56","v":0}]
[null,null,null,null,null,null,null,null,51,{"$f":"PUANTAJ!B57","v":" "},{"$f":"PUANTAJ!AV57","v":0}]
[null,null,null,null,null,null,null,null,52,{"$f":"PUANTAJ!B58","v":0},{"$f":"PUANTAJ!AV58","v":0}]
[null,null,null,null,null,null,null,null,53,{"$f":"PUANTAJ!B59","v":" "},{"$f":"PUANTAJ!AV59","v":0}]
[null,null,null,null,null,null,null,null,54,{"$f":"PUANTAJ!B60","v":0},{"$f":"PUANTAJ!AV60","v":0}]
[null,null,null,null,null,null,null,null,55,{"$f":"PUANTAJ!B61","v":" "},{"$f":"PUANTAJ!AV61","v":0}]
[null,null,null,null,null,null,null,null,56,{"$f":"PUANTAJ!B62","v":0},{"$f":"PUANTAJ!AV62","v":0}]
[null,null,null,null,null,null,null,null,57,{"$f":"PUANTAJ!B63","v":" "},{"$f":"PUANTAJ!AV63","v":0}]
[null,null,null,null,null,null,null,null,58,{"$f":"PUANTAJ!B64","v":0},{"$f":"PUANTAJ!AV64","v":0}]
[null,null,null,null,null,null,null,null,59,{"$f":"PUANTAJ!B65","v":" "},{"$f":"PUANTAJ!AV65","v":0}]
[null,null,null,null,null,null,null,null,60,{"$f":"PUANTAJ!B66","v":0},{"$f":"PUANTAJ!AV66","v":0}]
[null,null,null,null,null,null,null,null,61,{"$f":"PUANTAJ!B67","v":" "},{"$f":"PUANTAJ!AV67","v":0}]
[null,null,null,null,null,null,null,null,62,{"$f":"PUANTAJ!B68","v":0},{"$f":"PUANTAJ!AV68","v":0}]
[null,null,null,null,null,null,null,null,63,{"$f":"PUANTAJ!B69","v":" "},{"$f":"PUANTAJ!AV69","v":0}]
[null,null,null,null,null,null,null,null,64,{"$f":"PUANTAJ!B70","v":0},{"$f":"PUANTAJ!AV70","v":0}]
[null,null,null,null,null,null,null,null,65,{"$f":"PUANTAJ!B71","v":" "},{"$f":"PUANTAJ!AV71","v":0}]
[null,null,null,null,null,null,null,null,66,{"$f":"PUANTAJ!B72","v":0},{"$f":"PUANTAJ!AV72","v":0}]
[null,null,null,null,null,null,null,null,67,{"$f":"PUANTAJ!B73","v":" "},{"$f":"PUANTAJ!AV73","v":0}]
[null,null,null,null,null,null,null,null,68,{"$f":"PUANTAJ!B74","v":0},{"$f":"PUANTAJ!AV74","v":0}]
[null,null,null,null,null,null,null,null,69,{"$f":"PUANTAJ!B75","v":" "},{"$f":"PUANTAJ!AV75","v":0}]
[null,null,null,null,null,null,null,null,70,{"$f":"PUANTAJ!B76","v":0},{"$f":"PUANTAJ!AV76","v":0}]
[null,null,null,null,null,null,null,null,71,{"$f":"PUANTAJ!#REF!","v":{"$error":"#REF!"}},{"$f":"PUANTAJ!#REF!","v":{"$error":"#REF!"}}]
[null,null,null,null,null,null,null,null,72,{"$f":"PUANTAJ!#REF!","v":{"$error":"#REF!"}},{"$f":"PUANTAJ!#REF!","v":{"$error":"#REF!"}}]
[null,null,null,null,null,null,null,null,73,{"$f":"PUANTAJ!#REF!","v":{"$error":"#REF!"}},{"$f":"PUANTAJ!#REF!","v":{"$error":"#REF!"}}]
[null,null,null,null,null,null,null,null,74,{"$f":"PUANTAJ!#REF!","v":{"$error":"#REF!"}},{"$f":"PUANTAJ!#REF!","v":{"$error":"#REF!"}}]
[null,null,null,null,null,null,null,null,75,{"$f":"PUANTAJ!B77","v":0},{"$f":"PUANTAJ!AV77","v":0}]
[null,null,null,null,null,null,null,null,null,{"$f":"CONCATENATE('PERSONEL BİLGİ GİRİŞİ'!B80,\" \",'PERSONEL BİLGİ GİRİŞİ'!C80)","v":" "}]
[null,null,null,null,null,null,null,null,null,{"$f":"CONCATENATE('PERSONEL BİLGİ GİRİŞİ'!B81,\" \",'PERSONEL BİLGİ GİRİŞİ'!C81)","v":" "}]
[null,null,null,null,null,null,null,null,null,{"$f":"CONCATENATE('PERSONEL BİLGİ GİRİŞİ'!B82,\" \",'PERSONEL BİLGİ GİRİŞİ'!C82)","v":" "}]
[null,null,null,null,null,null,null,null,null,{"$f":"CONCATENATE('PERSONEL BİLGİ GİRİŞİ'!B83,\" \",'PERSONEL BİLGİ GİRİŞİ'!C83)","v":" "}]
[null,null,null,null,null,null,null,null,null,{"$f":"CONCATENATE('PERSONEL BİLGİ GİRİŞİ'!B84,\" \",'PERSONEL BİLGİ GİRİŞİ'!C84)","v":" "}]
[null,null,null,null,null,null,null,null,null,{"$f":"CONCATENATE('PERSONEL BİLGİ GİRİŞİ'!B85,\" \",'PERSONEL BİLGİ GİRİŞİ'!C85)","v":" "}]
[null,null,null,null,null,null,null,null,null,{"$f":"CONCATENATE('PERSONEL BİLGİ GİRİŞİ'!B86,\" \",'PERSONEL BİLGİ GİRİŞİ'!C86)","v":" "}]
[null,null,null,null,null,null,null,null,null,{"$f":"CONCATENATE('PERSONEL BİLGİ GİRİŞİ'!B87,\" \",'PERSONEL BİLGİ GİRİŞİ'!C87)","v":" "}]
[null,null,null,null,null,null,null,null,null,{"$f":"CONCATENATE('PERSONEL BİLGİ GİRİŞİ'!B88,\" \",'PERSONEL BİLGİ GİRİŞİ'!C88)","v":" "}]
[null,null,null,null,null,null,null,null,null,{"$f":"CONCATENATE('PERSONEL BİLGİ GİRİŞİ'!B89,\" \",'PERSONEL BİLGİ GİRİŞİ'!C89)","v":" "}]
[null,null,null,null,null,null,null,null,null,{"$f":"CONCATENATE('PERSONEL BİLGİ GİRİŞİ'!B90,\" \",'PERSONEL BİLGİ GİRİŞİ'!C90)","v":" "}]
[null,null,null,null,null,null,null,null,null,{"$f":"CONCATENATE('PERSONEL BİLGİ GİRİŞİ'!B91,\" \",'PERSONEL BİLGİ GİRİŞİ'!C91)","v":" "}]
[null,null,null,null,null,null,null,null,null,{"$f":"CONCATENATE('PERSONEL BİLGİ GİRİŞİ'!B92,\" \",'PERSONEL BİLGİ GİRİŞİ'!C92)","v":" "}]
[null,null,null,null,null,null,null,null,null,{"$f":"CONCATENATE('PERSONEL BİLGİ GİRİŞİ'!B93,\" \",'PERSONEL BİLGİ GİRİŞİ'!C93)","v":" "}]
[null,null,null,null,null,null,null,null,null,{"$f":"CONCATENATE('PERSONEL BİLGİ GİRİŞİ'!B94,\" \",'PERSONEL BİLGİ GİRİŞİ'!C94)","v":" "}]
[null,null,null,null,null,null,null,null,null,{"$f":"CONCATENATE('PERSONEL BİLGİ GİRİŞİ'!B95,\" \",'PERSONEL BİLGİ GİRİŞİ'!C95)","v":" "}]
[null,null,null,null,null,null,null,null,null,{"$f":"CONCATENATE('PERSONEL BİLGİ GİRİŞİ'!B96,\" \",'PERSONEL BİLGİ GİRİŞİ'!C96)","v":" "}]
[null,null,null,null,null,null,null,null,null,{"$f":"CONCATENATE('PERSONEL BİLGİ GİRİŞİ'!B97,\" \",'PERSONEL BİLGİ GİRİŞİ'!C97)","v":" "}]
[null,null,null,null,null,null,null,null,null,{"$f":"CONCATENATE('PERSONEL BİLGİ GİRİŞİ'!B98,\" \",'PERSONEL BİLGİ GİRİŞİ'!C98)","v":" "}]
[null,null,null,null,null,null,null,null,null,{"$f":"CONCATENATE('PERSONEL BİLGİ GİRİŞİ'!B99,\" \",'PERSONEL BİLGİ GİRİŞİ'!C99)","v":" "}]
[null,null,null,null,null,null,null,null,null,{"$f":"CONCATENATE('PERSONEL BİLGİ GİRİŞİ'!B100,\" \",'PERSONEL BİLGİ GİRİŞİ'!C100)","v":" "}]

{"sheet":"BES","index":13,"n_rows":40,"n_cols":11,"rows_kept":40,"cut":false,"hidden":false,"merged":[[25,0,25,1],[22,0,22,1],[23,0,23,1],[24,0,24,1],[22,4,22,5],[23,4,23,5],[24,4,24,5],[25,4,25,5],[22,2,22,3],[23,2,23,3],[24,2,24,3],[25,2,25,3],[0,0,0,5],[1,1,1,4],[2,0,3,0],[2,1,3,1],[2,2,3,2],[2,3,3,3],[2,4,3,4]]}
[{"$f":"'PERSONEL BİLGİ GİRİŞİ'!A1","v":"AİLE VE SOSYAL HİZMETLER İL MÜDÜRLÜĞÜ"}]
[null,"B E S   K E S İ N T İ S İ",null,null,null,{"$f":"PUANTAJ!AI2","v":"2024-01-01"}]
["SIRA NO","AD-SOYAD","TC. KİMLİK NO","KESİNTİ DÖNEMİ","KESİNTİ YAPILACAK IBAN NO","ANA SAYFA"]
[null,null,null,null,null,"KESİNTİ                TUTARI",null,1,2,3,4]
[{"$f":"PUANTAJ!A7","v":1}," ",{"$f":"IF(F5>1,VLOOKUP(B5,$H$6:$K$80,2,FALSE),\"\")","v":""},{"$f":"IF(F5>1,$F$2,\"\")","v":""},{"$f":"IF(F5>1,VLOOKUP(B5,$H$6:$K$80,3,FALSE),\"\")","v":""},{"$f":"VLOOKUP(B5,$H$5:$K$80,4,FALSE)","v":0},null,null,"TC","IBAN","KESİNTİ"]
[{"$f":"PUANTAJ!A9","v":""}," ",{"$f":"IF(F6>1,VLOOKUP(B6,$H$6:$K$80,2,FALSE),\"\")","v":""},{"$f":"IF(F6>1,$F$2,\"\")","v":""},{"$f":"IF(F6>1,VLOOKUP(B6,$H$6:$K$80,3,FALSE),\"\")","v":""},{"$f":"VLOOKUP(B6,$H$5:$K$80,4,FALSE)","v":0},1,{"$f":"PUANTAJ!B7","v":"ALİ BZC "},{"$f":"'PERSONEL BİLGİ GİRİŞİ'!H5","v":0},{"$f":"'PERSONEL BİLGİ GİRİŞİ'!J5","v":0},{"$f":"' BORDRO HAZIRLIK'!AS5","v":0}]
[{"$f":"PUANTAJ!A11","v":""}," ","","","",0,2,{"$f":"PUANTAJ!B9","v":" "},{"$f":"'PERSONEL BİLGİ GİRİŞİ'!H6","v":0},{"$f":"'PERSONEL BİLGİ GİRİŞİ'!J6","v":0},{"$f":"' BORDRO HAZIRLIK'!AS6","v":0}]
[{"$f":"PUANTAJ!A13","v":""}," ","","","",0,3,{"$f":"PUANTAJ!B11","v":" "},{"$f":"'PERSONEL BİLGİ GİRİŞİ'!H7","v":0},{"$f":"'PERSONEL BİLGİ GİRİŞİ'!J7","v":0},{"$f":"' BORDRO HAZIRLIK'!AS7","v":0}]
[{"$f":"PUANTAJ!A15","v":""}," ","","","",0,4,{"$f":"PUANTAJ!B13","v":" "},{"$f":"'PERSONEL BİLGİ GİRİŞİ'!H8","v":0},{"$f":"'PERSONEL BİLGİ GİRİŞİ'!J8","v":0},{"$f":"' BORDRO HAZIRLIK'!AS8","v":0}]
[{"$f":"PUANTAJ!A17","v":""}," ","","","",0,5,{"$f":"PUANTAJ!B15","v":" "},{"$f":"'PERSONEL BİLGİ GİRİŞİ'!H9","v":0},{"$f":"'PERSONEL BİLGİ GİRİŞİ'!J9","v":0},{"$f":"' BORDRO HAZIRLIK'!AS9","v":0}]
[{"$f":"PUANTAJ!A19","v":""}," ","","","",0,6,{"$f":"PUANTAJ!B17","v":" "},{"$f":"'PERSONEL BİLGİ GİRİŞİ'!H10","v":0},{"$f":"'PERSONEL BİLGİ GİRİŞİ'!J10","v":0},{"$f":"' BORDRO HAZIRLIK'!AS10","v":0}]
[{"$f":"PUANTAJ!A21","v":""}," ","","","",0,7,{"$f":"PUANTAJ!B19","v":" "},{"$f":"'PERSONEL BİLGİ GİRİŞİ'!H11","v":0},{"$f":"'PERSONEL BİLGİ GİRİŞİ'!J11","v":0},{"$f":"' BORDRO HAZIRLIK'!AS11","v":0}]
[{"$f":"PUANTAJ!A23","v":""}," ","","","",0,8,{"$f":"PUANTAJ!B21","v":" "},{"$f":"'PERSONEL BİLGİ GİRİŞİ'!H12","v":0},{"$f":"'PERSONEL BİLGİ GİRİŞİ'!J12","v":0},{"$f":"' BORDRO HAZIRLIK'!AS12","v":0}]
[{"$f":"PUANTAJ!A25","v":""}," ","","","",0,9,{"$f":"PUANTAJ!B23","v":" "},{"$f":"'PERSONEL BİLGİ GİRİŞİ'!H13","v":0},{"$f":"'PERSONEL BİLGİ GİRİŞİ'!J13","v":0},{"$f":"' BORDRO HAZIRLIK'!AS13","v":0}]
[{"$f":"PUANTAJ!A27","v":""}," ","","","",0,10,{"$f":"PUANTAJ!B25","v":" "},{"$f":"'PERSONEL BİLGİ GİRİŞİ'!H14","v":0},{"$f":"'PERSONEL BİLGİ GİRİŞİ'!J14","v":0},{"$f":"' BORDRO HAZIRLIK'!AS14","v":0}]
[{"$f":"PUANTAJ!A29","v":""}," ","","","",0,11,{"$f":"PUANTAJ!B27","v":" "},{"$f":"'PERSONEL BİLGİ GİRİŞİ'!H15","v":0},{"$f":"'PERSONEL BİLGİ GİRİŞİ'!J15","v":0},{"$f":"' BORDRO HAZIRLIK'!AS15","v":0}]
[{"$f":"PUANTAJ!A31","v":""}," ","","","",0,12,{"$f":"PUANTAJ!B29","v":" "},{"$f":"'PERSONEL BİLGİ GİRİŞİ'!H16","v":0},{"$f":"'PERSONEL BİLGİ GİRİŞİ'!J16","v":0},{"$f":"' BORDRO HAZIRLIK'!AS16","v":0}]
[{"$f":"PUANTAJ!A33","v":""}," ","","","",0,13,{"$f":"PUANTAJ!B31","v":" "},{"$f":"'PERSONEL BİLGİ GİRİŞİ'!H17","v":0},{"$f":"'PERSONEL BİLGİ GİRİŞİ'!J17","v":0},{"$f":"' BORDRO HAZIRLIK'!AS17","v":0}]
[{"$f":"PUANTAJ!A35","v":""}," ","","","",0,14,{"$f":"PUANTAJ!B33","v":" "},{"$f":"'PERSONEL BİLGİ GİRİŞİ'!H18","v":0},{"$f":"'PERSONEL BİLGİ GİRİŞİ'!J18","v":0},{"$f":"' BORDRO HAZIRLIK'!AS18","v":0}]
[null,null,null,null,"TOPLAM",{"$f":"SUM(F5:F19)","v":0},15,{"$f":"PUANTAJ!B35","v":" "},{"$f":"'PERSONEL BİLGİ GİRİŞİ'!H19","v":0},{"$f":"'PERSONEL BİLGİ GİRİŞİ'!J19","v":0},{"$f":"' BORDRO HAZIRLIK'!AS19","v":0}]
[null,null,null,null,null,null,16,{"$f":"PUANTAJ!B37","v":" "},{"$f":"'PERSONEL BİLGİ GİRİŞİ'!H20","v":0},{"$f":"'PERSONEL BİLGİ GİRİŞİ'!J20","v":0},{"$f":"' BORDRO HAZIRLIK'!AS20","v":0}]
[null,null,null,null,null,null,17,{"$f":"PUANTAJ!B39","v":" "},{"$f":"'PERSONEL BİLGİ GİRİŞİ'!H21","v":0},{"$f":"'PERSONEL BİLGİ GİRİŞİ'!J21","v":0},{"$f":"' BORDRO HAZIRLIK'!AS21","v":0}]
[{"$f":"'PERSONEL BİLGİ GİRİŞİ'!A81","v":"MAAŞ MUTEMEDİ"},null,{"$f":"'PERSONEL BİLGİ GİRİŞİ'!J81","v":"GERÇEKLEŞTİRME GÖREVLİSİ"},null,{"$f":"'PERSONEL BİLGİ GİRİŞİ'!K81","v":"HARCAMA YETKİLİSİ"},null,18,{"$f":"PUANTAJ!B41","v":" "},{"$f":"'PERSONEL BİLGİ GİRİŞİ'!H22","v":0},{"$f":"'PERSONEL BİLGİ GİRİŞİ'!J22","v":0},{"$f":"' BORDRO HAZIRLIK'!AS22","v":0}]
[{"$f":"'PERSONEL BİLGİ GİRİŞİ'!A82","v":0},null,{"$f":"'PERSONEL BİLGİ GİRİŞİ'!J82","v":0},null,{"$f":"'PERSONEL BİLGİ GİRİŞİ'!K82","v":0},null,19,{"$f":"PUANTAJ!B43","v":" "},{"$f":"'PERSONEL BİLGİ GİRİŞİ'!H23","v":0},{"$f":"'PERSONEL BİLGİ GİRİŞİ'!J23","v":0},{"$f":"' BORDRO HAZIRLIK'!AS23","v":0}]
[{"$f":"'PERSONEL BİLGİ GİRİŞİ'!A83","v":{"$error":"#N/A"}},null,{"$f":"'PERSONEL BİLGİ GİRİŞİ'!J83","v":{"$error":"#N/A"}},null,{"$f":"'PERSONEL BİLGİ GİRİŞİ'!K83","v":{"$error":"#N/A"}},null,20,{"$f":"PUANTAJ!B45","v":" "},{"$f":"'PERSONEL BİLGİ GİRİŞİ'!H24","v":0},{"$f":"'PERSONEL BİLGİ GİRİŞİ'!J24","v":0},{"$f":"' BORDRO HAZIRLIK'!AS24","v":0}]
[{"$f":"TODAY()","v":"2024-02-05"},null,{"$f":"'PERSONEL BİLGİ GİRİŞİ'!J84","v":"2024-02-05"},null,{"$f":"'PERSONEL BİLGİ GİRİŞİ'!K84","v":"2024-02-05"},null,21,{"$f":"PUANTAJ!B47","v":" "},{"$f":"'PERSONEL BİLGİ GİRİŞİ'!H25","v":0},{"$f":"'PERSONEL BİLGİ GİRİŞİ'!J25","v":0},{"$f":"' BORDRO HAZIRLIK'!AS25","v":0}]
[null,null,null,null,null,null,22,{"$f":"PUANTAJ!B49","v":" "},{"$f":"'PERSONEL BİLGİ GİRİŞİ'!H26","v":0},{"$f":"'PERSONEL BİLGİ GİRİŞİ'!J26","v":0},{"$f":"' BORDRO HAZIRLIK'!AS26","v":0}]
[null,null,null,null,null,null,23,{"$f":"PUANTAJ!B51","v":" "},{"$f":"'PERSONEL BİLGİ GİRİŞİ'!H27","v":0},{"$f":"'PERSONEL BİLGİ GİRİŞİ'!J27","v":0},{"$f":"' BORDRO HAZIRLIK'!AS27","v":0}]
[null,null,null,null,null,null,24,{"$f":"PUANTAJ!B53","v":" "},{"$f":"'PERSONEL BİLGİ GİRİŞİ'!H28","v":0},{"$f":"'PERSONEL BİLGİ GİRİŞİ'!J28","v":0},{"$f":"' BORDRO HAZIRLIK'!AS28","v":0}]
[null,null,null,null,null,null,25,{"$f":"PUANTAJ!B55","v":" "},{"$f":"'PERSONEL BİLGİ GİRİŞİ'!H29","v":0},{"$f":"'PERSONEL BİLGİ GİRİŞİ'!J29","v":0},{"$f":"' BORDRO HAZIRLIK'!AS29","v":0}]
[null,null,null,null,null,null,26,{"$f":"PUANTAJ!B57","v":" "},{"$f":"'PERSONEL BİLGİ GİRİŞİ'!H30","v":0},{"$f":"'PERSONEL BİLGİ GİRİŞİ'!J30","v":0},{"$f":"' BORDRO HAZIRLIK'!AS30","v":0}]
[null,null,null,null,null,null,27,{"$f":"PUANTAJ!B59","v":" "},{"$f":"'PERSONEL BİLGİ GİRİŞİ'!H31","v":0},{"$f":"'PERSONEL BİLGİ GİRİŞİ'!J31","v":0},{"$f":"' BORDRO HAZIRLIK'!AS31","v":0}]
[null,null,null,null,null,null,28,{"$f":"PUANTAJ!B61","v":" "},{"$f":"'PERSONEL BİLGİ GİRİŞİ'!H32","v":0},{"$f":"'PERSONEL BİLGİ GİRİŞİ'!J32","v":0},{"$f":"' BORDRO HAZIRLIK'!AS32","v":0}]
[null,null,null,null,null,null,29,{"$f":"PUANTAJ!B63","v":" "},{"$f":"'PERSONEL BİLGİ GİRİŞİ'!H33","v":0},{"$f":"'PERSONEL BİLGİ GİRİŞİ'!J33","v":0},{"$f":"' BORDRO HAZIRLIK'!AS33","v":0}]
[null,null,null,null,null,null,30,{"$f":"PUANTAJ!B65","v":" "},{"$f":"'PERSONEL BİLGİ GİRİŞİ'!H34","v":0},{"$f":"'PERSONEL BİLGİ GİRİŞİ'!J34","v":0},{"$f":"' BORDRO HAZIRLIK'!AS34","v":0}]
[null,null,null,null,null,null,31,{"$f":"PUANTAJ!B67","v":" "},{"$f":"'PERSONEL BİLGİ GİRİŞİ'!H35","v":0},{"$f":"'PERSONEL BİLGİ GİRİŞİ'!J35","v":0},{"$f":"' BORDRO HAZIRLIK'!AS35","v":0}]
[null,null,null,null,null,null,32,{"$f":"PUANTAJ!B69","v":" "},{"$f":"'PERSONEL BİLGİ GİRİŞİ'!H36","v":0},{"$f":"'PERSONEL BİLGİ GİRİŞİ'!J36","v":0},{"$f":"' BORDRO HAZIRLIK'!AS36","v":0}]
[null,null,null,null,null,null,33,{"$f":"PUANTAJ!B71","v":" "},{"$f":"'PERSONEL BİLGİ GİRİŞİ'!H37","v":0},{"$f":"'PERSONEL BİLGİ GİRİŞİ'!J37","v":0},{"$f":"' BORDRO HAZIRLIK'!AS37","v":0}]
[null,null,null,null,null,null,34,{"$f":"PUANTAJ!B73","v":" "},{"$f":"'PERSONEL BİLGİ GİRİŞİ'!H38","v":0},{"$f":"'PERSONEL BİLGİ GİRİŞİ'!J38","v":0},{"$f":"' BORDRO HAZIRLIK'!AS38","v":0}]
[null,null,null,null,null,null,35,{"$f":"PUANTAJ!B75","v":" "},{"$f":"'PERSONEL BİLGİ GİRİŞİ'!H39","v":0},{"$f":"'PERSONEL BİLGİ GİRİŞİ'!J39","v":0},{"$f":"' BORDRO HAZIRLIK'!AS39","v":0}]

{"sheet":"İCRA KESİNTİSİ","index":14,"n_rows":40,"n_cols":19,"rows_kept":40,"cut":false,"hidden":false,"merged":[[17,6,17,7],[18,6,18,7],[19,6,19,7],[20,6,20,7],[20,0,20,1],[17,0,17,1],[18,0,18,1],[19,0,19,1],[17,3,17,4],[18,3,18,4],[19,3,19,4],[20,3,20,4],[0,0,0,7],[2,0,3,0],[2,1,3,1],[2,2,3,2],[2,3,3,3],[2,4,3,4],[2,5,3,5],[2,6,3,6],[1,1,1,6]]}
[{"$f":"'PERSONEL BİLGİ GİRİŞİ'!A1","v":"AİLE VE SOSYAL HİZMETLER İL MÜDÜRLÜĞÜ"}]
[null,"İ C R A   K E S İ N T İ S İ",null,null,null,null,null,{"$f":"PUANTAJ!AI2","v":"2024-01-01"}]
["SIRA NO","AD-SOYAD","TC. KİMLİK NO","KESİNTİ DÖNEMİ","KESİNTİ YAPILACAK IBAN NO","TOPLAM BORÇ","KALAN BORÇ","ANA SAYFA"]
[null,null,null,null,null,null,null,"KESİNTİ        TUTARI",null,null,null,null,1,2,3,4,5,6,7]
[{"$f":"PUANTAJ!A7","v":1}," ",{"$f":"IF(H5>1,VLOOKUP(B5,$M$5:$P$80,2,FALSE),\"\")","v":""},{"$f":"IF(H5>1,$H$2,\"\")","v":""},{"$f":"IF(H5>1,VLOOKUP(B5,M6:P80,3,FALSE),\"\")","v":""},{"$f":"VLOOKUP(B5,$M$6:$S$80,5,FALSE)","v":0},{"$f":"VLOOKUP(B5,$M$6:$S$80,7,FALSE)","v":0},{"$f":"VLOOKUP(B5,$M$6:$P$80,4,FALSE)","v":0},null,null,null,null,null,"TC","IBAN","KESİNTİ","TOPLAM  BORÇ TUTARI","ÖDENEN BORÇ TUTARI","KALAN BORÇ"]
[{"$f":"PUANTAJ!A9","v":""}," ",{"$f":"IF(H6>1,VLOOKUP(B6,$M$5:$P$80,2,FALSE),\"\")","v":""},{"$f":"IF(H6>1,$H$2,\"\")","v":""},{"$f":"IF(H6>1,VLOOKUP(B6,M7:P81,3,FALSE),\"\")","v":""},{"$f":"VLOOKUP(B6,$M$6:$S$80,5,FALSE)","v":0},{"$f":"VLOOKUP(B6,$M$6:$S$80,7,FALSE)","v":0},{"$f":"VLOOKUP(B6,$M$6:$P$80,4,FALSE)","v":0},null,null,null,1,{"$f":"BES!H6","v":"ALİ BZC "},{"$f":"'PERSONEL BİLGİ GİRİŞİ'!H5","v":0},{"$f":"'PERSONEL BİLGİ GİRİŞİ'!J5","v":0},{"$f":"' BORDRO HAZIRLIK'!AT5","v":0},null,{"$f":"' BORDRO HAZIRLIK'!AT5","v":0}]
[{"$f":"PUANTAJ!A11","v":""}," ","","","",0,0,0,null,null,null,2,{"$f":"BES!H7","v":" "},{"$f":"'PERSONEL BİLGİ GİRİŞİ'!H6","v":0},{"$f":"'PERSONEL BİLGİ GİRİŞİ'!J6","v":0},{"$f":"' BORDRO HAZIRLIK'!AT6","v":0},null,{"$f":"' BORDRO HAZIRLIK'!AT6","v":0}]
[{"$f":"PUANTAJ!A13","v":""}," ","","","",0,0,0,null,null,null,3,{"$f":"BES!H8","v":" "},{"$f":"'PERSONEL BİLGİ GİRİŞİ'!H7","v":0},{"$f":"'PERSONEL BİLGİ GİRİŞİ'!J7","v":0},{"$f":"' BORDRO HAZIRLIK'!AT7","v":0},null,{"$f":"' BORDRO HAZIRLIK'!AT7","v":0}]
[{"$f":"PUANTAJ!A15","v":""}," ","","","",0,0,0,null,null,null,4,{"$f":"BES!H9","v":" "},{"$f":"'PERSONEL BİLGİ GİRİŞİ'!H8","v":0},{"$f":"'PERSONEL BİLGİ GİRİŞİ'!J8","v":0},{"$f":"' BORDRO HAZIRLIK'!AT8","v":0},null,{"$f":"' BORDRO HAZIRLIK'!AT8","v":0}]
[{"$f":"PUANTAJ!A17","v":""}," ","","","",0,0,0,null,null,null,5,{"$f":"BES!H10","v":" "},{"$f":"'PERSONEL BİLGİ GİRİŞİ'!H9","v":0},{"$f":"'PERSONEL BİLGİ GİRİŞİ'!J9","v":0},{"$f":"' BORDRO HAZIRLIK'!AT9","v":0},null,{"$f":"' BORDRO HAZIRLIK'!AT9","v":0}]
[{"$f":"PUANTAJ!A19","v":""}," ","","","",0,0,0,null,null,null,6,{"$f":"BES!H11","v":" "},{"$f":"'PERSONEL BİLGİ GİRİŞİ'!H10","v":0},{"$f":"'PERSONEL BİLGİ GİRİŞİ'!J10","v":0},{"$f":"' BORDRO HAZIRLIK'!AT10","v":0},null,{"$f":"' BORDRO HAZIRLIK'!AT10","v":0}]
[{"$f":"PUANTAJ!A21","v":""}," ","","","",0,0,0,null,null,null,7,{"$f":"BES!H12","v":" "},{"$f":"'PERSONEL BİLGİ GİRİŞİ'!H11","v":0},{"$f":"'PERSONEL BİLGİ GİRİŞİ'!J11","v":0},{"$f":"' BORDRO HAZIRLIK'!AT11","v":0},null,{"$f":"' BORDRO HAZIRLIK'!AT11","v":0}]
[{"$f":"PUANTAJ!A23","v":""}," ","","","",0,0,0,null,null,null,8,{"$f":"BES!H13","v":" "},{"$f":"'PERSONEL BİLGİ GİRİŞİ'!H12","v":0},{"$f":"'PERSONEL BİLGİ GİRİŞİ'!J12","v":0},{"$f":"' BORDRO HAZIRLIK'!AT12","v":0},null,{"$f":"' BORDRO HAZIRLIK'!AT12","v":0}]
[{"$f":"PUANTAJ!A25","v":""}," ","","","",0,0,0,null,null,null,9,{"$f":"BES!H14","v":" "},{"$f":"'PERSONEL BİLGİ GİRİŞİ'!H13","v":0},{"$f":"'PERSONEL BİLGİ GİRİŞİ'!J13","v":0},{"$f":"' BORDRO HAZIRLIK'!AT13","v":0},null,{"$f":"' BORDRO HAZIRLIK'!AT13","v":0}]
[null,null,null,null,null,"TOPLAM",{"$f":"SUM(G5:G14)","v":0},{"$f":"SUM(H5:H14)","v":0},null,null,null,10,{"$f":"BES!H15","v":" "},{"$f":"'PERSONEL BİLGİ GİRİŞİ'!H14","v":0},{"$f":"'PERSONEL BİLGİ GİRİŞİ'!J14","v":0},{"$f":"' BORDRO HAZIRLIK'!AT14","v":0},null,{"$f":"' BORDRO HAZIRLIK'!AT14","v":0}]
[null,null,null,null,null,null,null,null,null,null,null,11,{"$f":"BES!H16","v":" "},{"$f":"'PERSONEL BİLGİ GİRİŞİ'!H15","v":0},{"$f":"'PERSONEL BİLGİ GİRİŞİ'!J15","v":0},{"$f":"' BORDRO HAZIRLIK'!AT15","v":0},null,{"$f":"' BORDRO HAZIRLIK'!AT15","v":0}]
[null,null,null,null,null,null,null,null,null,null,null,12,{"$f":"BES!H17","v":" "},{"$f":"'PERSONEL BİLGİ GİRİŞİ'!H16","v":0},{"$f":"'PERSONEL BİLGİ GİRİŞİ'!J16","v":0},{"$f":"' BORDRO HAZIRLIK'!AT16","v":0},null,{"$f":"' BORDRO HAZIRLIK'!AT16","v":0}]
[{"$f":"'PERSONEL BİLGİ GİRİŞİ'!A81","v":"MAAŞ MUTEMEDİ"},null,null,{"$f":"'PERSONEL BİLGİ GİRİŞİ'!J81","v":"GERÇEKLEŞTİRME GÖREVLİSİ"},null,null,{"$f":"'PERSONEL BİLGİ GİRİŞİ'!K81","v":"HARCAMA YETKİLİSİ"},null,null,null,null,13,{"$f":"BES!H18","v":" "},{"$f":"'PERSONEL BİLGİ GİRİŞİ'!H17","v":0},{"$f":"'PERSONEL BİLGİ GİRİŞİ'!J17","v":0},{"$f":"' BORDRO HAZIRLIK'!AT17","v":0},null,{"$f":"' BORDRO HAZIRLIK'!AT17","v":0}]
[{"$f":"'PERSONEL BİLGİ GİRİŞİ'!A82","v":0},null,null,{"$f":"'PERSONEL BİLGİ GİRİŞİ'!J82","v":0},null,null,{"$f":"'PERSONEL BİLGİ GİRİŞİ'!K82","v":0},null,null,null,null,14,{"$f":"BES!H19","v":" "},{"$f":"'PERSONEL BİLGİ GİRİŞİ'!H18","v":0},{"$f":"'PERSONEL BİLGİ GİRİŞİ'!J18","v":0},{"$f":"' BORDRO HAZIRLIK'!AT18","v":0},null,{"$f":"' BORDRO HAZIRLIK'!AT18","v":0}]
[{"$f":"'PERSONEL BİLGİ GİRİŞİ'!A83","v":{"$error":"#N/A"}},null,null,{"$f":"'PERSONEL BİLGİ GİRİŞİ'!J83","v":{"$error":"#N/A"}},null,null,{"$f":"'PERSONEL BİLGİ GİRİŞİ'!K83","v":{"$error":"#N/A"}},null,null,null,null,15,{"$f":"BES!H20","v":" "},{"$f":"'PERSONEL BİLGİ GİRİŞİ'!H19","v":0},{"$f":"'PERSONEL BİLGİ GİRİŞİ'!J19","v":0},{"$f":"' BORDRO HAZIRLIK'!AT19","v":0},null,{"$f":"' BORDRO HAZIRLIK'!AT19","v":0}]
[{"$f":"TODAY()","v":"2024-02-05"},null,null,{"$f":"'PERSONEL BİLGİ GİRİŞİ'!J84","v":"2024-02-05"},null,null,{"$f":"'PERSONEL BİLGİ GİRİŞİ'!K84","v":"2024-02-05"},null,null,null,null,16,{"$f":"BES!H21","v":" "},{"$f":"'PERSONEL BİLGİ GİRİŞİ'!H20","v":0},{"$f":"'PERSONEL BİLGİ GİRİŞİ'!J20","v":0},{"$f":"' BORDRO HAZIRLIK'!AT20","v":0},null,{"$f":"' BORDRO HAZIRLIK'!AT20","v":0}]
[null,null,null,null,null,null,null,null,null,null,null,17,{"$f":"BES!H22","v":" "},{"$f":"'PERSONEL BİLGİ GİRİŞİ'!H21","v":0},{"$f":"'PERSONEL BİLGİ GİRİŞİ'!J21","v":0},{"$f":"' BORDRO HAZIRLIK'!AT21","v":0},null,{"$f":"' BORDRO HAZIRLIK'!AT21","v":0}]
[null,null,null,null,null,null,null,null,null,null,null,18,{"$f":"BES!H23","v":" "},{"$f":"'PERSONEL BİLGİ GİRİŞİ'!H22","v":0},{"$f":"'PERSONEL BİLGİ GİRİŞİ'!J22","v":0},{"$f":"' BORDRO HAZIRLIK'!AT22","v":0},null,{"$f":"' BORDRO HAZIRLIK'!AT22","v":0}]
[null,null,null,null,null,null,null,null,null,null,null,19,{"$f":"BES!H24","v":" "},{"$f":"'PERSONEL BİLGİ GİRİŞİ'!H23","v":0},{"$f":"'PERSONEL BİLGİ GİRİŞİ'!J23","v":0},{"$f":"' BORDRO HAZIRLIK'!AT23","v":0},null,{"$f":"' BORDRO HAZIRLIK'!AT23","v":0}]
[null,null,null,null,null,null,null,null,null,null,null,20,{"$f":"BES!H25","v":" "},{"$f":"'PERSONEL BİLGİ GİRİŞİ'!H24","v":0},{"$f":"'PERSONEL BİLGİ GİRİŞİ'!J24","v":0},{"$f":"' BORDRO HAZIRLIK'!AT24","v":0},null,{"$f":"' BORDRO HAZIRLIK'!AT24","v":0}]
[null,null,null,null,null,null,null,null,null,null,null,21,{"$f":"BES!H26","v":" "},{"$f":"'PERSONEL BİLGİ GİRİŞİ'!H25","v":0},{"$f":"'PERSONEL BİLGİ GİRİŞİ'!J25","v":0},{"$f":"' BORDRO HAZIRLIK'!AT25","v":0},null,{"$f":"' BORDRO HAZIRLIK'!AT25","v":0}]
[null,null,null,null,null,null,null,null,null,null,null,22,{"$f":"BES!H27","v":" "},{"$f":"'PERSONEL BİLGİ GİRİŞİ'!H26","v":0},{"$f":"'PERSONEL BİLGİ GİRİŞİ'!J26","v":0},{"$f":"' BORDRO HAZIRLIK'!AT26","v":0},null,{"$f":"' BORDRO HAZIRLIK'!AT26","v":0}]
[null,null,null,null,null,null,null,null,null,null,null,23,{"$f":"BES!H28","v":" "},{"$f":"'PERSONEL BİLGİ GİRİŞİ'!H27","v":0},{"$f":"'PERSONEL BİLGİ GİRİŞİ'!J27","v":0},{"$f":"' BORDRO HAZIRLIK'!AT27","v":0},null,{"$f":"' BORDRO HAZIRLIK'!AT27","v":0}]
[null,null,null,null,null,null,null,null,null,null,null,24,{"$f":"BES!H29","v":" "},{"$f":"'PERSONEL BİLGİ GİRİŞİ'!H28","v":0},{"$f":"'PERSONEL BİLGİ GİRİŞİ'!J28","v":0},{"$f":"' BORDRO HAZIRLIK'!AT28","v":0},null,{"$f":"' BORDRO HAZIRLIK'!AT28","v":0}]
[null,null,null,null,null,null,null,null,null,null,null,25,{"$f":"BES!H30","v":" "},{"$f":"'PERSONEL BİLGİ GİRİŞİ'!H29","v":0},{"$f":"'PERSONEL BİLGİ GİRİŞİ'!J29","v":0},{"$f":"' BORDRO HAZIRLIK'!AT29","v":0},null,{"$f":"' BORDRO HAZIRLIK'!AT29","v":0}]
[null,null,null,null,null,null,null,null,null,null,null,26,{"$f":"BES!H31","v":" "},{"$f":"'PERSONEL BİLGİ GİRİŞİ'!H30","v":0},{"$f":"'PERSONEL BİLGİ GİRİŞİ'!J30","v":0},{"$f":"' BORDRO HAZIRLIK'!AT30","v":0},null,{"$f":"' BORDRO HAZIRLIK'!AT30","v":0}]
[null,null,null,null,null,null,null,null,null,null,null,27,{"$f":"BES!H32","v":" "},{"$f":"'PERSONEL BİLGİ GİRİŞİ'!H31","v":0},{"$f":"'PERSONEL BİLGİ GİRİŞİ'!J31","v":0},{"$f":"' BORDRO HAZIRLIK'!AT31","v":0},null,{"$f":"' BORDRO HAZIRLIK'!AT31","v":0}]
[null,null,null,null,null,null,null,null,null,null,null,28,{"$f":"BES!H33","v":" "},{"$f":"'PERSONEL BİLGİ GİRİŞİ'!H32","v":0},{"$f":"'PERSONEL BİLGİ GİRİŞİ'!J32","v":0},{"$f":"' BORDRO HAZIRLIK'!AT32","v":0},null,{"$f":"' BORDRO HAZIRLIK'!AT32","v":0}]
[null,null,null,null,null,null,null,null,null,null,null,29,{"$f":"BES!H34","v":" "},{"$f":"'PERSONEL BİLGİ GİRİŞİ'!H33","v":0},{"$f":"'PERSONEL BİLGİ GİRİŞİ'!J33","v":0},{"$f":"' BORDRO HAZIRLIK'!AT33","v":0},null,{"$f":"' BORDRO HAZIRLIK'!AT33","v":0}]
[null,null,null,null,null,null,null,null,null,null,null,30,{"$f":"BES!H35","v":" "},{"$f":"'PERSONEL BİLGİ GİRİŞİ'!H34","v":0},{"$f":"'PERSONEL BİLGİ GİRİŞİ'!J34","v":0},{"$f":"' BORDRO HAZIRLIK'!AT34","v":0},null,{"$f":"' BORDRO HAZIRLIK'!AT34","v":0}]
[null,null,null,null,null,null,null,null,null,null,null,31,{"$f":"BES!H36","v":" "},{"$f":"'PERSONEL BİLGİ GİRİŞİ'!H35","v":0},{"$f":"'PERSONEL BİLGİ GİRİŞİ'!J35","v":0},{"$f":"' BORDRO HAZIRLIK'!AT35","v":0},null,{"$f":"' BORDRO HAZIRLIK'!AT35","v":0}]
[null,null,null,null,null,null,null,null,null,null,null,32,{"$f":"BES!H37","v":" "},{"$f":"'PERSONEL BİLGİ GİRİŞİ'!H36","v":0},{"$f":"'PERSONEL BİLGİ GİRİŞİ'!J36","v":0},{"$f":"' BORDRO HAZIRLIK'!AT36","v":0},null,{"$f":"' BORDRO HAZIRLIK'!AT36","v":0}]
[null,null,null,null,null,null,null,null,null,null,null,33,{"$f":"BES!H38","v":" "},{"$f":"'PERSONEL BİLGİ GİRİŞİ'!H37","v":0},{"$f":"'PERSONEL BİLGİ GİRİŞİ'!J37","v":0},{"$f":"' BORDRO HAZIRLIK'!AT37","v":0},null,{"$f":"' BORDRO HAZIRLIK'!AT37","v":0}]
[null,null,null,null,null,null,null,null,null,null,null,34,{"$f":"BES!H39","v":" "},{"$f":"'PERSONEL BİLGİ GİRİŞİ'!H38","v":0},{"$f":"'PERSONEL BİLGİ GİRİŞİ'!J38","v":0},{"$f":"' BORDRO HAZIRLIK'!AT38","v":0},null,{"$f":"' BORDRO HAZIRLIK'!AT38","v":0}]
[null,null,null,null,null,null,null,null,null,null,null,35,{"$f":"BES!H40","v":" "},{"$f":"'PERSONEL BİLGİ GİRİŞİ'!H39","v":0},{"$f":"'PERSONEL BİLGİ GİRİŞİ'!J39","v":0},{"$f":"' BORDRO HAZIRLIK'!AT39","v":0},null,{"$f":"' BORDRO HAZIRLIK'!AT39","v":0}]

{"sheet":"NAFAKA","index":15,"n_rows":80,"n_cols":16,"rows_kept":80,"cut":false,"hidden":false,"merged":[[14,0,14,6],[19,0,19,1],[19,3,19,4],[19,6,19,7],[20,0,20,1],[20,3,20,4],[20,6,20,7],[17,0,17,1],[17,3,17,4],[17,6,17,7],[18,0,18,1],[18,3,18,4],[18,6,18,7],[0,0,0,7],[1,1,1,6],[2,0,3,0],[2,1,3,1],[2,2,3,2],[2,3,3,3],[2,4,3,4],[2,5,3,5],[2,6,3,6]]}
[{"$f":"'PERSONEL BİLGİ GİRİŞİ'!A1","v":"AİLE VE SOSYAL HİZMETLER İL MÜDÜRLÜĞÜ"}]
[null,"N A F A K A   K E S İ N T İ S İ",null,null,null,null,null,{"$f":"PUANTAJ!AI2","v":"2024-01-01"}]
["SIRA NO","AD-SOYAD","TC. KİMLİK NO","KESİNTİ DÖNEMİ","KESİNTİ YAPILACAK IBAN NO","MAHKEME            KARARI","MAAŞININ           1/4","ANA SAYFA"]
[null,null,null,null,null,null,null,"KESİNTİ        TUTARI",null,null,null,null,1,2,3,4]
[{"$f":"PUANTAJ!A7","v":1}," ",{"$f":"IF(H5>1,VLOOKUP(B5,$M$5:$P$80,2,FALSE),\"\")","v":""},{"$f":"IF(H5>1,$H$2,\"\")","v":""},{"$f":"IF(H5>1,VLOOKUP(B5,M6:P80,3,FALSE),\"\")","v":""},0,{"$f":"IF(F5>1,0,VLOOKUP(B5,$M$6:$P$80,4,FALSE))","v":0},{"$f":"G5+F5","v":0},null,null,null,null,null,"TC","IBAN","MAAŞININ 1/4"]
[{"$f":"PUANTAJ!A9","v":""}," ",{"$f":"IF(H6>1,VLOOKUP(B6,$M$5:$P$80,2,FALSE),\"\")","v":""},{"$f":"IF(H6>1,$H$2,\"\")","v":""},{"$f":"IF(H6>1,VLOOKUP(B6,M7:P81,3,FALSE),\"\")","v":""},0,{"$f":"IF(F6>1,0,VLOOKUP(B6,$M$6:$P$80,4,FALSE))","v":0},{"$f":"G6+F6","v":0},null,null,null,1,{"$f":"BES!H6","v":"ALİ BZC "},{"$f":"'PERSONEL BİLGİ GİRİŞİ'!H5","v":0},{"$f":"'PERSONEL BİLGİ GİRİŞİ'!J5","v":0},{"$f":"' BORDRO HAZIRLIK'!AU5","v":0}]
[{"$f":"PUANTAJ!A11","v":""}," ","","","",0,0,0,null,null,null,2,{"$f":"BES!H7","v":" "},{"$f":"'PERSONEL BİLGİ GİRİŞİ'!H6","v":0},{"$f":"'PERSONEL BİLGİ GİRİŞİ'!J6","v":0},{"$f":"' BORDRO HAZIRLIK'!AU6","v":0}]
[{"$f":"PUANTAJ!A13","v":""}," ","","","",0,0,0,null,null,null,3,{"$f":"BES!H8","v":" "},{"$f":"'PERSONEL BİLGİ GİRİŞİ'!H7","v":0},{"$f":"'PERSONEL BİLGİ GİRİŞİ'!J7","v":0},{"$f":"' BORDRO HAZIRLIK'!AU7","v":0}]
[{"$f":"PUANTAJ!A15","v":""}," ","","","",0,0,0,null,null,null,4,{"$f":"BES!H9","v":" "},{"$f":"'PERSONEL BİLGİ GİRİŞİ'!H8","v":0},{"$f":"'PERSONEL BİLGİ GİRİŞİ'!J8","v":0},{"$f":"' BORDRO HAZIRLIK'!AU8","v":0}]
[{"$f":"PUANTAJ!A17","v":""}," ","","","",0,0,0,null,null,null,5,{"$f":"BES!H10","v":" "},{"$f":"'PERSONEL BİLGİ GİRİŞİ'!H9","v":0},{"$f":"'PERSONEL BİLGİ GİRİŞİ'!J9","v":0},{"$f":"' BORDRO HAZIRLIK'!AU9","v":0}]
[{"$f":"PUANTAJ!A19","v":""}," ","","","",0,0,0,null,null,null,6,{"$f":"BES!H11","v":" "},{"$f":"'PERSONEL BİLGİ GİRİŞİ'!H10","v":0},{"$f":"'PERSONEL BİLGİ GİRİŞİ'!J10","v":0},{"$f":"' BORDRO HAZIRLIK'!AU10","v":0}]
[{"$f":"PUANTAJ!A21","v":""}," ","","","",0,0,0,null,null,null,7,{"$f":"BES!H12","v":" "},{"$f":"'PERSONEL BİLGİ GİRİŞİ'!H11","v":0},{"$f":"'PERSONEL BİLGİ GİRİŞİ'!J11","v":0},{"$f":"' BORDRO HAZIRLIK'!AU11","v":0}]
[{"$f":"PUANTAJ!A23","v":""}," ","","","",0,0,0,null,null,null,8,{"$f":"BES!H13","v":" "},{"$f":"'PERSONEL BİLGİ GİRİŞİ'!H12","v":0},{"$f":"'PERSONEL BİLGİ GİRİŞİ'!J12","v":0},{"$f":"' BORDRO HAZIRLIK'!AU12","v":0}]
[{"$f":"PUANTAJ!A25","v":""}," ","","","",0,0,0,null,null,null,9,{"$f":"BES!H14","v":" "},{"$f":"'PERSONEL BİLGİ GİRİŞİ'!H13","v":0},{"$f":"'PERSONEL BİLGİ GİRİŞİ'!J13","v":0},{"$f":"' BORDRO HAZIRLIK'!AU13","v":0}]
["TOPLAM",null,null,null,null,null,null,{"$f":"SUM(H5:H14)","v":0},null,null,null,10,{"$f":"BES!H15","v":" "},{"$f":"'PERSONEL BİLGİ GİRİŞİ'!H14","v":0},{"$f":"'PERSONEL BİLGİ GİRİŞİ'!J14","v":0},{"$f":"' BORDRO HAZIRLIK'!AU14","v":0}]
[null,null,null,null,null,null,null,null,null,null,null,11,{"$f":"BES!H16","v":" "},{"$f":"'PERSONEL BİLGİ GİRİŞİ'!H15","v":0},{"$f":"'PERSONEL BİLGİ GİRİŞİ'!J15","v":0},{"$f":"' BORDRO HAZIRLIK'!AU15","v":0}]
[null,null,null,null,null,null,null,null,null,null,null,12,{"$f":"BES!H17","v":" "},{"$f":"'PERSONEL BİLGİ GİRİŞİ'!H16","v":0},{"$f":"'PERSONEL BİLGİ GİRİŞİ'!J16","v":0},{"$f":"' BORDRO HAZIRLIK'!AU16","v":0}]
[{"$f":"'PERSONEL BİLGİ GİRİŞİ'!A81","v":"MAAŞ MUTEMEDİ"},null,null,{"$f":"'PERSONEL BİLGİ GİRİŞİ'!J81","v":"GERÇEKLEŞTİRME GÖREVLİSİ"},null,null,{"$f":"'PERSONEL BİLGİ GİRİŞİ'!K81","v":"HARCAMA YETKİLİSİ"},null,null,null,null,13,{"$f":"BES!H18","v":" "},{"$f":"'PERSONEL BİLGİ GİRİŞİ'!H17","v":0},{"$f":"'PERSONEL BİLGİ GİRİŞİ'!J17","v":0},{"$f":"' BORDRO HAZIRLIK'!AU17","v":0}]
[{"$f":"'PERSONEL BİLGİ GİRİŞİ'!A82","v":0},null,null,{"$f":"'PERSONEL BİLGİ GİRİŞİ'!J82","v":0},null,null,{"$f":"'PERSONEL BİLGİ GİRİŞİ'!K82","v":0},null,null,null,null,14,{"$f":"BES!H19","v":" "},{"$f":"'PERSONEL BİLGİ GİRİŞİ'!H18","v":0},{"$f":"'PERSONEL BİLGİ GİRİŞİ'!J18","v":0},{"$f":"' BORDRO HAZIRLIK'!AU18","v":0}]
[{"$f":"'PERSONEL BİLGİ GİRİŞİ'!A83","v":{"$error":"#N/A"}},null,null,{"$f":"'PERSONEL BİLGİ GİRİŞİ'!J83","v":{"$error":"#N/A"}},null,null,{"$f":"'PERSONEL BİLGİ GİRİŞİ'!K83","v":{"$error":"#N/A"}},null,null,null,null,15,{"$f":"BES!H20","v":" "},{"$f":"'PERSONEL BİLGİ GİRİŞİ'!H19","v":0},{"$f":"'PERSONEL BİLGİ GİRİŞİ'!J19","v":0},{"$f":"' BORDRO HAZIRLIK'!AU19","v":0}]
[{"$f":"TODAY()","v":"2024-02-05"},null,null,{"$f":"'PERSONEL BİLGİ GİRİŞİ'!J84","v":"2024-02-05"},null,null,{"$f":"'PERSONEL BİLGİ GİRİŞİ'!K84","v":"2024-02-05"},null,null,null,null,16,{"$f":"BES!H21","v":" "},{"$f":"'PERSONEL BİLGİ GİRİŞİ'!H20","v":0},{"$f":"'PERSONEL BİLGİ GİRİŞİ'!J20","v":0},{"$f":"' BORDRO HAZIRLIK'!AU20","v":0}]
[null,null,null,null,null,null,null,null,null,null,null,17,{"$f":"BES!H22","v":" "},{"$f":"'PERSONEL BİLGİ GİRİŞİ'!H21","v":0},{"$f":"'PERSONEL BİLGİ GİRİŞİ'!J21","v":0},{"$f":"' BORDRO HAZIRLIK'!AU21","v":0}]
[null,null,null,null,null,null,null,null,null,null,null,18,{"$f":"BES!H23","v":" "},{"$f":"'PERSONEL BİLGİ GİRİŞİ'!H22","v":0},{"$f":"'PERSONEL BİLGİ GİRİŞİ'!J22","v":0},{"$f":"' BORDRO HAZIRLIK'!AU22","v":0}]
[null,null,null,null,null,null,null,null,null,null,null,19,{"$f":"BES!H24","v":" "},{"$f":"'PERSONEL BİLGİ GİRİŞİ'!H23","v":0},{"$f":"'PERSONEL BİLGİ GİRİŞİ'!J23","v":0},{"$f":"' BORDRO HAZIRLIK'!AU23","v":0}]
[null,null,null,null,null,null,null,null,null,null,null,20,{"$f":"BES!H25","v":" "},{"$f":"'PERSONEL BİLGİ GİRİŞİ'!H24","v":0},{"$f":"'PERSONEL BİLGİ GİRİŞİ'!J24","v":0},{"$f":"' BORDRO HAZIRLIK'!AU24","v":0}]
[null,null,null,null,null,null,null,null,null,null,null,21,{"$f":"BES!H26","v":" "},{"$f":"'PERSONEL BİLGİ GİRİŞİ'!H25","v":0},{"$f":"'PERSONEL BİLGİ GİRİŞİ'!J25","v":0},{"$f":"' BORDRO HAZIRLIK'!AU25","v":0}]
[null,null,null,null,null,null,null,null,null,null,null,22,{"$f":"BES!H27","v":" "},{"$f":"'PERSONEL BİLGİ GİRİŞİ'!H26","v":0},{"$f":"'PERSONEL BİLGİ GİRİŞİ'!J26","v":0},{"$f":"' BORDRO HAZIRLIK'!AU26","v":0}]
[null,null,null,null,null,null,null,null,null,null,null,23,{"$f":"BES!H28","v":" "},{"$f":"'PERSONEL BİLGİ GİRİŞİ'!H27","v":0},{"$f":"'PERSONEL BİLGİ GİRİŞİ'!J27","v":0},{"$f":"' BORDRO HAZIRLIK'!AU27","v":0}]
[null,null,null,null,null,null,null,null,null,null,null,24,{"$f":"BES!H29","v":" "},{"$f":"'PERSONEL BİLGİ GİRİŞİ'!H28","v":0},{"$f":"'PERSONEL BİLGİ GİRİŞİ'!J28","v":0},{"$f":"' BORDRO HAZIRLIK'!AU28","v":0}]
[null,null,null,null,null,null,null,null,null,null,null,25,{"$f":"BES!H30","v":" "},{"$f":"'PERSONEL BİLGİ GİRİŞİ'!H29","v":0},{"$f":"'PERSONEL BİLGİ GİRİŞİ'!J29","v":0},{"$f":"' BORDRO HAZIRLIK'!AU29","v":0}]
[null,null,null,null,null,null,null,null,null,null,null,26,{"$f":"BES!H31","v":" "},{"$f":"'PERSONEL BİLGİ GİRİŞİ'!H30","v":0},{"$f":"'PERSONEL BİLGİ GİRİŞİ'!J30","v":0},{"$f":"' BORDRO HAZIRLIK'!AU30","v":0}]
[null,null,null,null,null,null,null,null,null,null,null,27,{"$f":"BES!H32","v":" "},{"$f":"'PERSONEL BİLGİ GİRİŞİ'!H31","v":0},{"$f":"'PERSONEL BİLGİ GİRİŞİ'!J31","v":0},{"$f":"' BORDRO HAZIRLIK'!AU31","v":0}]
[null,null,null,null,null,null,null,null,null,null,null,28,{"$f":"BES!H33","v":" "},{"$f":"'PERSONEL BİLGİ GİRİŞİ'!H32","v":0},{"$f":"'PERSONEL BİLGİ GİRİŞİ'!J32","v":0},{"$f":"' BORDRO HAZIRLIK'!AU32","v":0}]
[null,null,null,null,null,null,null,null,null,null,null,29,{"$f":"BES!H34","v":" "},{"$f":"'PERSONEL BİLGİ GİRİŞİ'!H33","v":0},{"$f":"'PERSONEL BİLGİ GİRİŞİ'!J33","v":0},{"$f":"' BORDRO HAZIRLIK'!AU33","v":0}]
[null,null,null,null,null,null,null,null,null,null,null,30,{"$f":"BES!H35","v":" "},{"$f":"'PERSONEL BİLGİ GİRİŞİ'!H34","v":0},{"$f":"'PERSONEL BİLGİ GİRİŞİ'!J34","v":0},{"$f":"' BORDRO HAZIRLIK'!AU34","v":0}]
[null,null,null,null,null,null,null,null,null,null,null,31,{"$f":"BES!H36","v":" "},{"$f":"'PERSONEL BİLGİ GİRİŞİ'!H35","v":0},{"$f":"'PERSONEL BİLGİ GİRİŞİ'!J35","v":0},{"$f":"' BORDRO HAZIRLIK'!AU35","v":0}]
[null,null,null,null,null,null,null,null,null,null,null,32,{"$f":"BES!H37","v":" "},{"$f":"'PERSONEL BİLGİ GİRİŞİ'!H36","v":0},{"$f":"'PERSONEL BİLGİ GİRİŞİ'!J36","v":0},{"$f":"' BORDRO HAZIRLIK'!AU36","v":0}]
[null,null,null,null,null,null,null,null,null,null,null,33,{"$f":"BES!H38","v":" "},{"$f":"'PERSONEL BİLGİ GİRİŞİ'!H37","v":0},{"$f":"'PERSONEL BİLGİ GİRİŞİ'!J37","v":0},{"$f":"' BORDRO HAZIRLIK'!AU37","v":0}]
[null,null,null,null,null,null,null,null,null,null,null,34,{"$f":"BES!H39","v":" "},{"$f":"'PERSONEL BİLGİ GİRİŞİ'!H38","v":0},{"$f":"'PERSONEL BİLGİ GİRİŞİ'!J38","v":0},{"$f":"' BORDRO HAZIRLIK'!AU38","v":0}]
[null,null,null,null,null,null,null,null,null,null,null,35,{"$f":"BES!H40","v":" "},{"$f":"'PERSONEL BİLGİ GİRİŞİ'!H39","v":0},{"$f":"'PERSONEL BİLGİ GİRİŞİ'!J39","v":0},{"$f":"' BORDRO HAZIRLIK'!AU39","v":0}]
[null,null,null,null,null,null,null,null,null,null,null,36,{"$f":"BES!H41","v":0},{"$f":"'PERSONEL BİLGİ GİRİŞİ'!H40","v":0},{"$f":"'PERSONEL BİLGİ GİRİŞİ'!J40","v":0},{"$f":"' BORDRO HAZIRLIK'!AU40","v":0}]
[null,null,null,null,null,null,null,null,null,null,null,37,{"$f":"BES!H42","v":0},{"$f":"'PERSONEL BİLGİ GİRİŞİ'!H41","v":0},{"$f":"'PERSONEL BİLGİ GİRİŞİ'!J41","v":0},{"$f":"' BORDRO HAZIRLIK'!AU41","v":0}]
[null,null,null,null,null,null,null,null,null,null,null,38,{"$f":"BES!H43","v":0},{"$f":"'PERSONEL BİLGİ GİRİŞİ'!H42","v":0},{"$f":"'PERSONEL BİLGİ GİRİŞİ'!J42","v":0},{"$f":"' BORDRO HAZIRLIK'!AU42","v":0}]
[null,null,null,null,null,null,null,null,null,null,null,39,{"$f":"BES!H44","v":0},{"$f":"'PERSONEL BİLGİ GİRİŞİ'!H43","v":0},{"$f":"'PERSONEL BİLGİ GİRİŞİ'!J43","v":0},{"$f":"' BORDRO HAZIRLIK'!AU43","v":0}]
[null,null,null,null,null,null,null,null,null,null,null,40,{"$f":"BES!H45","v":0},{"$f":"'PERSONEL BİLGİ GİRİŞİ'!H44","v":0},{"$f":"'PERSONEL BİLGİ GİRİŞİ'!J44","v":0},{"$f":"' BORDRO HAZIRLIK'!AU44","v":0}]
[null,null,null,null,null,null,null,null,null,null,null,41,{"$f":"BES!H46","v":0},{"$f":"'PERSONEL BİLGİ GİRİŞİ'!H45","v":0},{"$f":"'PERSONEL BİLGİ GİRİŞİ'!J45","v":0},{"$f":"' BORDRO HAZIRLIK'!AU45","v":0}]
[null,null,null,null,null,null,null,null,null,null,null,42,{"$f":"BES!H47","v":0},{"$f":"'PERSONEL BİLGİ GİRİŞİ'!H46","v":0},{"$f":"'PERSONEL BİLGİ GİRİŞİ'!J46","v":0},{"$f":"' BORDRO HAZIRLIK'!AU46","v":0}]
[null,null,null,null,null,null,null,null,null,null,null,43,{"$f":"BES!H48","v":0},{"$f":"'PERSONEL BİLGİ GİRİŞİ'!H47","v":0},{"$f":"'PERSONEL BİLGİ GİRİŞİ'!J47","v":0},{"$f":"' BORDRO HAZIRLIK'!AU47","v":0}]
[null,null,null,null,null,null,null,null,null,null,null,44,{"$f":"BES!H49","v":0},{"$f":"'PERSONEL BİLGİ GİRİŞİ'!H48","v":0},{"$f":"'PERSONEL BİLGİ GİRİŞİ'!J48","v":0},{"$f":"' BORDRO HAZIRLIK'!AU48","v":0}]
[null,null,null,null,null,null,null,null,null,null,null,45,{"$f":"BES!H50","v":0},{"$f":"'PERSONEL BİLGİ GİRİŞİ'!H49","v":0},{"$f":"'PERSONEL BİLGİ GİRİŞİ'!J49","v":0},{"$f":"' BORDRO HAZIRLIK'!AU49","v":0}]
[null,null,null,null,null,null,null,null,null,null,null,46,{"$f":"BES!H51","v":0},{"$f":"'PERSONEL BİLGİ GİRİŞİ'!H50","v":0},{"$f":"'PERSONEL BİLGİ GİRİŞİ'!J50","v":0},{"$f":"' BORDRO HAZIRLIK'!AU50","v":0}]
[null,null,null,null,null,null,null,null,null,null,null,47,{"$f":"BES!H52","v":0},{"$f":"'PERSONEL BİLGİ GİRİŞİ'!H51","v":0},{"$f":"'PERSONEL BİLGİ GİRİŞİ'!J51","v":0},{"$f":"' BORDRO HAZIRLIK'!AU51","v":0}]
[null,null,null,null,null,null,null,null,null,null,null,48,{"$f":"BES!H53","v":0},{"$f":"'PERSONEL BİLGİ GİRİŞİ'!H52","v":0},{"$f":"'PERSONEL BİLGİ GİRİŞİ'!J52","v":0},{"$f":"' BORDRO HAZIRLIK'!AU52","v":0}]
[null,null,null,null,null,null,null,null,null,null,null,49,{"$f":"BES!H54","v":0},{"$f":"'PERSONEL BİLGİ GİRİŞİ'!H53","v":0},{"$f":"'PERSONEL BİLGİ GİRİŞİ'!J53","v":0},{"$f":"' BORDRO HAZIRLIK'!AU53","v":0}]
[null,null,null,null,null,null,null,null,null,null,null,50,{"$f":"BES!H55","v":0},{"$f":"'PERSONEL BİLGİ GİRİŞİ'!H54","v":0},{"$f":"'PERSONEL BİLGİ GİRİŞİ'!J54","v":0},{"$f":"' BORDRO HAZIRLIK'!AU54","v":0}]
[null,null,null,null,null,null,null,null,null,null,null,51,{"$f":"BES!H56","v":0},{"$f":"'PERSONEL BİLGİ GİRİŞİ'!H55","v":0},{"$f":"'PERSONEL BİLGİ GİRİŞİ'!J55","v":0},{"$f":"' BORDRO HAZIRLIK'!AU55","v":0}]
[null,null,null,null,null,null,null,null,null,null,null,52,{"$f":"BES!H57","v":0},{"$f":"'PERSONEL BİLGİ GİRİŞİ'!H56","v":0},{"$f":"'PERSONEL BİLGİ GİRİŞİ'!J56","v":0},{"$f":"' BORDRO HAZIRLIK'!AU56","v":0}]
[null,null,null,null,null,null,null,null,null,null,null,53,{"$f":"BES!H58","v":0},{"$f":"'PERSONEL BİLGİ GİRİŞİ'!H57","v":0},{"$f":"'PERSONEL BİLGİ GİRİŞİ'!J57","v":0},{"$f":"' BORDRO HAZIRLIK'!AU57","v":0}]
[null,null,null,null,null,null,null,null,null,null,null,54,{"$f":"BES!H59","v":0},{"$f":"'PERSONEL BİLGİ GİRİŞİ'!H58","v":0},{"$f":"'PERSONEL BİLGİ GİRİŞİ'!J58","v":0},{"$f":"' BORDRO HAZIRLIK'!AU58","v":0}]
[null,null,null,null,null,null,null,null,null,null,null,55,{"$f":"BES!H60","v":0},{"$f":"'PERSONEL BİLGİ GİRİŞİ'!H59","v":0},{"$f":"'PERSONEL BİLGİ GİRİŞİ'!J59","v":0},{"$f":"' BORDRO HAZIRLIK'!AU59","v":0}]
[null,null,null,null,null,null,null,null,null,null,null,56,{"$f":"BES!H61","v":0},{"$f":"'PERSONEL BİLGİ GİRİŞİ'!H60","v":0},{"$f":"'PERSONEL BİLGİ GİRİŞİ'!J60","v":0},{"$f":"' BORDRO HAZIRLIK'!AU60","v":0}]
[null,null,null,null,null,null,null,null,null,null,null,57,{"$f":"BES!H62","v":0},{"$f":"'PERSONEL BİLGİ GİRİŞİ'!H61","v":0},{"$f":"'PERSONEL BİLGİ GİRİŞİ'!J61","v":0},{"$f":"' BORDRO HAZIRLIK'!AU61","v":0}]
[null,null,null,null,null,null,null,null,null,null,null,58,{"$f":"BES!H63","v":0},{"$f":"'PERSONEL BİLGİ GİRİŞİ'!H62","v":0},{"$f":"'PERSONEL BİLGİ GİRİŞİ'!J62","v":0},{"$f":"' BORDRO HAZIRLIK'!AU62","v":0}]
[null,null,null,null,null,null,null,null,null,null,null,59,{"$f":"BES!H64","v":0},{"$f":"'PERSONEL BİLGİ GİRİŞİ'!H63","v":0},{"$f":"'PERSONEL BİLGİ GİRİŞİ'!J63","v":0},{"$f":"' BORDRO HAZIRLIK'!AU63","v":0}]
[null,null,null,null,null,null,null,null,null,null,null,60,{"$f":"BES!H65","v":0},{"$f":"'PERSONEL BİLGİ GİRİŞİ'!H64","v":0},{"$f":"'PERSONEL BİLGİ GİRİŞİ'!J64","v":0},{"$f":"' BORDRO HAZIRLIK'!AU64","v":0}]
[null,null,null,null,null,null,null,null,null,null,null,61,{"$f":"BES!H66","v":0},{"$f":"'PERSONEL BİLGİ GİRİŞİ'!H65","v":0},{"$f":"'PERSONEL BİLGİ GİRİŞİ'!J65","v":0},{"$f":"' BORDRO HAZIRLIK'!AU65","v":0}]
[null,null,null,null,null,null,null,null,null,null,null,62,{"$f":"BES!H67","v":0},{"$f":"'PERSONEL BİLGİ GİRİŞİ'!H66","v":0},{"$f":"'PERSONEL BİLGİ GİRİŞİ'!J66","v":0},{"$f":"' BORDRO HAZIRLIK'!AU66","v":0}]
[null,null,null,null,null,null,null,null,null,null,null,63,{"$f":"BES!H68","v":0},{"$f":"'PERSONEL BİLGİ GİRİŞİ'!H67","v":0},{"$f":"'PERSONEL BİLGİ GİRİŞİ'!J67","v":0},{"$f":"' BORDRO HAZIRLIK'!AU67","v":0}]
[null,null,null,null,null,null,null,null,null,null,null,64,{"$f":"BES!H69","v":0},{"$f":"'PERSONEL BİLGİ GİRİŞİ'!H68","v":0},{"$f":"'PERSONEL BİLGİ GİRİŞİ'!J68","v":0},{"$f":"' BORDRO HAZIRLIK'!AU68","v":0}]
[null,null,null,null,null,null,null,null,null,null,null,65,{"$f":"BES!H70","v":0},{"$f":"'PERSONEL BİLGİ GİRİŞİ'!H69","v":0},{"$f":"'PERSONEL BİLGİ GİRİŞİ'!J69","v":0},{"$f":"' BORDRO HAZIRLIK'!AU69","v":0}]
[null,null,null,null,null,null,null,null,null,null,null,66,{"$f":"BES!H71","v":0},{"$f":"'PERSONEL BİLGİ GİRİŞİ'!H70","v":0},{"$f":"'PERSONEL BİLGİ GİRİŞİ'!J70","v":0},{"$f":"' BORDRO HAZIRLIK'!AU70","v":0}]
[null,null,null,null,null,null,null,null,null,null,null,67,{"$f":"BES!H72","v":0},{"$f":"'PERSONEL BİLGİ GİRİŞİ'!H71","v":0},{"$f":"'PERSONEL BİLGİ GİRİŞİ'!J71","v":0},{"$f":"' BORDRO HAZIRLIK'!AU71","v":0}]
[null,null,null,null,null,null,null,null,null,null,null,68,{"$f":"BES!H73","v":0},{"$f":"'PERSONEL BİLGİ GİRİŞİ'!H72","v":0},{"$f":"'PERSONEL BİLGİ GİRİŞİ'!J72","v":0},{"$f":"' BORDRO HAZIRLIK'!AU72","v":0}]
[null,null,null,null,null,null,null,null,null,null,null,69,{"$f":"BES!H74","v":0},{"$f":"'PERSONEL BİLGİ GİRİŞİ'!H73","v":0},{"$f":"'PERSONEL BİLGİ GİRİŞİ'!J73","v":0},{"$f":"' BORDRO HAZIRLIK'!AU73","v":0}]
[null,null,null,null,null,null,null,null,null,null,null,70,{"$f":"BES!H75","v":0},{"$f":"'PERSONEL BİLGİ GİRİŞİ'!H74","v":0},{"$f":"'PERSONEL BİLGİ GİRİŞİ'!J74","v":0},{"$f":"' BORDRO HAZIRLIK'!AU74","v":0}]
[null,null,null,null,null,null,null,null,null,null,null,71,{"$f":"BES!H76","v":0},{"$f":"'PERSONEL BİLGİ GİRİŞİ'!H75","v":0},{"$f":"'PERSONEL BİLGİ GİRİŞİ'!J75","v":0},{"$f":"' BORDRO HAZIRLIK'!AU75","v":0}]
[null,null,null,null,null,null,null,null,null,null,null,72,{"$f":"BES!H77","v":0},{"$f":"'PERSONEL BİLGİ GİRİŞİ'!H76","v":0},{"$f":"'PERSONEL BİLGİ GİRİŞİ'!J76","v":0},{"$f":"' BORDRO HAZIRLIK'!AU76","v":0}]
[null,null,null,null,null,null,null,null,null,null,null,73,{"$f":"BES!H78","v":0},{"$f":"'PERSONEL BİLGİ GİRİŞİ'!H77","v":0},{"$f":"'PERSONEL BİLGİ GİRİŞİ'!J77","v":0},{"$f":"' BORDRO HAZIRLIK'!AU77","v":0}]
[null,null,null,null,null,null,null,null,null,null,null,74,{"$f":"BES!H79","v":0},{"$f":"'PERSONEL BİLGİ GİRİŞİ'!H78","v":0},{"$f":"'PERSONEL BİLGİ GİRİŞİ'!J78","v":0},{"$f":"' BORDRO HAZIRLIK'!AU78","v":0}]
[null,null,null,null,null,null,null,null,null,null,null,75,{"$f":"BES!H80","v":0},{"$f":"'PERSONEL BİLGİ GİRİŞİ'!H79","v":0},{"$f":"'PERSONEL BİLGİ GİRİŞİ'!J79","v":0},{"$f":"' BORDRO HAZIRLIK'!AU79","v":0}]

{"sheet":"Sayfa1","index":16,"n_rows":0,"n_cols":0,"rows_kept":0,"cut":false,"hidden":false,"merged":[]}